{"text_format":"1","workbook":"xlsx","n_sheets":12,"sheets":["Weekly Report","LN1","Golfers","Teams1","Schedule1","DS1","X-DSP-ALL","X-Golfers","X-TeamResults","Setup","Playoffs","Round Sim"],"not_rendered":{"charts":0,"images":1,"macros":1,"external_links":0,"defined_names":67,"comments":0,"pivot_tables":0},"unopened":[],"bounds":{"document_bytes":16777216,"sheet_cells":100000,"rows_first":2000,"rows_last":500,"rows_between":2000,"halvings":0,"cell_chars":16384,"cell_head_chars":4096},"cells_cut":0,"cells_raw":0,"read":"whole","date_system":"1900"}

{"sheet":"Weekly Report","index":0,"n_rows":1053,"n_cols":40,"rows_kept":1053,"cut":false,"hidden":false,"merged":[[0,0,0,13],[13,0,13,13],[28,0,28,10],[1,0,1,13],[14,0,14,13],[3,36,28,36],[3,37,28,37],[3,38,28,38],[3,39,28,39],[3,40,28,40],[3,31,28,31],[3,32,28,32],[3,33,28,33],[3,34,28,34],[3,35,28,35]]}
["2025 GE Golf League at Sharon Woods"]
["Arnold Palmer Division",null,null,null,null,null,null,null,null,null,null,null,null,null,null,null,"Individual Match Results"]
["Rank","ID","Team","H Won","Holes \n H Lost","H Tied","\nM Won","Match\nM Lost","M Tied","T Won","Team\nT Loss","T Tied","Bonus","POINTS"]
[1,42,{"$f":"VLOOKUP(B4,GE_Teams_DBID,2,FALSE)","v":"Dingers Ringers"},{"$f":"SUMIF($S$30:$S$504,B4,$T$30:$T$970)","v":44},{"$f":"SUMIF($S$30:$S$504,B4,$U$30:$U$970)","v":27},{"$f":"SUMIF($S$30:$S$504,B4,$V$30:$V$970)","v":21},{"$f":"SUMIF($S$30:$S$504,B4,$W$30:$W$970)","v":7},{"$f":"SUMIF($S$30:$S$504,B4,$X$30:$X$970)","v":1},{"$f":"SUMIF($S$30:$S$504,B4,$Y$30:$Y$970)","v":0},{"$f":"SUMIF($S$30:$S$504,B4,$Z$30:$Z$970)","v":4},{"$f":"SUMIF($S$30:$S$504,B4,$AA$30:$AA$70)","v":0},{"$f":"SUMIF($S$30:$S$504,B4,$AB$30:$AB$970)","v":0},{"$f":"SUMIF($S$30:$S$504,C4,$AC$30:$AC$970)","v":0},{"$f":"(D4*Setup!$J$17)+(E4*Setup!$J$18)+(F4*Setup!$J$19)+(G4*Setup!$J$22)+H4*(Setup!$J$23)+(I4*Setup!$J$24)+(J4*Setup!$J$27)+(K4*Setup!$J$28)+(L4*Setup!$J$29)","v":161},null,null,null,null,null,null,null,null,null,null,null,null,null,null,null,null,null,"Holes Total 18","Holes Win - Loses Match 1","Holes Ties Equal","Match Total 2","Match Win - Loses Match 1","Match Ties Equal","Team Total 18","Team Win - Loses Match 1","Team Ties Equal"]
[2,35,{"$f":"VLOOKUP(B5,GE_Teams_DBID,2,FALSE)","v":"Bill and John"},{"$f":"SUMIF($S$30:$S$504,B5,$T$30:$T$970)","v":39},{"$f":"SUMIF($S$30:$S$504,B5,$U$30:$U$970)","v":30},{"$f":"SUMIF($S$30:$S$504,B5,$V$30:$V$970)","v":23},{"$f":"SUMIF($S$30:$S$504,B5,$W$30:$W$970)","v":7},{"$f":"SUMIF($S$30:$S$504,B5,$X$30:$X$970)","v":1},{"$f":"SUMIF($S$30:$S$504,B5,$Y$30:$Y$970)","v":0},{"$f":"SUMIF($S$30:$S$504,B5,$Z$30:$Z$970)","v":3},{"$f":"SUMIF($S$30:$S$504,B5,$AA$30:$AA$70)","v":1},{"$f":"SUMIF($S$30:$S$504,B5,$AB$30:$AB$970)","v":0},{"$f":"SUMIF($S$30:$S$504,C5,$AC$30:$AC$970)","v":0},{"$f":"(D5*Setup!$J$17)+(E5*Setup!$J$18)+(F5*Setup!$J$19)+(G5*Setup!$J$22)+H5*(Setup!$J$23)+(I5*Setup!$J$24)+(J5*Setup!$J$27)+(K5*Setup!$J$28)+(L5*Setup!$J$29)","v":147}]
[3,41,{"$f":"VLOOKUP(B6,GE_Teams_DBID,2,FALSE)","v":"McAvoys"},{"$f":"SUMIF($S$30:$S$504,B6,$T$30:$T$970)","v":36},{"$f":"SUMIF($S$30:$S$504,B6,$U$30:$U$970)","v":28},{"$f":"SUMIF($S$30:$S$504,B6,$V$30:$V$970)","v":24},{"$f":"SUMIF($S$30:$S$504,B6,$W$30:$W$970)","v":3},{"$f":"SUMIF($S$30:$S$504,B6,$X$30:$X$970)","v":4},{"$f":"SUMIF($S$30:$S$504,B6,$Y$30:$Y$970)","v":1},{"$f":"SUMIF($S$30:$S$504,B6,$Z$30:$Z$970)","v":2},{"$f":"SUMIF($S$30:$S$504,B6,$AA$30:$AA$70)","v":2},{"$f":"SUMIF($S$30:$S$504,B6,$AB$30:$AB$970)","v":0},{"$f":"SUMIF($S$30:$S$504,C6,$AC$30:$AC$970)","v":0},{"$f":"(D6*Setup!$J$17)+(E6*Setup!$J$18)+(F6*Setup!$J$19)+(G6*Setup!$J$22)+H6*(Setup!$J$23)+(I6*Setup!$J$24)+(J6*Setup!$J$27)+(K6*Setup!$J$28)+(L6*Setup!$J$29)","v":122}]
[4,36,{"$f":"VLOOKUP(B7,GE_Teams_DBID,2,FALSE)","v":"Bob and Mike"},{"$f":"SUMIF($S$30:$S$504,B7,$T$30:$T$970)","v":26},{"$f":"SUMIF($S$30:$S$504,B7,$U$30:$U$970)","v":29},{"$f":"SUMIF($S$30:$S$504,B7,$V$30:$V$970)","v":31},{"$f":"SUMIF($S$30:$S$504,B7,$W$30:$W$970)","v":2},{"$f":"SUMIF($S$30:$S$504,B7,$X$30:$X$970)","v":3},{"$f":"SUMIF($S$30:$S$504,B7,$Y$30:$Y$970)","v":3},{"$f":"SUMIF($S$30:$S$504,B7,$Z$30:$Z$970)","v":1},{"$f":"SUMIF($S$30:$S$504,B7,$AA$30:$AA$70)","v":2},{"$f":"SUMIF($S$30:$S$504,B7,$AB$30:$AB$970)","v":1},{"$f":"SUMIF($S$30:$S$504,C7,$AC$30:$AC$970)","v":0},{"$f":"(D7*Setup!$J$17)+(E7*Setup!$J$18)+(F7*Setup!$J$19)+(G7*Setup!$J$22)+H7*(Setup!$J$23)+(I7*Setup!$J$24)+(J7*Setup!$J$27)+(K7*Setup!$J$28)+(L7*Setup!$J$29)","v":106}]
[5,40,{"$f":"VLOOKUP(B8,GE_Teams_DBID,2,FALSE)","v":"Schmitts Creek"},{"$f":"SUMIF($S$30:$S$504,B8,$T$30:$T$970)","v":29},{"$f":"SUMIF($S$30:$S$504,B8,$U$30:$U$970)","v":40},{"$f":"SUMIF($S$30:$S$504,B8,$V$30:$V$970)","v":23},{"$f":"SUMIF($S$30:$S$504,B8,$W$30:$W$970)","v":3},{"$f":"SUMIF($S$30:$S$504,B8,$X$30:$X$970)","v":4},{"$f":"SUMIF($S$30:$S$504,B8,$Y$30:$Y$970)","v":1},{"$f":"SUMIF($S$30:$S$504,B8,$Z$30:$Z$970)","v":1},{"$f":"SUMIF($S$30:$S$504,B8,$AA$30:$AA$70)","v":3},{"$f":"SUMIF($S$30:$S$504,B8,$AB$30:$AB$970)","v":0},{"$f":"SUMIF($S$30:$S$504,C8,$AC$30:$AC$970)","v":0},{"$f":"(D8*Setup!$J$17)+(E8*Setup!$J$18)+(F8*Setup!$J$19)+(G8*Setup!$J$22)+H8*(Setup!$J$23)+(I8*Setup!$J$24)+(J8*Setup!$J$27)+(K8*Setup!$J$28)+(L8*Setup!$J$29)","v":101}]
[6,34,{"$f":"VLOOKUP(B9,GE_Teams_DBID,2,FALSE)","v":"Alex and Carl"},{"$f":"SUMIF($S$30:$S$504,B9,$T$30:$T$970)","v":27},{"$f":"SUMIF($S$30:$S$504,B9,$U$30:$U$970)","v":36},{"$f":"SUMIF($S$30:$S$504,B9,$V$30:$V$970)","v":29},{"$f":"SUMIF($S$30:$S$504,B9,$W$30:$W$970)","v":3},{"$f":"SUMIF($S$30:$S$504,B9,$X$30:$X$970)","v":5},{"$f":"SUMIF($S$30:$S$504,B9,$Y$30:$Y$970)","v":0},{"$f":"SUMIF($S$30:$S$504,B9,$Z$30:$Z$970)","v":1},{"$f":"SUMIF($S$30:$S$504,B9,$AA$30:$AA$70)","v":3},{"$f":"SUMIF($S$30:$S$504,B9,$AB$30:$AB$970)","v":0},{"$f":"SUMIF($S$30:$S$504,C9,$AC$30:$AC$970)","v":0},{"$f":"(D9*Setup!$J$17)+(E9*Setup!$J$18)+(F9*Setup!$J$19)+(G9*Setup!$J$22)+H9*(Setup!$J$23)+(I9*Setup!$J$24)+(J9*Setup!$J$27)+(K9*Setup!$J$28)+(L9*Setup!$J$29)","v":101}]
[7,38,{"$f":"VLOOKUP(B10,GE_Teams_DBID,2,FALSE)","v":"Checkin Test Cells"},{"$f":"SUMIF($S$30:$S$504,B10,$T$30:$T$970)","v":30},{"$f":"SUMIF($S$30:$S$504,B10,$U$30:$U$970)","v":37},{"$f":"SUMIF($S$30:$S$504,B10,$V$30:$V$970)","v":25},{"$f":"SUMIF($S$30:$S$504,B10,$W$30:$W$970)","v":0},{"$f":"SUMIF($S$30:$S$504,B10,$X$30:$X$970)","v":5},{"$f":"SUMIF($S$30:$S$504,B10,$Y$30:$Y$970)","v":3},{"$f":"SUMIF($S$30:$S$504,B10,$Z$30:$Z$970)","v":1},{"$f":"SUMIF($S$30:$S$504,B10,$AA$30:$AA$70)","v":3},{"$f":"SUMIF($S$30:$S$504,B10,$AB$30:$AB$970)","v":0},{"$f":"SUMIF($S$30:$S$504,C10,$AC$30:$AC$970)","v":0},{"$f":"(D10*Setup!$J$17)+(E10*Setup!$J$18)+(F10*Setup!$J$19)+(G10*Setup!$J$22)+H10*(Setup!$J$23)+(I10*Setup!$J$24)+(J10*Setup!$J$27)+(K10*Setup!$J$28)+(L10*Setup!$J$29)","v":97}]
[8,43,{"$f":"VLOOKUP(B11,GE_Teams_DBID,2,FALSE)","v":"Stewart Shankers"},{"$f":"SUMIF($S$30:$S$504,B11,$T$30:$T$970)","v":26},{"$f":"SUMIF($S$30:$S$504,B11,$U$30:$U$970)","v":42},{"$f":"SUMIF($S$30:$S$504,B11,$V$30:$V$970)","v":24},{"$f":"SUMIF($S$30:$S$504,B11,$W$30:$W$970)","v":2},{"$f":"SUMIF($S$30:$S$504,B11,$X$30:$X$970)","v":5},{"$f":"SUMIF($S$30:$S$504,B11,$Y$30:$Y$970)","v":1},{"$f":"SUMIF($S$30:$S$504,B11,$Z$30:$Z$970)","v":0},{"$f":"SUMIF($S$30:$S$504,B11,$AA$30:$AA$70)","v":4},{"$f":"SUMIF($S$30:$S$504,B11,$AB$30:$AB$970)","v":0},{"$f":"SUMIF($S$30:$S$504,C11,$AC$30:$AC$970)","v":0},{"$f":"(D11*Setup!$J$17)+(E11*Setup!$J$18)+(F11*Setup!$J$19)+(G11*Setup!$J$22)+H11*(Setup!$J$23)+(I11*Setup!$J$24)+(J11*Setup!$J$27)+(K11*Setup!$J$28)+(L11*Setup!$J$29)","v":86}]
[9,39,{"$f":"VLOOKUP(B12,GE_Teams_DBID,2,FALSE)","v":"Dave, Joe and Rick"},{"$f":"SUMIF($S$30:$S$504,B12,$T$30:$T$970)","v":23},{"$f":"SUMIF($S$30:$S$504,B12,$U$30:$U$970)","v":33},{"$f":"SUMIF($S$30:$S$504,B12,$V$30:$V$970)","v":14},{"$f":"SUMIF($S$30:$S$504,B12,$W$30:$W$970)","v":2},{"$f":"SUMIF($S$30:$S$504,B12,$X$30:$X$970)","v":4},{"$f":"SUMIF($S$30:$S$504,B12,$Y$30:$Y$970)","v":0},{"$f":"SUMIF($S$30:$S$504,B12,$Z$30:$Z$970)","v":1},{"$f":"SUMIF($S$30:$S$504,B12,$AA$30:$AA$70)","v":3},{"$f":"SUMIF($S$30:$S$504,B12,$AB$30:$AB$970)","v":0},{"$f":"SUMIF($S$30:$S$504,C12,$AC$30:$AC$970)","v":0},{"$f":"(D12*Setup!$J$17)+(E12*Setup!$J$18)+(F12*Setup!$J$19)+(G12*Setup!$J$22)+H12*(Setup!$J$23)+(I12*Setup!$J$24)+(J12*Setup!$J$27)+(K12*Setup!$J$28)+(L12*Setup!$J$29)","v":74}]
[10,37,{"$f":"VLOOKUP(B13,GE_Teams_DBID,2,FALSE)","v":"Charles and Rob"},{"$f":"SUMIF($S$30:$S$504,B13,$T$30:$T$970)","v":26},{"$f":"SUMIF($S$30:$S$504,B13,$U$30:$U$970)","v":39},{"$f":"SUMIF($S$30:$S$504,B13,$V$30:$V$970)","v":18},{"$f":"SUMIF($S$30:$S$504,B13,$W$30:$W$970)","v":0},{"$f":"SUMIF($S$30:$S$504,B13,$X$30:$X$970)","v":6},{"$f":"SUMIF($S$30:$S$504,B13,$Y$30:$Y$970)","v":1},{"$f":"SUMIF($S$30:$S$504,B13,$Z$30:$Z$970)","v":0},{"$f":"SUMIF($S$30:$S$504,B13,$AA$30:$AA$70)","v":4},{"$f":"SUMIF($S$30:$S$504,B13,$AB$30:$AB$970)","v":0},{"$f":"SUMIF($S$30:$S$504,C13,$AC$30:$AC$970)","v":0},{"$f":"(D13*Setup!$J$17)+(E13*Setup!$J$18)+(F13*Setup!$J$19)+(G13*Setup!$J$22)+H13*(Setup!$J$23)+(I13*Setup!$J$24)+(J13*Setup!$J$27)+(K13*Setup!$J$28)+(L13*Setup!$J$29)","v":72}]
[]
["Jack Nicklaus Division"]
["Rank","ID","Team","H Won","Holes \n H Lost","H Tied","M Won","Match\nM Lost","M Tied","T Won","Team\nT Loss","T Tied","Bonus","POINTS"]
[1,52,{"$f":"VLOOKUP(B17,GE_Teams_DBID,2,FALSE)","v":"Shootist 2"},{"$f":"SUMIF($S$30:$S$504,B17,$T$30:$T$504)","v":40},{"$f":"SUMIF($S$30:$S$504,B17,$U$30:$U$970)","v":24},{"$f":"SUMIF($S$30:$S$504,B17,$V$30:$V$970)","v":28},{"$f":"SUMIF($S$30:$S$504,B17,$W$30:$W$970)","v":5},{"$f":"SUMIF($S$30:$S$504,B17,$X$30:$X$970)","v":1},{"$f":"SUMIF($S$30:$S$504,B17,$Y$30:$Y$970)","v":2},{"$f":"SUMIF($S$30:$S$504,B17,$Z$30:$Z$970)","v":4},{"$f":"SUMIF($S$30:$S$504,B17,$AA$30:$AA$70)","v":0},{"$f":"SUMIF($S$30:$S$504,B17,$AB$30:$AB$970)","v":0},{"$f":"SUMIF($S$30:$S$504,C17,$AC$30:$AC$970)","v":0},{"$f":"(D17*Setup!$J$17)+(E17*Setup!$J$18)+(F17*Setup!$J$19)+(G17*Setup!$J$22)+H17*(Setup!$J$23)+(I17*Setup!$J$24)+(J17*Setup!$J$27)+(K17*Setup!$J$28)+(L17*Setup!$J$29)","v":156}]
[2,51,{"$f":"VLOOKUP(B18,GE_Teams_DBID,2,FALSE)","v":"Shootist 1"},{"$f":"SUMIF($S$30:$S$504,B18,$T$30:$T$504)","v":41},{"$f":"SUMIF($S$30:$S$504,B18,$U$30:$U$970)","v":24},{"$f":"SUMIF($S$30:$S$504,B18,$V$30:$V$970)","v":27},{"$f":"SUMIF($S$30:$S$504,B18,$W$30:$W$970)","v":6},{"$f":"SUMIF($S$30:$S$504,B18,$X$30:$X$970)","v":1},{"$f":"SUMIF($S$30:$S$504,B18,$Y$30:$Y$970)","v":1},{"$f":"SUMIF($S$30:$S$504,B18,$Z$30:$Z$970)","v":3},{"$f":"SUMIF($S$30:$S$504,B18,$AA$30:$AA$70)","v":1},{"$f":"SUMIF($S$30:$S$504,B18,$AB$30:$AB$970)","v":0},{"$f":"SUMIF($S$30:$S$504,C18,$AC$30:$AC$970)","v":0},{"$f":"(D18*Setup!$J$17)+(E18*Setup!$J$18)+(F18*Setup!$J$19)+(G18*Setup!$J$22)+H18*(Setup!$J$23)+(I18*Setup!$J$24)+(J18*Setup!$J$27)+(K18*Setup!$J$28)+(L18*Setup!$J$29)","v":153}]
[3,49,{"$f":"VLOOKUP(B19,GE_Teams_DBID,2,FALSE)","v":"Putt Pirates"},{"$f":"SUMIF($S$30:$S$504,B19,$T$30:$T$504)","v":35},{"$f":"SUMIF($S$30:$S$504,B19,$U$30:$U$970)","v":28},{"$f":"SUMIF($S$30:$S$504,B19,$V$30:$V$970)","v":29},{"$f":"SUMIF($S$30:$S$504,B19,$W$30:$W$970)","v":5},{"$f":"SUMIF($S$30:$S$504,B19,$X$30:$X$970)","v":2},{"$f":"SUMIF($S$30:$S$504,B19,$Y$30:$Y$970)","v":1},{"$f":"SUMIF($S$30:$S$504,B19,$Z$30:$Z$970)","v":3},{"$f":"SUMIF($S$30:$S$504,B19,$AA$30:$AA$70)","v":1},{"$f":"SUMIF($S$30:$S$504,B19,$AB$30:$AB$970)","v":0},{"$f":"SUMIF($S$30:$S$504,C19,$AC$30:$AC$970)","v":0},{"$f":"(D19*Setup!$J$17)+(E19*Setup!$J$18)+(F19*Setup!$J$19)+(G19*Setup!$J$22)+H19*(Setup!$J$23)+(I19*Setup!$J$24)+(J19*Setup!$J$27)+(K19*Setup!$J$28)+(L19*Setup!$J$29)","v":139}]
[4,45,{"$f":"VLOOKUP(B20,GE_Teams_DBID,2,FALSE)","v":"Dude Wheres My Par"},{"$f":"SUMIF($S$30:$S$504,B20,$T$30:$T$504)","v":35},{"$f":"SUMIF($S$30:$S$504,B20,$U$30:$U$970)","v":26},{"$f":"SUMIF($S$30:$S$504,B20,$V$30:$V$970)","v":18},{"$f":"SUMIF($S$30:$S$504,B20,$W$30:$W$970)","v":4},{"$f":"SUMIF($S$30:$S$504,B20,$X$30:$X$970)","v":1},{"$f":"SUMIF($S$30:$S$504,B20,$Y$30:$Y$970)","v":2},{"$f":"SUMIF($S$30:$S$504,B20,$Z$30:$Z$970)","v":3},{"$f":"SUMIF($S$30:$S$504,B20,$AA$30:$AA$70)","v":1},{"$f":"SUMIF($S$30:$S$504,B20,$AB$30:$AB$970)","v":0},{"$f":"SUMIF($S$30:$S$504,C20,$AC$30:$AC$970)","v":0},{"$f":"(D20*Setup!$J$17)+(E20*Setup!$J$18)+(F20*Setup!$J$19)+(G20*Setup!$J$22)+H20*(Setup!$J$23)+(I20*Setup!$J$24)+(J20*Setup!$J$27)+(K20*Setup!$J$28)+(L20*Setup!$J$29)","v":126}]
[5,50,{"$f":"VLOOKUP(B21,GE_Teams_DBID,2,FALSE)","v":"Reckless Drivers"},{"$f":"SUMIF($S$30:$S$504,B21,$T$30:$T$504)","v":31},{"$f":"SUMIF($S$30:$S$504,B21,$U$30:$U$970)","v":28},{"$f":"SUMIF($S$30:$S$504,B21,$V$30:$V$970)","v":23},{"$f":"SUMIF($S$30:$S$504,B21,$W$30:$W$970)","v":4},{"$f":"SUMIF($S$30:$S$504,B21,$X$30:$X$970)","v":2},{"$f":"SUMIF($S$30:$S$504,B21,$Y$30:$Y$970)","v":2},{"$f":"SUMIF($S$30:$S$504,B21,$Z$30:$Z$970)","v":3},{"$f":"SUMIF($S$30:$S$504,B21,$AA$30:$AA$70)","v":1},{"$f":"SUMIF($S$30:$S$504,B21,$AB$30:$AB$970)","v":0},{"$f":"SUMIF($S$30:$S$504,C21,$AC$30:$AC$970)","v":0},{"$f":"(D21*Setup!$J$17)+(E21*Setup!$J$18)+(F21*Setup!$J$19)+(G21*Setup!$J$22)+H21*(Setup!$J$23)+(I21*Setup!$J$24)+(J21*Setup!$J$27)+(K21*Setup!$J$28)+(L21*Setup!$J$29)","v":123}]
[6,48,{"$f":"VLOOKUP(B22,GE_Teams_DBID,2,FALSE)","v":"Putt Buddies"},{"$f":"SUMIF($S$30:$S$504,B22,$T$30:$T$504)","v":29},{"$f":"SUMIF($S$30:$S$504,B22,$U$30:$U$970)","v":32},{"$f":"SUMIF($S$30:$S$504,B22,$V$30:$V$970)","v":27},{"$f":"SUMIF($S$30:$S$504,B22,$W$30:$W$970)","v":2},{"$f":"SUMIF($S$30:$S$504,B22,$X$30:$X$970)","v":4},{"$f":"SUMIF($S$30:$S$504,B22,$Y$30:$Y$970)","v":2},{"$f":"SUMIF($S$30:$S$504,B22,$Z$30:$Z$970)","v":2},{"$f":"SUMIF($S$30:$S$504,B22,$AA$30:$AA$70)","v":1},{"$f":"SUMIF($S$30:$S$504,B22,$AB$30:$AB$970)","v":1},{"$f":"SUMIF($S$30:$S$504,C22,$AC$30:$AC$970)","v":0},{"$f":"(D22*Setup!$J$17)+(E22*Setup!$J$18)+(F22*Setup!$J$19)+(G22*Setup!$J$22)+H22*(Setup!$J$23)+(I22*Setup!$J$24)+(J22*Setup!$J$27)+(K22*Setup!$J$28)+(L22*Setup!$J$29)","v":112}]
[7,53,{"$f":"VLOOKUP(B23,GE_Teams_DBID,2,FALSE)","v":"Snowmen"},{"$f":"SUMIF($S$30:$S$504,B23,$T$30:$T$504)","v":27},{"$f":"SUMIF($S$30:$S$504,B23,$U$30:$U$970)","v":39},{"$f":"SUMIF($S$30:$S$504,B23,$V$30:$V$970)","v":13},{"$f":"SUMIF($S$30:$S$504,B23,$W$30:$W$970)","v":4},{"$f":"SUMIF($S$30:$S$504,B23,$X$30:$X$970)","v":2},{"$f":"SUMIF($S$30:$S$504,B23,$Y$30:$Y$970)","v":1},{"$f":"SUMIF($S$30:$S$504,B23,$Z$30:$Z$970)","v":3},{"$f":"SUMIF($S$30:$S$504,B23,$AA$30:$AA$70)","v":1},{"$f":"SUMIF($S$30:$S$504,B23,$AB$30:$AB$970)","v":0},{"$f":"SUMIF($S$30:$S$504,C23,$AC$30:$AC$970)","v":0},{"$f":"(D23*Setup!$J$17)+(E23*Setup!$J$18)+(F23*Setup!$J$19)+(G23*Setup!$J$22)+H23*(Setup!$J$23)+(I23*Setup!$J$24)+(J23*Setup!$J$27)+(K23*Setup!$J$28)+(L23*Setup!$J$29)","v":103}]
[8,44,{"$f":"VLOOKUP(B24,GE_Teams_DBID,2,FALSE)","v":"Delivery Divots"},{"$f":"SUMIF($S$30:$S$504,B24,$T$30:$T$504)","v":29},{"$f":"SUMIF($S$30:$S$504,B24,$U$30:$U$970)","v":31},{"$f":"SUMIF($S$30:$S$504,B24,$V$30:$V$970)","v":17},{"$f":"SUMIF($S$30:$S$504,B24,$W$30:$W$970)","v":3},{"$f":"SUMIF($S$30:$S$504,B24,$X$30:$X$970)","v":4},{"$f":"SUMIF($S$30:$S$504,B24,$Y$30:$Y$970)","v":0},{"$f":"SUMIF($S$30:$S$504,B24,$Z$30:$Z$970)","v":2},{"$f":"SUMIF($S$30:$S$504,B24,$AA$30:$AA$70)","v":2},{"$f":"SUMIF($S$30:$S$504,B24,$AB$30:$AB$970)","v":0},{"$f":"SUMIF($S$30:$S$504,C24,$AC$30:$AC$970)","v":0},{"$f":"(D24*Setup!$J$17)+(E24*Setup!$J$18)+(F24*Setup!$J$19)+(G24*Setup!$J$22)+H24*(Setup!$J$23)+(I24*Setup!$J$24)+(J24*Setup!$J$27)+(K24*Setup!$J$28)+(L24*Setup!$J$29)","v":99}]
[9,47,{"$f":"VLOOKUP(B25,GE_Teams_DBID,2,FALSE)","v":"Hole N 8"},{"$f":"SUMIF($S$30:$S$504,B25,$T$30:$T$504)","v":31},{"$f":"SUMIF($S$30:$S$504,B25,$U$30:$U$970)","v":30},{"$f":"SUMIF($S$30:$S$504,B25,$V$30:$V$970)","v":22},{"$f":"SUMIF($S$30:$S$504,B25,$W$30:$W$970)","v":2},{"$f":"SUMIF($S$30:$S$504,B25,$X$30:$X$970)","v":5},{"$f":"SUMIF($S$30:$S$504,B25,$Y$30:$Y$970)","v":0},{"$f":"SUMIF($S$30:$S$504,B25,$Z$30:$Z$970)","v":1},{"$f":"SUMIF($S$30:$S$504,B25,$AA$30:$AA$70)","v":3},{"$f":"SUMIF($S$30:$S$504,B25,$AB$30:$AB$970)","v":0},{"$f":"SUMIF($S$30:$S$504,C25,$AC$30:$AC$970)","v":0},{"$f":"(D25*Setup!$J$17)+(E25*Setup!$J$18)+(F25*Setup!$J$19)+(G25*Setup!$J$22)+H25*(Setup!$J$23)+(I25*Setup!$J$24)+(J25*Setup!$J$27)+(K25*Setup!$J$28)+(L25*Setup!$J$29)","v":98}]
[10,46,{"$f":"VLOOKUP(B26,GE_Teams_DBID,2,FALSE)","v":"Evan and Jon"},{"$f":"SUMIF($S$30:$S$504,B26,$T$30:$T$504)","v":26},{"$f":"SUMIF($S$30:$S$504,B26,$U$30:$U$970)","v":31},{"$f":"SUMIF($S$30:$S$504,B26,$V$30:$V$970)","v":22},{"$f":"SUMIF($S$30:$S$504,B26,$W$30:$W$970)","v":2},{"$f":"SUMIF($S$30:$S$504,B26,$X$30:$X$970)","v":4},{"$f":"SUMIF($S$30:$S$504,B26,$Y$30:$Y$970)","v":1},{"$f":"SUMIF($S$30:$S$504,B26,$Z$30:$Z$970)","v":1},{"$f":"SUMIF($S$30:$S$504,B26,$AA$30:$AA$70)","v":3},{"$f":"SUMIF($S$30:$S$504,B26,$AB$30:$AB$970)","v":0},{"$f":"SUMIF($S$30:$S$504,C26,$AC$30:$AC$970)","v":0},{"$f":"(D26*Setup!$J$17)+(E26*Setup!$J$18)+(F26*Setup!$J$19)+(G26*Setup!$J$22)+H26*(Setup!$J$23)+(I26*Setup!$J$24)+(J26*Setup!$J$27)+(K26*Setup!$J$28)+(L26*Setup!$J$29)","v":90}]
[]
[]
["Legend",null,null,null,null,null,null,null,null,null,null,null,null,null,null,"Team","Week","Match ID","T ID"," Won","Holes Lost"," Tied","\nWon","Match\nLost","Tied","Won","Team\nLoss","Tied","Bonus","POINTS"]
["Holes Won",null,null,"Number of holes the golfer has won during the season",null,null,null,null,null,null,null,null,null,null,null,{"$f":"VLOOKUP(S30,GE_Teams_DBID,2,FALSE)","v":"Charles and Rob"},2,260,37,6,8,4,0,2,0,0,1,0,0,{"$f":"(T30*Setup!$J$17)+(U30*Setup!$J$18)+(V30*Setup!$J$19)+(W30*Setup!$J$22)+X30*(Setup!$J$23)+(Y30*Setup!$J$24)+(Z30*Setup!$J$27)+(AA30*Setup!$J$28)+(AB30*Setup!$J$29)","v":16},{"$f":"IF(SUM(AF30:AN30)>0,\"ERROR\",\"\")","v":""},{"$f":"IF((T30+U30+V30)<>18,1,0)","v":0},{"$f":"IF(T30<>U31,1,0)","v":0},{"$f":"IF(V30<>V31,1,0)","v":0},{"$f":"IF((W30+X30+Y30)<>2,1,0)","v":0},{"$f":"IF(W30<>X31,1,0)","v":0},{"$f":"IF(Y30<>Y31,1,0)","v":0},{"$f":"IF((Z30+AA30+AB30)<>1,1,0)","v":0},{"$f":"IF(Z30<>AA31,1,0)","v":0},{"$f":"IF(AB30<>AB31,1,0)","v":0}]
["Holes Lost",null,null,"Number of holes the golfer has lost during the season",null,null,null,null,null,null,null,null,null,null,null,"Putt Pirates",2,260,49,8,6,4,2,0,0,1,0,0,0,{"$f":"(T31*Setup!$J$17)+(U31*Setup!$J$18)+(V31*Setup!$J$19)+(W31*Setup!$J$22)+X31*(Setup!$J$23)+(Y31*Setup!$J$24)+(Z31*Setup!$J$27)+(AA31*Setup!$J$28)+(AB31*Setup!$J$29)","v":34},{"$f":"IF(SUM(AF31:AN31)>0,\"ERROR\",\"\")","v":""},0,{"$f":"IF(T31<>U30,1,0)","v":0},{"$f":"IF(V31<>V30,1,0)","v":0},0,{"$f":"IF(W31<>X30,1,0)","v":0},{"$f":"IF(Y31<>Y30,1,0)","v":0},0,{"$f":"IF(Z31<>AA30,1,0)","v":0},{"$f":"IF(AB31<>AB30,1,0)","v":0}]
["Holes Tied",null,null,"Number of holes the golfer has tied during the season",null,null,null,null,null,null,null,null,null,null,null,"Checkin Test Cells",2,261,38,6,7,5,0,1,1,0,1,0,0,{"$f":"(T32*Setup!$J$17)+(U32*Setup!$J$18)+(V32*Setup!$J$19)+(W32*Setup!$J$22)+X32*(Setup!$J$23)+(Y32*Setup!$J$24)+(Z32*Setup!$J$27)+(AA32*Setup!$J$28)+(AB32*Setup!$J$29)","v":19},"",0,{"$f":"IF(T32<>U33,1,0)","v":0},{"$f":"IF(V32<>V33,1,0)","v":0},0,{"$f":"IF(W32<>X33,1,0)","v":0},{"$f":"IF(Y32<>Y33,1,0)","v":0},0,{"$f":"IF(Z32<>AA33,1,0)","v":0},{"$f":"IF(AB32<>AB33,1,0)","v":0}]
["Total Score Bonus",null,null,"Points earned for having the lower net score in matches during the season",null,null,null,null,null,null,null,null,null,null,null,"Reckless Drivers",2,261,50,7,6,5,1,0,1,1,0,0,0,{"$f":"(T33*Setup!$J$17)+(U33*Setup!$J$18)+(V33*Setup!$J$19)+(W33*Setup!$J$22)+X33*(Setup!$J$23)+(Y33*Setup!$J$24)+(Z33*Setup!$J$27)+(AA33*Setup!$J$28)+(AB33*Setup!$J$29)","v":31},"",0,{"$f":"IF(T33<>U32,1,0)","v":0},{"$f":"IF(V33<>V32,1,0)","v":0},0,{"$f":"IF(W33<>X32,1,0)","v":0},{"$f":"IF(Y33<>Y32,1,0)","v":0},0,{"$f":"IF(Z33<>AA32,1,0)","v":0},{"$f":"IF(AB33<>AB32,1,0)","v":0}]
["Sub Points",null,null,"Points earned for the golfer by a sub",null,null,null,null,null,null,null,null,null,null,null,"McAvoys",2,262,41,8,5,5,2,0,0,1,0,0,0,{"$f":"(T34*Setup!$J$17)+(U34*Setup!$J$18)+(V34*Setup!$J$19)+(W34*Setup!$J$22)+X34*(Setup!$J$23)+(Y34*Setup!$J$24)+(Z34*Setup!$J$27)+(AA34*Setup!$J$28)+(AB34*Setup!$J$29)","v":35},"ERROR",0,{"$f":"IF(T34<>U35,1,0)","v":1},{"$f":"IF(V34<>V35,1,0)","v":1},0,{"$f":"IF(W34<>X35,1,0)","v":0},{"$f":"IF(Y34<>Y35,1,0)","v":0},0,{"$f":"IF(Z34<>AA35,1,0)","v":0},{"$f":"IF(AB34<>AB35,1,0)","v":0}]
["Dropped Score",null,null,"Lowest point week for a golfer during the season is dropped from their point total",null,null,null,null,null,null,null,null,null,null,null,"Snowmen",2,262,53,0,18,0,0,2,0,0,1,0,0,{"$f":"(T35*Setup!$J$17)+(U35*Setup!$J$18)+(V35*Setup!$J$19)+(W35*Setup!$J$22)+X35*(Setup!$J$23)+(Y35*Setup!$J$24)+(Z35*Setup!$J$27)+(AA35*Setup!$J$28)+(AB35*Setup!$J$29)","v":0},"ERROR",0,{"$f":"IF(T35<>U34,1,0)","v":1},{"$f":"IF(V35<>V34,1,0)","v":1},0,{"$f":"IF(W35<>X34,1,0)","v":0},{"$f":"IF(Y35<>Y34,1,0)","v":0},0,{"$f":"IF(Z35<>AA34,1,0)","v":0},{"$f":"IF(AB35<>AB34,1,0)","v":0}]
["Points",null,null,"This is the column that counts, sum of all points earned.",null,null,null,null,null,null,null,null,null,null,null,"Schmitts Creek",2,263,40,4,9,5,0,1,1,0,1,0,0,{"$f":"(T36*Setup!$J$17)+(U36*Setup!$J$18)+(V36*Setup!$J$19)+(W36*Setup!$J$22)+X36*(Setup!$J$23)+(Y36*Setup!$J$24)+(Z36*Setup!$J$27)+(AA36*Setup!$J$28)+(AB36*Setup!$J$29)","v":15},"",0,{"$f":"IF(T36<>U37,1,0)","v":0},{"$f":"IF(V36<>V37,1,0)","v":0},0,{"$f":"IF(W36<>X37,1,0)","v":0},{"$f":"IF(Y36<>Y37,1,0)","v":0},0,{"$f":"IF(Z36<>AA37,1,0)","v":0},{"$f":"IF(AB36<>AB37,1,0)","v":0}]
["Weeks",null,null,"Number of weeks the golfer earned point, either by playing or by having a sub",null,null,null,null,null,null,null,null,null,null,null,"Shootist 2",2,263,52,9,4,5,1,0,1,1,0,0,0,{"$f":"(T37*Setup!$J$17)+(U37*Setup!$J$18)+(V37*Setup!$J$19)+(W37*Setup!$J$22)+X37*(Setup!$J$23)+(Y37*Setup!$J$24)+(Z37*Setup!$J$27)+(AA37*Setup!$J$28)+(AB37*Setup!$J$29)","v":35},"",0,{"$f":"IF(T37<>U36,1,0)","v":0},{"$f":"IF(V37<>V36,1,0)","v":0},0,{"$f":"IF(W37<>X36,1,0)","v":0},{"$f":"IF(Y37<>Y36,1,0)","v":0},0,{"$f":"IF(Z37<>AA36,1,0)","v":0},{"$f":"IF(AB37<>AB36,1,0)","v":0}]
["Rnds",null,null,"Number of rounds the golfer has played",null,null,null,null,null,null,null,null,null,null,null,"Bill and John",2,264,35,5,4,9,2,0,0,1,0,0,0,{"$f":"(T38*Setup!$J$17)+(U38*Setup!$J$18)+(V38*Setup!$J$19)+(W38*Setup!$J$22)+X38*(Setup!$J$23)+(Y38*Setup!$J$24)+(Z38*Setup!$J$27)+(AA38*Setup!$J$28)+(AB38*Setup!$J$29)","v":33},"",0,{"$f":"IF(T38<>U39,1,0)","v":0},{"$f":"IF(V38<>V39,1,0)","v":0},0,{"$f":"IF(W38<>X39,1,0)","v":0},{"$f":"IF(Y38<>Y39,1,0)","v":0},0,{"$f":"IF(Z38<>AA39,1,0)","v":0},{"$f":"IF(AB38<>AB39,1,0)","v":0}]
["Avg",null,null,"Golfers average.  Golfers average will not include highest and lowest score after golfer has played 6 rounds",null,null,null,null,null,null,null,null,null,null,null,"Hole N 8",2,264,47,4,5,9,0,2,0,0,1,0,0,{"$f":"(T39*Setup!$J$17)+(U39*Setup!$J$18)+(V39*Setup!$J$19)+(W39*Setup!$J$22)+X39*(Setup!$J$23)+(Y39*Setup!$J$24)+(Z39*Setup!$J$27)+(AA39*Setup!$J$28)+(AB39*Setup!$J$29)","v":17},"",0,{"$f":"IF(T39<>U38,1,0)","v":0},{"$f":"IF(V39<>V38,1,0)","v":0},0,{"$f":"IF(W39<>X38,1,0)","v":0},{"$f":"IF(Y39<>Y38,1,0)","v":0},0,{"$f":"IF(Z39<>AA38,1,0)","v":0},{"$f":"IF(AB39<>AB38,1,0)","v":0}]
["Hdcp",null,null,"Golfers handicap.  Golfers handicap will not include highest and lowest score after golfer has played 6 rou",null,null,null,null,null,null,null,null,null,null,null,"Bob and Mike",2,265,36,7,7,4,0,0,2,0,0,1,0,{"$f":"(T40*Setup!$J$17)+(U40*Setup!$J$18)+(V40*Setup!$J$19)+(W40*Setup!$J$22)+X40*(Setup!$J$23)+(Y40*Setup!$J$24)+(Z40*Setup!$J$27)+(AA40*Setup!$J$28)+(AB40*Setup!$J$29)","v":25},"",0,{"$f":"IF(T40<>U41,1,0)","v":0},{"$f":"IF(V40<>V41,1,0)","v":0},0,{"$f":"IF(W40<>X41,1,0)","v":0},{"$f":"IF(Y40<>Y41,1,0)","v":0},0,{"$f":"IF(Z40<>AA41,1,0)","v":0},{"$f":"IF(AB40<>AB41,1,0)","v":0}]
["Pars",null,null,"Total number of Pars golfer has scored during the season",null,null,null,null,null,null,null,null,null,null,null,"Putt Buddies",2,265,48,7,7,4,0,0,2,0,0,1,0,{"$f":"(T41*Setup!$J$17)+(U41*Setup!$J$18)+(V41*Setup!$J$19)+(W41*Setup!$J$22)+X41*(Setup!$J$23)+(Y41*Setup!$J$24)+(Z41*Setup!$J$27)+(AA41*Setup!$J$28)+(AB41*Setup!$J$29)","v":25},"",0,{"$f":"IF(T41<>U40,1,0)","v":0},{"$f":"IF(V41<>V40,1,0)","v":0},0,{"$f":"IF(W41<>X40,1,0)","v":0},{"$f":"IF(Y41<>Y40,1,0)","v":0},0,{"$f":"IF(Z41<>AA40,1,0)","v":0},{"$f":"IF(AB41<>AB40,1,0)","v":0}]
["Birdies",null,null,"Total number of Birdies the golfer has scored during the season",null,null,null,null,null,null,null,null,null,null,null,"Dave, Joe and Rick",2,266,39,5,7,6,0,2,0,0,1,0,0,{"$f":"(T42*Setup!$J$17)+(U42*Setup!$J$18)+(V42*Setup!$J$19)+(W42*Setup!$J$22)+X42*(Setup!$J$23)+(Y42*Setup!$J$24)+(Z42*Setup!$J$27)+(AA42*Setup!$J$28)+(AB42*Setup!$J$29)","v":16},"",0,{"$f":"IF(T42<>U43,1,0)","v":0},{"$f":"IF(V42<>V43,1,0)","v":0},0,{"$f":"IF(W42<>X43,1,0)","v":0},{"$f":"IF(Y42<>Y43,1,0)","v":0},0,{"$f":"IF(Z42<>AA43,1,0)","v":0},{"$f":"IF(AB42<>AB43,1,0)","v":0}]
["Eagles",null,null,"Total number of Eagles the golfer has scored during the season",null,null,null,null,null,null,null,null,null,null,null,"Shootist 1",2,266,51,7,5,6,2,0,0,1,0,0,0,{"$f":"(T43*Setup!$J$17)+(U43*Setup!$J$18)+(V43*Setup!$J$19)+(W43*Setup!$J$22)+X43*(Setup!$J$23)+(Y43*Setup!$J$24)+(Z43*Setup!$J$27)+(AA43*Setup!$J$28)+(AB43*Setup!$J$29)","v":34},"",0,{"$f":"IF(T43<>U42,1,0)","v":0},{"$f":"IF(V43<>V42,1,0)","v":0},0,{"$f":"IF(W43<>X42,1,0)","v":0},{"$f":"IF(Y43<>Y42,1,0)","v":0},0,{"$f":"IF(Z43<>AA42,1,0)","v":0},{"$f":"IF(AB43<>AB42,1,0)","v":0}]
[null,null,null,null,null,null,null,null,null,null,null,null,null,null,null,"Dingers Ringers",2,267,42,11,7,0,2,0,0,1,0,0,0,{"$f":"(T44*Setup!$J$17)+(U44*Setup!$J$18)+(V44*Setup!$J$19)+(W44*Setup!$J$22)+X44*(Setup!$J$23)+(Y44*Setup!$J$24)+(Z44*Setup!$J$27)+(AA44*Setup!$J$28)+(AB44*Setup!$J$29)","v":36},"",0,{"$f":"IF(T44<>U45,1,0)","v":0},{"$f":"IF(V44<>V45,1,0)","v":0},0,{"$f":"IF(W44<>X45,1,0)","v":0},{"$f":"IF(Y44<>Y45,1,0)","v":0},0,{"$f":"IF(Z44<>AA45,1,0)","v":0},{"$f":"IF(AB44<>AB45,1,0)","v":0}]
[null,null,null,null,null,null,null,null,null,null,null,null,null,null,null,"Delivery Divots",2,267,44,7,11,0,0,2,0,0,1,0,0,{"$f":"(T45*Setup!$J$17)+(U45*Setup!$J$18)+(V45*Setup!$J$19)+(W45*Setup!$J$22)+X45*(Setup!$J$23)+(Y45*Setup!$J$24)+(Z45*Setup!$J$27)+(AA45*Setup!$J$28)+(AB45*Setup!$J$29)","v":14},"",0,{"$f":"IF(T45<>U44,1,0)","v":0},{"$f":"IF(V45<>V44,1,0)","v":0},0,{"$f":"IF(W45<>X44,1,0)","v":0},{"$f":"IF(Y45<>Y44,1,0)","v":0},0,{"$f":"IF(Z45<>AA44,1,0)","v":0},{"$f":"IF(AB45<>AB44,1,0)","v":0}]
[null,null,null,null,null,null,null,null,null,null,null,null,null,null,null,"Stewart Shankers",2,268,43,8,8,2,0,1,1,0,1,0,0,{"$f":"(T46*Setup!$J$17)+(U46*Setup!$J$18)+(V46*Setup!$J$19)+(W46*Setup!$J$22)+X46*(Setup!$J$23)+(Y46*Setup!$J$24)+(Z46*Setup!$J$27)+(AA46*Setup!$J$28)+(AB46*Setup!$J$29)","v":20},"",0,{"$f":"IF(T46<>U47,1,0)","v":0},{"$f":"IF(V46<>V47,1,0)","v":0},0,{"$f":"IF(W46<>X47,1,0)","v":0},{"$f":"IF(Y46<>Y47,1,0)","v":0},0,{"$f":"IF(Z46<>AA47,1,0)","v":0},{"$f":"IF(AB46<>AB47,1,0)","v":0}]
[null,null,null,null,null,null,null,null,null,null,null,null,null,null,null,"Dude Wheres My Par",2,268,45,8,8,2,1,0,1,1,0,0,0,{"$f":"(T47*Setup!$J$17)+(U47*Setup!$J$18)+(V47*Setup!$J$19)+(W47*Setup!$J$22)+X47*(Setup!$J$23)+(Y47*Setup!$J$24)+(Z47*Setup!$J$27)+(AA47*Setup!$J$28)+(AB47*Setup!$J$29)","v":30},"",0,{"$f":"IF(T47<>U46,1,0)","v":0},{"$f":"IF(V47<>V46,1,0)","v":0},0,{"$f":"IF(W47<>X46,1,0)","v":0},{"$f":"IF(Y47<>Y46,1,0)","v":0},0,{"$f":"IF(Z47<>AA46,1,0)","v":0},{"$f":"IF(AB47<>AB46,1,0)","v":0}]
[null,null,null,null,null,null,null,null,null,null,null,null,null,null,null,"Alex and Carl",2,269,34,8,4,6,2,0,0,1,0,0,0,{"$f":"(T48*Setup!$J$17)+(U48*Setup!$J$18)+(V48*Setup!$J$19)+(W48*Setup!$J$22)+X48*(Setup!$J$23)+(Y48*Setup!$J$24)+(Z48*Setup!$J$27)+(AA48*Setup!$J$28)+(AB48*Setup!$J$29)","v":36},"",0,{"$f":"IF(T48<>U49,1,0)","v":0},{"$f":"IF(V48<>V49,1,0)","v":0},0,{"$f":"IF(W48<>X49,1,0)","v":0},{"$f":"IF(Y48<>Y49,1,0)","v":0},0,{"$f":"IF(Z48<>AA49,1,0)","v":0},{"$f":"IF(AB48<>AB49,1,0)","v":0}]
[null,null,null,null,null,null,null,null,null,null,null,null,null,null,null,"Evan and Jon",2,269,46,4,8,6,0,2,0,0,1,0,0,{"$f":"(T49*Setup!$J$17)+(U49*Setup!$J$18)+(V49*Setup!$J$19)+(W49*Setup!$J$22)+X49*(Setup!$J$23)+(Y49*Setup!$J$24)+(Z49*Setup!$J$27)+(AA49*Setup!$J$28)+(AB49*Setup!$J$29)","v":14},"",0,{"$f":"IF(T49<>U48,1,0)","v":0},{"$f":"IF(V49<>V48,1,0)","v":0},0,{"$f":"IF(W49<>X48,1,0)","v":0},{"$f":"IF(Y49<>Y48,1,0)","v":0},0,{"$f":"IF(Z49<>AA48,1,0)","v":0},{"$f":"IF(AB49<>AB48,1,0)","v":0}]
[null,null,null,null,null,null,null,null,null,null,null,null,null,null,null,"Dingers Ringers",3,270,42,7,3,8,2,0,0,1,0,0,0,{"$f":"(T50*Setup!$J$17)+(U50*Setup!$J$18)+(V50*Setup!$J$19)+(W50*Setup!$J$22)+X50*(Setup!$J$23)+(Y50*Setup!$J$24)+(Z50*Setup!$J$27)+(AA50*Setup!$J$28)+(AB50*Setup!$J$29)","v":36},"",0,{"$f":"IF(T50<>U51,1,0)","v":0},{"$f":"IF(V50<>V51,1,0)","v":0},0,{"$f":"IF(W50<>X51,1,0)","v":0},{"$f":"IF(Y50<>Y51,1,0)","v":0},0,{"$f":"IF(Z50<>AA51,1,0)","v":0},{"$f":"IF(AB50<>AB51,1,0)","v":0}]
[null,null,null,null,null,null,null,null,null,null,null,null,null,null,null,"Evan and Jon",3,270,46,3,7,8,0,2,0,0,1,0,0,{"$f":"(T51*Setup!$J$17)+(U51*Setup!$J$18)+(V51*Setup!$J$19)+(W51*Setup!$J$22)+X51*(Setup!$J$23)+(Y51*Setup!$J$24)+(Z51*Setup!$J$27)+(AA51*Setup!$J$28)+(AB51*Setup!$J$29)","v":14},"",0,{"$f":"IF(T51<>U50,1,0)","v":0},{"$f":"IF(V51<>V50,1,0)","v":0},0,{"$f":"IF(W51<>X50,1,0)","v":0},{"$f":"IF(Y51<>Y50,1,0)","v":0},0,{"$f":"IF(Z51<>AA50,1,0)","v":0},{"$f":"IF(AB51<>AB50,1,0)","v":0}]
[null,null,null,null,null,null,null,null,null,null,null,null,null,null,null,"Dave, Joe and Rick",3,271,39,8,8,2,0,2,0,0,1,0,0,{"$f":"(T52*Setup!$J$17)+(U52*Setup!$J$18)+(V52*Setup!$J$19)+(W52*Setup!$J$22)+X52*(Setup!$J$23)+(Y52*Setup!$J$24)+(Z52*Setup!$J$27)+(AA52*Setup!$J$28)+(AB52*Setup!$J$29)","v":18},"",0,{"$f":"IF(T52<>U53,1,0)","v":0},{"$f":"IF(V52<>V53,1,0)","v":0},0,{"$f":"IF(W52<>X53,1,0)","v":0},{"$f":"IF(Y52<>Y53,1,0)","v":0},0,{"$f":"IF(Z52<>AA53,1,0)","v":0},{"$f":"IF(AB52<>AB53,1,0)","v":0}]
[null,null,null,null,null,null,null,null,null,null,null,null,null,null,null,"Snowmen",3,271,53,8,8,2,2,0,0,1,0,0,0,{"$f":"(T53*Setup!$J$17)+(U53*Setup!$J$18)+(V53*Setup!$J$19)+(W53*Setup!$J$22)+X53*(Setup!$J$23)+(Y53*Setup!$J$24)+(Z53*Setup!$J$27)+(AA53*Setup!$J$28)+(AB53*Setup!$J$29)","v":32},"",0,{"$f":"IF(T53<>U52,1,0)","v":0},{"$f":"IF(V53<>V52,1,0)","v":0},0,{"$f":"IF(W53<>X52,1,0)","v":0},{"$f":"IF(Y53<>Y52,1,0)","v":0},0,{"$f":"IF(Z53<>AA52,1,0)","v":0},{"$f":"IF(AB53<>AB52,1,0)","v":0}]
[null,null,null,null,null,null,null,null,null,null,null,null,null,null,null,"Alex and Carl",3,272,34,6,9,3,1,1,0,0,1,0,0,{"$f":"(T54*Setup!$J$17)+(U54*Setup!$J$18)+(V54*Setup!$J$19)+(W54*Setup!$J$22)+X54*(Setup!$J$23)+(Y54*Setup!$J$24)+(Z54*Setup!$J$27)+(AA54*Setup!$J$28)+(AB54*Setup!$J$29)","v":19},"",0,{"$f":"IF(T54<>U55,1,0)","v":0},{"$f":"IF(V54<>V55,1,0)","v":0},0,{"$f":"IF(W54<>X55,1,0)","v":0},{"$f":"IF(Y54<>Y55,1,0)","v":0},0,{"$f":"IF(Z54<>AA55,1,0)","v":0},{"$f":"IF(AB54<>AB55,1,0)","v":0}]
[null,null,null,null,null,null,null,null,null,null,null,null,null,null,null,"Putt Buddies",3,272,48,9,6,3,1,1,0,1,0,0,0,{"$f":"(T55*Setup!$J$17)+(U55*Setup!$J$18)+(V55*Setup!$J$19)+(W55*Setup!$J$22)+X55*(Setup!$J$23)+(Y55*Setup!$J$24)+(Z55*Setup!$J$27)+(AA55*Setup!$J$28)+(AB55*Setup!$J$29)","v":31},"",0,{"$f":"IF(T55<>U54,1,0)","v":0},{"$f":"IF(V55<>V54,1,0)","v":0},0,{"$f":"IF(W55<>X54,1,0)","v":0},{"$f":"IF(Y55<>Y54,1,0)","v":0},0,{"$f":"IF(Z55<>AA54,1,0)","v":0},{"$f":"IF(AB55<>AB54,1,0)","v":0}]
[null,null,null,null,null,null,null,null,null,null,null,null,null,null,null,"Stewart Shankers",3,273,43,5,9,4,1,1,0,0,1,0,0,{"$f":"(T56*Setup!$J$17)+(U56*Setup!$J$18)+(V56*Setup!$J$19)+(W56*Setup!$J$22)+X56*(Setup!$J$23)+(Y56*Setup!$J$24)+(Z56*Setup!$J$27)+(AA56*Setup!$J$28)+(AB56*Setup!$J$29)","v":18},"",0,{"$f":"IF(T56<>U57,1,0)","v":0},{"$f":"IF(V56<>V57,1,0)","v":0},0,{"$f":"IF(W56<>X57,1,0)","v":0},{"$f":"IF(Y56<>Y57,1,0)","v":0},0,{"$f":"IF(Z56<>AA57,1,0)","v":0},{"$f":"IF(AB56<>AB57,1,0)","v":0}]
[null,null,null,null,null,null,null,null,null,null,null,null,null,null,null,"Hole N 8",3,273,47,9,5,4,1,1,0,1,0,0,0,{"$f":"(T57*Setup!$J$17)+(U57*Setup!$J$18)+(V57*Setup!$J$19)+(W57*Setup!$J$22)+X57*(Setup!$J$23)+(Y57*Setup!$J$24)+(Z57*Setup!$J$27)+(AA57*Setup!$J$28)+(AB57*Setup!$J$29)","v":32},"",0,{"$f":"IF(T57<>U56,1,0)","v":0},{"$f":"IF(V57<>V56,1,0)","v":0},0,{"$f":"IF(W57<>X56,1,0)","v":0},{"$f":"IF(Y57<>Y56,1,0)","v":0},0,{"$f":"IF(Z57<>AA56,1,0)","v":0},{"$f":"IF(AB57<>AB56,1,0)","v":0}]
[null,null,null,null,null,null,null,null,null,null,null,null,null,null,null,"Schmitts Creek",3,274,40,5,6,7,1,1,0,0,1,0,0,{"$f":"(T58*Setup!$J$17)+(U58*Setup!$J$18)+(V58*Setup!$J$19)+(W58*Setup!$J$22)+X58*(Setup!$J$23)+(Y58*Setup!$J$24)+(Z58*Setup!$J$27)+(AA58*Setup!$J$28)+(AB58*Setup!$J$29)","v":21},"",0,{"$f":"IF(T58<>U59,1,0)","v":0},{"$f":"IF(V58<>V59,1,0)","v":0},0,{"$f":"IF(W58<>X59,1,0)","v":0},{"$f":"IF(Y58<>Y59,1,0)","v":0},0,{"$f":"IF(Z58<>AA59,1,0)","v":0},{"$f":"IF(AB58<>AB59,1,0)","v":0}]
[null,null,null,null,null,null,null,null,null,null,null,null,null,null,null,"Delivery Divots",3,274,44,6,5,7,1,1,0,1,0,0,0,{"$f":"(T59*Setup!$J$17)+(U59*Setup!$J$18)+(V59*Setup!$J$19)+(W59*Setup!$J$22)+X59*(Setup!$J$23)+(Y59*Setup!$J$24)+(Z59*Setup!$J$27)+(AA59*Setup!$J$28)+(AB59*Setup!$J$29)","v":29},"",0,{"$f":"IF(T59<>U58,1,0)","v":0},{"$f":"IF(V59<>V58,1,0)","v":0},0,{"$f":"IF(W59<>X58,1,0)","v":0},{"$f":"IF(Y59<>Y58,1,0)","v":0},0,{"$f":"IF(Z59<>AA58,1,0)","v":0},{"$f":"IF(AB59<>AB58,1,0)","v":0}]
[null,null,null,null,null,null,null,null,null,null,null,null,null,null,null,"Charles and Rob",3,275,37,3,10,5,0,2,0,0,1,0,0,{"$f":"(T60*Setup!$J$17)+(U60*Setup!$J$18)+(V60*Setup!$J$19)+(W60*Setup!$J$22)+X60*(Setup!$J$23)+(Y60*Setup!$J$24)+(Z60*Setup!$J$27)+(AA60*Setup!$J$28)+(AB60*Setup!$J$29)","v":11},"",0,{"$f":"IF(T60<>U61,1,0)","v":0},{"$f":"IF(V60<>V61,1,0)","v":0},0,{"$f":"IF(W60<>X61,1,0)","v":0},{"$f":"IF(Y60<>Y61,1,0)","v":0},0,{"$f":"IF(Z60<>AA61,1,0)","v":0},{"$f":"IF(AB60<>AB61,1,0)","v":0}]
[null,null,null,null,null,null,null,null,null,null,null,null,null,null,null,"Shootist 1",3,275,51,10,3,5,2,0,0,1,0,0,0,{"$f":"(T61*Setup!$J$17)+(U61*Setup!$J$18)+(V61*Setup!$J$19)+(W61*Setup!$J$22)+X61*(Setup!$J$23)+(Y61*Setup!$J$24)+(Z61*Setup!$J$27)+(AA61*Setup!$J$28)+(AB61*Setup!$J$29)","v":39},"",0,{"$f":"IF(T61<>U60,1,0)","v":0},{"$f":"IF(V61<>V60,1,0)","v":0},0,{"$f":"IF(W61<>X60,1,0)","v":0},{"$f":"IF(Y61<>Y60,1,0)","v":0},0,{"$f":"IF(Z61<>AA60,1,0)","v":0},{"$f":"IF(AB61<>AB60,1,0)","v":0}]
[null,null,null,null,null,null,null,null,null,null,null,null,null,null,null,"Checkin Test Cells",3,276,38,5,7,6,0,1,1,0,1,0,0,{"$f":"(T62*Setup!$J$17)+(U62*Setup!$J$18)+(V62*Setup!$J$19)+(W62*Setup!$J$22)+X62*(Setup!$J$23)+(Y62*Setup!$J$24)+(Z62*Setup!$J$27)+(AA62*Setup!$J$28)+(AB62*Setup!$J$29)","v":18},"",0,{"$f":"IF(T62<>U63,1,0)","v":0},{"$f":"IF(V62<>V63,1,0)","v":0},0,{"$f":"IF(W62<>X63,1,0)","v":0},{"$f":"IF(Y62<>Y63,1,0)","v":0},0,{"$f":"IF(Z62<>AA63,1,0)","v":0},{"$f":"IF(AB62<>AB63,1,0)","v":0}]
[null,null,null,null,null,null,null,null,null,null,null,null,null,null,null,"Shootist 2",3,276,52,7,5,6,1,0,1,1,0,0,0,{"$f":"(T63*Setup!$J$17)+(U63*Setup!$J$18)+(V63*Setup!$J$19)+(W63*Setup!$J$22)+X63*(Setup!$J$23)+(Y63*Setup!$J$24)+(Z63*Setup!$J$27)+(AA63*Setup!$J$28)+(AB63*Setup!$J$29)","v":32},"",0,{"$f":"IF(T63<>U62,1,0)","v":0},{"$f":"IF(V63<>V62,1,0)","v":0},0,{"$f":"IF(W63<>X62,1,0)","v":0},{"$f":"IF(Y63<>Y62,1,0)","v":0},0,{"$f":"IF(Z63<>AA62,1,0)","v":0},{"$f":"IF(AB63<>AB62,1,0)","v":0}]
[null,null,null,null,null,null,null,null,null,null,null,null,null,null,null,"McAvoys",3,277,41,4,7,7,0,1,1,0,1,0,0,{"$f":"(T64*Setup!$J$17)+(U64*Setup!$J$18)+(V64*Setup!$J$19)+(W64*Setup!$J$22)+X64*(Setup!$J$23)+(Y64*Setup!$J$24)+(Z64*Setup!$J$27)+(AA64*Setup!$J$28)+(AB64*Setup!$J$29)","v":17},"",0,{"$f":"IF(T64<>U65,1,0)","v":0},{"$f":"IF(V64<>V65,1,0)","v":0},0,{"$f":"IF(W64<>X65,1,0)","v":0},{"$f":"IF(Y64<>Y65,1,0)","v":0},0,{"$f":"IF(Z64<>AA65,1,0)","v":0},{"$f":"IF(AB64<>AB65,1,0)","v":0}]
[null,null,null,null,null,null,null,null,null,null,null,null,null,null,null,"Dude Wheres My Par",3,277,45,7,4,7,1,0,1,1,0,0,0,{"$f":"(T65*Setup!$J$17)+(U65*Setup!$J$18)+(V65*Setup!$J$19)+(W65*Setup!$J$22)+X65*(Setup!$J$23)+(Y65*Setup!$J$24)+(Z65*Setup!$J$27)+(AA65*Setup!$J$28)+(AB65*Setup!$J$29)","v":33},"",0,{"$f":"IF(T65<>U64,1,0)","v":0},{"$f":"IF(V65<>V64,1,0)","v":0},0,{"$f":"IF(W65<>X64,1,0)","v":0},{"$f":"IF(Y65<>Y64,1,0)","v":0},0,{"$f":"IF(Z65<>AA64,1,0)","v":0},{"$f":"IF(AB65<>AB64,1,0)","v":0}]
[null,null,null,null,null,null,null,null,null,null,null,null,null,null,null,"Bob and Mike",3,278,36,5,7,6,0,1,1,0,1,0,0,{"$f":"(T66*Setup!$J$17)+(U66*Setup!$J$18)+(V66*Setup!$J$19)+(W66*Setup!$J$22)+X66*(Setup!$J$23)+(Y66*Setup!$J$24)+(Z66*Setup!$J$27)+(AA66*Setup!$J$28)+(AB66*Setup!$J$29)","v":18},"",0,{"$f":"IF(T66<>U67,1,0)","v":0},{"$f":"IF(V66<>V67,1,0)","v":0},0,{"$f":"IF(W66<>X67,1,0)","v":0},{"$f":"IF(Y66<>Y67,1,0)","v":0},0,{"$f":"IF(Z66<>AA67,1,0)","v":0},{"$f":"IF(AB66<>AB67,1,0)","v":0}]
[null,null,null,null,null,null,null,null,null,null,null,null,null,null,null,"Reckless Drivers",3,278,50,7,5,6,1,0,1,1,0,0,0,{"$f":"(T67*Setup!$J$17)+(U67*Setup!$J$18)+(V67*Setup!$J$19)+(W67*Setup!$J$22)+X67*(Setup!$J$23)+(Y67*Setup!$J$24)+(Z67*Setup!$J$27)+(AA67*Setup!$J$28)+(AB67*Setup!$J$29)","v":32},"",0,{"$f":"IF(T67<>U66,1,0)","v":0},{"$f":"IF(V67<>V66,1,0)","v":0},0,{"$f":"IF(W67<>X66,1,0)","v":0},{"$f":"IF(Y67<>Y66,1,0)","v":0},0,{"$f":"IF(Z67<>AA66,1,0)","v":0},{"$f":"IF(AB67<>AB66,1,0)","v":0}]
[null,null,null,null,null,null,null,null,null,null,null,null,null,null,null,"Bill and John",3,279,35,7,5,6,2,0,0,1,0,0,0,{"$f":"(T68*Setup!$J$17)+(U68*Setup!$J$18)+(V68*Setup!$J$19)+(W68*Setup!$J$22)+X68*(Setup!$J$23)+(Y68*Setup!$J$24)+(Z68*Setup!$J$27)+(AA68*Setup!$J$28)+(AB68*Setup!$J$29)","v":34},"",0,{"$f":"IF(T68<>U69,1,0)","v":0},{"$f":"IF(V68<>V69,1,0)","v":0},0,{"$f":"IF(W68<>X69,1,0)","v":0},{"$f":"IF(Y68<>Y69,1,0)","v":0},0,{"$f":"IF(Z68<>AA69,1,0)","v":0},{"$f":"IF(AB68<>AB69,1,0)","v":0}]
[null,null,null,null,null,null,null,null,null,null,null,null,null,null,null,"Putt Pirates",3,279,49,5,7,6,0,2,0,0,1,0,0,{"$f":"(T69*Setup!$J$17)+(U69*Setup!$J$18)+(V69*Setup!$J$19)+(W69*Setup!$J$22)+X69*(Setup!$J$23)+(Y69*Setup!$J$24)+(Z69*Setup!$J$27)+(AA69*Setup!$J$28)+(AB69*Setup!$J$29)","v":16},"",0,{"$f":"IF(T69<>U68,1,0)","v":0},{"$f":"IF(V69<>V68,1,0)","v":0},0,{"$f":"IF(W69<>X68,1,0)","v":0},{"$f":"IF(Y69<>Y68,1,0)","v":0},0,{"$f":"IF(Z69<>AA68,1,0)","v":0},{"$f":"IF(AB69<>AB68,1,0)","v":0}]
[null,null,null,null,null,null,null,null,null,null,null,null,null,null,null,"Stewart Shankers",4,280,43,2,5,1,0,0,0,0,0,0,0,{"$f":"(T70*Setup!$J$17)+(U70*Setup!$J$18)+(V70*Setup!$J$19)+(W70*Setup!$J$22)+X70*(Setup!$J$23)+(Y70*Setup!$J$24)+(Z70*Setup!$J$27)+(AA70*Setup!$J$28)+(AB70*Setup!$J$29)","v":5},"ERROR",1,{"$f":"IF(T70<>U71,1,0)","v":0},{"$f":"IF(V70<>V71,1,0)","v":0},1,{"$f":"IF(W70<>X71,1,0)","v":0},{"$f":"IF(Y70<>Y71,1,0)","v":0},1,{"$f":"IF(Z70<>AA71,1,0)","v":0},{"$f":"IF(AB70<>AB71,1,0)","v":0}]
[null,null,null,null,null,null,null,null,null,null,null,null,null,null,null,"Putt Pirates",4,280,49,5,2,1,0,0,0,0,0,0,0,{"$f":"(T71*Setup!$J$17)+(U71*Setup!$J$18)+(V71*Setup!$J$19)+(W71*Setup!$J$22)+X71*(Setup!$J$23)+(Y71*Setup!$J$24)+(Z71*Setup!$J$27)+(AA71*Setup!$J$28)+(AB71*Setup!$J$29)","v":11},"ERROR",1,{"$f":"IF(T71<>U70,1,0)","v":0},{"$f":"IF(V71<>V70,1,0)","v":0},1,{"$f":"IF(W71<>X70,1,0)","v":0},{"$f":"IF(Y71<>Y70,1,0)","v":0},1,{"$f":"IF(Z71<>AA70,1,0)","v":0},{"$f":"IF(AB71<>AB70,1,0)","v":0}]
[null,null,null,null,null,null,null,null,null,null,null,null,null,null,null,"Checkin Test Cells",4,281,38,2,5,1,0,0,0,0,0,0,0,{"$f":"(T72*Setup!$J$17)+(U72*Setup!$J$18)+(V72*Setup!$J$19)+(W72*Setup!$J$22)+X72*(Setup!$J$23)+(Y72*Setup!$J$24)+(Z72*Setup!$J$27)+(AA72*Setup!$J$28)+(AB72*Setup!$J$29)","v":5},"ERROR",1,{"$f":"IF(T72<>U73,1,0)","v":0},{"$f":"IF(V72<>V73,1,0)","v":0},1,{"$f":"IF(W72<>X73,1,0)","v":0},{"$f":"IF(Y72<>Y73,1,0)","v":0},1,{"$f":"IF(Z72<>AA73,1,0)","v":0},{"$f":"IF(AB72<>AB73,1,0)","v":0}]
[null,null,null,null,null,null,null,null,null,null,null,null,null,null,null,"Delivery Divots",4,281,44,5,2,1,0,0,0,0,0,0,0,{"$f":"(T73*Setup!$J$17)+(U73*Setup!$J$18)+(V73*Setup!$J$19)+(W73*Setup!$J$22)+X73*(Setup!$J$23)+(Y73*Setup!$J$24)+(Z73*Setup!$J$27)+(AA73*Setup!$J$28)+(AB73*Setup!$J$29)","v":11},"ERROR",1,{"$f":"IF(T73<>U72,1,0)","v":0},{"$f":"IF(V73<>V72,1,0)","v":0},1,{"$f":"IF(W73<>X72,1,0)","v":0},{"$f":"IF(Y73<>Y72,1,0)","v":0},1,{"$f":"IF(Z73<>AA72,1,0)","v":0},{"$f":"IF(AB73<>AB72,1,0)","v":0}]
[null,null,null,null,null,null,null,null,null,null,null,null,null,null,null,"Bill and John",4,282,35,3,4,1,0,0,0,0,0,0,0,{"$f":"(T74*Setup!$J$17)+(U74*Setup!$J$18)+(V74*Setup!$J$19)+(W74*Setup!$J$22)+X74*(Setup!$J$23)+(Y74*Setup!$J$24)+(Z74*Setup!$J$27)+(AA74*Setup!$J$28)+(AB74*Setup!$J$29)","v":7},"ERROR",1,{"$f":"IF(T74<>U75,1,0)","v":0},{"$f":"IF(V74<>V75,1,0)","v":0},1,{"$f":"IF(W74<>X75,1,0)","v":0},{"$f":"IF(Y74<>Y75,1,0)","v":0},1,{"$f":"IF(Z74<>AA75,1,0)","v":0},{"$f":"IF(AB74<>AB75,1,0)","v":0}]
[null,null,null,null,null,null,null,null,null,null,null,null,null,null,null,"Shootist 1",4,282,51,4,3,1,0,0,0,0,0,0,0,{"$f":"(T75*Setup!$J$17)+(U75*Setup!$J$18)+(V75*Setup!$J$19)+(W75*Setup!$J$22)+X75*(Setup!$J$23)+(Y75*Setup!$J$24)+(Z75*Setup!$J$27)+(AA75*Setup!$J$28)+(AB75*Setup!$J$29)","v":9},"ERROR",1,{"$f":"IF(T75<>U74,1,0)","v":0},{"$f":"IF(V75<>V74,1,0)","v":0},1,{"$f":"IF(W75<>X74,1,0)","v":0},{"$f":"IF(Y75<>Y74,1,0)","v":0},1,{"$f":"IF(Z75<>AA74,1,0)","v":0},{"$f":"IF(AB75<>AB74,1,0)","v":0}]
[null,null,null,null,null,null,null,null,null,null,null,null,null,null,null,"Alex and Carl",4,283,34,1,3,4,0,0,0,0,0,0,0,{"$f":"(T76*Setup!$J$17)+(U76*Setup!$J$18)+(V76*Setup!$J$19)+(W76*Setup!$J$22)+X76*(Setup!$J$23)+(Y76*Setup!$J$24)+(Z76*Setup!$J$27)+(AA76*Setup!$J$28)+(AB76*Setup!$J$29)","v":6},"ERROR",1,{"$f":"IF(T76<>U77,1,0)","v":1},{"$f":"IF(V76<>V77,1,0)","v":1},1,{"$f":"IF(W76<>X77,1,0)","v":0},{"$f":"IF(Y76<>Y77,1,0)","v":0},1,{"$f":"IF(Z76<>AA77,1,0)","v":0},{"$f":"IF(AB76<>AB77,1,0)","v":0}]
[null,null,null,null,null,null,null,null,null,null,null,null,null,null,null,"Reckless Drivers",4,283,50,2,0,2,0,0,0,0,0,0,0,{"$f":"(T77*Setup!$J$17)+(U77*Setup!$J$18)+(V77*Setup!$J$19)+(W77*Setup!$J$22)+X77*(Setup!$J$23)+(Y77*Setup!$J$24)+(Z77*Setup!$J$27)+(AA77*Setup!$J$28)+(AB77*Setup!$J$29)","v":6},"ERROR",1,{"$f":"IF(T77<>U76,1,0)","v":1},{"$f":"IF(V77<>V76,1,0)","v":1},1,{"$f":"IF(W77<>X76,1,0)","v":0},{"$f":"IF(Y77<>Y76,1,0)","v":0},1,{"$f":"IF(Z77<>AA76,1,0)","v":0},{"$f":"IF(AB77<>AB76,1,0)","v":0}]
[null,null,null,null,null,null,null,null,null,null,null,null,null,null,null,"McAvoys",4,284,41,3,1,0,0,0,0,0,0,0,0,{"$f":"(T78*Setup!$J$17)+(U78*Setup!$J$18)+(V78*Setup!$J$19)+(W78*Setup!$J$22)+X78*(Setup!$J$23)+(Y78*Setup!$J$24)+(Z78*Setup!$J$27)+(AA78*Setup!$J$28)+(AB78*Setup!$J$29)","v":6},"ERROR",1,{"$f":"IF(T78<>U79,1,0)","v":1},{"$f":"IF(V78<>V79,1,0)","v":1},1,{"$f":"IF(W78<>X79,1,0)","v":0},{"$f":"IF(Y78<>Y79,1,0)","v":0},1,{"$f":"IF(Z78<>AA79,1,0)","v":0},{"$f":"IF(AB78<>AB79,1,0)","v":0}]
[null,null,null,null,null,null,null,null,null,null,null,null,null,null,null,"Hole N 8",4,284,47,1,6,1,0,0,0,0,0,0,0,{"$f":"(T79*Setup!$J$17)+(U79*Setup!$J$18)+(V79*Setup!$J$19)+(W79*Setup!$J$22)+X79*(Setup!$J$23)+(Y79*Setup!$J$24)+(Z79*Setup!$J$27)+(AA79*Setup!$J$28)+(AB79*Setup!$J$29)","v":3},"ERROR",1,{"$f":"IF(T79<>U78,1,0)","v":0},{"$f":"IF(V79<>V78,1,0)","v":1},1,{"$f":"IF(W79<>X78,1,0)","v":0},{"$f":"IF(Y79<>Y78,1,0)","v":0},1,{"$f":"IF(Z79<>AA78,1,0)","v":0},{"$f":"IF(AB79<>AB78,1,0)","v":0}]
[null,null,null,null,null,null,null,null,null,null,null,null,null,null,null,"Bob and Mike",4,285,36,0,2,6,0,0,0,0,0,0,0,{"$f":"(T80*Setup!$J$17)+(U80*Setup!$J$18)+(V80*Setup!$J$19)+(W80*Setup!$J$22)+X80*(Setup!$J$23)+(Y80*Setup!$J$24)+(Z80*Setup!$J$27)+(AA80*Setup!$J$28)+(AB80*Setup!$J$29)","v":6},"ERROR",1,{"$f":"IF(T80<>U81,1,0)","v":0},{"$f":"IF(V80<>V81,1,0)","v":0},1,{"$f":"IF(W80<>X81,1,0)","v":0},{"$f":"IF(Y80<>Y81,1,0)","v":0},1,{"$f":"IF(Z80<>AA81,1,0)","v":0},{"$f":"IF(AB80<>AB81,1,0)","v":0}]
[null,null,null,null,null,null,null,null,null,null,null,null,null,null,null,"Shootist 2",4,285,52,2,0,6,0,0,0,0,0,0,0,{"$f":"(T81*Setup!$J$17)+(U81*Setup!$J$18)+(V81*Setup!$J$19)+(W81*Setup!$J$22)+X81*(Setup!$J$23)+(Y81*Setup!$J$24)+(Z81*Setup!$J$27)+(AA81*Setup!$J$28)+(AB81*Setup!$J$29)","v":10},"ERROR",1,{"$f":"IF(T81<>U80,1,0)","v":0},{"$f":"IF(V81<>V80,1,0)","v":0},1,{"$f":"IF(W81<>X80,1,0)","v":0},{"$f":"IF(Y81<>Y80,1,0)","v":0},1,{"$f":"IF(Z81<>AA80,1,0)","v":0},{"$f":"IF(AB81<>AB80,1,0)","v":0}]
[null,null,null,null,null,null,null,null,null,null,null,null,null,null,null,"Charles and Rob",4,286,37,6,2,0,0,0,0,0,0,0,0,{"$f":"(T82*Setup!$J$17)+(U82*Setup!$J$18)+(V82*Setup!$J$19)+(W82*Setup!$J$22)+X82*(Setup!$J$23)+(Y82*Setup!$J$24)+(Z82*Setup!$J$27)+(AA82*Setup!$J$28)+(AB82*Setup!$J$29)","v":12},"ERROR",1,{"$f":"IF(T82<>U83,1,0)","v":1},{"$f":"IF(V82<>V83,1,0)","v":0},1,{"$f":"IF(W82<>X83,1,0)","v":0},{"$f":"IF(Y82<>Y83,1,0)","v":0},1,{"$f":"IF(Z82<>AA83,1,0)","v":0},{"$f":"IF(AB82<>AB83,1,0)","v":0}]
[null,null,null,null,null,null,null,null,null,null,null,null,null,null,null,"Snowmen",4,286,53,2,2,0,0,0,0,0,0,0,0,{"$f":"(T83*Setup!$J$17)+(U83*Setup!$J$18)+(V83*Setup!$J$19)+(W83*Setup!$J$22)+X83*(Setup!$J$23)+(Y83*Setup!$J$24)+(Z83*Setup!$J$27)+(AA83*Setup!$J$28)+(AB83*Setup!$J$29)","v":4},"ERROR",1,{"$f":"IF(T83<>U82,1,0)","v":0},{"$f":"IF(V83<>V82,1,0)","v":0},1,{"$f":"IF(W83<>X82,1,0)","v":0},{"$f":"IF(Y83<>Y82,1,0)","v":0},1,{"$f":"IF(Z83<>AA82,1,0)","v":0},{"$f":"IF(AB83<>AB82,1,0)","v":0}]
[null,null,null,null,null,null,null,null,null,null,null,null,null,null,null,"Dingers Ringers",4,287,42,1,2,5,0,0,0,0,0,0,0,{"$f":"(T84*Setup!$J$17)+(U84*Setup!$J$18)+(V84*Setup!$J$19)+(W84*Setup!$J$22)+X84*(Setup!$J$23)+(Y84*Setup!$J$24)+(Z84*Setup!$J$27)+(AA84*Setup!$J$28)+(AB84*Setup!$J$29)","v":7},"ERROR",1,{"$f":"IF(T84<>U85,1,0)","v":0},{"$f":"IF(V84<>V85,1,0)","v":1},1,{"$f":"IF(W84<>X85,1,0)","v":0},{"$f":"IF(Y84<>Y85,1,0)","v":0},1,{"$f":"IF(Z84<>AA85,1,0)","v":0},{"$f":"IF(AB84<>AB85,1,0)","v":0}]
[null,null,null,null,null,null,null,null,null,null,null,null,null,null,null,"Putt Buddies",4,287,48,0,1,3,0,0,0,0,0,0,0,{"$f":"(T85*Setup!$J$17)+(U85*Setup!$J$18)+(V85*Setup!$J$19)+(W85*Setup!$J$22)+X85*(Setup!$J$23)+(Y85*Setup!$J$24)+(Z85*Setup!$J$27)+(AA85*Setup!$J$28)+(AB85*Setup!$J$29)","v":3},"ERROR",1,{"$f":"IF(T85<>U84,1,0)","v":1},{"$f":"IF(V85<>V84,1,0)","v":1},1,{"$f":"IF(W85<>X84,1,0)","v":0},{"$f":"IF(Y85<>Y84,1,0)","v":0},1,{"$f":"IF(Z85<>AA84,1,0)","v":0},{"$f":"IF(AB85<>AB84,1,0)","v":0}]
[null,null,null,null,null,null,null,null,null,null,null,null,null,null,null,"Dave, Joe and Rick",4,288,39,1,3,0,0,0,0,0,0,0,0,{"$f":"(T86*Setup!$J$17)+(U86*Setup!$J$18)+(V86*Setup!$J$19)+(W86*Setup!$J$22)+X86*(Setup!$J$23)+(Y86*Setup!$J$24)+(Z86*Setup!$J$27)+(AA86*Setup!$J$28)+(AB86*Setup!$J$29)","v":2},"ERROR",1,{"$f":"IF(T86<>U87,1,0)","v":0},{"$f":"IF(V86<>V87,1,0)","v":0},1,{"$f":"IF(W86<>X87,1,0)","v":0},{"$f":"IF(Y86<>Y87,1,0)","v":0},1,{"$f":"IF(Z86<>AA87,1,0)","v":0},{"$f":"IF(AB86<>AB87,1,0)","v":0}]
[null,null,null,null,null,null,null,null,null,null,null,null,null,null,null,"Dude Wheres My Par",4,288,45,3,1,0,0,0,0,0,0,0,0,{"$f":"(T87*Setup!$J$17)+(U87*Setup!$J$18)+(V87*Setup!$J$19)+(W87*Setup!$J$22)+X87*(Setup!$J$23)+(Y87*Setup!$J$24)+(Z87*Setup!$J$27)+(AA87*Setup!$J$28)+(AB87*Setup!$J$29)","v":6},"ERROR",1,{"$f":"IF(T87<>U86,1,0)","v":0},{"$f":"IF(V87<>V86,1,0)","v":0},1,{"$f":"IF(W87<>X86,1,0)","v":0},{"$f":"IF(Y87<>Y86,1,0)","v":0},1,{"$f":"IF(Z87<>AA86,1,0)","v":0},{"$f":"IF(AB87<>AB86,1,0)","v":0}]
[null,null,null,null,null,null,null,null,null,null,null,null,null,null,null,"Schmitts Creek",4,289,40,7,1,0,0,0,0,0,0,0,0,{"$f":"(T88*Setup!$J$17)+(U88*Setup!$J$18)+(V88*Setup!$J$19)+(W88*Setup!$J$22)+X88*(Setup!$J$23)+(Y88*Setup!$J$24)+(Z88*Setup!$J$27)+(AA88*Setup!$J$28)+(AB88*Setup!$J$29)","v":14},"ERROR",1,{"$f":"IF(T88<>U89,1,0)","v":1},{"$f":"IF(V88<>V89,1,0)","v":0},1,{"$f":"IF(W88<>X89,1,0)","v":0},{"$f":"IF(Y88<>Y89,1,0)","v":0},1,{"$f":"IF(Z88<>AA89,1,0)","v":0},{"$f":"IF(AB88<>AB89,1,0)","v":0}]
[null,null,null,null,null,null,null,null,null,null,null,null,null,null,null,"Evan and Jon",4,289,46,1,3,0,0,0,0,0,0,0,0,{"$f":"(T89*Setup!$J$17)+(U89*Setup!$J$18)+(V89*Setup!$J$19)+(W89*Setup!$J$22)+X89*(Setup!$J$23)+(Y89*Setup!$J$24)+(Z89*Setup!$J$27)+(AA89*Setup!$J$28)+(AB89*Setup!$J$29)","v":2},"ERROR",1,{"$f":"IF(T89<>U88,1,0)","v":0},{"$f":"IF(V89<>V88,1,0)","v":0},1,{"$f":"IF(W89<>X88,1,0)","v":0},{"$f":"IF(Y89<>Y88,1,0)","v":0},1,{"$f":"IF(Z89<>AA88,1,0)","v":0},{"$f":"IF(AB89<>AB88,1,0)","v":0}]
[null,null,null,null,null,null,null,null,null,null,null,null,null,null,null,"Schmitts Creek",5,290,40,7,5,6,2,0,0,1,0,0,0,{"$f":"(T90*Setup!$J$17)+(U90*Setup!$J$18)+(V90*Setup!$J$19)+(W90*Setup!$J$22)+X90*(Setup!$J$23)+(Y90*Setup!$J$24)+(Z90*Setup!$J$27)+(AA90*Setup!$J$28)+(AB90*Setup!$J$29)","v":34},"",0,{"$f":"IF(T90<>U91,1,0)","v":0},{"$f":"IF(V90<>V91,1,0)","v":0},0,{"$f":"IF(W90<>X91,1,0)","v":0},{"$f":"IF(Y90<>Y91,1,0)","v":0},0,{"$f":"IF(Z90<>AA91,1,0)","v":0},{"$f":"IF(AB90<>AB91,1,0)","v":0}]
[null,null,null,null,null,null,null,null,null,null,null,null,null,null,null,"Putt Buddies",5,290,48,5,7,6,0,2,0,0,1,0,0,{"$f":"(T91*Setup!$J$17)+(U91*Setup!$J$18)+(V91*Setup!$J$19)+(W91*Setup!$J$22)+X91*(Setup!$J$23)+(Y91*Setup!$J$24)+(Z91*Setup!$J$27)+(AA91*Setup!$J$28)+(AB91*Setup!$J$29)","v":16},"",0,{"$f":"IF(T91<>U90,1,0)","v":0},{"$f":"IF(V91<>V90,1,0)","v":0},0,{"$f":"IF(W91<>X90,1,0)","v":0},{"$f":"IF(Y91<>Y90,1,0)","v":0},0,{"$f":"IF(Z91<>AA90,1,0)","v":0},{"$f":"IF(AB91<>AB90,1,0)","v":0}]
[null,null,null,null,null,null,null,null,null,null,null,null,null,null,null,"Charles and Rob",5,291,37,4,10,4,0,2,0,0,1,0,0,{"$f":"(T92*Setup!$J$17)+(U92*Setup!$J$18)+(V92*Setup!$J$19)+(W92*Setup!$J$22)+X92*(Setup!$J$23)+(Y92*Setup!$J$24)+(Z92*Setup!$J$27)+(AA92*Setup!$J$28)+(AB92*Setup!$J$29)","v":12},"",0,{"$f":"IF(T92<>U93,1,0)","v":0},{"$f":"IF(V92<>V93,1,0)","v":0},0,{"$f":"IF(W92<>X93,1,0)","v":0},{"$f":"IF(Y92<>Y93,1,0)","v":0},0,{"$f":"IF(Z92<>AA93,1,0)","v":0},{"$f":"IF(AB92<>AB93,1,0)","v":0}]
[null,null,null,null,null,null,null,null,null,null,null,null,null,null,null,"Dude Wheres My Par",5,291,45,10,4,4,2,0,0,1,0,0,0,{"$f":"(T93*Setup!$J$17)+(U93*Setup!$J$18)+(V93*Setup!$J$19)+(W93*Setup!$J$22)+X93*(Setup!$J$23)+(Y93*Setup!$J$24)+(Z93*Setup!$J$27)+(AA93*Setup!$J$28)+(AB93*Setup!$J$29)","v":38},"",0,{"$f":"IF(T93<>U92,1,0)","v":0},{"$f":"IF(V93<>V92,1,0)","v":0},0,{"$f":"IF(W93<>X92,1,0)","v":0},{"$f":"IF(Y93<>Y92,1,0)","v":0},0,{"$f":"IF(Z93<>AA92,1,0)","v":0},{"$f":"IF(AB93<>AB92,1,0)","v":0}]
[null,null,null,null,null,null,null,null,null,null,null,null,null,null,null,{"$f":"VLOOKUP(S94,GE_Teams_DBID,2,FALSE)","v":"Alex and Carl"},5,292,34,3,8,7,0,2,0,0,1,0,0,{"$f":"(T94*Setup!$J$17)+(U94*Setup!$J$18)+(V94*Setup!$J$19)+(W94*Setup!$J$22)+X94*(Setup!$J$23)+(Y94*Setup!$J$24)+(Z94*Setup!$J$27)+(AA94*Setup!$J$28)+(AB94*Setup!$J$29)","v":13},"",{"$f":"IF((T94+U94+V94)<>18,1,0)","v":0},{"$f":"IF(T94<>U95,1,0)","v":0},{"$f":"IF(V94<>V95,1,0)","v":0},{"$f":"IF((W94+X94+Y94)<>2,1,0)","v":0},{"$f":"IF(W94<>X95,1,0)","v":0},{"$f":"IF(Y94<>Y95,1,0)","v":0},{"$f":"IF((Z94+AA94+AB94)<>1,1,0)","v":0},{"$f":"IF(Z94<>AA95,1,0)","v":0},{"$f":"IF(AB94<>AB95,1,0)","v":0}]
[null,null,null,null,null,null,null,null,null,null,null,null,null,null,null,"Shootist 2",5,292,52,8,3,7,2,0,0,1,0,0,0,{"$f":"(T95*Setup!$J$17)+(U95*Setup!$J$18)+(V95*Setup!$J$19)+(W95*Setup!$J$22)+X95*(Setup!$J$23)+(Y95*Setup!$J$24)+(Z95*Setup!$J$27)+(AA95*Setup!$J$28)+(AB95*Setup!$J$29)","v":37},{"$f":"IF(SUM(AF95:AN95)>0,\"ERROR\",\"\")","v":""},0,{"$f":"IF(T95<>U94,1,0)","v":0},{"$f":"IF(V95<>V94,1,0)","v":0},0,{"$f":"IF(W95<>X94,1,0)","v":0},{"$f":"IF(Y95<>Y94,1,0)","v":0},0,{"$f":"IF(Z95<>AA94,1,0)","v":0},{"$f":"IF(AB95<>AB94,1,0)","v":0}]
[null,null,null,null,null,null,null,null,null,null,null,null,null,null,null,"Dave, Joe and Rick",5,293,39,8,9,1,2,0,0,1,0,0,0,{"$f":"(T96*Setup!$J$17)+(U96*Setup!$J$18)+(V96*Setup!$J$19)+(W96*Setup!$J$22)+X96*(Setup!$J$23)+(Y96*Setup!$J$24)+(Z96*Setup!$J$27)+(AA96*Setup!$J$28)+(AB96*Setup!$J$29)","v":31},"",0,{"$f":"IF(T96<>U97,1,0)","v":0},{"$f":"IF(V96<>V97,1,0)","v":0},0,{"$f":"IF(W96<>X97,1,0)","v":0},{"$f":"IF(Y96<>Y97,1,0)","v":0},0,{"$f":"IF(Z96<>AA97,1,0)","v":0},{"$f":"IF(AB96<>AB97,1,0)","v":0}]
[null,null,null,null,null,null,null,null,null,null,null,null,null,null,null,"Hole N 8",5,293,47,9,8,1,0,2,0,0,1,0,0,{"$f":"(T97*Setup!$J$17)+(U97*Setup!$J$18)+(V97*Setup!$J$19)+(W97*Setup!$J$22)+X97*(Setup!$J$23)+(Y97*Setup!$J$24)+(Z97*Setup!$J$27)+(AA97*Setup!$J$28)+(AB97*Setup!$J$29)","v":19},"",0,{"$f":"IF(T97<>U96,1,0)","v":0},{"$f":"IF(V97<>V96,1,0)","v":0},0,{"$f":"IF(W97<>X96,1,0)","v":0},{"$f":"IF(Y97<>Y96,1,0)","v":0},0,{"$f":"IF(Z97<>AA96,1,0)","v":0},{"$f":"IF(AB97<>AB96,1,0)","v":0}]
[null,null,null,null,null,null,null,null,null,null,null,null,null,null,null,"Dingers Ringers",5,294,42,8,5,5,1,1,0,1,0,0,0,{"$f":"(T98*Setup!$J$17)+(U98*Setup!$J$18)+(V98*Setup!$J$19)+(W98*Setup!$J$22)+X98*(Setup!$J$23)+(Y98*Setup!$J$24)+(Z98*Setup!$J$27)+(AA98*Setup!$J$28)+(AB98*Setup!$J$29)","v":31},"",0,{"$f":"IF(T98<>U99,1,0)","v":0},{"$f":"IF(V98<>V99,1,0)","v":0},0,{"$f":"IF(W98<>X99,1,0)","v":0},{"$f":"IF(Y98<>Y99,1,0)","v":0},0,{"$f":"IF(Z98<>AA99,1,0)","v":0},{"$f":"IF(AB98<>AB99,1,0)","v":0}]
[null,null,null,null,null,null,null,null,null,null,null,null,null,null,null,"Reckless Drivers",5,294,50,5,8,5,1,1,0,0,1,0,0,{"$f":"(T99*Setup!$J$17)+(U99*Setup!$J$18)+(V99*Setup!$J$19)+(W99*Setup!$J$22)+X99*(Setup!$J$23)+(Y99*Setup!$J$24)+(Z99*Setup!$J$27)+(AA99*Setup!$J$28)+(AB99*Setup!$J$29)","v":19},"",0,{"$f":"IF(T99<>U98,1,0)","v":0},{"$f":"IF(V99<>V98,1,0)","v":0},0,{"$f":"IF(W99<>X98,1,0)","v":0},{"$f":"IF(Y99<>Y98,1,0)","v":0},0,{"$f":"IF(Z99<>AA98,1,0)","v":0},{"$f":"IF(AB99<>AB98,1,0)","v":0}]
[null,null,null,null,null,null,null,null,null,null,null,null,null,null,null,"Stewart Shankers",5,295,43,3,8,7,0,2,0,0,1,0,0,{"$f":"(T100*Setup!$J$17)+(U100*Setup!$J$18)+(V100*Setup!$J$19)+(W100*Setup!$J$22)+X100*(Setup!$J$23)+(Y100*Setup!$J$24)+(Z100*Setup!$J$27)+(AA100*Setup!$J$28)+(AB100*Setup!$J$29)","v":13},"",0,{"$f":"IF(T100<>U101,1,0)","v":0},{"$f":"IF(V100<>V101,1,0)","v":0},0,{"$f":"IF(W100<>X101,1,0)","v":0},{"$f":"IF(Y100<>Y101,1,0)","v":0},0,{"$f":"IF(Z100<>AA101,1,0)","v":0},{"$f":"IF(AB100<>AB101,1,0)","v":0}]
[null,null,null,null,null,null,null,null,null,null,null,null,null,null,null,"Shootist 1",5,295,51,8,3,7,2,0,0,1,0,0,0,{"$f":"(T101*Setup!$J$17)+(U101*Setup!$J$18)+(V101*Setup!$J$19)+(W101*Setup!$J$22)+X101*(Setup!$J$23)+(Y101*Setup!$J$24)+(Z101*Setup!$J$27)+(AA101*Setup!$J$28)+(AB101*Setup!$J$29)","v":37},"",0,{"$f":"IF(T101<>U100,1,0)","v":0},{"$f":"IF(V101<>V100,1,0)","v":0},0,{"$f":"IF(W101<>X100,1,0)","v":0},{"$f":"IF(Y101<>Y100,1,0)","v":0},0,{"$f":"IF(Z101<>AA100,1,0)","v":0},{"$f":"IF(AB101<>AB100,1,0)","v":0}]
[null,null,null,null,null,null,null,null,null,null,null,null,null,null,null,"Checkin Test Cells",5,296,38,5,10,3,0,2,0,0,1,0,0,{"$f":"(T102*Setup!$J$17)+(U102*Setup!$J$18)+(V102*Setup!$J$19)+(W102*Setup!$J$22)+X102*(Setup!$J$23)+(Y102*Setup!$J$24)+(Z102*Setup!$J$27)+(AA102*Setup!$J$28)+(AB102*Setup!$J$29)","v":13},"",0,{"$f":"IF(T102<>U103,1,0)","v":0},{"$f":"IF(V102<>V103,1,0)","v":0},0,{"$f":"IF(W102<>X103,1,0)","v":0},{"$f":"IF(Y102<>Y103,1,0)","v":0},0,{"$f":"IF(Z102<>AA103,1,0)","v":0},{"$f":"IF(AB102<>AB103,1,0)","v":0}]
[null,null,null,null,null,null,null,null,null,null,null,null,null,null,null,"Evan and Jon",5,296,46,10,5,3,2,0,0,1,0,0,0,{"$f":"(T103*Setup!$J$17)+(U103*Setup!$J$18)+(V103*Setup!$J$19)+(W103*Setup!$J$22)+X103*(Setup!$J$23)+(Y103*Setup!$J$24)+(Z103*Setup!$J$27)+(AA103*Setup!$J$28)+(AB103*Setup!$J$29)","v":37},"",0,{"$f":"IF(T103<>U102,1,0)","v":0},{"$f":"IF(V103<>V102,1,0)","v":0},0,{"$f":"IF(W103<>X102,1,0)","v":0},{"$f":"IF(Y103<>Y102,1,0)","v":0},0,{"$f":"IF(Z103<>AA102,1,0)","v":0},{"$f":"IF(AB103<>AB102,1,0)","v":0}]
[null,null,null,null,null,null,null,null,null,null,null,null,null,null,null,"Bill and John",5,297,35,5,9,4,1,1,0,0,1,0,0,{"$f":"(T104*Setup!$J$17)+(U104*Setup!$J$18)+(V104*Setup!$J$19)+(W104*Setup!$J$22)+X104*(Setup!$J$23)+(Y104*Setup!$J$24)+(Z104*Setup!$J$27)+(AA104*Setup!$J$28)+(AB104*Setup!$J$29)","v":18},"ERROR",0,{"$f":"IF(T104<>U105,1,0)","v":1},{"$f":"IF(V104<>V105,1,0)","v":1},0,{"$f":"IF(W104<>X105,1,0)","v":1},{"$f":"IF(Y104<>Y105,1,0)","v":0},0,{"$f":"IF(Z104<>AA105,1,0)","v":0},{"$f":"IF(AB104<>AB105,1,0)","v":0}]
[null,null,null,null,null,null,null,null,null,null,null,null,null,null,null,"Snowmen",5,297,53,6,1,2,1,0,0,1,0,0,0,{"$f":"(T105*Setup!$J$17)+(U105*Setup!$J$18)+(V105*Setup!$J$19)+(W105*Setup!$J$22)+X105*(Setup!$J$23)+(Y105*Setup!$J$24)+(Z105*Setup!$J$27)+(AA105*Setup!$J$28)+(AB105*Setup!$J$29)","v":24},"ERROR",1,{"$f":"IF(T105<>U104,1,0)","v":1},{"$f":"IF(V105<>V104,1,0)","v":1},1,{"$f":"IF(W105<>X104,1,0)","v":0},{"$f":"IF(Y105<>Y104,1,0)","v":0},0,{"$f":"IF(Z105<>AA104,1,0)","v":0},{"$f":"IF(AB105<>AB104,1,0)","v":0}]
[null,null,null,null,null,null,null,null,null,null,null,null,null,null,null,"Bob and Mike",5,298,36,5,5,8,0,2,0,0,1,0,0,{"$f":"(T106*Setup!$J$17)+(U106*Setup!$J$18)+(V106*Setup!$J$19)+(W106*Setup!$J$22)+X106*(Setup!$J$23)+(Y106*Setup!$J$24)+(Z106*Setup!$J$27)+(AA106*Setup!$J$28)+(AB106*Setup!$J$29)","v":18},"",0,{"$f":"IF(T106<>U107,1,0)","v":0},{"$f":"IF(V106<>V107,1,0)","v":0},0,{"$f":"IF(W106<>X107,1,0)","v":0},{"$f":"IF(Y106<>Y107,1,0)","v":0},0,{"$f":"IF(Z106<>AA107,1,0)","v":0},{"$f":"IF(AB106<>AB107,1,0)","v":0}]
[null,null,null,null,null,null,null,null,null,null,null,null,null,null,null,"Delivery Divots",5,298,44,5,5,8,2,0,0,1,0,0,0,{"$f":"(T107*Setup!$J$17)+(U107*Setup!$J$18)+(V107*Setup!$J$19)+(W107*Setup!$J$22)+X107*(Setup!$J$23)+(Y107*Setup!$J$24)+(Z107*Setup!$J$27)+(AA107*Setup!$J$28)+(AB107*Setup!$J$29)","v":32},"",0,{"$f":"IF(T107<>U106,1,0)","v":0},{"$f":"IF(V107<>V106,1,0)","v":0},0,{"$f":"IF(W107<>X106,1,0)","v":0},{"$f":"IF(Y107<>Y106,1,0)","v":0},0,{"$f":"IF(Z107<>AA106,1,0)","v":0},{"$f":"IF(AB107<>AB106,1,0)","v":0}]
[null,null,null,null,null,null,null,null,null,null,null,null,null,null,null,"McAvoys",5,299,41,5,8,5,0,2,0,0,1,0,0,{"$f":"(T108*Setup!$J$17)+(U108*Setup!$J$18)+(V108*Setup!$J$19)+(W108*Setup!$J$22)+X108*(Setup!$J$23)+(Y108*Setup!$J$24)+(Z108*Setup!$J$27)+(AA108*Setup!$J$28)+(AB108*Setup!$J$29)","v":15},"",0,{"$f":"IF(T108<>U109,1,0)","v":0},{"$f":"IF(V108<>V109,1,0)","v":0},0,{"$f":"IF(W108<>X109,1,0)","v":0},{"$f":"IF(Y108<>Y109,1,0)","v":0},0,{"$f":"IF(Z108<>AA109,1,0)","v":0},{"$f":"IF(AB108<>AB109,1,0)","v":0}]
[null,null,null,null,null,null,null,null,null,null,null,null,null,null,null,"Putt Pirates",5,299,49,8,5,5,2,0,0,1,0,0,0,{"$f":"(T109*Setup!$J$17)+(U109*Setup!$J$18)+(V109*Setup!$J$19)+(W109*Setup!$J$22)+X109*(Setup!$J$23)+(Y109*Setup!$J$24)+(Z109*Setup!$J$27)+(AA109*Setup!$J$28)+(AB109*Setup!$J$29)","v":35},"",0,{"$f":"IF(T109<>U108,1,0)","v":0},{"$f":"IF(V109<>V108,1,0)","v":0},0,{"$f":"IF(W109<>X108,1,0)","v":0},{"$f":"IF(Y109<>Y108,1,0)","v":0},0,{"$f":"IF(Z109<>AA108,1,0)","v":0},{"$f":"IF(AB109<>AB108,1,0)","v":0}]
[null,null,null,null,null,null,null,null,null,null,null,null,null,null,null,"Alex and Carl",6,300,34,3,2,7,0,0,0,0,0,0,0,{"$f":"(T110*Setup!$J$17)+(U110*Setup!$J$18)+(V110*Setup!$J$19)+(W110*Setup!$J$22)+X110*(Setup!$J$23)+(Y110*Setup!$J$24)+(Z110*Setup!$J$27)+(AA110*Setup!$J$28)+(AB110*Setup!$J$29)","v":13},"ERROR",1,{"$f":"IF(T110<>U111,1,0)","v":0},{"$f":"IF(V110<>V111,1,0)","v":0},1,{"$f":"IF(W110<>X111,1,0)","v":0},{"$f":"IF(Y110<>Y111,1,0)","v":0},1,{"$f":"IF(Z110<>AA111,1,0)","v":0},{"$f":"IF(AB110<>AB111,1,0)","v":0}]
[null,null,null,null,null,null,null,null,null,null,null,null,null,null,null,"Stewart Shankers",6,300,43,2,3,7,0,0,0,0,0,0,0,{"$f":"(T111*Setup!$J$17)+(U111*Setup!$J$18)+(V111*Setup!$J$19)+(W111*Setup!$J$22)+X111*(Setup!$J$23)+(Y111*Setup!$J$24)+(Z111*Setup!$J$27)+(AA111*Setup!$J$28)+(AB111*Setup!$J$29)","v":11},"ERROR",1,{"$f":"IF(T111<>U110,1,0)","v":0},{"$f":"IF(V111<>V110,1,0)","v":0},1,{"$f":"IF(W111<>X110,1,0)","v":0},{"$f":"IF(Y111<>Y110,1,0)","v":0},1,{"$f":"IF(Z111<>AA110,1,0)","v":0},{"$f":"IF(AB111<>AB110,1,0)","v":0}]
[null,null,null,null,null,null,null,null,null,null,null,null,null,null,null,"Delivery Divots",6,301,44,1,4,1,0,0,0,0,0,0,0,{"$f":"(T112*Setup!$J$17)+(U112*Setup!$J$18)+(V112*Setup!$J$19)+(W112*Setup!$J$22)+X112*(Setup!$J$23)+(Y112*Setup!$J$24)+(Z112*Setup!$J$27)+(AA112*Setup!$J$28)+(AB112*Setup!$J$29)","v":3},"ERROR",1,{"$f":"IF(T112<>U113,1,0)","v":1},{"$f":"IF(V112<>V113,1,0)","v":1},1,{"$f":"IF(W112<>X113,1,0)","v":0},{"$f":"IF(Y112<>Y113,1,0)","v":0},1,{"$f":"IF(Z112<>AA113,1,0)","v":0},{"$f":"IF(AB112<>AB113,1,0)","v":0}]
[null,null,null,null,null,null,null,null,null,null,null,null,null,null,null,"Snowmen",6,301,53,5,4,3,0,0,0,0,0,0,0,{"$f":"(T113*Setup!$J$17)+(U113*Setup!$J$18)+(V113*Setup!$J$19)+(W113*Setup!$J$22)+X113*(Setup!$J$23)+(Y113*Setup!$J$24)+(Z113*Setup!$J$27)+(AA113*Setup!$J$28)+(AB113*Setup!$J$29)","v":13},"ERROR",1,{"$f":"IF(T113<>U112,1,0)","v":1},{"$f":"IF(V113<>V112,1,0)","v":1},1,{"$f":"IF(W113<>X112,1,0)","v":0},{"$f":"IF(Y113<>Y112,1,0)","v":0},1,{"$f":"IF(Z113<>AA112,1,0)","v":0},{"$f":"IF(AB113<>AB112,1,0)","v":0}]
[null,null,null,null,null,null,null,null,null,null,null,null,null,null,null,"Bill and John",6,302,35,4,7,1,0,0,0,0,0,0,0,{"$f":"(T114*Setup!$J$17)+(U114*Setup!$J$18)+(V114*Setup!$J$19)+(W114*Setup!$J$22)+X114*(Setup!$J$23)+(Y114*Setup!$J$24)+(Z114*Setup!$J$27)+(AA114*Setup!$J$28)+(AB114*Setup!$J$29)","v":9},"ERROR",1,{"$f":"IF(T114<>U115,1,0)","v":0},{"$f":"IF(V114<>V115,1,0)","v":0},1,{"$f":"IF(W114<>X115,1,0)","v":0},{"$f":"IF(Y114<>Y115,1,0)","v":0},1,{"$f":"IF(Z114<>AA115,1,0)","v":0},{"$f":"IF(AB114<>AB115,1,0)","v":0}]
[null,null,null,null,null,null,null,null,null,null,null,null,null,null,null,"Dingers Ringers",6,302,42,7,4,1,0,0,0,0,0,0,0,{"$f":"(T115*Setup!$J$17)+(U115*Setup!$J$18)+(V115*Setup!$J$19)+(W115*Setup!$J$22)+X115*(Setup!$J$23)+(Y115*Setup!$J$24)+(Z115*Setup!$J$27)+(AA115*Setup!$J$28)+(AB115*Setup!$J$29)","v":15},"ERROR",1,{"$f":"IF(T115<>U114,1,0)","v":0},{"$f":"IF(V115<>V114,1,0)","v":0},1,{"$f":"IF(W115<>X114,1,0)","v":0},{"$f":"IF(Y115<>Y114,1,0)","v":0},1,{"$f":"IF(Z115<>AA114,1,0)","v":0},{"$f":"IF(AB115<>AB114,1,0)","v":0}]
[null,null,null,null,null,null,null,null,null,null,null,null,null,null,null,"Dude Wheres My Par",6,303,45,4,6,2,0,0,0,0,0,0,0,{"$f":"(T116*Setup!$J$17)+(U116*Setup!$J$18)+(V116*Setup!$J$19)+(W116*Setup!$J$22)+X116*(Setup!$J$23)+(Y116*Setup!$J$24)+(Z116*Setup!$J$27)+(AA116*Setup!$J$28)+(AB116*Setup!$J$29)","v":10},"ERROR",1,{"$f":"IF(T116<>U117,1,0)","v":0},{"$f":"IF(V116<>V117,1,0)","v":0},1,{"$f":"IF(W116<>X117,1,0)","v":0},{"$f":"IF(Y116<>Y117,1,0)","v":0},1,{"$f":"IF(Z116<>AA117,1,0)","v":0},{"$f":"IF(AB116<>AB117,1,0)","v":0}]
[null,null,null,null,null,null,null,null,null,null,null,null,null,null,null,"Shootist 2",6,303,52,6,4,2,0,0,0,0,0,0,0,{"$f":"(T117*Setup!$J$17)+(U117*Setup!$J$18)+(V117*Setup!$J$19)+(W117*Setup!$J$22)+X117*(Setup!$J$23)+(Y117*Setup!$J$24)+(Z117*Setup!$J$27)+(AA117*Setup!$J$28)+(AB117*Setup!$J$29)","v":14},"ERROR",1,{"$f":"IF(T117<>U116,1,0)","v":0},{"$f":"IF(V117<>V116,1,0)","v":0},1,{"$f":"IF(W117<>X116,1,0)","v":0},{"$f":"IF(Y117<>Y116,1,0)","v":0},1,{"$f":"IF(Z117<>AA116,1,0)","v":0},{"$f":"IF(AB117<>AB116,1,0)","v":0}]
[null,null,null,null,null,null,null,null,null,null,null,null,null,null,null,"Bob and Mike",6,304,36,0,4,2,0,0,0,0,0,0,0,{"$f":"(T118*Setup!$J$17)+(U118*Setup!$J$18)+(V118*Setup!$J$19)+(W118*Setup!$J$22)+X118*(Setup!$J$23)+(Y118*Setup!$J$24)+(Z118*Setup!$J$27)+(AA118*Setup!$J$28)+(AB118*Setup!$J$29)","v":2},"ERROR",1,{"$f":"IF(T118<>U119,1,0)","v":1},{"$f":"IF(V118<>V119,1,0)","v":1},1,{"$f":"IF(W118<>X119,1,0)","v":0},{"$f":"IF(Y118<>Y119,1,0)","v":0},1,{"$f":"IF(Z118<>AA119,1,0)","v":0},{"$f":"IF(AB118<>AB119,1,0)","v":0}]
[null,null,null,null,null,null,null,null,null,null,null,null,null,null,null,"McAvoys",6,304,41,7,1,4,0,0,0,0,0,0,0,{"$f":"(T119*Setup!$J$17)+(U119*Setup!$J$18)+(V119*Setup!$J$19)+(W119*Setup!$J$22)+X119*(Setup!$J$23)+(Y119*Setup!$J$24)+(Z119*Setup!$J$27)+(AA119*Setup!$J$28)+(AB119*Setup!$J$29)","v":18},"ERROR",1,{"$f":"IF(T119<>U118,1,0)","v":1},{"$f":"IF(V119<>V118,1,0)","v":1},1,{"$f":"IF(W119<>X118,1,0)","v":0},{"$f":"IF(Y119<>Y118,1,0)","v":0},1,{"$f":"IF(Z119<>AA118,1,0)","v":0},{"$f":"IF(AB119<>AB118,1,0)","v":0}]
[null,null,null,null,null,null,null,null,null,null,null,null,null,null,null,"Evan and Jon",6,305,46,4,6,2,0,0,0,0,0,0,0,{"$f":"(T120*Setup!$J$17)+(U120*Setup!$J$18)+(V120*Setup!$J$19)+(W120*Setup!$J$22)+X120*(Setup!$J$23)+(Y120*Setup!$J$24)+(Z120*Setup!$J$27)+(AA120*Setup!$J$28)+(AB120*Setup!$J$29)","v":10},"ERROR",1,{"$f":"IF(T120<>U121,1,0)","v":0},{"$f":"IF(V120<>V121,1,0)","v":0},1,{"$f":"IF(W120<>X121,1,0)","v":0},{"$f":"IF(Y120<>Y121,1,0)","v":0},1,{"$f":"IF(Z120<>AA121,1,0)","v":0},{"$f":"IF(AB120<>AB121,1,0)","v":0}]
[null,null,null,null,null,null,null,null,null,null,null,null,null,null,null,"Shootist 1",6,305,51,6,4,2,0,0,0,0,0,0,0,{"$f":"(T121*Setup!$J$17)+(U121*Setup!$J$18)+(V121*Setup!$J$19)+(W121*Setup!$J$22)+X121*(Setup!$J$23)+(Y121*Setup!$J$24)+(Z121*Setup!$J$27)+(AA121*Setup!$J$28)+(AB121*Setup!$J$29)","v":14},"ERROR",1,{"$f":"IF(T121<>U120,1,0)","v":0},{"$f":"IF(V121<>V120,1,0)","v":0},1,{"$f":"IF(W121<>X120,1,0)","v":0},{"$f":"IF(Y121<>Y120,1,0)","v":0},1,{"$f":"IF(Z121<>AA120,1,0)","v":0},{"$f":"IF(AB121<>AB120,1,0)","v":0}]
[null,null,null,null,null,null,null,null,null,null,null,null,null,null,null,"Charles and Rob",6,306,37,4,5,3,0,0,0,0,0,0,0,{"$f":"(T122*Setup!$J$17)+(U122*Setup!$J$18)+(V122*Setup!$J$19)+(W122*Setup!$J$22)+X122*(Setup!$J$23)+(Y122*Setup!$J$24)+(Z122*Setup!$J$27)+(AA122*Setup!$J$28)+(AB122*Setup!$J$29)","v":11},"ERROR",1,{"$f":"IF(T122<>U123,1,0)","v":0},{"$f":"IF(V122<>V123,1,0)","v":0},1,{"$f":"IF(W122<>X123,1,0)","v":0},{"$f":"IF(Y122<>Y123,1,0)","v":0},1,{"$f":"IF(Z122<>AA123,1,0)","v":0},{"$f":"IF(AB122<>AB123,1,0)","v":0}]
[null,null,null,null,null,null,null,null,null,null,null,null,null,null,null,"Schmitts Creek",6,306,40,5,4,3,0,0,0,0,0,0,0,{"$f":"(T123*Setup!$J$17)+(U123*Setup!$J$18)+(V123*Setup!$J$19)+(W123*Setup!$J$22)+X123*(Setup!$J$23)+(Y123*Setup!$J$24)+(Z123*Setup!$J$27)+(AA123*Setup!$J$28)+(AB123*Setup!$J$29)","v":13},"ERROR",1,{"$f":"IF(T123<>U122,1,0)","v":0},{"$f":"IF(V123<>V122,1,0)","v":0},1,{"$f":"IF(W123<>X122,1,0)","v":0},{"$f":"IF(Y123<>Y122,1,0)","v":0},1,{"$f":"IF(Z123<>AA122,1,0)","v":0},{"$f":"IF(AB123<>AB122,1,0)","v":0}]
[null,null,null,null,null,null,null,null,null,null,null,null,null,null,null,"Hole N 8",6,307,47,3,5,4,0,0,0,0,0,0,0,{"$f":"(T124*Setup!$J$17)+(U124*Setup!$J$18)+(V124*Setup!$J$19)+(W124*Setup!$J$22)+X124*(Setup!$J$23)+(Y124*Setup!$J$24)+(Z124*Setup!$J$27)+(AA124*Setup!$J$28)+(AB124*Setup!$J$29)","v":10},"ERROR",1,{"$f":"IF(T124<>U125,1,0)","v":1},{"$f":"IF(V124<>V125,1,0)","v":1},1,{"$f":"IF(W124<>X125,1,0)","v":0},{"$f":"IF(Y124<>Y125,1,0)","v":0},1,{"$f":"IF(Z124<>AA125,1,0)","v":0},{"$f":"IF(AB124<>AB125,1,0)","v":0}]
[null,null,null,null,null,null,null,null,null,null,null,null,null,null,null,"Reckless Drivers",6,307,50,4,1,1,0,0,0,0,0,0,0,{"$f":"(T125*Setup!$J$17)+(U125*Setup!$J$18)+(V125*Setup!$J$19)+(W125*Setup!$J$22)+X125*(Setup!$J$23)+(Y125*Setup!$J$24)+(Z125*Setup!$J$27)+(AA125*Setup!$J$28)+(AB125*Setup!$J$29)","v":9},"ERROR",1,{"$f":"IF(T125<>U124,1,0)","v":1},{"$f":"IF(V125<>V124,1,0)","v":1},1,{"$f":"IF(W125<>X124,1,0)","v":0},{"$f":"IF(Y125<>Y124,1,0)","v":0},1,{"$f":"IF(Z125<>AA124,1,0)","v":0},{"$f":"IF(AB125<>AB124,1,0)","v":0}]
[null,null,null,null,null,null,null,null,null,null,null,null,null,null,null,"Checkin Test Cells",6,308,38,6,1,5,0,0,0,0,0,0,0,{"$f":"(T126*Setup!$J$17)+(U126*Setup!$J$18)+(V126*Setup!$J$19)+(W126*Setup!$J$22)+X126*(Setup!$J$23)+(Y126*Setup!$J$24)+(Z126*Setup!$J$27)+(AA126*Setup!$J$28)+(AB126*Setup!$J$29)","v":17},"ERROR",1,{"$f":"IF(T126<>U127,1,0)","v":0},{"$f":"IF(V126<>V127,1,0)","v":0},1,{"$f":"IF(W126<>X127,1,0)","v":0},{"$f":"IF(Y126<>Y127,1,0)","v":0},1,{"$f":"IF(Z126<>AA127,1,0)","v":0},{"$f":"IF(AB126<>AB127,1,0)","v":0}]
[null,null,null,null,null,null,null,null,null,null,null,null,null,null,null,"Dave, Joe and Rick",6,308,39,1,6,5,0,0,0,0,0,0,0,{"$f":"(T127*Setup!$J$17)+(U127*Setup!$J$18)+(V127*Setup!$J$19)+(W127*Setup!$J$22)+X127*(Setup!$J$23)+(Y127*Setup!$J$24)+(Z127*Setup!$J$27)+(AA127*Setup!$J$28)+(AB127*Setup!$J$29)","v":7},"ERROR",1,{"$f":"IF(T127<>U126,1,0)","v":0},{"$f":"IF(V127<>V126,1,0)","v":0},1,{"$f":"IF(W127<>X126,1,0)","v":0},{"$f":"IF(Y127<>Y126,1,0)","v":0},1,{"$f":"IF(Z127<>AA126,1,0)","v":0},{"$f":"IF(AB127<>AB126,1,0)","v":0}]
[null,null,null,null,null,null,null,null,null,null,null,null,null,null,null,"Putt Buddies",6,309,48,2,4,6,0,0,0,0,0,0,0,{"$f":"(T128*Setup!$J$17)+(U128*Setup!$J$18)+(V128*Setup!$J$19)+(W128*Setup!$J$22)+X128*(Setup!$J$23)+(Y128*Setup!$J$24)+(Z128*Setup!$J$27)+(AA128*Setup!$J$28)+(AB128*Setup!$J$29)","v":10},"ERROR",1,{"$f":"IF(T128<>U129,1,0)","v":0},{"$f":"IF(V128<>V129,1,0)","v":0},1,{"$f":"IF(W128<>X129,1,0)","v":0},{"$f":"IF(Y128<>Y129,1,0)","v":0},1,{"$f":"IF(Z128<>AA129,1,0)","v":0},{"$f":"IF(AB128<>AB129,1,0)","v":0}]
[null,null,null,null,null,null,null,null,null,null,null,null,null,null,null,"Putt Pirates",6,309,49,4,2,6,0,0,0,0,0,0,0,{"$f":"(T129*Setup!$J$17)+(U129*Setup!$J$18)+(V129*Setup!$J$19)+(W129*Setup!$J$22)+X129*(Setup!$J$23)+(Y129*Setup!$J$24)+(Z129*Setup!$J$27)+(AA129*Setup!$J$28)+(AB129*Setup!$J$29)","v":14},"ERROR",1,{"$f":"IF(T129<>U128,1,0)","v":0},{"$f":"IF(V129<>V128,1,0)","v":0},1,{"$f":"IF(W129<>X128,1,0)","v":0},{"$f":"IF(Y129<>Y128,1,0)","v":0},1,{"$f":"IF(Z129<>AA128,1,0)","v":0},{"$f":"IF(AB129<>AB128,1,0)","v":0}]
[null,null,null,null,null,null,null,null,null,null,null,null,null,null,null,"Putt Buddies",7,310,48,6,7,5,1,1,0,1,0,0,0,{"$f":"(T130*Setup!$J$17)+(U130*Setup!$J$18)+(V130*Setup!$J$19)+(W130*Setup!$J$22)+X130*(Setup!$J$23)+(Y130*Setup!$J$24)+(Z130*Setup!$J$27)+(AA130*Setup!$J$28)+(AB130*Setup!$J$29)","v":27},"ERROR",0,{"$f":"IF(T130<>U131,1,0)","v":1},{"$f":"IF(V130<>V131,1,0)","v":1},0,{"$f":"IF(W130<>X131,1,0)","v":1},{"$f":"IF(Y130<>Y131,1,0)","v":0},0,{"$f":"IF(Z130<>AA131,1,0)","v":0},{"$f":"IF(AB130<>AB131,1,0)","v":0}]
[null,null,null,null,null,null,null,null,null,null,null,null,null,null,null,"Hole N 8",7,310,47,5,1,3,1,0,0,0,1,0,0,{"$f":"(T131*Setup!$J$17)+(U131*Setup!$J$18)+(V131*Setup!$J$19)+(W131*Setup!$J$22)+X131*(Setup!$J$23)+(Y131*Setup!$J$24)+(Z131*Setup!$J$27)+(AA131*Setup!$J$28)+(AB131*Setup!$J$29)","v":17},"ERROR",1,{"$f":"IF(T131<>U130,1,0)","v":1},{"$f":"IF(V131<>V130,1,0)","v":1},1,{"$f":"IF(W131<>X130,1,0)","v":0},{"$f":"IF(Y131<>Y130,1,0)","v":0},0,{"$f":"IF(Z131<>AA130,1,0)","v":0},{"$f":"IF(AB131<>AB130,1,0)","v":0}]
[null,null,null,null,null,null,null,null,null,null,null,null,null,null,null,"Checkin Test Cells",7,311,38,6,7,5,0,1,1,1,0,0,0,{"$f":"(T132*Setup!$J$17)+(U132*Setup!$J$18)+(V132*Setup!$J$19)+(W132*Setup!$J$22)+X132*(Setup!$J$23)+(Y132*Setup!$J$24)+(Z132*Setup!$J$27)+(AA132*Setup!$J$28)+(AB132*Setup!$J$29)","v":25},"ERROR",0,{"$f":"IF(T132<>U133,1,0)","v":1},{"$f":"IF(V132<>V133,1,0)","v":1},0,{"$f":"IF(W132<>X133,1,0)","v":0},{"$f":"IF(Y132<>Y133,1,0)","v":0},0,{"$f":"IF(Z132<>AA133,1,0)","v":0},{"$f":"IF(AB132<>AB133,1,0)","v":0}]
[null,null,null,null,null,null,null,null,null,null,null,null,null,null,null,"Charles and Rob",7,311,37,3,4,2,0,0,1,0,1,0,0,{"$f":"(T133*Setup!$J$17)+(U133*Setup!$J$18)+(V133*Setup!$J$19)+(W133*Setup!$J$22)+X133*(Setup!$J$23)+(Y133*Setup!$J$24)+(Z133*Setup!$J$27)+(AA133*Setup!$J$28)+(AB133*Setup!$J$29)","v":10},"ERROR",1,{"$f":"IF(T133<>U132,1,0)","v":1},{"$f":"IF(V133<>V132,1,0)","v":1},1,{"$f":"IF(W133<>X132,1,0)","v":1},{"$f":"IF(Y133<>Y132,1,0)","v":0},0,{"$f":"IF(Z133<>AA132,1,0)","v":0},{"$f":"IF(AB133<>AB132,1,0)","v":0}]
[null,null,null,null,null,null,null,null,null,null,null,null,null,null,null,"Putt Pirates",7,312,49,5,6,7,1,0,1,1,0,0,0,{"$f":"(T134*Setup!$J$17)+(U134*Setup!$J$18)+(V134*Setup!$J$19)+(W134*Setup!$J$22)+X134*(Setup!$J$23)+(Y134*Setup!$J$24)+(Z134*Setup!$J$27)+(AA134*Setup!$J$28)+(AB134*Setup!$J$29)","v":29},"ERROR",0,{"$f":"IF(T134<>U135,1,0)","v":1},{"$f":"IF(V134<>V135,1,0)","v":1},0,{"$f":"IF(W134<>X135,1,0)","v":1},{"$f":"IF(Y134<>Y135,1,0)","v":0},0,{"$f":"IF(Z134<>AA135,1,0)","v":0},{"$f":"IF(AB134<>AB135,1,0)","v":0}]
[null,null,null,null,null,null,null,null,null,null,null,null,null,null,null,"Evan and Jon",7,312,46,4,2,3,0,0,1,0,1,0,0,{"$f":"(T135*Setup!$J$17)+(U135*Setup!$J$18)+(V135*Setup!$J$19)+(W135*Setup!$J$22)+X135*(Setup!$J$23)+(Y135*Setup!$J$24)+(Z135*Setup!$J$27)+(AA135*Setup!$J$28)+(AB135*Setup!$J$29)","v":13},"ERROR",1,{"$f":"IF(T135<>U134,1,0)","v":1},{"$f":"IF(V135<>V134,1,0)","v":1},1,{"$f":"IF(W135<>X134,1,0)","v":0},{"$f":"IF(Y135<>Y134,1,0)","v":0},0,{"$f":"IF(Z135<>AA134,1,0)","v":0},{"$f":"IF(AB135<>AB134,1,0)","v":0}]
[null,null,null,null,null,null,null,null,null,null,null,null,null,null,null,"Dave, Joe and Rick",7,313,39,0,0,0,0,0,0,0,1,0,0,{"$f":"(T136*Setup!$J$17)+(U136*Setup!$J$18)+(V136*Setup!$J$19)+(W136*Setup!$J$22)+X136*(Setup!$J$23)+(Y136*Setup!$J$24)+(Z136*Setup!$J$27)+(AA136*Setup!$J$28)+(AB136*Setup!$J$29)","v":0},"ERROR",1,{"$f":"IF(T136<>U137,1,0)","v":1},{"$f":"IF(V136<>V137,1,0)","v":1},1,{"$f":"IF(W136<>X137,1,0)","v":0},{"$f":"IF(Y136<>Y137,1,0)","v":0},0,{"$f":"IF(Z136<>AA137,1,0)","v":0},{"$f":"IF(AB136<>AB137,1,0)","v":0}]
[null,null,null,null,null,null,null,null,null,null,null,null,null,null,null,"Bob and Mike",7,313,36,9,4,5,2,0,0,1,0,0,0,{"$f":"(T137*Setup!$J$17)+(U137*Setup!$J$18)+(V137*Setup!$J$19)+(W137*Setup!$J$22)+X137*(Setup!$J$23)+(Y137*Setup!$J$24)+(Z137*Setup!$J$27)+(AA137*Setup!$J$28)+(AB137*Setup!$J$29)","v":37},"ERROR",0,{"$f":"IF(T137<>U136,1,0)","v":1},{"$f":"IF(V137<>V136,1,0)","v":1},0,{"$f":"IF(W137<>X136,1,0)","v":1},{"$f":"IF(Y137<>Y136,1,0)","v":0},0,{"$f":"IF(Z137<>AA136,1,0)","v":0},{"$f":"IF(AB137<>AB136,1,0)","v":0}]
[null,null,null,null,null,null,null,null,null,null,null,null,null,null,null,"Reckless Drivers",7,314,50,6,8,4,1,1,0,1,0,0,0,{"$f":"(T138*Setup!$J$17)+(U138*Setup!$J$18)+(V138*Setup!$J$19)+(W138*Setup!$J$22)+X138*(Setup!$J$23)+(Y138*Setup!$J$24)+(Z138*Setup!$J$27)+(AA138*Setup!$J$28)+(AB138*Setup!$J$29)","v":26},"ERROR",0,{"$f":"IF(T138<>U139,1,0)","v":1},{"$f":"IF(V138<>V139,1,0)","v":1},0,{"$f":"IF(W138<>X139,1,0)","v":0},{"$f":"IF(Y138<>Y139,1,0)","v":0},0,{"$f":"IF(Z138<>AA139,1,0)","v":0},{"$f":"IF(AB138<>AB139,1,0)","v":0}]
[null,null,null,null,null,null,null,null,null,null,null,null,null,null,null,"Dude Wheres My Par",7,314,45,3,3,3,0,1,0,0,1,0,0,{"$f":"(T139*Setup!$J$17)+(U139*Setup!$J$18)+(V139*Setup!$J$19)+(W139*Setup!$J$22)+X139*(Setup!$J$23)+(Y139*Setup!$J$24)+(Z139*Setup!$J$27)+(AA139*Setup!$J$28)+(AB139*Setup!$J$29)","v":9},"ERROR",1,{"$f":"IF(T139<>U138,1,0)","v":1},{"$f":"IF(V139<>V138,1,0)","v":1},1,{"$f":"IF(W139<>X138,1,0)","v":1},{"$f":"IF(Y139<>Y138,1,0)","v":0},0,{"$f":"IF(Z139<>AA138,1,0)","v":0},{"$f":"IF(AB139<>AB138,1,0)","v":0}]
[null,null,null,null,null,null,null,null,null,null,null,null,null,null,null,"Schmitts Creek",7,315,40,1,15,2,0,2,0,0,1,0,0,{"$f":"(T140*Setup!$J$17)+(U140*Setup!$J$18)+(V140*Setup!$J$19)+(W140*Setup!$J$22)+X140*(Setup!$J$23)+(Y140*Setup!$J$24)+(Z140*Setup!$J$27)+(AA140*Setup!$J$28)+(AB140*Setup!$J$29)","v":4},"",0,{"$f":"IF(T140<>U141,1,0)","v":0},{"$f":"IF(V140<>V141,1,0)","v":0},0,{"$f":"IF(W140<>X141,1,0)","v":0},{"$f":"IF(Y140<>Y141,1,0)","v":0},0,{"$f":"IF(Z140<>AA141,1,0)","v":0},{"$f":"IF(AB140<>AB141,1,0)","v":0}]
[null,null,null,null,null,null,null,null,null,null,null,null,null,null,null,"Bill and John",7,315,35,15,1,2,2,0,0,1,0,0,0,{"$f":"(T141*Setup!$J$17)+(U141*Setup!$J$18)+(V141*Setup!$J$19)+(W141*Setup!$J$22)+X141*(Setup!$J$23)+(Y141*Setup!$J$24)+(Z141*Setup!$J$27)+(AA141*Setup!$J$28)+(AB141*Setup!$J$29)","v":46},"",0,{"$f":"IF(T141<>U140,1,0)","v":0},{"$f":"IF(V141<>V140,1,0)","v":0},0,{"$f":"IF(W141<>X140,1,0)","v":0},{"$f":"IF(Y141<>Y140,1,0)","v":0},0,{"$f":"IF(Z141<>AA140,1,0)","v":0},{"$f":"IF(AB141<>AB140,1,0)","v":0}]
[null,null,null,null,null,null,null,null,null,null,null,null,null,null,null,"Shootist 1",7,316,51,6,6,6,0,1,1,0,1,0,0,{"$f":"(T142*Setup!$J$17)+(U142*Setup!$J$18)+(V142*Setup!$J$19)+(W142*Setup!$J$22)+X142*(Setup!$J$23)+(Y142*Setup!$J$24)+(Z142*Setup!$J$27)+(AA142*Setup!$J$28)+(AB142*Setup!$J$29)","v":20},"",0,{"$f":"IF(T142<>U143,1,0)","v":0},{"$f":"IF(V142<>V143,1,0)","v":0},0,{"$f":"IF(W142<>X143,1,0)","v":0},{"$f":"IF(Y142<>Y143,1,0)","v":0},0,{"$f":"IF(Z142<>AA143,1,0)","v":0},{"$f":"IF(AB142<>AB143,1,0)","v":0}]
[null,null,null,null,null,null,null,null,null,null,null,null,null,null,null,"Snowmen",7,316,53,6,6,6,1,0,1,1,0,0,0,{"$f":"(T143*Setup!$J$17)+(U143*Setup!$J$18)+(V143*Setup!$J$19)+(W143*Setup!$J$22)+X143*(Setup!$J$23)+(Y143*Setup!$J$24)+(Z143*Setup!$J$27)+(AA143*Setup!$J$28)+(AB143*Setup!$J$29)","v":30},"",0,{"$f":"IF(T143<>U142,1,0)","v":0},{"$f":"IF(V143<>V142,1,0)","v":0},0,{"$f":"IF(W143<>X142,1,0)","v":0},{"$f":"IF(Y143<>Y142,1,0)","v":0},0,{"$f":"IF(Z143<>AA142,1,0)","v":0},{"$f":"IF(AB143<>AB142,1,0)","v":0}]
[null,null,null,null,null,null,null,null,null,null,null,null,null,null,null,"McAvoys",7,317,41,9,6,3,1,1,0,1,0,0,0,{"$f":"(T144*Setup!$J$17)+(U144*Setup!$J$18)+(V144*Setup!$J$19)+(W144*Setup!$J$22)+X144*(Setup!$J$23)+(Y144*Setup!$J$24)+(Z144*Setup!$J$27)+(AA144*Setup!$J$28)+(AB144*Setup!$J$29)","v":31},"",0,{"$f":"IF(T144<>U145,1,0)","v":0},{"$f":"IF(V144<>V145,1,0)","v":0},0,{"$f":"IF(W144<>X145,1,0)","v":0},{"$f":"IF(Y144<>Y145,1,0)","v":0},0,{"$f":"IF(Z144<>AA145,1,0)","v":0},{"$f":"IF(AB144<>AB145,1,0)","v":0}]
[null,null,null,null,null,null,null,null,null,null,null,null,null,null,null,"Stewart Shankers",7,317,43,6,9,3,1,1,0,0,1,0,0,{"$f":"(T145*Setup!$J$17)+(U145*Setup!$J$18)+(V145*Setup!$J$19)+(W145*Setup!$J$22)+X145*(Setup!$J$23)+(Y145*Setup!$J$24)+(Z145*Setup!$J$27)+(AA145*Setup!$J$28)+(AB145*Setup!$J$29)","v":19},"",0,{"$f":"IF(T145<>U144,1,0)","v":0},{"$f":"IF(V145<>V144,1,0)","v":0},0,{"$f":"IF(W145<>X144,1,0)","v":0},{"$f":"IF(Y145<>Y144,1,0)","v":0},0,{"$f":"IF(Z145<>AA144,1,0)","v":0},{"$f":"IF(AB145<>AB144,1,0)","v":0}]
[null,null,null,null,null,null,null,null,null,null,null,null,null,null,null,"Shootist 2",7,318,52,8,8,2,1,1,0,1,0,0,0,{"$f":"(T146*Setup!$J$17)+(U146*Setup!$J$18)+(V146*Setup!$J$19)+(W146*Setup!$J$22)+X146*(Setup!$J$23)+(Y146*Setup!$J$24)+(Z146*Setup!$J$27)+(AA146*Setup!$J$28)+(AB146*Setup!$J$29)","v":28},"ERROR",0,{"$f":"IF(T146<>U147,1,0)","v":1},{"$f":"IF(V146<>V147,1,0)","v":1},0,{"$f":"IF(W146<>X147,1,0)","v":0},{"$f":"IF(Y146<>Y147,1,0)","v":0},0,{"$f":"IF(Z146<>AA147,1,0)","v":0},{"$f":"IF(AB146<>AB147,1,0)","v":0}]
[null,null,null,null,null,null,null,null,null,null,null,null,null,null,null,"Delivery Divots",7,318,44,5,4,0,0,1,0,0,1,0,0,{"$f":"(T147*Setup!$J$17)+(U147*Setup!$J$18)+(V147*Setup!$J$19)+(W147*Setup!$J$22)+X147*(Setup!$J$23)+(Y147*Setup!$J$24)+(Z147*Setup!$J$27)+(AA147*Setup!$J$28)+(AB147*Setup!$J$29)","v":10},"ERROR",1,{"$f":"IF(T147<>U146,1,0)","v":1},{"$f":"IF(V147<>V146,1,0)","v":1},1,{"$f":"IF(W147<>X146,1,0)","v":1},{"$f":"IF(Y147<>Y146,1,0)","v":0},0,{"$f":"IF(Z147<>AA146,1,0)","v":0},{"$f":"IF(AB147<>AB146,1,0)","v":0}]
[null,null,null,null,null,null,null,null,null,null,null,null,null,null,null,"Dingers Ringers",7,319,42,10,6,2,2,0,0,1,0,0,0,{"$f":"(T148*Setup!$J$17)+(U148*Setup!$J$18)+(V148*Setup!$J$19)+(W148*Setup!$J$22)+X148*(Setup!$J$23)+(Y148*Setup!$J$24)+(Z148*Setup!$J$27)+(AA148*Setup!$J$28)+(AB148*Setup!$J$29)","v":36},"",0,{"$f":"IF(T148<>U149,1,0)","v":0},{"$f":"IF(V148<>V149,1,0)","v":0},0,{"$f":"IF(W148<>X149,1,0)","v":0},{"$f":"IF(Y148<>Y149,1,0)","v":0},0,{"$f":"IF(Z148<>AA149,1,0)","v":0},{"$f":"IF(AB148<>AB149,1,0)","v":0}]
[null,null,null,null,null,null,null,null,null,null,null,null,null,null,null,"Alex and Carl",7,319,34,6,10,2,0,2,0,0,1,0,0,{"$f":"(T149*Setup!$J$17)+(U149*Setup!$J$18)+(V149*Setup!$J$19)+(W149*Setup!$J$22)+X149*(Setup!$J$23)+(Y149*Setup!$J$24)+(Z149*Setup!$J$27)+(AA149*Setup!$J$28)+(AB149*Setup!$J$29)","v":14},"",0,{"$f":"IF(T149<>U148,1,0)","v":0},{"$f":"IF(V149<>V148,1,0)","v":0},0,{"$f":"IF(W149<>X148,1,0)","v":0},{"$f":"IF(Y149<>Y148,1,0)","v":0},0,{"$f":"IF(Z149<>AA148,1,0)","v":0},{"$f":"IF(AB149<>AB148,1,0)","v":0}]
[null,null,null,null,null,null,null,null,null,null,null,null,null,null,null,{"$error":"#N/A"},null,null,null,null,null,null,null,null,null,null,null,null,null,{"$f":"(T150*Setup!$J$17)+(U150*Setup!$J$18)+(V150*Setup!$J$19)+(W150*Setup!$J$22)+X150*(Setup!$J$23)+(Y150*Setup!$J$24)+(Z150*Setup!$J$27)+(AA150*Setup!$J$28)+(AB150*Setup!$J$29)","v":0},"ERROR",1,{"$f":"IF(T150<>U151,1,0)","v":0},{"$f":"IF(V150<>V151,1,0)","v":0},1,{"$f":"IF(W150<>X151,1,0)","v":0},{"$f":"IF(Y150<>Y151,1,0)","v":0},1,{"$f":"IF(Z150<>AA151,1,0)","v":0},{"$f":"IF(AB150<>AB151,1,0)","v":0}]
[null,null,null,null,null,null,null,null,null,null,null,null,null,null,null,{"$error":"#N/A"},null,null,null,null,null,null,null,null,null,null,null,null,null,{"$f":"(T151*Setup!$J$17)+(U151*Setup!$J$18)+(V151*Setup!$J$19)+(W151*Setup!$J$22)+X151*(Setup!$J$23)+(Y151*Setup!$J$24)+(Z151*Setup!$J$27)+(AA151*Setup!$J$28)+(AB151*Setup!$J$29)","v":0},"ERROR",1,{"$f":"IF(T151<>U150,1,0)","v":0},{"$f":"IF(V151<>V150,1,0)","v":0},1,{"$f":"IF(W151<>X150,1,0)","v":0},{"$f":"IF(Y151<>Y150,1,0)","v":0},1,{"$f":"IF(Z151<>AA150,1,0)","v":0},{"$f":"IF(AB151<>AB150,1,0)","v":0}]
[null,null,null,null,null,null,null,null,null,null,null,null,null,null,null,{"$error":"#N/A"},null,null,null,null,null,null,null,null,null,null,null,null,null,{"$f":"(T152*Setup!$J$17)+(U152*Setup!$J$18)+(V152*Setup!$J$19)+(W152*Setup!$J$22)+X152*(Setup!$J$23)+(Y152*Setup!$J$24)+(Z152*Setup!$J$27)+(AA152*Setup!$J$28)+(AB152*Setup!$J$29)","v":0},"ERROR",1,{"$f":"IF(T152<>U153,1,0)","v":0},{"$f":"IF(V152<>V153,1,0)","v":0},1,{"$f":"IF(W152<>X153,1,0)","v":0},{"$f":"IF(Y152<>Y153,1,0)","v":0},1,{"$f":"IF(Z152<>AA153,1,0)","v":0},{"$f":"IF(AB152<>AB153,1,0)","v":0}]
[null,null,null,null,null,null,null,null,null,null,null,null,null,null,null,{"$error":"#N/A"},null,null,null,null,null,null,null,null,null,null,null,null,null,{"$f":"(T153*Setup!$J$17)+(U153*Setup!$J$18)+(V153*Setup!$J$19)+(W153*Setup!$J$22)+X153*(Setup!$J$23)+(Y153*Setup!$J$24)+(Z153*Setup!$J$27)+(AA153*Setup!$J$28)+(AB153*Setup!$J$29)","v":0},"ERROR",1,{"$f":"IF(T153<>U152,1,0)","v":0},{"$f":"IF(V153<>V152,1,0)","v":0},1,{"$f":"IF(W153<>X152,1,0)","v":0},{"$f":"IF(Y153<>Y152,1,0)","v":0},1,{"$f":"IF(Z153<>AA152,1,0)","v":0},{"$f":"IF(AB153<>AB152,1,0)","v":0}]
[null,null,null,null,null,null,null,null,null,null,null,null,null,null,null,{"$error":"#N/A"},null,null,null,null,null,null,null,null,null,null,null,null,null,{"$f":"(T154*Setup!$J$17)+(U154*Setup!$J$18)+(V154*Setup!$J$19)+(W154*Setup!$J$22)+X154*(Setup!$J$23)+(Y154*Setup!$J$24)+(Z154*Setup!$J$27)+(AA154*Setup!$J$28)+(AB154*Setup!$J$29)","v":0},"ERROR",1,{"$f":"IF(T154<>U155,1,0)","v":0},{"$f":"IF(V154<>V155,1,0)","v":0},1,{"$f":"IF(W154<>X155,1,0)","v":0},{"$f":"IF(Y154<>Y155,1,0)","v":0},1,{"$f":"IF(Z154<>AA155,1,0)","v":0},{"$f":"IF(AB154<>AB155,1,0)","v":0}]
[null,null,null,null,null,null,null,null,null,null,null,null,null,null,null,{"$error":"#N/A"},null,null,null,null,null,null,null,null,null,null,null,null,null,{"$f":"(T155*Setup!$J$17)+(U155*Setup!$J$18)+(V155*Setup!$J$19)+(W155*Setup!$J$22)+X155*(Setup!$J$23)+(Y155*Setup!$J$24)+(Z155*Setup!$J$27)+(AA155*Setup!$J$28)+(AB155*Setup!$J$29)","v":0},"ERROR",1,{"$f":"IF(T155<>U154,1,0)","v":0},{"$f":"IF(V155<>V154,1,0)","v":0},1,{"$f":"IF(W155<>X154,1,0)","v":0},{"$f":"IF(Y155<>Y154,1,0)","v":0},1,{"$f":"IF(Z155<>AA154,1,0)","v":0},{"$f":"IF(AB155<>AB154,1,0)","v":0}]
[null,null,null,null,null,null,null,null,null,null,null,null,null,null,null,{"$error":"#N/A"},null,null,null,null,null,null,null,null,null,null,null,null,null,{"$f":"(T156*Setup!$J$17)+(U156*Setup!$J$18)+(V156*Setup!$J$19)+(W156*Setup!$J$22)+X156*(Setup!$J$23)+(Y156*Setup!$J$24)+(Z156*Setup!$J$27)+(AA156*Setup!$J$28)+(AB156*Setup!$J$29)","v":0},"ERROR",1,{"$f":"IF(T156<>U157,1,0)","v":0},{"$f":"IF(V156<>V157,1,0)","v":0},1,{"$f":"IF(W156<>X157,1,0)","v":0},{"$f":"IF(Y156<>Y157,1,0)","v":0},1,{"$f":"IF(Z156<>AA157,1,0)","v":0},{"$f":"IF(AB156<>AB157,1,0)","v":0}]
[null,null,null,null,null,null,null,null,null,null,null,null,null,null,null,{"$error":"#N/A"},null,null,null,null,null,null,null,null,null,null,null,null,null,{"$f":"(T157*Setup!$J$17)+(U157*Setup!$J$18)+(V157*Setup!$J$19)+(W157*Setup!$J$22)+X157*(Setup!$J$23)+(Y157*Setup!$J$24)+(Z157*Setup!$J$27)+(AA157*Setup!$J$28)+(AB157*Setup!$J$29)","v":0},"ERROR",1,{"$f":"IF(T157<>U156,1,0)","v":0},{"$f":"IF(V157<>V156,1,0)","v":0},1,{"$f":"IF(W157<>X156,1,0)","v":0},{"$f":"IF(Y157<>Y156,1,0)","v":0},1,{"$f":"IF(Z157<>AA156,1,0)","v":0},{"$f":"IF(AB157<>AB156,1,0)","v":0}]
[null,null,null,null,null,null,null,null,null,null,null,null,null,null,null,{"$f":"VLOOKUP(S158,GE_Teams_DBID,2,FALSE)","v":{"$error":"#N/A"}},null,null,null,null,null,null,null,null,null,null,null,null,null,{"$f":"(T158*Setup!$J$17)+(U158*Setup!$J$18)+(V158*Setup!$J$19)+(W158*Setup!$J$22)+X158*(Setup!$J$23)+(Y158*Setup!$J$24)+(Z158*Setup!$J$27)+(AA158*Setup!$J$28)+(AB158*Setup!$J$29)","v":0},"ERROR",{"$f":"IF((T158+U158+V158)<>18,1,0)","v":1},{"$f":"IF(T158<>U159,1,0)","v":0},{"$f":"IF(V158<>V159,1,0)","v":0},{"$f":"IF((W158+X158+Y158)<>2,1,0)","v":1},{"$f":"IF(W158<>X159,1,0)","v":0},{"$f":"IF(Y158<>Y159,1,0)","v":0},{"$f":"IF((Z158+AA158+AB158)<>1,1,0)","v":1},{"$f":"IF(Z158<>AA159,1,0)","v":0},{"$f":"IF(AB158<>AB159,1,0)","v":0}]
[null,null,null,null,null,null,null,null,null,null,null,null,null,null,null,{"$error":"#N/A"},null,null,null,null,null,null,null,null,null,null,null,null,null,{"$f":"(T159*Setup!$J$17)+(U159*Setup!$J$18)+(V159*Setup!$J$19)+(W159*Setup!$J$22)+X159*(Setup!$J$23)+(Y159*Setup!$J$24)+(Z159*Setup!$J$27)+(AA159*Setup!$J$28)+(AB159*Setup!$J$29)","v":0},{"$f":"IF(SUM(AF159:AN159)>0,\"ERROR\",\"\")","v":"ERROR"},1,{"$f":"IF(T159<>U158,1,0)","v":0},{"$f":"IF(V159<>V158,1,0)","v":0},1,{"$f":"IF(W159<>X158,1,0)","v":0},{"$f":"IF(Y159<>Y158,1,0)","v":0},1,{"$f":"IF(Z159<>AA158,1,0)","v":0},{"$f":"IF(AB159<>AB158,1,0)","v":0}]
[null,null,null,null,null,null,null,null,null,null,null,null,null,null,null,{"$error":"#N/A"},null,null,null,null,null,null,null,null,null,null,null,null,null,{"$f":"(T160*Setup!$J$17)+(U160*Setup!$J$18)+(V160*Setup!$J$19)+(W160*Setup!$J$22)+X160*(Setup!$J$23)+(Y160*Setup!$J$24)+(Z160*Setup!$J$27)+(AA160*Setup!$J$28)+(AB160*Setup!$J$29)","v":0},"ERROR",1,{"$f":"IF(T160<>U161,1,0)","v":0},{"$f":"IF(V160<>V161,1,0)","v":0},1,{"$f":"IF(W160<>X161,1,0)","v":0},{"$f":"IF(Y160<>Y161,1,0)","v":0},1,{"$f":"IF(Z160<>AA161,1,0)","v":0},{"$f":"IF(AB160<>AB161,1,0)","v":0}]
[null,null,null,null,null,null,null,null,null,null,null,null,null,null,null,{"$error":"#N/A"},null,null,null,null,null,null,null,null,null,null,null,null,null,{"$f":"(T161*Setup!$J$17)+(U161*Setup!$J$18)+(V161*Setup!$J$19)+(W161*Setup!$J$22)+X161*(Setup!$J$23)+(Y161*Setup!$J$24)+(Z161*Setup!$J$27)+(AA161*Setup!$J$28)+(AB161*Setup!$J$29)","v":0},"ERROR",1,{"$f":"IF(T161<>U160,1,0)","v":0},{"$f":"IF(V161<>V160,1,0)","v":0},1,{"$f":"IF(W161<>X160,1,0)","v":0},{"$f":"IF(Y161<>Y160,1,0)","v":0},1,{"$f":"IF(Z161<>AA160,1,0)","v":0},{"$f":"IF(AB161<>AB160,1,0)","v":0}]
[null,null,null,null,null,null,null,null,null,null,null,null,null,null,null,{"$error":"#N/A"},null,null,null,null,null,null,null,null,null,null,null,null,null,{"$f":"(T162*Setup!$J$17)+(U162*Setup!$J$18)+(V162*Setup!$J$19)+(W162*Setup!$J$22)+X162*(Setup!$J$23)+(Y162*Setup!$J$24)+(Z162*Setup!$J$27)+(AA162*Setup!$J$28)+(AB162*Setup!$J$29)","v":0},"ERROR",1,{"$f":"IF(T162<>U163,1,0)","v":0},{"$f":"IF(V162<>V163,1,0)","v":0},1,{"$f":"IF(W162<>X163,1,0)","v":0},{"$f":"IF(Y162<>Y163,1,0)","v":0},1,{"$f":"IF(Z162<>AA163,1,0)","v":0},{"$f":"IF(AB162<>AB163,1,0)","v":0}]
[null,null,null,null,null,null,null,null,null,null,null,null,null,null,null,{"$error":"#N/A"},null,null,null,null,null,null,null,null,null,null,null,null,null,{"$f":"(T163*Setup!$J$17)+(U163*Setup!$J$18)+(V163*Setup!$J$19)+(W163*Setup!$J$22)+X163*(Setup!$J$23)+(Y163*Setup!$J$24)+(Z163*Setup!$J$27)+(AA163*Setup!$J$28)+(AB163*Setup!$J$29)","v":0},"ERROR",1,{"$f":"IF(T163<>U162,1,0)","v":0},{"$f":"IF(V163<>V162,1,0)","v":0},1,{"$f":"IF(W163<>X162,1,0)","v":0},{"$f":"IF(Y163<>Y162,1,0)","v":0},1,{"$f":"IF(Z163<>AA162,1,0)","v":0},{"$f":"IF(AB163<>AB162,1,0)","v":0}]
[null,null,null,null,null,null,null,null,null,null,null,null,null,null,null,{"$error":"#N/A"},null,null,null,null,null,null,null,null,null,null,null,null,null,{"$f":"(T164*Setup!$J$17)+(U164*Setup!$J$18)+(V164*Setup!$J$19)+(W164*Setup!$J$22)+X164*(Setup!$J$23)+(Y164*Setup!$J$24)+(Z164*Setup!$J$27)+(AA164*Setup!$J$28)+(AB164*Setup!$J$29)","v":0},"ERROR",1,{"$f":"IF(T164<>U165,1,0)","v":0},{"$f":"IF(V164<>V165,1,0)","v":0},1,{"$f":"IF(W164<>X165,1,0)","v":0},{"$f":"IF(Y164<>Y165,1,0)","v":0},1,{"$f":"IF(Z164<>AA165,1,0)","v":0},{"$f":"IF(AB164<>AB165,1,0)","v":0}]
[null,null,null,null,null,null,null,null,null,null,null,null,null,null,null,{"$error":"#N/A"},null,null,null,null,null,null,null,null,null,null,null,null,null,{"$f":"(T165*Setup!$J$17)+(U165*Setup!$J$18)+(V165*Setup!$J$19)+(W165*Setup!$J$22)+X165*(Setup!$J$23)+(Y165*Setup!$J$24)+(Z165*Setup!$J$27)+(AA165*Setup!$J$28)+(AB165*Setup!$J$29)","v":0},"ERROR",1,{"$f":"IF(T165<>U164,1,0)","v":0},{"$f":"IF(V165<>V164,1,0)","v":0},1,{"$f":"IF(W165<>X164,1,0)","v":0},{"$f":"IF(Y165<>Y164,1,0)","v":0},1,{"$f":"IF(Z165<>AA164,1,0)","v":0},{"$f":"IF(AB165<>AB164,1,0)","v":0}]
[null,null,null,null,null,null,null,null,null,null,null,null,null,null,null,{"$error":"#N/A"},null,null,null,null,null,null,null,null,null,null,null,null,null,{"$f":"(T166*Setup!$J$17)+(U166*Setup!$J$18)+(V166*Setup!$J$19)+(W166*Setup!$J$22)+X166*(Setup!$J$23)+(Y166*Setup!$J$24)+(Z166*Setup!$J$27)+(AA166*Setup!$J$28)+(AB166*Setup!$J$29)","v":0},"ERROR",1,{"$f":"IF(T166<>U167,1,0)","v":0},{"$f":"IF(V166<>V167,1,0)","v":0},1,{"$f":"IF(W166<>X167,1,0)","v":0},{"$f":"IF(Y166<>Y167,1,0)","v":0},1,{"$f":"IF(Z166<>AA167,1,0)","v":0},{"$f":"IF(AB166<>AB167,1,0)","v":0}]
[null,null,null,null,null,null,null,null,null,null,null,null,null,null,null,{"$error":"#N/A"},null,null,null,null,null,null,null,null,null,null,null,null,null,{"$f":"(T167*Setup!$J$17)+(U167*Setup!$J$18)+(V167*Setup!$J$19)+(W167*Setup!$J$22)+X167*(Setup!$J$23)+(Y167*Setup!$J$24)+(Z167*Setup!$J$27)+(AA167*Setup!$J$28)+(AB167*Setup!$J$29)","v":0},"ERROR",1,{"$f":"IF(T167<>U166,1,0)","v":0},{"$f":"IF(V167<>V166,1,0)","v":0},1,{"$f":"IF(W167<>X166,1,0)","v":0},{"$f":"IF(Y167<>Y166,1,0)","v":0},1,{"$f":"IF(Z167<>AA166,1,0)","v":0},{"$f":"IF(AB167<>AB166,1,0)","v":0}]
[null,null,null,null,null,null,null,null,null,null,null,null,null,null,null,{"$error":"#N/A"},null,null,null,null,null,null,null,null,null,null,null,null,null,{"$f":"(T168*Setup!$J$17)+(U168*Setup!$J$18)+(V168*Setup!$J$19)+(W168*Setup!$J$22)+X168*(Setup!$J$23)+(Y168*Setup!$J$24)+(Z168*Setup!$J$27)+(AA168*Setup!$J$28)+(AB168*Setup!$J$29)","v":0},"ERROR",1,{"$f":"IF(T168<>U169,1,0)","v":0},{"$f":"IF(V168<>V169,1,0)","v":0},1,{"$f":"IF(W168<>X169,1,0)","v":0},{"$f":"IF(Y168<>Y169,1,0)","v":0},1,{"$f":"IF(Z168<>AA169,1,0)","v":0},{"$f":"IF(AB168<>AB169,1,0)","v":0}]
[null,null,null,null,null,null,null,null,null,null,null,null,null,null,null,{"$error":"#N/A"},null,null,null,null,null,null,null,null,null,null,null,null,null,{"$f":"(T169*Setup!$J$17)+(U169*Setup!$J$18)+(V169*Setup!$J$19)+(W169*Setup!$J$22)+X169*(Setup!$J$23)+(Y169*Setup!$J$24)+(Z169*Setup!$J$27)+(AA169*Setup!$J$28)+(AB169*Setup!$J$29)","v":0},"ERROR",1,{"$f":"IF(T169<>U168,1,0)","v":0},{"$f":"IF(V169<>V168,1,0)","v":0},1,{"$f":"IF(W169<>X168,1,0)","v":0},{"$f":"IF(Y169<>Y168,1,0)","v":0},1,{"$f":"IF(Z169<>AA168,1,0)","v":0},{"$f":"IF(AB169<>AB168,1,0)","v":0}]
[null,null,null,null,null,null,null,null,null,null,null,null,null,null,null,{"$error":"#N/A"},null,null,null,null,null,null,null,null,null,null,null,null,null,{"$f":"(T170*Setup!$J$17)+(U170*Setup!$J$18)+(V170*Setup!$J$19)+(W170*Setup!$J$22)+X170*(Setup!$J$23)+(Y170*Setup!$J$24)+(Z170*Setup!$J$27)+(AA170*Setup!$J$28)+(AB170*Setup!$J$29)","v":0},"ERROR",1,{"$f":"IF(T170<>U171,1,0)","v":0},{"$f":"IF(V170<>V171,1,0)","v":0},1,{"$f":"IF(W170<>X171,1,0)","v":0},{"$f":"IF(Y170<>Y171,1,0)","v":0},1,{"$f":"IF(Z170<>AA171,1,0)","v":0},{"$f":"IF(AB170<>AB171,1,0)","v":0}]
[null,null,null,null,null,null,null,null,null,null,null,null,null,null,null,{"$error":"#N/A"},null,null,null,null,null,null,null,null,null,null,null,null,null,{"$f":"(T171*Setup!$J$17)+(U171*Setup!$J$18)+(V171*Setup!$J$19)+(W171*Setup!$J$22)+X171*(Setup!$J$23)+(Y171*Setup!$J$24)+(Z171*Setup!$J$27)+(AA171*Setup!$J$28)+(AB171*Setup!$J$29)","v":0},"ERROR",1,{"$f":"IF(T171<>U170,1,0)","v":0},{"$f":"IF(V171<>V170,1,0)","v":0},1,{"$f":"IF(W171<>X170,1,0)","v":0},{"$f":"IF(Y171<>Y170,1,0)","v":0},1,{"$f":"IF(Z171<>AA170,1,0)","v":0},{"$f":"IF(AB171<>AB170,1,0)","v":0}]
[null,null,null,null,null,null,null,null,null,null,null,null,null,null,null,{"$error":"#N/A"},null,null,null,null,null,null,null,null,null,null,null,null,null,{"$f":"(T172*Setup!$J$17)+(U172*Setup!$J$18)+(V172*Setup!$J$19)+(W172*Setup!$J$22)+X172*(Setup!$J$23)+(Y172*Setup!$J$24)+(Z172*Setup!$J$27)+(AA172*Setup!$J$28)+(AB172*Setup!$J$29)","v":0},"ERROR",1,{"$f":"IF(T172<>U173,1,0)","v":0},{"$f":"IF(V172<>V173,1,0)","v":0},1,{"$f":"IF(W172<>X173,1,0)","v":0},{"$f":"IF(Y172<>Y173,1,0)","v":0},1,{"$f":"IF(Z172<>AA173,1,0)","v":0},{"$f":"IF(AB172<>AB173,1,0)","v":0}]
[null,null,null,null,null,null,null,null,null,null,null,null,null,null,null,{"$error":"#N/A"},null,null,null,null,null,null,null,null,null,null,null,null,null,{"$f":"(T173*Setup!$J$17)+(U173*Setup!$J$18)+(V173*Setup!$J$19)+(W173*Setup!$J$22)+X173*(Setup!$J$23)+(Y173*Setup!$J$24)+(Z173*Setup!$J$27)+(AA173*Setup!$J$28)+(AB173*Setup!$J$29)","v":0},"ERROR",1,{"$f":"IF(T173<>U172,1,0)","v":0},{"$f":"IF(V173<>V172,1,0)","v":0},1,{"$f":"IF(W173<>X172,1,0)","v":0},{"$f":"IF(Y173<>Y172,1,0)","v":0},1,{"$f":"IF(Z173<>AA172,1,0)","v":0},{"$f":"IF(AB173<>AB172,1,0)","v":0}]
[null,null,null,null,null,null,null,null,null,null,null,null,null,null,null,{"$error":"#N/A"},null,null,null,null,null,null,null,null,null,null,null,null,null,{"$f":"(T174*Setup!$J$17)+(U174*Setup!$J$18)+(V174*Setup!$J$19)+(W174*Setup!$J$22)+X174*(Setup!$J$23)+(Y174*Setup!$J$24)+(Z174*Setup!$J$27)+(AA174*Setup!$J$28)+(AB174*Setup!$J$29)","v":0},"ERROR",1,{"$f":"IF(T174<>U175,1,0)","v":0},{"$f":"IF(V174<>V175,1,0)","v":0},1,{"$f":"IF(W174<>X175,1,0)","v":0},{"$f":"IF(Y174<>Y175,1,0)","v":0},1,{"$f":"IF(Z174<>AA175,1,0)","v":0},{"$f":"IF(AB174<>AB175,1,0)","v":0}]
[null,null,null,null,null,null,null,null,null,null,null,null,null,null,null,{"$error":"#N/A"},null,null,null,null,null,null,null,null,null,null,null,null,null,{"$f":"(T175*Setup!$J$17)+(U175*Setup!$J$18)+(V175*Setup!$J$19)+(W175*Setup!$J$22)+X175*(Setup!$J$23)+(Y175*Setup!$J$24)+(Z175*Setup!$J$27)+(AA175*Setup!$J$28)+(AB175*Setup!$J$29)","v":0},"ERROR",1,{"$f":"IF(T175<>U174,1,0)","v":0},{"$f":"IF(V175<>V174,1,0)","v":0},1,{"$f":"IF(W175<>X174,1,0)","v":0},{"$f":"IF(Y175<>Y174,1,0)","v":0},1,{"$f":"IF(Z175<>AA174,1,0)","v":0},{"$f":"IF(AB175<>AB174,1,0)","v":0}]
[null,null,null,null,null,null,null,null,null,null,null,null,null,null,null,{"$error":"#N/A"},null,null,null,null,null,null,null,null,null,null,null,null,null,{"$f":"(T176*Setup!$J$17)+(U176*Setup!$J$18)+(V176*Setup!$J$19)+(W176*Setup!$J$22)+X176*(Setup!$J$23)+(Y176*Setup!$J$24)+(Z176*Setup!$J$27)+(AA176*Setup!$J$28)+(AB176*Setup!$J$29)","v":0},"ERROR",1,{"$f":"IF(T176<>U177,1,0)","v":0},{"$f":"IF(V176<>V177,1,0)","v":0},1,{"$f":"IF(W176<>X177,1,0)","v":0},{"$f":"IF(Y176<>Y177,1,0)","v":0},1,{"$f":"IF(Z176<>AA177,1,0)","v":0},{"$f":"IF(AB176<>AB177,1,0)","v":0}]
[null,null,null,null,null,null,null,null,null,null,null,null,null,null,null,{"$error":"#N/A"},null,null,null,null,null,null,null,null,null,null,null,null,null,{"$f":"(T177*Setup!$J$17)+(U177*Setup!$J$18)+(V177*Setup!$J$19)+(W177*Setup!$J$22)+X177*(Setup!$J$23)+(Y177*Setup!$J$24)+(Z177*Setup!$J$27)+(AA177*Setup!$J$28)+(AB177*Setup!$J$29)","v":0},"ERROR",1,{"$f":"IF(T177<>U176,1,0)","v":0},{"$f":"IF(V177<>V176,1,0)","v":0},1,{"$f":"IF(W177<>X176,1,0)","v":0},{"$f":"IF(Y177<>Y176,1,0)","v":0},1,{"$f":"IF(Z177<>AA176,1,0)","v":0},{"$f":"IF(AB177<>AB176,1,0)","v":0}]
[null,null,null,null,null,null,null,null,null,null,null,null,null,null,null,{"$error":"#N/A"},null,null,null,null,null,null,null,null,null,null,null,null,null,{"$f":"(T178*Setup!$J$17)+(U178*Setup!$J$18)+(V178*Setup!$J$19)+(W178*Setup!$J$22)+X178*(Setup!$J$23)+(Y178*Setup!$J$24)+(Z178*Setup!$J$27)+(AA178*Setup!$J$28)+(AB178*Setup!$J$29)","v":0},"ERROR",1,{"$f":"IF(T178<>U179,1,0)","v":0},{"$f":"IF(V178<>V179,1,0)","v":0},1,{"$f":"IF(W178<>X179,1,0)","v":0},{"$f":"IF(Y178<>Y179,1,0)","v":0},1,{"$f":"IF(Z178<>AA179,1,0)","v":0},{"$f":"IF(AB178<>AB179,1,0)","v":0}]
[null,null,null,null,null,null,null,null,null,null,null,null,null,null,null,{"$error":"#N/A"},null,null,null,null,null,null,null,null,null,null,null,null,null,{"$f":"(T179*Setup!$J$17)+(U179*Setup!$J$18)+(V179*Setup!$J$19)+(W179*Setup!$J$22)+X179*(Setup!$J$23)+(Y179*Setup!$J$24)+(Z179*Setup!$J$27)+(AA179*Setup!$J$28)+(AB179*Setup!$J$29)","v":0},"ERROR",1,{"$f":"IF(T179<>U178,1,0)","v":0},{"$f":"IF(V179<>V178,1,0)","v":0},1,{"$f":"IF(W179<>X178,1,0)","v":0},{"$f":"IF(Y179<>Y178,1,0)","v":0},1,{"$f":"IF(Z179<>AA178,1,0)","v":0},{"$f":"IF(AB179<>AB178,1,0)","v":0}]
[null,null,null,null,null,null,null,null,null,null,null,null,null,null,null,{"$error":"#N/A"},null,null,null,null,null,null,null,null,null,null,null,null,null,{"$f":"(T180*Setup!$J$17)+(U180*Setup!$J$18)+(V180*Setup!$J$19)+(W180*Setup!$J$22)+X180*(Setup!$J$23)+(Y180*Setup!$J$24)+(Z180*Setup!$J$27)+(AA180*Setup!$J$28)+(AB180*Setup!$J$29)","v":0},"ERROR",1,{"$f":"IF(T180<>U181,1,0)","v":0},{"$f":"IF(V180<>V181,1,0)","v":0},1,{"$f":"IF(W180<>X181,1,0)","v":0},{"$f":"IF(Y180<>Y181,1,0)","v":0},1,{"$f":"IF(Z180<>AA181,1,0)","v":0},{"$f":"IF(AB180<>AB181,1,0)","v":0}]
[null,null,null,null,null,null,null,null,null,null,null,null,null,null,null,{"$error":"#N/A"},null,null,null,null,null,null,null,null,null,null,null,null,null,{"$f":"(T181*Setup!$J$17)+(U181*Setup!$J$18)+(V181*Setup!$J$19)+(W181*Setup!$J$22)+X181*(Setup!$J$23)+(Y181*Setup!$J$24)+(Z181*Setup!$J$27)+(AA181*Setup!$J$28)+(AB181*Setup!$J$29)","v":0},"ERROR",1,{"$f":"IF(T181<>U180,1,0)","v":0},{"$f":"IF(V181<>V180,1,0)","v":0},1,{"$f":"IF(W181<>X180,1,0)","v":0},{"$f":"IF(Y181<>Y180,1,0)","v":0},1,{"$f":"IF(Z181<>AA180,1,0)","v":0},{"$f":"IF(AB181<>AB180,1,0)","v":0}]
[null,null,null,null,null,null,null,null,null,null,null,null,null,null,null,{"$error":"#N/A"},null,null,null,null,null,null,null,null,null,null,null,null,null,{"$f":"(T182*Setup!$J$17)+(U182*Setup!$J$18)+(V182*Setup!$J$19)+(W182*Setup!$J$22)+X182*(Setup!$J$23)+(Y182*Setup!$J$24)+(Z182*Setup!$J$27)+(AA182*Setup!$J$28)+(AB182*Setup!$J$29)","v":0},"ERROR",1,{"$f":"IF(T182<>U183,1,0)","v":0},{"$f":"IF(V182<>V183,1,0)","v":0},1,{"$f":"IF(W182<>X183,1,0)","v":0},{"$f":"IF(Y182<>Y183,1,0)","v":0},1,{"$f":"IF(Z182<>AA183,1,0)","v":0},{"$f":"IF(AB182<>AB183,1,0)","v":0}]
[null,null,null,null,null,null,null,null,null,null,null,null,null,null,null,{"$error":"#N/A"},null,null,null,null,null,null,null,null,null,null,null,null,null,{"$f":"(T183*Setup!$J$17)+(U183*Setup!$J$18)+(V183*Setup!$J$19)+(W183*Setup!$J$22)+X183*(Setup!$J$23)+(Y183*Setup!$J$24)+(Z183*Setup!$J$27)+(AA183*Setup!$J$28)+(AB183*Setup!$J$29)","v":0},"ERROR",1,{"$f":"IF(T183<>U182,1,0)","v":0},{"$f":"IF(V183<>V182,1,0)","v":0},1,{"$f":"IF(W183<>X182,1,0)","v":0},{"$f":"IF(Y183<>Y182,1,0)","v":0},1,{"$f":"IF(Z183<>AA182,1,0)","v":0},{"$f":"IF(AB183<>AB182,1,0)","v":0}]
[null,null,null,null,null,null,null,null,null,null,null,null,null,null,null,{"$error":"#N/A"},null,null,null,null,null,null,null,null,null,null,null,null,null,{"$f":"(T184*Setup!$J$17)+(U184*Setup!$J$18)+(V184*Setup!$J$19)+(W184*Setup!$J$22)+X184*(Setup!$J$23)+(Y184*Setup!$J$24)+(Z184*Setup!$J$27)+(AA184*Setup!$J$28)+(AB184*Setup!$J$29)","v":0},"ERROR",1,{"$f":"IF(T184<>U185,1,0)","v":0},{"$f":"IF(V184<>V185,1,0)","v":0},1,{"$f":"IF(W184<>X185,1,0)","v":0},{"$f":"IF(Y184<>Y185,1,0)","v":0},1,{"$f":"IF(Z184<>AA185,1,0)","v":0},{"$f":"IF(AB184<>AB185,1,0)","v":0}]
[null,null,null,null,null,null,null,null,null,null,null,null,null,null,null,{"$error":"#N/A"},null,null,null,null,null,null,null,null,null,null,null,null,null,{"$f":"(T185*Setup!$J$17)+(U185*Setup!$J$18)+(V185*Setup!$J$19)+(W185*Setup!$J$22)+X185*(Setup!$J$23)+(Y185*Setup!$J$24)+(Z185*Setup!$J$27)+(AA185*Setup!$J$28)+(AB185*Setup!$J$29)","v":0},"ERROR",1,{"$f":"IF(T185<>U184,1,0)","v":0},{"$f":"IF(V185<>V184,1,0)","v":0},1,{"$f":"IF(W185<>X184,1,0)","v":0},{"$f":"IF(Y185<>Y184,1,0)","v":0},1,{"$f":"IF(Z185<>AA184,1,0)","v":0},{"$f":"IF(AB185<>AB184,1,0)","v":0}]
[null,null,null,null,null,null,null,null,null,null,null,null,null,null,null,{"$error":"#N/A"},null,null,null,null,null,null,null,null,null,null,null,null,null,{"$f":"(T186*Setup!$J$17)+(U186*Setup!$J$18)+(V186*Setup!$J$19)+(W186*Setup!$J$22)+X186*(Setup!$J$23)+(Y186*Setup!$J$24)+(Z186*Setup!$J$27)+(AA186*Setup!$J$28)+(AB186*Setup!$J$29)","v":0},"ERROR",1,{"$f":"IF(T186<>U187,1,0)","v":0},{"$f":"IF(V186<>V187,1,0)","v":0},1,{"$f":"IF(W186<>X187,1,0)","v":0},{"$f":"IF(Y186<>Y187,1,0)","v":0},1,{"$f":"IF(Z186<>AA187,1,0)","v":0},{"$f":"IF(AB186<>AB187,1,0)","v":0}]
[null,null,null,null,null,null,null,null,null,null,null,null,null,null,null,{"$error":"#N/A"},null,null,null,null,null,null,null,null,null,null,null,null,null,{"$f":"(T187*Setup!$J$17)+(U187*Setup!$J$18)+(V187*Setup!$J$19)+(W187*Setup!$J$22)+X187*(Setup!$J$23)+(Y187*Setup!$J$24)+(Z187*Setup!$J$27)+(AA187*Setup!$J$28)+(AB187*Setup!$J$29)","v":0},"ERROR",1,{"$f":"IF(T187<>U186,1,0)","v":0},{"$f":"IF(V187<>V186,1,0)","v":0},1,{"$f":"IF(W187<>X186,1,0)","v":0},{"$f":"IF(Y187<>Y186,1,0)","v":0},1,{"$f":"IF(Z187<>AA186,1,0)","v":0},{"$f":"IF(AB187<>AB186,1,0)","v":0}]
[null,null,null,null,null,null,null,null,null,null,null,null,null,null,null,{"$error":"#N/A"},null,null,null,null,null,null,null,null,null,null,null,null,null,{"$f":"(T188*Setup!$J$17)+(U188*Setup!$J$18)+(V188*Setup!$J$19)+(W188*Setup!$J$22)+X188*(Setup!$J$23)+(Y188*Setup!$J$24)+(Z188*Setup!$J$27)+(AA188*Setup!$J$28)+(AB188*Setup!$J$29)","v":0},"ERROR",1,{"$f":"IF(T188<>U189,1,0)","v":0},{"$f":"IF(V188<>V189,1,0)","v":0},1,{"$f":"IF(W188<>X189,1,0)","v":0},{"$f":"IF(Y188<>Y189,1,0)","v":0},1,{"$f":"IF(Z188<>AA189,1,0)","v":0},{"$f":"IF(AB188<>AB189,1,0)","v":0}]
[null,null,null,null,null,null,null,null,null,null,null,null,null,null,null,{"$error":"#N/A"},null,null,null,null,null,null,null,null,null,null,null,null,null,{"$f":"(T189*Setup!$J$17)+(U189*Setup!$J$18)+(V189*Setup!$J$19)+(W189*Setup!$J$22)+X189*(Setup!$J$23)+(Y189*Setup!$J$24)+(Z189*Setup!$J$27)+(AA189*Setup!$J$28)+(AB189*Setup!$J$29)","v":0},"ERROR",1,{"$f":"IF(T189<>U188,1,0)","v":0},{"$f":"IF(V189<>V188,1,0)","v":0},1,{"$f":"IF(W189<>X188,1,0)","v":0},{"$f":"IF(Y189<>Y188,1,0)","v":0},1,{"$f":"IF(Z189<>AA188,1,0)","v":0},{"$f":"IF(AB189<>AB188,1,0)","v":0}]
[null,null,null,null,null,null,null,null,null,null,null,null,null,null,null,{"$error":"#N/A"},null,null,null,null,null,null,null,null,null,null,null,null,null,{"$f":"(T190*Setup!$J$17)+(U190*Setup!$J$18)+(V190*Setup!$J$19)+(W190*Setup!$J$22)+X190*(Setup!$J$23)+(Y190*Setup!$J$24)+(Z190*Setup!$J$27)+(AA190*Setup!$J$28)+(AB190*Setup!$J$29)","v":0},"ERROR",1,{"$f":"IF(T190<>U191,1,0)","v":0},{"$f":"IF(V190<>V191,1,0)","v":0},1,{"$f":"IF(W190<>X191,1,0)","v":0},{"$f":"IF(Y190<>Y191,1,0)","v":0},1,{"$f":"IF(Z190<>AA191,1,0)","v":0},{"$f":"IF(AB190<>AB191,1,0)","v":0}]
[null,null,null,null,null,null,null,null,null,null,null,null,null,null,null,{"$error":"#N/A"},null,null,null,null,null,null,null,null,null,null,null,null,null,{"$f":"(T191*Setup!$J$17)+(U191*Setup!$J$18)+(V191*Setup!$J$19)+(W191*Setup!$J$22)+X191*(Setup!$J$23)+(Y191*Setup!$J$24)+(Z191*Setup!$J$27)+(AA191*Setup!$J$28)+(AB191*Setup!$J$29)","v":0},"ERROR",1,{"$f":"IF(T191<>U190,1,0)","v":0},{"$f":"IF(V191<>V190,1,0)","v":0},1,{"$f":"IF(W191<>X190,1,0)","v":0},{"$f":"IF(Y191<>Y190,1,0)","v":0},1,{"$f":"IF(Z191<>AA190,1,0)","v":0},{"$f":"IF(AB191<>AB190,1,0)","v":0}]
[null,null,null,null,null,null,null,null,null,null,null,null,null,null,null,{"$error":"#N/A"},null,null,null,null,null,null,null,null,null,null,null,null,null,{"$f":"(T192*Setup!$J$17)+(U192*Setup!$J$18)+(V192*Setup!$J$19)+(W192*Setup!$J$22)+X192*(Setup!$J$23)+(Y192*Setup!$J$24)+(Z192*Setup!$J$27)+(AA192*Setup!$J$28)+(AB192*Setup!$J$29)","v":0},"ERROR",1,{"$f":"IF(T192<>U193,1,0)","v":0},{"$f":"IF(V192<>V193,1,0)","v":0},1,{"$f":"IF(W192<>X193,1,0)","v":0},{"$f":"IF(Y192<>Y193,1,0)","v":0},1,{"$f":"IF(Z192<>AA193,1,0)","v":0},{"$f":"IF(AB192<>AB193,1,0)","v":0}]
[null,null,null,null,null,null,null,null,null,null,null,null,null,null,null,{"$error":"#N/A"},null,null,null,null,null,null,null,null,null,null,null,null,null,{"$f":"(T193*Setup!$J$17)+(U193*Setup!$J$18)+(V193*Setup!$J$19)+(W193*Setup!$J$22)+X193*(Setup!$J$23)+(Y193*Setup!$J$24)+(Z193*Setup!$J$27)+(AA193*Setup!$J$28)+(AB193*Setup!$J$29)","v":0},"ERROR",1,{"$f":"IF(T193<>U192,1,0)","v":0},{"$f":"IF(V193<>V192,1,0)","v":0},1,{"$f":"IF(W193<>X192,1,0)","v":0},{"$f":"IF(Y193<>Y192,1,0)","v":0},1,{"$f":"IF(Z193<>AA192,1,0)","v":0},{"$f":"IF(AB193<>AB192,1,0)","v":0}]
[null,null,null,null,null,null,null,null,null,null,null,null,null,null,null,{"$error":"#N/A"},null,null,null,null,null,null,null,null,null,null,null,null,null,{"$f":"(T194*Setup!$J$17)+(U194*Setup!$J$18)+(V194*Setup!$J$19)+(W194*Setup!$J$22)+X194*(Setup!$J$23)+(Y194*Setup!$J$24)+(Z194*Setup!$J$27)+(AA194*Setup!$J$28)+(AB194*Setup!$J$29)","v":0},"ERROR",1,{"$f":"IF(T194<>U195,1,0)","v":0},{"$f":"IF(V194<>V195,1,0)","v":0},1,{"$f":"IF(W194<>X195,1,0)","v":0},{"$f":"IF(Y194<>Y195,1,0)","v":0},1,{"$f":"IF(Z194<>AA195,1,0)","v":0},{"$f":"IF(AB194<>AB195,1,0)","v":0}]
[null,null,null,null,null,null,null,null,null,null,null,null,null,null,null,{"$error":"#N/A"},null,null,null,null,null,null,null,null,null,null,null,null,null,{"$f":"(T195*Setup!$J$17)+(U195*Setup!$J$18)+(V195*Setup!$J$19)+(W195*Setup!$J$22)+X195*(Setup!$J$23)+(Y195*Setup!$J$24)+(Z195*Setup!$J$27)+(AA195*Setup!$J$28)+(AB195*Setup!$J$29)","v":0},"ERROR",1,{"$f":"IF(T195<>U194,1,0)","v":0},{"$f":"IF(V195<>V194,1,0)","v":0},1,{"$f":"IF(W195<>X194,1,0)","v":0},{"$f":"IF(Y195<>Y194,1,0)","v":0},1,{"$f":"IF(Z195<>AA194,1,0)","v":0},{"$f":"IF(AB195<>AB194,1,0)","v":0}]
[null,null,null,null,null,null,null,null,null,null,null,null,null,null,null,{"$error":"#N/A"},null,null,null,null,null,null,null,null,null,null,null,null,null,{"$f":"(T196*Setup!$J$17)+(U196*Setup!$J$18)+(V196*Setup!$J$19)+(W196*Setup!$J$22)+X196*(Setup!$J$23)+(Y196*Setup!$J$24)+(Z196*Setup!$J$27)+(AA196*Setup!$J$28)+(AB196*Setup!$J$29)","v":0},"ERROR",1,{"$f":"IF(T196<>U197,1,0)","v":0},{"$f":"IF(V196<>V197,1,0)","v":0},1,{"$f":"IF(W196<>X197,1,0)","v":0},{"$f":"IF(Y196<>Y197,1,0)","v":0},1,{"$f":"IF(Z196<>AA197,1,0)","v":0},{"$f":"IF(AB196<>AB197,1,0)","v":0}]
[null,null,null,null,null,null,null,null,null,null,null,null,null,null,null,{"$error":"#N/A"},null,null,null,null,null,null,null,null,null,null,null,null,null,{"$f":"(T197*Setup!$J$17)+(U197*Setup!$J$18)+(V197*Setup!$J$19)+(W197*Setup!$J$22)+X197*(Setup!$J$23)+(Y197*Setup!$J$24)+(Z197*Setup!$J$27)+(AA197*Setup!$J$28)+(AB197*Setup!$J$29)","v":0},"ERROR",1,{"$f":"IF(T197<>U196,1,0)","v":0},{"$f":"IF(V197<>V196,1,0)","v":0},1,{"$f":"IF(W197<>X196,1,0)","v":0},{"$f":"IF(Y197<>Y196,1,0)","v":0},1,{"$f":"IF(Z197<>AA196,1,0)","v":0},{"$f":"IF(AB197<>AB196,1,0)","v":0}]
[null,null,null,null,null,null,null,null,null,null,null,null,null,null,null,{"$error":"#N/A"},null,null,null,null,null,null,null,null,null,null,null,null,null,{"$f":"(T198*Setup!$J$17)+(U198*Setup!$J$18)+(V198*Setup!$J$19)+(W198*Setup!$J$22)+X198*(Setup!$J$23)+(Y198*Setup!$J$24)+(Z198*Setup!$J$27)+(AA198*Setup!$J$28)+(AB198*Setup!$J$29)","v":0},"ERROR",1,{"$f":"IF(T198<>U199,1,0)","v":0},{"$f":"IF(V198<>V199,1,0)","v":0},1,{"$f":"IF(W198<>X199,1,0)","v":0},{"$f":"IF(Y198<>Y199,1,0)","v":0},1,{"$f":"IF(Z198<>AA199,1,0)","v":0},{"$f":"IF(AB198<>AB199,1,0)","v":0}]
[null,null,null,null,null,null,null,null,null,null,null,null,null,null,null,{"$error":"#N/A"},null,null,null,null,null,null,null,null,null,null,null,null,null,{"$f":"(T199*Setup!$J$17)+(U199*Setup!$J$18)+(V199*Setup!$J$19)+(W199*Setup!$J$22)+X199*(Setup!$J$23)+(Y199*Setup!$J$24)+(Z199*Setup!$J$27)+(AA199*Setup!$J$28)+(AB199*Setup!$J$29)","v":0},"ERROR",1,{"$f":"IF(T199<>U198,1,0)","v":0},{"$f":"IF(V199<>V198,1,0)","v":0},1,{"$f":"IF(W199<>X198,1,0)","v":0},{"$f":"IF(Y199<>Y198,1,0)","v":0},1,{"$f":"IF(Z199<>AA198,1,0)","v":0},{"$f":"IF(AB199<>AB198,1,0)","v":0}]
[null,null,null,null,null,null,null,null,null,null,null,null,null,null,null,{"$error":"#N/A"},null,null,null,null,null,null,null,null,null,null,null,null,null,{"$f":"(T200*Setup!$J$17)+(U200*Setup!$J$18)+(V200*Setup!$J$19)+(W200*Setup!$J$22)+X200*(Setup!$J$23)+(Y200*Setup!$J$24)+(Z200*Setup!$J$27)+(AA200*Setup!$J$28)+(AB200*Setup!$J$29)","v":0},"ERROR",1,{"$f":"IF(T200<>U201,1,0)","v":0},{"$f":"IF(V200<>V201,1,0)","v":0},1,{"$f":"IF(W200<>X201,1,0)","v":0},{"$f":"IF(Y200<>Y201,1,0)","v":0},1,{"$f":"IF(Z200<>AA201,1,0)","v":0},{"$f":"IF(AB200<>AB201,1,0)","v":0}]
[null,null,null,null,null,null,null,null,null,null,null,null,null,null,null,{"$error":"#N/A"},null,null,null,null,null,null,null,null,null,null,null,null,null,{"$f":"(T201*Setup!$J$17)+(U201*Setup!$J$18)+(V201*Setup!$J$19)+(W201*Setup!$J$22)+X201*(Setup!$J$23)+(Y201*Setup!$J$24)+(Z201*Setup!$J$27)+(AA201*Setup!$J$28)+(AB201*Setup!$J$29)","v":0},"ERROR",1,{"$f":"IF(T201<>U200,1,0)","v":0},{"$f":"IF(V201<>V200,1,0)","v":0},1,{"$f":"IF(W201<>X200,1,0)","v":0},{"$f":"IF(Y201<>Y200,1,0)","v":0},1,{"$f":"IF(Z201<>AA200,1,0)","v":0},{"$f":"IF(AB201<>AB200,1,0)","v":0}]
[null,null,null,null,null,null,null,null,null,null,null,null,null,null,null,{"$error":"#N/A"},null,null,null,null,null,null,null,null,null,null,null,null,null,{"$f":"(T202*Setup!$J$17)+(U202*Setup!$J$18)+(V202*Setup!$J$19)+(W202*Setup!$J$22)+X202*(Setup!$J$23)+(Y202*Setup!$J$24)+(Z202*Setup!$J$27)+(AA202*Setup!$J$28)+(AB202*Setup!$J$29)","v":0},"ERROR",1,{"$f":"IF(T202<>U203,1,0)","v":0},{"$f":"IF(V202<>V203,1,0)","v":0},1,{"$f":"IF(W202<>X203,1,0)","v":0},{"$f":"IF(Y202<>Y203,1,0)","v":0},1,{"$f":"IF(Z202<>AA203,1,0)","v":0},{"$f":"IF(AB202<>AB203,1,0)","v":0}]
[null,null,null,null,null,null,null,null,null,null,null,null,null,null,null,{"$error":"#N/A"},null,null,null,null,null,null,null,null,null,null,null,null,null,{"$f":"(T203*Setup!$J$17)+(U203*Setup!$J$18)+(V203*Setup!$J$19)+(W203*Setup!$J$22)+X203*(Setup!$J$23)+(Y203*Setup!$J$24)+(Z203*Setup!$J$27)+(AA203*Setup!$J$28)+(AB203*Setup!$J$29)","v":0},"ERROR",1,{"$f":"IF(T203<>U202,1,0)","v":0},{"$f":"IF(V203<>V202,1,0)","v":0},1,{"$f":"IF(W203<>X202,1,0)","v":0},{"$f":"IF(Y203<>Y202,1,0)","v":0},1,{"$f":"IF(Z203<>AA202,1,0)","v":0},{"$f":"IF(AB203<>AB202,1,0)","v":0}]
[null,null,null,null,null,null,null,null,null,null,null,null,null,null,null,{"$error":"#N/A"},null,null,null,null,null,null,null,null,null,null,null,null,null,{"$f":"(T204*Setup!$J$17)+(U204*Setup!$J$18)+(V204*Setup!$J$19)+(W204*Setup!$J$22)+X204*(Setup!$J$23)+(Y204*Setup!$J$24)+(Z204*Setup!$J$27)+(AA204*Setup!$J$28)+(AB204*Setup!$J$29)","v":0},"ERROR",1,{"$f":"IF(T204<>U205,1,0)","v":0},{"$f":"IF(V204<>V205,1,0)","v":0},1,{"$f":"IF(W204<>X205,1,0)","v":0},{"$f":"IF(Y204<>Y205,1,0)","v":0},1,{"$f":"IF(Z204<>AA205,1,0)","v":0},{"$f":"IF(AB204<>AB205,1,0)","v":0}]
[null,null,null,null,null,null,null,null,null,null,null,null,null,null,null,{"$error":"#N/A"},null,null,null,null,null,null,null,null,null,null,null,null,null,{"$f":"(T205*Setup!$J$17)+(U205*Setup!$J$18)+(V205*Setup!$J$19)+(W205*Setup!$J$22)+X205*(Setup!$J$23)+(Y205*Setup!$J$24)+(Z205*Setup!$J$27)+(AA205*Setup!$J$28)+(AB205*Setup!$J$29)","v":0},"ERROR",1,{"$f":"IF(T205<>U204,1,0)","v":0},{"$f":"IF(V205<>V204,1,0)","v":0},1,{"$f":"IF(W205<>X204,1,0)","v":0},{"$f":"IF(Y205<>Y204,1,0)","v":0},1,{"$f":"IF(Z205<>AA204,1,0)","v":0},{"$f":"IF(AB205<>AB204,1,0)","v":0}]
[null,null,null,null,null,null,null,null,null,null,null,null,null,null,null,{"$error":"#N/A"},null,null,null,null,null,null,null,null,null,null,null,null,null,{"$f":"(T206*Setup!$J$17)+(U206*Setup!$J$18)+(V206*Setup!$J$19)+(W206*Setup!$J$22)+X206*(Setup!$J$23)+(Y206*Setup!$J$24)+(Z206*Setup!$J$27)+(AA206*Setup!$J$28)+(AB206*Setup!$J$29)","v":0},"ERROR",1,{"$f":"IF(T206<>U207,1,0)","v":0},{"$f":"IF(V206<>V207,1,0)","v":0},1,{"$f":"IF(W206<>X207,1,0)","v":0},{"$f":"IF(Y206<>Y207,1,0)","v":0},1,{"$f":"IF(Z206<>AA207,1,0)","v":0},{"$f":"IF(AB206<>AB207,1,0)","v":0}]
[null,null,null,null,null,null,null,null,null,null,null,null,null,null,null,{"$error":"#N/A"},null,null,null,null,null,null,null,null,null,null,null,null,null,{"$f":"(T207*Setup!$J$17)+(U207*Setup!$J$18)+(V207*Setup!$J$19)+(W207*Setup!$J$22)+X207*(Setup!$J$23)+(Y207*Setup!$J$24)+(Z207*Setup!$J$27)+(AA207*Setup!$J$28)+(AB207*Setup!$J$29)","v":0},"ERROR",1,{"$f":"IF(T207<>U206,1,0)","v":0},{"$f":"IF(V207<>V206,1,0)","v":0},1,{"$f":"IF(W207<>X206,1,0)","v":0},{"$f":"IF(Y207<>Y206,1,0)","v":0},1,{"$f":"IF(Z207<>AA206,1,0)","v":0},{"$f":"IF(AB207<>AB206,1,0)","v":0}]
[null,null,null,null,null,null,null,null,null,null,null,null,null,null,null,{"$error":"#N/A"},null,null,null,null,null,null,null,null,null,null,null,null,null,{"$f":"(T208*Setup!$J$17)+(U208*Setup!$J$18)+(V208*Setup!$J$19)+(W208*Setup!$J$22)+X208*(Setup!$J$23)+(Y208*Setup!$J$24)+(Z208*Setup!$J$27)+(AA208*Setup!$J$28)+(AB208*Setup!$J$29)","v":0},"ERROR",1,{"$f":"IF(T208<>U209,1,0)","v":0},{"$f":"IF(V208<>V209,1,0)","v":0},1,{"$f":"IF(W208<>X209,1,0)","v":0},{"$f":"IF(Y208<>Y209,1,0)","v":0},1,{"$f":"IF(Z208<>AA209,1,0)","v":0},{"$f":"IF(AB208<>AB209,1,0)","v":0}]
[null,null,null,null,null,null,null,null,null,null,null,null,null,null,null,{"$error":"#N/A"},null,null,null,null,null,null,null,null,null,null,null,null,null,{"$f":"(T209*Setup!$J$17)+(U209*Setup!$J$18)+(V209*Setup!$J$19)+(W209*Setup!$J$22)+X209*(Setup!$J$23)+(Y209*Setup!$J$24)+(Z209*Setup!$J$27)+(AA209*Setup!$J$28)+(AB209*Setup!$J$29)","v":0},"ERROR",1,{"$f":"IF(T209<>U208,1,0)","v":0},{"$f":"IF(V209<>V208,1,0)","v":0},1,{"$f":"IF(W209<>X208,1,0)","v":0},{"$f":"IF(Y209<>Y208,1,0)","v":0},1,{"$f":"IF(Z209<>AA208,1,0)","v":0},{"$f":"IF(AB209<>AB208,1,0)","v":0}]
[null,null,null,null,null,null,null,null,null,null,null,null,null,null,null,{"$error":"#N/A"},null,null,null,null,null,null,null,null,null,null,null,null,null,{"$f":"(T210*Setup!$J$17)+(U210*Setup!$J$18)+(V210*Setup!$J$19)+(W210*Setup!$J$22)+X210*(Setup!$J$23)+(Y210*Setup!$J$24)+(Z210*Setup!$J$27)+(AA210*Setup!$J$28)+(AB210*Setup!$J$29)","v":0},"ERROR",1,{"$f":"IF(T210<>U211,1,0)","v":0},{"$f":"IF(V210<>V211,1,0)","v":0},1,{"$f":"IF(W210<>X211,1,0)","v":0},{"$f":"IF(Y210<>Y211,1,0)","v":0},1,{"$f":"IF(Z210<>AA211,1,0)","v":0},{"$f":"IF(AB210<>AB211,1,0)","v":0}]
[null,null,null,null,null,null,null,null,null,null,null,null,null,null,null,{"$error":"#N/A"},null,null,null,null,null,null,null,null,null,null,null,null,null,{"$f":"(T211*Setup!$J$17)+(U211*Setup!$J$18)+(V211*Setup!$J$19)+(W211*Setup!$J$22)+X211*(Setup!$J$23)+(Y211*Setup!$J$24)+(Z211*Setup!$J$27)+(AA211*Setup!$J$28)+(AB211*Setup!$J$29)","v":0},"ERROR",1,{"$f":"IF(T211<>U210,1,0)","v":0},{"$f":"IF(V211<>V210,1,0)","v":0},1,{"$f":"IF(W211<>X210,1,0)","v":0},{"$f":"IF(Y211<>Y210,1,0)","v":0},1,{"$f":"IF(Z211<>AA210,1,0)","v":0},{"$f":"IF(AB211<>AB210,1,0)","v":0}]
[null,null,null,null,null,null,null,null,null,null,null,null,null,null,null,{"$error":"#N/A"},null,null,null,null,null,null,null,null,null,null,null,null,null,{"$f":"(T212*Setup!$J$17)+(U212*Setup!$J$18)+(V212*Setup!$J$19)+(W212*Setup!$J$22)+X212*(Setup!$J$23)+(Y212*Setup!$J$24)+(Z212*Setup!$J$27)+(AA212*Setup!$J$28)+(AB212*Setup!$J$29)","v":0},"ERROR",1,{"$f":"IF(T212<>U213,1,0)","v":0},{"$f":"IF(V212<>V213,1,0)","v":0},1,{"$f":"IF(W212<>X213,1,0)","v":0},{"$f":"IF(Y212<>Y213,1,0)","v":0},1,{"$f":"IF(Z212<>AA213,1,0)","v":0},{"$f":"IF(AB212<>AB213,1,0)","v":0}]
[null,null,null,null,null,null,null,null,null,null,null,null,null,null,null,{"$error":"#N/A"},null,null,null,null,null,null,null,null,null,null,null,null,null,{"$f":"(T213*Setup!$J$17)+(U213*Setup!$J$18)+(V213*Setup!$J$19)+(W213*Setup!$J$22)+X213*(Setup!$J$23)+(Y213*Setup!$J$24)+(Z213*Setup!$J$27)+(AA213*Setup!$J$28)+(AB213*Setup!$J$29)","v":0},"ERROR",1,{"$f":"IF(T213<>U212,1,0)","v":0},{"$f":"IF(V213<>V212,1,0)","v":0},1,{"$f":"IF(W213<>X212,1,0)","v":0},{"$f":"IF(Y213<>Y212,1,0)","v":0},1,{"$f":"IF(Z213<>AA212,1,0)","v":0},{"$f":"IF(AB213<>AB212,1,0)","v":0}]
[null,null,null,null,null,null,null,null,null,null,null,null,null,null,null,{"$error":"#N/A"},null,null,null,null,null,null,null,null,null,null,null,null,null,{"$f":"(T214*Setup!$J$17)+(U214*Setup!$J$18)+(V214*Setup!$J$19)+(W214*Setup!$J$22)+X214*(Setup!$J$23)+(Y214*Setup!$J$24)+(Z214*Setup!$J$27)+(AA214*Setup!$J$28)+(AB214*Setup!$J$29)","v":0},"ERROR",1,{"$f":"IF(T214<>U215,1,0)","v":0},{"$f":"IF(V214<>V215,1,0)","v":0},1,{"$f":"IF(W214<>X215,1,0)","v":0},{"$f":"IF(Y214<>Y215,1,0)","v":0},1,{"$f":"IF(Z214<>AA215,1,0)","v":0},{"$f":"IF(AB214<>AB215,1,0)","v":0}]
[null,null,null,null,null,null,null,null,null,null,null,null,null,null,null,{"$error":"#N/A"},null,null,null,null,null,null,null,null,null,null,null,null,null,{"$f":"(T215*Setup!$J$17)+(U215*Setup!$J$18)+(V215*Setup!$J$19)+(W215*Setup!$J$22)+X215*(Setup!$J$23)+(Y215*Setup!$J$24)+(Z215*Setup!$J$27)+(AA215*Setup!$J$28)+(AB215*Setup!$J$29)","v":0},"ERROR",1,{"$f":"IF(T215<>U214,1,0)","v":0},{"$f":"IF(V215<>V214,1,0)","v":0},1,{"$f":"IF(W215<>X214,1,0)","v":0},{"$f":"IF(Y215<>Y214,1,0)","v":0},1,{"$f":"IF(Z215<>AA214,1,0)","v":0},{"$f":"IF(AB215<>AB214,1,0)","v":0}]
[null,null,null,null,null,null,null,null,null,null,null,null,null,null,null,{"$error":"#N/A"},null,null,null,null,null,null,null,null,null,null,null,null,null,{"$f":"(T216*Setup!$J$17)+(U216*Setup!$J$18)+(V216*Setup!$J$19)+(W216*Setup!$J$22)+X216*(Setup!$J$23)+(Y216*Setup!$J$24)+(Z216*Setup!$J$27)+(AA216*Setup!$J$28)+(AB216*Setup!$J$29)","v":0},"ERROR",1,{"$f":"IF(T216<>U217,1,0)","v":0},{"$f":"IF(V216<>V217,1,0)","v":0},1,{"$f":"IF(W216<>X217,1,0)","v":0},{"$f":"IF(Y216<>Y217,1,0)","v":0},1,{"$f":"IF(Z216<>AA217,1,0)","v":0},{"$f":"IF(AB216<>AB217,1,0)","v":0}]
[null,null,null,null,null,null,null,null,null,null,null,null,null,null,null,{"$error":"#N/A"},null,null,null,null,null,null,null,null,null,null,null,null,null,{"$f":"(T217*Setup!$J$17)+(U217*Setup!$J$18)+(V217*Setup!$J$19)+(W217*Setup!$J$22)+X217*(Setup!$J$23)+(Y217*Setup!$J$24)+(Z217*Setup!$J$27)+(AA217*Setup!$J$28)+(AB217*Setup!$J$29)","v":0},"ERROR",1,{"$f":"IF(T217<>U216,1,0)","v":0},{"$f":"IF(V217<>V216,1,0)","v":0},1,{"$f":"IF(W217<>X216,1,0)","v":0},{"$f":"IF(Y217<>Y216,1,0)","v":0},1,{"$f":"IF(Z217<>AA216,1,0)","v":0},{"$f":"IF(AB217<>AB216,1,0)","v":0}]
[null,null,null,null,null,null,null,null,null,null,null,null,null,null,null,{"$error":"#N/A"},null,null,null,null,null,null,null,null,null,null,null,null,null,{"$f":"(T218*Setup!$J$17)+(U218*Setup!$J$18)+(V218*Setup!$J$19)+(W218*Setup!$J$22)+X218*(Setup!$J$23)+(Y218*Setup!$J$24)+(Z218*Setup!$J$27)+(AA218*Setup!$J$28)+(AB218*Setup!$J$29)","v":0},"ERROR",1,{"$f":"IF(T218<>U219,1,0)","v":0},{"$f":"IF(V218<>V219,1,0)","v":0},1,{"$f":"IF(W218<>X219,1,0)","v":0},{"$f":"IF(Y218<>Y219,1,0)","v":0},1,{"$f":"IF(Z218<>AA219,1,0)","v":0},{"$f":"IF(AB218<>AB219,1,0)","v":0}]
[null,null,null,null,null,null,null,null,null,null,null,null,null,null,null,{"$error":"#N/A"},null,null,null,null,null,null,null,null,null,null,null,null,null,{"$f":"(T219*Setup!$J$17)+(U219*Setup!$J$18)+(V219*Setup!$J$19)+(W219*Setup!$J$22)+X219*(Setup!$J$23)+(Y219*Setup!$J$24)+(Z219*Setup!$J$27)+(AA219*Setup!$J$28)+(AB219*Setup!$J$29)","v":0},"ERROR",1,{"$f":"IF(T219<>U218,1,0)","v":0},{"$f":"IF(V219<>V218,1,0)","v":0},1,{"$f":"IF(W219<>X218,1,0)","v":0},{"$f":"IF(Y219<>Y218,1,0)","v":0},1,{"$f":"IF(Z219<>AA218,1,0)","v":0},{"$f":"IF(AB219<>AB218,1,0)","v":0}]
[null,null,null,null,null,null,null,null,null,null,null,null,null,null,null,{"$error":"#N/A"},null,null,null,null,null,null,null,null,null,null,null,null,null,{"$f":"(T220*Setup!$J$17)+(U220*Setup!$J$18)+(V220*Setup!$J$19)+(W220*Setup!$J$22)+X220*(Setup!$J$23)+(Y220*Setup!$J$24)+(Z220*Setup!$J$27)+(AA220*Setup!$J$28)+(AB220*Setup!$J$29)","v":0},"ERROR",1,{"$f":"IF(T220<>U221,1,0)","v":0},{"$f":"IF(V220<>V221,1,0)","v":0},1,{"$f":"IF(W220<>X221,1,0)","v":0},{"$f":"IF(Y220<>Y221,1,0)","v":0},1,{"$f":"IF(Z220<>AA221,1,0)","v":0},{"$f":"IF(AB220<>AB221,1,0)","v":0}]
[null,null,null,null,null,null,null,null,null,null,null,null,null,null,null,{"$error":"#N/A"},null,null,null,null,null,null,null,null,null,null,null,null,null,{"$f":"(T221*Setup!$J$17)+(U221*Setup!$J$18)+(V221*Setup!$J$19)+(W221*Setup!$J$22)+X221*(Setup!$J$23)+(Y221*Setup!$J$24)+(Z221*Setup!$J$27)+(AA221*Setup!$J$28)+(AB221*Setup!$J$29)","v":0},"ERROR",1,{"$f":"IF(T221<>U220,1,0)","v":0},{"$f":"IF(V221<>V220,1,0)","v":0},1,{"$f":"IF(W221<>X220,1,0)","v":0},{"$f":"IF(Y221<>Y220,1,0)","v":0},1,{"$f":"IF(Z221<>AA220,1,0)","v":0},{"$f":"IF(AB221<>AB220,1,0)","v":0}]
[null,null,null,null,null,null,null,null,null,null,null,null,null,null,null,{"$f":"VLOOKUP(S222,GE_Teams_DBID,2,FALSE)","v":{"$error":"#N/A"}},null,null,null,null,null,null,null,null,null,null,null,null,null,{"$f":"(T222*Setup!$J$17)+(U222*Setup!$J$18)+(V222*Setup!$J$19)+(W222*Setup!$J$22)+X222*(Setup!$J$23)+(Y222*Setup!$J$24)+(Z222*Setup!$J$27)+(AA222*Setup!$J$28)+(AB222*Setup!$J$29)","v":0},"ERROR",{"$f":"IF((T222+U222+V222)<>18,1,0)","v":1},{"$f":"IF(T222<>U223,1,0)","v":0},{"$f":"IF(V222<>V223,1,0)","v":0},{"$f":"IF((W222+X222+Y222)<>2,1,0)","v":1},{"$f":"IF(W222<>X223,1,0)","v":0},{"$f":"IF(Y222<>Y223,1,0)","v":0},{"$f":"IF((Z222+AA222+AB222)<>1,1,0)","v":1},{"$f":"IF(Z222<>AA223,1,0)","v":0},{"$f":"IF(AB222<>AB223,1,0)","v":0}]
[null,null,null,null,null,null,null,null,null,null,null,null,null,null,null,{"$error":"#N/A"},null,null,null,null,null,null,null,null,null,null,null,null,null,{"$f":"(T223*Setup!$J$17)+(U223*Setup!$J$18)+(V223*Setup!$J$19)+(W223*Setup!$J$22)+X223*(Setup!$J$23)+(Y223*Setup!$J$24)+(Z223*Setup!$J$27)+(AA223*Setup!$J$28)+(AB223*Setup!$J$29)","v":0},{"$f":"IF(SUM(AF223:AN223)>0,\"ERROR\",\"\")","v":"ERROR"},1,{"$f":"IF(T223<>U222,1,0)","v":0},{"$f":"IF(V223<>V222,1,0)","v":0},1,{"$f":"IF(W223<>X222,1,0)","v":0},{"$f":"IF(Y223<>Y222,1,0)","v":0},1,{"$f":"IF(Z223<>AA222,1,0)","v":0},{"$f":"IF(AB223<>AB222,1,0)","v":0}]
[null,null,null,null,null,null,null,null,null,null,null,null,null,null,null,{"$error":"#N/A"},null,null,null,null,null,null,null,null,null,null,null,null,null,{"$f":"(T224*Setup!$J$17)+(U224*Setup!$J$18)+(V224*Setup!$J$19)+(W224*Setup!$J$22)+X224*(Setup!$J$23)+(Y224*Setup!$J$24)+(Z224*Setup!$J$27)+(AA224*Setup!$J$28)+(AB224*Setup!$J$29)","v":0},"ERROR",1,{"$f":"IF(T224<>U225,1,0)","v":0},{"$f":"IF(V224<>V225,1,0)","v":0},1,{"$f":"IF(W224<>X225,1,0)","v":0},{"$f":"IF(Y224<>Y225,1,0)","v":0},1,{"$f":"IF(Z224<>AA225,1,0)","v":0},{"$f":"IF(AB224<>AB225,1,0)","v":0}]
[null,null,null,null,null,null,null,null,null,null,null,null,null,null,null,{"$error":"#N/A"},null,null,null,null,null,null,null,null,null,null,null,null,null,{"$f":"(T225*Setup!$J$17)+(U225*Setup!$J$18)+(V225*Setup!$J$19)+(W225*Setup!$J$22)+X225*(Setup!$J$23)+(Y225*Setup!$J$24)+(Z225*Setup!$J$27)+(AA225*Setup!$J$28)+(AB225*Setup!$J$29)","v":0},"ERROR",1,{"$f":"IF(T225<>U224,1,0)","v":0},{"$f":"IF(V225<>V224,1,0)","v":0},1,{"$f":"IF(W225<>X224,1,0)","v":0},{"$f":"IF(Y225<>Y224,1,0)","v":0},1,{"$f":"IF(Z225<>AA224,1,0)","v":0},{"$f":"IF(AB225<>AB224,1,0)","v":0}]
[null,null,null,null,null,null,null,null,null,null,null,null,null,null,null,{"$error":"#N/A"},null,null,null,null,null,null,null,null,null,null,null,null,null,{"$f":"(T226*Setup!$J$17)+(U226*Setup!$J$18)+(V226*Setup!$J$19)+(W226*Setup!$J$22)+X226*(Setup!$J$23)+(Y226*Setup!$J$24)+(Z226*Setup!$J$27)+(AA226*Setup!$J$28)+(AB226*Setup!$J$29)","v":0},"ERROR",1,{"$f":"IF(T226<>U227,1,0)","v":0},{"$f":"IF(V226<>V227,1,0)","v":0},1,{"$f":"IF(W226<>X227,1,0)","v":0},{"$f":"IF(Y226<>Y227,1,0)","v":0},1,{"$f":"IF(Z226<>AA227,1,0)","v":0},{"$f":"IF(AB226<>AB227,1,0)","v":0}]
[null,null,null,null,null,null,null,null,null,null,null,null,null,null,null,{"$error":"#N/A"},null,null,null,null,null,null,null,null,null,null,null,null,null,{"$f":"(T227*Setup!$J$17)+(U227*Setup!$J$18)+(V227*Setup!$J$19)+(W227*Setup!$J$22)+X227*(Setup!$J$23)+(Y227*Setup!$J$24)+(Z227*Setup!$J$27)+(AA227*Setup!$J$28)+(AB227*Setup!$J$29)","v":0},"ERROR",1,{"$f":"IF(T227<>U226,1,0)","v":0},{"$f":"IF(V227<>V226,1,0)","v":0},1,{"$f":"IF(W227<>X226,1,0)","v":0},{"$f":"IF(Y227<>Y226,1,0)","v":0},1,{"$f":"IF(Z227<>AA226,1,0)","v":0},{"$f":"IF(AB227<>AB226,1,0)","v":0}]
[null,null,null,null,null,null,null,null,null,null,null,null,null,null,null,{"$error":"#N/A"},null,null,null,null,null,null,null,null,null,null,null,null,null,{"$f":"(T228*Setup!$J$17)+(U228*Setup!$J$18)+(V228*Setup!$J$19)+(W228*Setup!$J$22)+X228*(Setup!$J$23)+(Y228*Setup!$J$24)+(Z228*Setup!$J$27)+(AA228*Setup!$J$28)+(AB228*Setup!$J$29)","v":0},"ERROR",1,{"$f":"IF(T228<>U229,1,0)","v":0},{"$f":"IF(V228<>V229,1,0)","v":0},1,{"$f":"IF(W228<>X229,1,0)","v":0},{"$f":"IF(Y228<>Y229,1,0)","v":0},1,{"$f":"IF(Z228<>AA229,1,0)","v":0},{"$f":"IF(AB228<>AB229,1,0)","v":0}]
[null,null,null,null,null,null,null,null,null,null,null,null,null,null,null,{"$error":"#N/A"},null,null,null,null,null,null,null,null,null,null,null,null,null,{"$f":"(T229*Setup!$J$17)+(U229*Setup!$J$18)+(V229*Setup!$J$19)+(W229*Setup!$J$22)+X229*(Setup!$J$23)+(Y229*Setup!$J$24)+(Z229*Setup!$J$27)+(AA229*Setup!$J$28)+(AB229*Setup!$J$29)","v":0},"ERROR",1,{"$f":"IF(T229<>U228,1,0)","v":0},{"$f":"IF(V229<>V228,1,0)","v":0},1,{"$f":"IF(W229<>X228,1,0)","v":0},{"$f":"IF(Y229<>Y228,1,0)","v":0},1,{"$f":"IF(Z229<>AA228,1,0)","v":0},{"$f":"IF(AB229<>AB228,1,0)","v":0}]
[null,null,null,null,null,null,null,null,null,null,null,null,null,null,null,{"$error":"#N/A"},null,null,null,null,null,null,null,null,null,null,null,null,null,{"$f":"(T230*Setup!$J$17)+(U230*Setup!$J$18)+(V230*Setup!$J$19)+(W230*Setup!$J$22)+X230*(Setup!$J$23)+(Y230*Setup!$J$24)+(Z230*Setup!$J$27)+(AA230*Setup!$J$28)+(AB230*Setup!$J$29)","v":0},"ERROR",1,{"$f":"IF(T230<>U231,1,0)","v":0},{"$f":"IF(V230<>V231,1,0)","v":0},1,{"$f":"IF(W230<>X231,1,0)","v":0},{"$f":"IF(Y230<>Y231,1,0)","v":0},1,{"$f":"IF(Z230<>AA231,1,0)","v":0},{"$f":"IF(AB230<>AB231,1,0)","v":0}]
[null,null,null,null,null,null,null,null,null,null,null,null,null,null,null,{"$error":"#N/A"},null,null,null,null,null,null,null,null,null,null,null,null,null,{"$f":"(T231*Setup!$J$17)+(U231*Setup!$J$18)+(V231*Setup!$J$19)+(W231*Setup!$J$22)+X231*(Setup!$J$23)+(Y231*Setup!$J$24)+(Z231*Setup!$J$27)+(AA231*Setup!$J$28)+(AB231*Setup!$J$29)","v":0},"ERROR",1,{"$f":"IF(T231<>U230,1,0)","v":0},{"$f":"IF(V231<>V230,1,0)","v":0},1,{"$f":"IF(W231<>X230,1,0)","v":0},{"$f":"IF(Y231<>Y230,1,0)","v":0},1,{"$f":"IF(Z231<>AA230,1,0)","v":0},{"$f":"IF(AB231<>AB230,1,0)","v":0}]
[null,null,null,null,null,null,null,null,null,null,null,null,null,null,null,{"$error":"#N/A"},null,null,null,null,null,null,null,null,null,null,null,null,null,{"$f":"(T232*Setup!$J$17)+(U232*Setup!$J$18)+(V232*Setup!$J$19)+(W232*Setup!$J$22)+X232*(Setup!$J$23)+(Y232*Setup!$J$24)+(Z232*Setup!$J$27)+(AA232*Setup!$J$28)+(AB232*Setup!$J$29)","v":0},"ERROR",1,{"$f":"IF(T232<>U233,1,0)","v":0},{"$f":"IF(V232<>V233,1,0)","v":0},1,{"$f":"IF(W232<>X233,1,0)","v":0},{"$f":"IF(Y232<>Y233,1,0)","v":0},1,{"$f":"IF(Z232<>AA233,1,0)","v":0},{"$f":"IF(AB232<>AB233,1,0)","v":0}]
[null,null,null,null,null,null,null,null,null,null,null,null,null,null,null,{"$error":"#N/A"},null,null,null,null,null,null,null,null,null,null,null,null,null,{"$f":"(T233*Setup!$J$17)+(U233*Setup!$J$18)+(V233*Setup!$J$19)+(W233*Setup!$J$22)+X233*(Setup!$J$23)+(Y233*Setup!$J$24)+(Z233*Setup!$J$27)+(AA233*Setup!$J$28)+(AB233*Setup!$J$29)","v":0},"ERROR",1,{"$f":"IF(T233<>U232,1,0)","v":0},{"$f":"IF(V233<>V232,1,0)","v":0},1,{"$f":"IF(W233<>X232,1,0)","v":0},{"$f":"IF(Y233<>Y232,1,0)","v":0},1,{"$f":"IF(Z233<>AA232,1,0)","v":0},{"$f":"IF(AB233<>AB232,1,0)","v":0}]
[null,null,null,null,null,null,null,null,null,null,null,null,null,null,null,{"$error":"#N/A"},null,null,null,null,null,null,null,null,null,null,null,null,null,{"$f":"(T234*Setup!$J$17)+(U234*Setup!$J$18)+(V234*Setup!$J$19)+(W234*Setup!$J$22)+X234*(Setup!$J$23)+(Y234*Setup!$J$24)+(Z234*Setup!$J$27)+(AA234*Setup!$J$28)+(AB234*Setup!$J$29)","v":0},"ERROR",1,{"$f":"IF(T234<>U235,1,0)","v":0},{"$f":"IF(V234<>V235,1,0)","v":0},1,{"$f":"IF(W234<>X235,1,0)","v":0},{"$f":"IF(Y234<>Y235,1,0)","v":0},1,{"$f":"IF(Z234<>AA235,1,0)","v":0},{"$f":"IF(AB234<>AB235,1,0)","v":0}]
[null,null,null,null,null,null,null,null,null,null,null,null,null,null,null,{"$error":"#N/A"},null,null,null,null,null,null,null,null,null,null,null,null,null,{"$f":"(T235*Setup!$J$17)+(U235*Setup!$J$18)+(V235*Setup!$J$19)+(W235*Setup!$J$22)+X235*(Setup!$J$23)+(Y235*Setup!$J$24)+(Z235*Setup!$J$27)+(AA235*Setup!$J$28)+(AB235*Setup!$J$29)","v":0},"ERROR",1,{"$f":"IF(T235<>U234,1,0)","v":0},{"$f":"IF(V235<>V234,1,0)","v":0},1,{"$f":"IF(W235<>X234,1,0)","v":0},{"$f":"IF(Y235<>Y234,1,0)","v":0},1,{"$f":"IF(Z235<>AA234,1,0)","v":0},{"$f":"IF(AB235<>AB234,1,0)","v":0}]
[null,null,null,null,null,null,null,null,null,null,null,null,null,null,null,{"$error":"#N/A"},null,null,null,null,null,null,null,null,null,null,null,null,null,{"$f":"(T236*Setup!$J$17)+(U236*Setup!$J$18)+(V236*Setup!$J$19)+(W236*Setup!$J$22)+X236*(Setup!$J$23)+(Y236*Setup!$J$24)+(Z236*Setup!$J$27)+(AA236*Setup!$J$28)+(AB236*Setup!$J$29)","v":0},"ERROR",1,{"$f":"IF(T236<>U237,1,0)","v":0},{"$f":"IF(V236<>V237,1,0)","v":0},1,{"$f":"IF(W236<>X237,1,0)","v":0},{"$f":"IF(Y236<>Y237,1,0)","v":0},1,{"$f":"IF(Z236<>AA237,1,0)","v":0},{"$f":"IF(AB236<>AB237,1,0)","v":0}]
[null,null,null,null,null,null,null,null,null,null,null,null,null,null,null,{"$error":"#N/A"},null,null,null,null,null,null,null,null,null,null,null,null,null,{"$f":"(T237*Setup!$J$17)+(U237*Setup!$J$18)+(V237*Setup!$J$19)+(W237*Setup!$J$22)+X237*(Setup!$J$23)+(Y237*Setup!$J$24)+(Z237*Setup!$J$27)+(AA237*Setup!$J$28)+(AB237*Setup!$J$29)","v":0},"ERROR",1,{"$f":"IF(T237<>U236,1,0)","v":0},{"$f":"IF(V237<>V236,1,0)","v":0},1,{"$f":"IF(W237<>X236,1,0)","v":0},{"$f":"IF(Y237<>Y236,1,0)","v":0},1,{"$f":"IF(Z237<>AA236,1,0)","v":0},{"$f":"IF(AB237<>AB236,1,0)","v":0}]
[null,null,null,null,null,null,null,null,null,null,null,null,null,null,null,{"$error":"#N/A"},null,null,null,null,null,null,null,null,null,null,null,null,null,{"$f":"(T238*Setup!$J$17)+(U238*Setup!$J$18)+(V238*Setup!$J$19)+(W238*Setup!$J$22)+X238*(Setup!$J$23)+(Y238*Setup!$J$24)+(Z238*Setup!$J$27)+(AA238*Setup!$J$28)+(AB238*Setup!$J$29)","v":0},"ERROR",1,{"$f":"IF(T238<>U239,1,0)","v":0},{"$f":"IF(V238<>V239,1,0)","v":0},1,{"$f":"IF(W238<>X239,1,0)","v":0},{"$f":"IF(Y238<>Y239,1,0)","v":0},1,{"$f":"IF(Z238<>AA239,1,0)","v":0},{"$f":"IF(AB238<>AB239,1,0)","v":0}]
[null,null,null,null,null,null,null,null,null,null,null,null,null,null,null,{"$error":"#N/A"},null,null,null,null,null,null,null,null,null,null,null,null,null,{"$f":"(T239*Setup!$J$17)+(U239*Setup!$J$18)+(V239*Setup!$J$19)+(W239*Setup!$J$22)+X239*(Setup!$J$23)+(Y239*Setup!$J$24)+(Z239*Setup!$J$27)+(AA239*Setup!$J$28)+(AB239*Setup!$J$29)","v":0},"ERROR",1,{"$f":"IF(T239<>U238,1,0)","v":0},{"$f":"IF(V239<>V238,1,0)","v":0},1,{"$f":"IF(W239<>X238,1,0)","v":0},{"$f":"IF(Y239<>Y238,1,0)","v":0},1,{"$f":"IF(Z239<>AA238,1,0)","v":0},{"$f":"IF(AB239<>AB238,1,0)","v":0}]
[null,null,null,null,null,null,null,null,null,null,null,null,null,null,null,{"$error":"#N/A"},null,null,null,null,null,null,null,null,null,null,null,null,null,{"$f":"(T240*Setup!$J$17)+(U240*Setup!$J$18)+(V240*Setup!$J$19)+(W240*Setup!$J$22)+X240*(Setup!$J$23)+(Y240*Setup!$J$24)+(Z240*Setup!$J$27)+(AA240*Setup!$J$28)+(AB240*Setup!$J$29)","v":0},"ERROR",1,{"$f":"IF(T240<>U241,1,0)","v":0},{"$f":"IF(V240<>V241,1,0)","v":0},1,{"$f":"IF(W240<>X241,1,0)","v":0},{"$f":"IF(Y240<>Y241,1,0)","v":0},1,{"$f":"IF(Z240<>AA241,1,0)","v":0},{"$f":"IF(AB240<>AB241,1,0)","v":0}]
[null,null,null,null,null,null,null,null,null,null,null,null,null,null,null,{"$error":"#N/A"},null,null,null,null,null,null,null,null,null,null,null,null,null,{"$f":"(T241*Setup!$J$17)+(U241*Setup!$J$18)+(V241*Setup!$J$19)+(W241*Setup!$J$22)+X241*(Setup!$J$23)+(Y241*Setup!$J$24)+(Z241*Setup!$J$27)+(AA241*Setup!$J$28)+(AB241*Setup!$J$29)","v":0},"ERROR",1,{"$f":"IF(T241<>U240,1,0)","v":0},{"$f":"IF(V241<>V240,1,0)","v":0},1,{"$f":"IF(W241<>X240,1,0)","v":0},{"$f":"IF(Y241<>Y240,1,0)","v":0},1,{"$f":"IF(Z241<>AA240,1,0)","v":0},{"$f":"IF(AB241<>AB240,1,0)","v":0}]
[null,null,null,null,null,null,null,null,null,null,null,null,null,null,null,{"$error":"#N/A"},null,null,null,null,null,null,null,null,null,null,null,null,null,{"$f":"(T242*Setup!$J$17)+(U242*Setup!$J$18)+(V242*Setup!$J$19)+(W242*Setup!$J$22)+X242*(Setup!$J$23)+(Y242*Setup!$J$24)+(Z242*Setup!$J$27)+(AA242*Setup!$J$28)+(AB242*Setup!$J$29)","v":0},"ERROR",1,{"$f":"IF(T242<>U243,1,0)","v":0},{"$f":"IF(V242<>V243,1,0)","v":0},1,{"$f":"IF(W242<>X243,1,0)","v":0},{"$f":"IF(Y242<>Y243,1,0)","v":0},1,{"$f":"IF(Z242<>AA243,1,0)","v":0},{"$f":"IF(AB242<>AB243,1,0)","v":0}]
[null,null,null,null,null,null,null,null,null,null,null,null,null,null,null,{"$error":"#N/A"},null,null,null,null,null,null,null,null,null,null,null,null,null,{"$f":"(T243*Setup!$J$17)+(U243*Setup!$J$18)+(V243*Setup!$J$19)+(W243*Setup!$J$22)+X243*(Setup!$J$23)+(Y243*Setup!$J$24)+(Z243*Setup!$J$27)+(AA243*Setup!$J$28)+(AB243*Setup!$J$29)","v":0},"ERROR",1,{"$f":"IF(T243<>U242,1,0)","v":0},{"$f":"IF(V243<>V242,1,0)","v":0},1,{"$f":"IF(W243<>X242,1,0)","v":0},{"$f":"IF(Y243<>Y242,1,0)","v":0},1,{"$f":"IF(Z243<>AA242,1,0)","v":0},{"$f":"IF(AB243<>AB242,1,0)","v":0}]
[null,null,null,null,null,null,null,null,null,null,null,null,null,null,null,{"$error":"#N/A"},null,null,null,null,null,null,null,null,null,null,null,null,null,{"$f":"(T244*Setup!$J$17)+(U244*Setup!$J$18)+(V244*Setup!$J$19)+(W244*Setup!$J$22)+X244*(Setup!$J$23)+(Y244*Setup!$J$24)+(Z244*Setup!$J$27)+(AA244*Setup!$J$28)+(AB244*Setup!$J$29)","v":0},"ERROR",1,{"$f":"IF(T244<>U245,1,0)","v":0},{"$f":"IF(V244<>V245,1,0)","v":0},1,{"$f":"IF(W244<>X245,1,0)","v":0},{"$f":"IF(Y244<>Y245,1,0)","v":0},1,{"$f":"IF(Z244<>AA245,1,0)","v":0},{"$f":"IF(AB244<>AB245,1,0)","v":0}]
[null,null,null,null,null,null,null,null,null,null,null,null,null,null,null,{"$error":"#N/A"},null,null,null,null,null,null,null,null,null,null,null,null,null,{"$f":"(T245*Setup!$J$17)+(U245*Setup!$J$18)+(V245*Setup!$J$19)+(W245*Setup!$J$22)+X245*(Setup!$J$23)+(Y245*Setup!$J$24)+(Z245*Setup!$J$27)+(AA245*Setup!$J$28)+(AB245*Setup!$J$29)","v":0},"ERROR",1,{"$f":"IF(T245<>U244,1,0)","v":0},{"$f":"IF(V245<>V244,1,0)","v":0},1,{"$f":"IF(W245<>X244,1,0)","v":0},{"$f":"IF(Y245<>Y244,1,0)","v":0},1,{"$f":"IF(Z245<>AA244,1,0)","v":0},{"$f":"IF(AB245<>AB244,1,0)","v":0}]
[null,null,null,null,null,null,null,null,null,null,null,null,null,null,null,{"$error":"#N/A"},null,null,null,null,null,null,null,null,null,null,null,null,null,{"$f":"(T246*Setup!$J$17)+(U246*Setup!$J$18)+(V246*Setup!$J$19)+(W246*Setup!$J$22)+X246*(Setup!$J$23)+(Y246*Setup!$J$24)+(Z246*Setup!$J$27)+(AA246*Setup!$J$28)+(AB246*Setup!$J$29)","v":0},"ERROR",1,{"$f":"IF(T246<>U247,1,0)","v":0},{"$f":"IF(V246<>V247,1,0)","v":0},1,{"$f":"IF(W246<>X247,1,0)","v":0},{"$f":"IF(Y246<>Y247,1,0)","v":0},1,{"$f":"IF(Z246<>AA247,1,0)","v":0},{"$f":"IF(AB246<>AB247,1,0)","v":0}]
[null,null,null,null,null,null,null,null,null,null,null,null,null,null,null,{"$error":"#N/A"},null,null,null,null,null,null,null,null,null,null,null,null,null,{"$f":"(T247*Setup!$J$17)+(U247*Setup!$J$18)+(V247*Setup!$J$19)+(W247*Setup!$J$22)+X247*(Setup!$J$23)+(Y247*Setup!$J$24)+(Z247*Setup!$J$27)+(AA247*Setup!$J$28)+(AB247*Setup!$J$29)","v":0},"ERROR",1,{"$f":"IF(T247<>U246,1,0)","v":0},{"$f":"IF(V247<>V246,1,0)","v":0},1,{"$f":"IF(W247<>X246,1,0)","v":0},{"$f":"IF(Y247<>Y246,1,0)","v":0},1,{"$f":"IF(Z247<>AA246,1,0)","v":0},{"$f":"IF(AB247<>AB246,1,0)","v":0}]
[null,null,null,null,null,null,null,null,null,null,null,null,null,null,null,{"$error":"#N/A"},null,null,null,null,null,null,null,null,null,null,null,null,null,{"$f":"(T248*Setup!$J$17)+(U248*Setup!$J$18)+(V248*Setup!$J$19)+(W248*Setup!$J$22)+X248*(Setup!$J$23)+(Y248*Setup!$J$24)+(Z248*Setup!$J$27)+(AA248*Setup!$J$28)+(AB248*Setup!$J$29)","v":0},"ERROR",1,{"$f":"IF(T248<>U249,1,0)","v":0},{"$f":"IF(V248<>V249,1,0)","v":0},1,{"$f":"IF(W248<>X249,1,0)","v":0},{"$f":"IF(Y248<>Y249,1,0)","v":0},1,{"$f":"IF(Z248<>AA249,1,0)","v":0},{"$f":"IF(AB248<>AB249,1,0)","v":0}]
[null,null,null,null,null,null,null,null,null,null,null,null,null,null,null,{"$error":"#N/A"},null,null,null,null,null,null,null,null,null,null,null,null,null,{"$f":"(T249*Setup!$J$17)+(U249*Setup!$J$18)+(V249*Setup!$J$19)+(W249*Setup!$J$22)+X249*(Setup!$J$23)+(Y249*Setup!$J$24)+(Z249*Setup!$J$27)+(AA249*Setup!$J$28)+(AB249*Setup!$J$29)","v":0},"ERROR",1,{"$f":"IF(T249<>U248,1,0)","v":0},{"$f":"IF(V249<>V248,1,0)","v":0},1,{"$f":"IF(W249<>X248,1,0)","v":0},{"$f":"IF(Y249<>Y248,1,0)","v":0},1,{"$f":"IF(Z249<>AA248,1,0)","v":0},{"$f":"IF(AB249<>AB248,1,0)","v":0}]
[null,null,null,null,null,null,null,null,null,null,null,null,null,null,null,{"$error":"#N/A"},null,null,null,null,null,null,null,null,null,null,null,null,null,{"$f":"(T250*Setup!$J$17)+(U250*Setup!$J$18)+(V250*Setup!$J$19)+(W250*Setup!$J$22)+X250*(Setup!$J$23)+(Y250*Setup!$J$24)+(Z250*Setup!$J$27)+(AA250*Setup!$J$28)+(AB250*Setup!$J$29)","v":0},"ERROR",1,{"$f":"IF(T250<>U251,1,0)","v":0},{"$f":"IF(V250<>V251,1,0)","v":0},1,{"$f":"IF(W250<>X251,1,0)","v":0},{"$f":"IF(Y250<>Y251,1,0)","v":0},1,{"$f":"IF(Z250<>AA251,1,0)","v":0},{"$f":"IF(AB250<>AB251,1,0)","v":0}]
[null,null,null,null,null,null,null,null,null,null,null,null,null,null,null,{"$error":"#N/A"},null,null,null,null,null,null,null,null,null,null,null,null,null,{"$f":"(T251*Setup!$J$17)+(U251*Setup!$J$18)+(V251*Setup!$J$19)+(W251*Setup!$J$22)+X251*(Setup!$J$23)+(Y251*Setup!$J$24)+(Z251*Setup!$J$27)+(AA251*Setup!$J$28)+(AB251*Setup!$J$29)","v":0},"ERROR",1,{"$f":"IF(T251<>U250,1,0)","v":0},{"$f":"IF(V251<>V250,1,0)","v":0},1,{"$f":"IF(W251<>X250,1,0)","v":0},{"$f":"IF(Y251<>Y250,1,0)","v":0},1,{"$f":"IF(Z251<>AA250,1,0)","v":0},{"$f":"IF(AB251<>AB250,1,0)","v":0}]
[null,null,null,null,null,null,null,null,null,null,null,null,null,null,null,{"$error":"#N/A"},null,null,null,null,null,null,null,null,null,null,null,null,null,{"$f":"(T252*Setup!$J$17)+(U252*Setup!$J$18)+(V252*Setup!$J$19)+(W252*Setup!$J$22)+X252*(Setup!$J$23)+(Y252*Setup!$J$24)+(Z252*Setup!$J$27)+(AA252*Setup!$J$28)+(AB252*Setup!$J$29)","v":0},"ERROR",1,{"$f":"IF(T252<>U253,1,0)","v":0},{"$f":"IF(V252<>V253,1,0)","v":0},1,{"$f":"IF(W252<>X253,1,0)","v":0},{"$f":"IF(Y252<>Y253,1,0)","v":0},1,{"$f":"IF(Z252<>AA253,1,0)","v":0},{"$f":"IF(AB252<>AB253,1,0)","v":0}]
[null,null,null,null,null,null,null,null,null,null,null,null,null,null,null,{"$error":"#N/A"},null,null,null,null,null,null,null,null,null,null,null,null,null,{"$f":"(T253*Setup!$J$17)+(U253*Setup!$J$18)+(V253*Setup!$J$19)+(W253*Setup!$J$22)+X253*(Setup!$J$23)+(Y253*Setup!$J$24)+(Z253*Setup!$J$27)+(AA253*Setup!$J$28)+(AB253*Setup!$J$29)","v":0},"ERROR",1,{"$f":"IF(T253<>U252,1,0)","v":0},{"$f":"IF(V253<>V252,1,0)","v":0},1,{"$f":"IF(W253<>X252,1,0)","v":0},{"$f":"IF(Y253<>Y252,1,0)","v":0},1,{"$f":"IF(Z253<>AA252,1,0)","v":0},{"$f":"IF(AB253<>AB252,1,0)","v":0}]
[null,null,null,null,null,null,null,null,null,null,null,null,null,null,null,{"$error":"#N/A"},null,null,null,null,null,null,null,null,null,null,null,null,null,{"$f":"(T254*Setup!$J$17)+(U254*Setup!$J$18)+(V254*Setup!$J$19)+(W254*Setup!$J$22)+X254*(Setup!$J$23)+(Y254*Setup!$J$24)+(Z254*Setup!$J$27)+(AA254*Setup!$J$28)+(AB254*Setup!$J$29)","v":0},"ERROR",1,{"$f":"IF(T254<>U255,1,0)","v":0},{"$f":"IF(V254<>V255,1,0)","v":0},1,{"$f":"IF(W254<>X255,1,0)","v":0},{"$f":"IF(Y254<>Y255,1,0)","v":0},1,{"$f":"IF(Z254<>AA255,1,0)","v":0},{"$f":"IF(AB254<>AB255,1,0)","v":0}]
[null,null,null,null,null,null,null,null,null,null,null,null,null,null,null,{"$error":"#N/A"},null,null,null,null,null,null,null,null,null,null,null,null,null,{"$f":"(T255*Setup!$J$17)+(U255*Setup!$J$18)+(V255*Setup!$J$19)+(W255*Setup!$J$22)+X255*(Setup!$J$23)+(Y255*Setup!$J$24)+(Z255*Setup!$J$27)+(AA255*Setup!$J$28)+(AB255*Setup!$J$29)","v":0},"ERROR",1,{"$f":"IF(T255<>U254,1,0)","v":0},{"$f":"IF(V255<>V254,1,0)","v":0},1,{"$f":"IF(W255<>X254,1,0)","v":0},{"$f":"IF(Y255<>Y254,1,0)","v":0},1,{"$f":"IF(Z255<>AA254,1,0)","v":0},{"$f":"IF(AB255<>AB254,1,0)","v":0}]
[null,null,null,null,null,null,null,null,null,null,null,null,null,null,null,{"$error":"#N/A"},null,null,null,null,null,null,null,null,null,null,null,null,null,{"$f":"(T256*Setup!$J$17)+(U256*Setup!$J$18)+(V256*Setup!$J$19)+(W256*Setup!$J$22)+X256*(Setup!$J$23)+(Y256*Setup!$J$24)+(Z256*Setup!$J$27)+(AA256*Setup!$J$28)+(AB256*Setup!$J$29)","v":0},"ERROR",1,{"$f":"IF(T256<>U257,1,0)","v":0},{"$f":"IF(V256<>V257,1,0)","v":0},1,{"$f":"IF(W256<>X257,1,0)","v":0},{"$f":"IF(Y256<>Y257,1,0)","v":0},1,{"$f":"IF(Z256<>AA257,1,0)","v":0},{"$f":"IF(AB256<>AB257,1,0)","v":0}]
[null,null,null,null,null,null,null,null,null,null,null,null,null,null,null,{"$error":"#N/A"},null,null,null,null,null,null,null,null,null,null,null,null,null,{"$f":"(T257*Setup!$J$17)+(U257*Setup!$J$18)+(V257*Setup!$J$19)+(W257*Setup!$J$22)+X257*(Setup!$J$23)+(Y257*Setup!$J$24)+(Z257*Setup!$J$27)+(AA257*Setup!$J$28)+(AB257*Setup!$J$29)","v":0},"ERROR",1,{"$f":"IF(T257<>U256,1,0)","v":0},{"$f":"IF(V257<>V256,1,0)","v":0},1,{"$f":"IF(W257<>X256,1,0)","v":0},{"$f":"IF(Y257<>Y256,1,0)","v":0},1,{"$f":"IF(Z257<>AA256,1,0)","v":0},{"$f":"IF(AB257<>AB256,1,0)","v":0}]
[null,null,null,null,null,null,null,null,null,null,null,null,null,null,null,{"$error":"#N/A"},null,null,null,null,null,null,null,null,null,null,null,null,null,{"$f":"(T258*Setup!$J$17)+(U258*Setup!$J$18)+(V258*Setup!$J$19)+(W258*Setup!$J$22)+X258*(Setup!$J$23)+(Y258*Setup!$J$24)+(Z258*Setup!$J$27)+(AA258*Setup!$J$28)+(AB258*Setup!$J$29)","v":0},"ERROR",1,{"$f":"IF(T258<>U259,1,0)","v":0},{"$f":"IF(V258<>V259,1,0)","v":0},1,{"$f":"IF(W258<>X259,1,0)","v":0},{"$f":"IF(Y258<>Y259,1,0)","v":0},1,{"$f":"IF(Z258<>AA259,1,0)","v":0},{"$f":"IF(AB258<>AB259,1,0)","v":0}]
[null,null,null,null,null,null,null,null,null,null,null,null,null,null,null,{"$error":"#N/A"},null,null,null,null,null,null,null,null,null,null,null,null,null,{"$f":"(T259*Setup!$J$17)+(U259*Setup!$J$18)+(V259*Setup!$J$19)+(W259*Setup!$J$22)+X259*(Setup!$J$23)+(Y259*Setup!$J$24)+(Z259*Setup!$J$27)+(AA259*Setup!$J$28)+(AB259*Setup!$J$29)","v":0},"ERROR",1,{"$f":"IF(T259<>U258,1,0)","v":0},{"$f":"IF(V259<>V258,1,0)","v":0},1,{"$f":"IF(W259<>X258,1,0)","v":0},{"$f":"IF(Y259<>Y258,1,0)","v":0},1,{"$f":"IF(Z259<>AA258,1,0)","v":0},{"$f":"IF(AB259<>AB258,1,0)","v":0}]
[null,null,null,null,null,null,null,null,null,null,null,null,null,null,null,{"$error":"#N/A"},null,null,null,null,null,null,null,null,null,null,null,null,null,{"$f":"(T260*Setup!$J$17)+(U260*Setup!$J$18)+(V260*Setup!$J$19)+(W260*Setup!$J$22)+X260*(Setup!$J$23)+(Y260*Setup!$J$24)+(Z260*Setup!$J$27)+(AA260*Setup!$J$28)+(AB260*Setup!$J$29)","v":0},"ERROR",1,{"$f":"IF(T260<>U261,1,0)","v":0},{"$f":"IF(V260<>V261,1,0)","v":0},1,{"$f":"IF(W260<>X261,1,0)","v":0},{"$f":"IF(Y260<>Y261,1,0)","v":0},1,{"$f":"IF(Z260<>AA261,1,0)","v":0},{"$f":"IF(AB260<>AB261,1,0)","v":0}]
[null,null,null,null,null,null,null,null,null,null,null,null,null,null,null,{"$error":"#N/A"},null,null,null,null,null,null,null,null,null,null,null,null,null,{"$f":"(T261*Setup!$J$17)+(U261*Setup!$J$18)+(V261*Setup!$J$19)+(W261*Setup!$J$22)+X261*(Setup!$J$23)+(Y261*Setup!$J$24)+(Z261*Setup!$J$27)+(AA261*Setup!$J$28)+(AB261*Setup!$J$29)","v":0},"ERROR",1,{"$f":"IF(T261<>U260,1,0)","v":0},{"$f":"IF(V261<>V260,1,0)","v":0},1,{"$f":"IF(W261<>X260,1,0)","v":0},{"$f":"IF(Y261<>Y260,1,0)","v":0},1,{"$f":"IF(Z261<>AA260,1,0)","v":0},{"$f":"IF(AB261<>AB260,1,0)","v":0}]
[null,null,null,null,null,null,null,null,null,null,null,null,null,null,null,{"$error":"#N/A"},null,null,null,null,null,null,null,null,null,null,null,null,null,{"$f":"(T262*Setup!$J$17)+(U262*Setup!$J$18)+(V262*Setup!$J$19)+(W262*Setup!$J$22)+X262*(Setup!$J$23)+(Y262*Setup!$J$24)+(Z262*Setup!$J$27)+(AA262*Setup!$J$28)+(AB262*Setup!$J$29)","v":0},"ERROR",1,{"$f":"IF(T262<>U263,1,0)","v":0},{"$f":"IF(V262<>V263,1,0)","v":0},1,{"$f":"IF(W262<>X263,1,0)","v":0},{"$f":"IF(Y262<>Y263,1,0)","v":0},1,{"$f":"IF(Z262<>AA263,1,0)","v":0},{"$f":"IF(AB262<>AB263,1,0)","v":0}]
[null,null,null,null,null,null,null,null,null,null,null,null,null,null,null,{"$error":"#N/A"},null,null,null,null,null,null,null,null,null,null,null,null,null,{"$f":"(T263*Setup!$J$17)+(U263*Setup!$J$18)+(V263*Setup!$J$19)+(W263*Setup!$J$22)+X263*(Setup!$J$23)+(Y263*Setup!$J$24)+(Z263*Setup!$J$27)+(AA263*Setup!$J$28)+(AB263*Setup!$J$29)","v":0},"ERROR",1,{"$f":"IF(T263<>U262,1,0)","v":0},{"$f":"IF(V263<>V262,1,0)","v":0},1,{"$f":"IF(W263<>X262,1,0)","v":0},{"$f":"IF(Y263<>Y262,1,0)","v":0},1,{"$f":"IF(Z263<>AA262,1,0)","v":0},{"$f":"IF(AB263<>AB262,1,0)","v":0}]
[null,null,null,null,null,null,null,null,null,null,null,null,null,null,null,{"$error":"#N/A"},null,null,null,null,null,null,null,null,null,null,null,null,null,{"$f":"(T264*Setup!$J$17)+(U264*Setup!$J$18)+(V264*Setup!$J$19)+(W264*Setup!$J$22)+X264*(Setup!$J$23)+(Y264*Setup!$J$24)+(Z264*Setup!$J$27)+(AA264*Setup!$J$28)+(AB264*Setup!$J$29)","v":0},"ERROR",1,{"$f":"IF(T264<>U265,1,0)","v":0},{"$f":"IF(V264<>V265,1,0)","v":0},1,{"$f":"IF(W264<>X265,1,0)","v":0},{"$f":"IF(Y264<>Y265,1,0)","v":0},1,{"$f":"IF(Z264<>AA265,1,0)","v":0},{"$f":"IF(AB264<>AB265,1,0)","v":0}]
[null,null,null,null,null,null,null,null,null,null,null,null,null,null,null,{"$error":"#N/A"},null,null,null,null,null,null,null,null,null,null,null,null,null,{"$f":"(T265*Setup!$J$17)+(U265*Setup!$J$18)+(V265*Setup!$J$19)+(W265*Setup!$J$22)+X265*(Setup!$J$23)+(Y265*Setup!$J$24)+(Z265*Setup!$J$27)+(AA265*Setup!$J$28)+(AB265*Setup!$J$29)","v":0},"ERROR",1,{"$f":"IF(T265<>U264,1,0)","v":0},{"$f":"IF(V265<>V264,1,0)","v":0},1,{"$f":"IF(W265<>X264,1,0)","v":0},{"$f":"IF(Y265<>Y264,1,0)","v":0},1,{"$f":"IF(Z265<>AA264,1,0)","v":0},{"$f":"IF(AB265<>AB264,1,0)","v":0}]
[null,null,null,null,null,null,null,null,null,null,null,null,null,null,null,{"$error":"#N/A"},null,null,null,null,null,null,null,null,null,null,null,null,null,{"$f":"(T266*Setup!$J$17)+(U266*Setup!$J$18)+(V266*Setup!$J$19)+(W266*Setup!$J$22)+X266*(Setup!$J$23)+(Y266*Setup!$J$24)+(Z266*Setup!$J$27)+(AA266*Setup!$J$28)+(AB266*Setup!$J$29)","v":0},"ERROR",1,{"$f":"IF(T266<>U267,1,0)","v":0},{"$f":"IF(V266<>V267,1,0)","v":0},1,{"$f":"IF(W266<>X267,1,0)","v":0},{"$f":"IF(Y266<>Y267,1,0)","v":0},1,{"$f":"IF(Z266<>AA267,1,0)","v":0},{"$f":"IF(AB266<>AB267,1,0)","v":0}]
[null,null,null,null,null,null,null,null,null,null,null,null,null,null,null,{"$error":"#N/A"},null,null,null,null,null,null,null,null,null,null,null,null,null,{"$f":"(T267*Setup!$J$17)+(U267*Setup!$J$18)+(V267*Setup!$J$19)+(W267*Setup!$J$22)+X267*(Setup!$J$23)+(Y267*Setup!$J$24)+(Z267*Setup!$J$27)+(AA267*Setup!$J$28)+(AB267*Setup!$J$29)","v":0},"ERROR",1,{"$f":"IF(T267<>U266,1,0)","v":0},{"$f":"IF(V267<>V266,1,0)","v":0},1,{"$f":"IF(W267<>X266,1,0)","v":0},{"$f":"IF(Y267<>Y266,1,0)","v":0},1,{"$f":"IF(Z267<>AA266,1,0)","v":0},{"$f":"IF(AB267<>AB266,1,0)","v":0}]
[null,null,null,null,null,null,null,null,null,null,null,null,null,null,null,{"$error":"#N/A"},null,null,null,null,null,null,null,null,null,null,null,null,null,{"$f":"(T268*Setup!$J$17)+(U268*Setup!$J$18)+(V268*Setup!$J$19)+(W268*Setup!$J$22)+X268*(Setup!$J$23)+(Y268*Setup!$J$24)+(Z268*Setup!$J$27)+(AA268*Setup!$J$28)+(AB268*Setup!$J$29)","v":0},"ERROR",1,{"$f":"IF(T268<>U269,1,0)","v":0},{"$f":"IF(V268<>V269,1,0)","v":0},1,{"$f":"IF(W268<>X269,1,0)","v":0},{"$f":"IF(Y268<>Y269,1,0)","v":0},1,{"$f":"IF(Z268<>AA269,1,0)","v":0},{"$f":"IF(AB268<>AB269,1,0)","v":0}]
[null,null,null,null,null,null,null,null,null,null,null,null,null,null,null,{"$error":"#N/A"},null,null,null,null,null,null,null,null,null,null,null,null,null,{"$f":"(T269*Setup!$J$17)+(U269*Setup!$J$18)+(V269*Setup!$J$19)+(W269*Setup!$J$22)+X269*(Setup!$J$23)+(Y269*Setup!$J$24)+(Z269*Setup!$J$27)+(AA269*Setup!$J$28)+(AB269*Setup!$J$29)","v":0},"ERROR",1,{"$f":"IF(T269<>U268,1,0)","v":0},{"$f":"IF(V269<>V268,1,0)","v":0},1,{"$f":"IF(W269<>X268,1,0)","v":0},{"$f":"IF(Y269<>Y268,1,0)","v":0},1,{"$f":"IF(Z269<>AA268,1,0)","v":0},{"$f":"IF(AB269<>AB268,1,0)","v":0}]
[null,null,null,null,null,null,null,null,null,null,null,null,null,null,null,{"$error":"#N/A"},null,null,null,null,null,null,null,null,null,null,null,null,null,{"$f":"(T270*Setup!$J$17)+(U270*Setup!$J$18)+(V270*Setup!$J$19)+(W270*Setup!$J$22)+X270*(Setup!$J$23)+(Y270*Setup!$J$24)+(Z270*Setup!$J$27)+(AA270*Setup!$J$28)+(AB270*Setup!$J$29)","v":0},"ERROR",1,{"$f":"IF(T270<>U271,1,0)","v":0},{"$f":"IF(V270<>V271,1,0)","v":0},1,{"$f":"IF(W270<>X271,1,0)","v":0},{"$f":"IF(Y270<>Y271,1,0)","v":0},1,{"$f":"IF(Z270<>AA271,1,0)","v":0},{"$f":"IF(AB270<>AB271,1,0)","v":0}]
[null,null,null,null,null,null,null,null,null,null,null,null,null,null,null,{"$error":"#N/A"},null,null,null,null,null,null,null,null,null,null,null,null,null,{"$f":"(T271*Setup!$J$17)+(U271*Setup!$J$18)+(V271*Setup!$J$19)+(W271*Setup!$J$22)+X271*(Setup!$J$23)+(Y271*Setup!$J$24)+(Z271*Setup!$J$27)+(AA271*Setup!$J$28)+(AB271*Setup!$J$29)","v":0},"ERROR",1,{"$f":"IF(T271<>U270,1,0)","v":0},{"$f":"IF(V271<>V270,1,0)","v":0},1,{"$f":"IF(W271<>X270,1,0)","v":0},{"$f":"IF(Y271<>Y270,1,0)","v":0},1,{"$f":"IF(Z271<>AA270,1,0)","v":0},{"$f":"IF(AB271<>AB270,1,0)","v":0}]
[null,null,null,null,null,null,null,null,null,null,null,null,null,null,null,{"$error":"#N/A"},null,null,null,null,null,null,null,null,null,null,null,null,null,{"$f":"(T272*Setup!$J$17)+(U272*Setup!$J$18)+(V272*Setup!$J$19)+(W272*Setup!$J$22)+X272*(Setup!$J$23)+(Y272*Setup!$J$24)+(Z272*Setup!$J$27)+(AA272*Setup!$J$28)+(AB272*Setup!$J$29)","v":0},"ERROR",1,{"$f":"IF(T272<>U273,1,0)","v":0},{"$f":"IF(V272<>V273,1,0)","v":0},1,{"$f":"IF(W272<>X273,1,0)","v":0},{"$f":"IF(Y272<>Y273,1,0)","v":0},1,{"$f":"IF(Z272<>AA273,1,0)","v":0},{"$f":"IF(AB272<>AB273,1,0)","v":0}]
[null,null,null,null,null,null,null,null,null,null,null,null,null,null,null,{"$error":"#N/A"},null,null,null,null,null,null,null,null,null,null,null,null,null,{"$f":"(T273*Setup!$J$17)+(U273*Setup!$J$18)+(V273*Setup!$J$19)+(W273*Setup!$J$22)+X273*(Setup!$J$23)+(Y273*Setup!$J$24)+(Z273*Setup!$J$27)+(AA273*Setup!$J$28)+(AB273*Setup!$J$29)","v":0},"ERROR",1,{"$f":"IF(T273<>U272,1,0)","v":0},{"$f":"IF(V273<>V272,1,0)","v":0},1,{"$f":"IF(W273<>X272,1,0)","v":0},{"$f":"IF(Y273<>Y272,1,0)","v":0},1,{"$f":"IF(Z273<>AA272,1,0)","v":0},{"$f":"IF(AB273<>AB272,1,0)","v":0}]
[null,null,null,null,null,null,null,null,null,null,null,null,null,null,null,{"$error":"#N/A"},null,null,null,null,null,null,null,null,null,null,null,null,null,{"$f":"(T274*Setup!$J$17)+(U274*Setup!$J$18)+(V274*Setup!$J$19)+(W274*Setup!$J$22)+X274*(Setup!$J$23)+(Y274*Setup!$J$24)+(Z274*Setup!$J$27)+(AA274*Setup!$J$28)+(AB274*Setup!$J$29)","v":0},"ERROR",1,{"$f":"IF(T274<>U275,1,0)","v":0},{"$f":"IF(V274<>V275,1,0)","v":0},1,{"$f":"IF(W274<>X275,1,0)","v":0},{"$f":"IF(Y274<>Y275,1,0)","v":0},1,{"$f":"IF(Z274<>AA275,1,0)","v":0},{"$f":"IF(AB274<>AB275,1,0)","v":0}]
[null,null,null,null,null,null,null,null,null,null,null,null,null,null,null,{"$error":"#N/A"},null,null,null,null,null,null,null,null,null,null,null,null,null,{"$f":"(T275*Setup!$J$17)+(U275*Setup!$J$18)+(V275*Setup!$J$19)+(W275*Setup!$J$22)+X275*(Setup!$J$23)+(Y275*Setup!$J$24)+(Z275*Setup!$J$27)+(AA275*Setup!$J$28)+(AB275*Setup!$J$29)","v":0},"ERROR",1,{"$f":"IF(T275<>U274,1,0)","v":0},{"$f":"IF(V275<>V274,1,0)","v":0},1,{"$f":"IF(W275<>X274,1,0)","v":0},{"$f":"IF(Y275<>Y274,1,0)","v":0},1,{"$f":"IF(Z275<>AA274,1,0)","v":0},{"$f":"IF(AB275<>AB274,1,0)","v":0}]
[null,null,null,null,null,null,null,null,null,null,null,null,null,null,null,{"$error":"#N/A"},null,null,null,null,null,null,null,null,null,null,null,null,null,{"$f":"(T276*Setup!$J$17)+(U276*Setup!$J$18)+(V276*Setup!$J$19)+(W276*Setup!$J$22)+X276*(Setup!$J$23)+(Y276*Setup!$J$24)+(Z276*Setup!$J$27)+(AA276*Setup!$J$28)+(AB276*Setup!$J$29)","v":0},"ERROR",1,{"$f":"IF(T276<>U277,1,0)","v":0},{"$f":"IF(V276<>V277,1,0)","v":0},1,{"$f":"IF(W276<>X277,1,0)","v":0},{"$f":"IF(Y276<>Y277,1,0)","v":0},1,{"$f":"IF(Z276<>AA277,1,0)","v":0},{"$f":"IF(AB276<>AB277,1,0)","v":0}]
[null,null,null,null,null,null,null,null,null,null,null,null,null,null,null,{"$error":"#N/A"},null,null,null,null,null,null,null,null,null,null,null,null,null,{"$f":"(T277*Setup!$J$17)+(U277*Setup!$J$18)+(V277*Setup!$J$19)+(W277*Setup!$J$22)+X277*(Setup!$J$23)+(Y277*Setup!$J$24)+(Z277*Setup!$J$27)+(AA277*Setup!$J$28)+(AB277*Setup!$J$29)","v":0},"ERROR",1,{"$f":"IF(T277<>U276,1,0)","v":0},{"$f":"IF(V277<>V276,1,0)","v":0},1,{"$f":"IF(W277<>X276,1,0)","v":0},{"$f":"IF(Y277<>Y276,1,0)","v":0},1,{"$f":"IF(Z277<>AA276,1,0)","v":0},{"$f":"IF(AB277<>AB276,1,0)","v":0}]
[null,null,null,null,null,null,null,null,null,null,null,null,null,null,null,{"$error":"#N/A"},null,null,null,null,null,null,null,null,null,null,null,null,null,{"$f":"(T278*Setup!$J$17)+(U278*Setup!$J$18)+(V278*Setup!$J$19)+(W278*Setup!$J$22)+X278*(Setup!$J$23)+(Y278*Setup!$J$24)+(Z278*Setup!$J$27)+(AA278*Setup!$J$28)+(AB278*Setup!$J$29)","v":0},"ERROR",1,{"$f":"IF(T278<>U279,1,0)","v":0},{"$f":"IF(V278<>V279,1,0)","v":0},1,{"$f":"IF(W278<>X279,1,0)","v":0},{"$f":"IF(Y278<>Y279,1,0)","v":0},1,{"$f":"IF(Z278<>AA279,1,0)","v":0},{"$f":"IF(AB278<>AB279,1,0)","v":0}]
[null,null,null,null,null,null,null,null,null,null,null,null,null,null,null,{"$error":"#N/A"},null,null,null,null,null,null,null,null,null,null,null,null,null,{"$f":"(T279*Setup!$J$17)+(U279*Setup!$J$18)+(V279*Setup!$J$19)+(W279*Setup!$J$22)+X279*(Setup!$J$23)+(Y279*Setup!$J$24)+(Z279*Setup!$J$27)+(AA279*Setup!$J$28)+(AB279*Setup!$J$29)","v":0},"ERROR",1,{"$f":"IF(T279<>U278,1,0)","v":0},{"$f":"IF(V279<>V278,1,0)","v":0},1,{"$f":"IF(W279<>X278,1,0)","v":0},{"$f":"IF(Y279<>Y278,1,0)","v":0},1,{"$f":"IF(Z279<>AA278,1,0)","v":0},{"$f":"IF(AB279<>AB278,1,0)","v":0}]
[null,null,null,null,null,null,null,null,null,null,null,null,null,null,null,{"$error":"#N/A"},null,null,null,null,null,null,null,null,null,null,null,null,null,{"$f":"(T280*Setup!$J$17)+(U280*Setup!$J$18)+(V280*Setup!$J$19)+(W280*Setup!$J$22)+X280*(Setup!$J$23)+(Y280*Setup!$J$24)+(Z280*Setup!$J$27)+(AA280*Setup!$J$28)+(AB280*Setup!$J$29)","v":0},"ERROR",1,{"$f":"IF(T280<>U281,1,0)","v":0},{"$f":"IF(V280<>V281,1,0)","v":0},1,{"$f":"IF(W280<>X281,1,0)","v":0},{"$f":"IF(Y280<>Y281,1,0)","v":0},1,{"$f":"IF(Z280<>AA281,1,0)","v":0},{"$f":"IF(AB280<>AB281,1,0)","v":0}]
[null,null,null,null,null,null,null,null,null,null,null,null,null,null,null,{"$error":"#N/A"},null,null,null,null,null,null,null,null,null,null,null,null,null,{"$f":"(T281*Setup!$J$17)+(U281*Setup!$J$18)+(V281*Setup!$J$19)+(W281*Setup!$J$22)+X281*(Setup!$J$23)+(Y281*Setup!$J$24)+(Z281*Setup!$J$27)+(AA281*Setup!$J$28)+(AB281*Setup!$J$29)","v":0},"ERROR",1,{"$f":"IF(T281<>U280,1,0)","v":0},{"$f":"IF(V281<>V280,1,0)","v":0},1,{"$f":"IF(W281<>X280,1,0)","v":0},{"$f":"IF(Y281<>Y280,1,0)","v":0},1,{"$f":"IF(Z281<>AA280,1,0)","v":0},{"$f":"IF(AB281<>AB280,1,0)","v":0}]
[null,null,null,null,null,null,null,null,null,null,null,null,null,null,null,{"$error":"#N/A"},null,null,null,null,null,null,null,null,null,null,null,null,null,{"$f":"(T282*Setup!$J$17)+(U282*Setup!$J$18)+(V282*Setup!$J$19)+(W282*Setup!$J$22)+X282*(Setup!$J$23)+(Y282*Setup!$J$24)+(Z282*Setup!$J$27)+(AA282*Setup!$J$28)+(AB282*Setup!$J$29)","v":0},"ERROR",1,{"$f":"IF(T282<>U283,1,0)","v":0},{"$f":"IF(V282<>V283,1,0)","v":0},1,{"$f":"IF(W282<>X283,1,0)","v":0},{"$f":"IF(Y282<>Y283,1,0)","v":0},1,{"$f":"IF(Z282<>AA283,1,0)","v":0},{"$f":"IF(AB282<>AB283,1,0)","v":0}]
[null,null,null,null,null,null,null,null,null,null,null,null,null,null,null,{"$error":"#N/A"},null,null,null,null,null,null,null,null,null,null,null,null,null,{"$f":"(T283*Setup!$J$17)+(U283*Setup!$J$18)+(V283*Setup!$J$19)+(W283*Setup!$J$22)+X283*(Setup!$J$23)+(Y283*Setup!$J$24)+(Z283*Setup!$J$27)+(AA283*Setup!$J$28)+(AB283*Setup!$J$29)","v":0},"ERROR",1,{"$f":"IF(T283<>U282,1,0)","v":0},{"$f":"IF(V283<>V282,1,0)","v":0},1,{"$f":"IF(W283<>X282,1,0)","v":0},{"$f":"IF(Y283<>Y282,1,0)","v":0},1,{"$f":"IF(Z283<>AA282,1,0)","v":0},{"$f":"IF(AB283<>AB282,1,0)","v":0}]
[null,null,null,null,null,null,null,null,null,null,null,null,null,null,null,{"$error":"#N/A"},null,null,null,null,null,null,null,null,null,null,null,null,null,{"$f":"(T284*Setup!$J$17)+(U284*Setup!$J$18)+(V284*Setup!$J$19)+(W284*Setup!$J$22)+X284*(Setup!$J$23)+(Y284*Setup!$J$24)+(Z284*Setup!$J$27)+(AA284*Setup!$J$28)+(AB284*Setup!$J$29)","v":0},"ERROR",1,{"$f":"IF(T284<>U285,1,0)","v":0},{"$f":"IF(V284<>V285,1,0)","v":0},1,{"$f":"IF(W284<>X285,1,0)","v":0},{"$f":"IF(Y284<>Y285,1,0)","v":0},1,{"$f":"IF(Z284<>AA285,1,0)","v":0},{"$f":"IF(AB284<>AB285,1,0)","v":0}]
[null,null,null,null,null,null,null,null,null,null,null,null,null,null,null,{"$error":"#N/A"},null,null,null,null,null,null,null,null,null,null,null,null,null,{"$f":"(T285*Setup!$J$17)+(U285*Setup!$J$18)+(V285*Setup!$J$19)+(W285*Setup!$J$22)+X285*(Setup!$J$23)+(Y285*Setup!$J$24)+(Z285*Setup!$J$27)+(AA285*Setup!$J$28)+(AB285*Setup!$J$29)","v":0},"ERROR",1,{"$f":"IF(T285<>U284,1,0)","v":0},{"$f":"IF(V285<>V284,1,0)","v":0},1,{"$f":"IF(W285<>X284,1,0)","v":0},{"$f":"IF(Y285<>Y284,1,0)","v":0},1,{"$f":"IF(Z285<>AA284,1,0)","v":0},{"$f":"IF(AB285<>AB284,1,0)","v":0}]
[null,null,null,null,null,null,null,null,null,null,null,null,null,null,null,{"$f":"VLOOKUP(S286,GE_Teams_DBID,2,FALSE)","v":{"$error":"#N/A"}},null,null,null,null,null,null,null,null,null,null,null,null,null,{"$f":"(T286*Setup!$J$17)+(U286*Setup!$J$18)+(V286*Setup!$J$19)+(W286*Setup!$J$22)+X286*(Setup!$J$23)+(Y286*Setup!$J$24)+(Z286*Setup!$J$27)+(AA286*Setup!$J$28)+(AB286*Setup!$J$29)","v":0},"ERROR",{"$f":"IF((T286+U286+V286)<>18,1,0)","v":1},{"$f":"IF(T286<>U287,1,0)","v":0},{"$f":"IF(V286<>V287,1,0)","v":0},{"$f":"IF((W286+X286+Y286)<>2,1,0)","v":1},{"$f":"IF(W286<>X287,1,0)","v":0},{"$f":"IF(Y286<>Y287,1,0)","v":0},{"$f":"IF((Z286+AA286+AB286)<>1,1,0)","v":1},{"$f":"IF(Z286<>AA287,1,0)","v":0},{"$f":"IF(AB286<>AB287,1,0)","v":0}]
[null,null,null,null,null,null,null,null,null,null,null,null,null,null,null,{"$error":"#N/A"},null,null,null,null,null,null,null,null,null,null,null,null,null,{"$f":"(T287*Setup!$J$17)+(U287*Setup!$J$18)+(V287*Setup!$J$19)+(W287*Setup!$J$22)+X287*(Setup!$J$23)+(Y287*Setup!$J$24)+(Z287*Setup!$J$27)+(AA287*Setup!$J$28)+(AB287*Setup!$J$29)","v":0},{"$f":"IF(SUM(AF287:AN287)>0,\"ERROR\",\"\")","v":"ERROR"},1,{"$f":"IF(T287<>U286,1,0)","v":0},{"$f":"IF(V287<>V286,1,0)","v":0},1,{"$f":"IF(W287<>X286,1,0)","v":0},{"$f":"IF(Y287<>Y286,1,0)","v":0},1,{"$f":"IF(Z287<>AA286,1,0)","v":0},{"$f":"IF(AB287<>AB286,1,0)","v":0}]
[null,null,null,null,null,null,null,null,null,null,null,null,null,null,null,{"$error":"#N/A"},null,null,null,null,null,null,null,null,null,null,null,null,null,{"$f":"(T288*Setup!$J$17)+(U288*Setup!$J$18)+(V288*Setup!$J$19)+(W288*Setup!$J$22)+X288*(Setup!$J$23)+(Y288*Setup!$J$24)+(Z288*Setup!$J$27)+(AA288*Setup!$J$28)+(AB288*Setup!$J$29)","v":0},"ERROR",1,{"$f":"IF(T288<>U289,1,0)","v":0},{"$f":"IF(V288<>V289,1,0)","v":0},1,{"$f":"IF(W288<>X289,1,0)","v":0},{"$f":"IF(Y288<>Y289,1,0)","v":0},1,{"$f":"IF(Z288<>AA289,1,0)","v":0},{"$f":"IF(AB288<>AB289,1,0)","v":0}]
[null,null,null,null,null,null,null,null,null,null,null,null,null,null,null,{"$error":"#N/A"},null,null,null,null,null,null,null,null,null,null,null,null,null,{"$f":"(T289*Setup!$J$17)+(U289*Setup!$J$18)+(V289*Setup!$J$19)+(W289*Setup!$J$22)+X289*(Setup!$J$23)+(Y289*Setup!$J$24)+(Z289*Setup!$J$27)+(AA289*Setup!$J$28)+(AB289*Setup!$J$29)","v":0},"ERROR",1,{"$f":"IF(T289<>U288,1,0)","v":0},{"$f":"IF(V289<>V288,1,0)","v":0},1,{"$f":"IF(W289<>X288,1,0)","v":0},{"$f":"IF(Y289<>Y288,1,0)","v":0},1,{"$f":"IF(Z289<>AA288,1,0)","v":0},{"$f":"IF(AB289<>AB288,1,0)","v":0}]
[null,null,null,null,null,null,null,null,null,null,null,null,null,null,null,{"$error":"#N/A"},null,null,null,null,null,null,null,null,null,null,null,null,null,{"$f":"(T290*Setup!$J$17)+(U290*Setup!$J$18)+(V290*Setup!$J$19)+(W290*Setup!$J$22)+X290*(Setup!$J$23)+(Y290*Setup!$J$24)+(Z290*Setup!$J$27)+(AA290*Setup!$J$28)+(AB290*Setup!$J$29)","v":0},"ERROR",1,{"$f":"IF(T290<>U291,1,0)","v":0},{"$f":"IF(V290<>V291,1,0)","v":0},1,{"$f":"IF(W290<>X291,1,0)","v":0},{"$f":"IF(Y290<>Y291,1,0)","v":0},1,{"$f":"IF(Z290<>AA291,1,0)","v":0},{"$f":"IF(AB290<>AB291,1,0)","v":0}]
[null,null,null,null,null,null,null,null,null,null,null,null,null,null,null,{"$error":"#N/A"},null,null,null,null,null,null,null,null,null,null,null,null,null,{"$f":"(T291*Setup!$J$17)+(U291*Setup!$J$18)+(V291*Setup!$J$19)+(W291*Setup!$J$22)+X291*(Setup!$J$23)+(Y291*Setup!$J$24)+(Z291*Setup!$J$27)+(AA291*Setup!$J$28)+(AB291*Setup!$J$29)","v":0},"ERROR",1,{"$f":"IF(T291<>U290,1,0)","v":0},{"$f":"IF(V291<>V290,1,0)","v":0},1,{"$f":"IF(W291<>X290,1,0)","v":0},{"$f":"IF(Y291<>Y290,1,0)","v":0},1,{"$f":"IF(Z291<>AA290,1,0)","v":0},{"$f":"IF(AB291<>AB290,1,0)","v":0}]
[null,null,null,null,null,null,null,null,null,null,null,null,null,null,null,{"$error":"#N/A"},null,null,null,null,null,null,null,null,null,null,null,null,null,{"$f":"(T292*Setup!$J$17)+(U292*Setup!$J$18)+(V292*Setup!$J$19)+(W292*Setup!$J$22)+X292*(Setup!$J$23)+(Y292*Setup!$J$24)+(Z292*Setup!$J$27)+(AA292*Setup!$J$28)+(AB292*Setup!$J$29)","v":0},"ERROR",1,{"$f":"IF(T292<>U293,1,0)","v":0},{"$f":"IF(V292<>V293,1,0)","v":0},1,{"$f":"IF(W292<>X293,1,0)","v":0},{"$f":"IF(Y292<>Y293,1,0)","v":0},1,{"$f":"IF(Z292<>AA293,1,0)","v":0},{"$f":"IF(AB292<>AB293,1,0)","v":0}]
[null,null,null,null,null,null,null,null,null,null,null,null,null,null,null,{"$error":"#N/A"},null,null,null,null,null,null,null,null,null,null,null,null,null,{"$f":"(T293*Setup!$J$17)+(U293*Setup!$J$18)+(V293*Setup!$J$19)+(W293*Setup!$J$22)+X293*(Setup!$J$23)+(Y293*Setup!$J$24)+(Z293*Setup!$J$27)+(AA293*Setup!$J$28)+(AB293*Setup!$J$29)","v":0},"ERROR",1,{"$f":"IF(T293<>U292,1,0)","v":0},{"$f":"IF(V293<>V292,1,0)","v":0},1,{"$f":"IF(W293<>X292,1,0)","v":0},{"$f":"IF(Y293<>Y292,1,0)","v":0},1,{"$f":"IF(Z293<>AA292,1,0)","v":0},{"$f":"IF(AB293<>AB292,1,0)","v":0}]
[null,null,null,null,null,null,null,null,null,null,null,null,null,null,null,{"$error":"#N/A"},null,null,null,null,null,null,null,null,null,null,null,null,null,{"$f":"(T294*Setup!$J$17)+(U294*Setup!$J$18)+(V294*Setup!$J$19)+(W294*Setup!$J$22)+X294*(Setup!$J$23)+(Y294*Setup!$J$24)+(Z294*Setup!$J$27)+(AA294*Setup!$J$28)+(AB294*Setup!$J$29)","v":0},"ERROR",1,{"$f":"IF(T294<>U295,1,0)","v":0},{"$f":"IF(V294<>V295,1,0)","v":0},1,{"$f":"IF(W294<>X295,1,0)","v":0},{"$f":"IF(Y294<>Y295,1,0)","v":0},1,{"$f":"IF(Z294<>AA295,1,0)","v":0},{"$f":"IF(AB294<>AB295,1,0)","v":0}]
[null,null,null,null,null,null,null,null,null,null,null,null,null,null,null,{"$error":"#N/A"},null,null,null,null,null,null,null,null,null,null,null,null,null,{"$f":"(T295*Setup!$J$17)+(U295*Setup!$J$18)+(V295*Setup!$J$19)+(W295*Setup!$J$22)+X295*(Setup!$J$23)+(Y295*Setup!$J$24)+(Z295*Setup!$J$27)+(AA295*Setup!$J$28)+(AB295*Setup!$J$29)","v":0},"ERROR",1,{"$f":"IF(T295<>U294,1,0)","v":0},{"$f":"IF(V295<>V294,1,0)","v":0},1,{"$f":"IF(W295<>X294,1,0)","v":0},{"$f":"IF(Y295<>Y294,1,0)","v":0},1,{"$f":"IF(Z295<>AA294,1,0)","v":0},{"$f":"IF(AB295<>AB294,1,0)","v":0}]
[null,null,null,null,null,null,null,null,null,null,null,null,null,null,null,{"$error":"#N/A"},null,null,null,null,null,null,null,null,null,null,null,null,null,{"$f":"(T296*Setup!$J$17)+(U296*Setup!$J$18)+(V296*Setup!$J$19)+(W296*Setup!$J$22)+X296*(Setup!$J$23)+(Y296*Setup!$J$24)+(Z296*Setup!$J$27)+(AA296*Setup!$J$28)+(AB296*Setup!$J$29)","v":0},"ERROR",1,{"$f":"IF(T296<>U297,1,0)","v":0},{"$f":"IF(V296<>V297,1,0)","v":0},1,{"$f":"IF(W296<>X297,1,0)","v":0},{"$f":"IF(Y296<>Y297,1,0)","v":0},1,{"$f":"IF(Z296<>AA297,1,0)","v":0},{"$f":"IF(AB296<>AB297,1,0)","v":0}]
[null,null,null,null,null,null,null,null,null,null,null,null,null,null,null,{"$error":"#N/A"},null,null,null,null,null,null,null,null,null,null,null,null,null,{"$f":"(T297*Setup!$J$17)+(U297*Setup!$J$18)+(V297*Setup!$J$19)+(W297*Setup!$J$22)+X297*(Setup!$J$23)+(Y297*Setup!$J$24)+(Z297*Setup!$J$27)+(AA297*Setup!$J$28)+(AB297*Setup!$J$29)","v":0},"ERROR",1,{"$f":"IF(T297<>U296,1,0)","v":0},{"$f":"IF(V297<>V296,1,0)","v":0},1,{"$f":"IF(W297<>X296,1,0)","v":0},{"$f":"IF(Y297<>Y296,1,0)","v":0},1,{"$f":"IF(Z297<>AA296,1,0)","v":0},{"$f":"IF(AB297<>AB296,1,0)","v":0}]
[null,null,null,null,null,null,null,null,null,null,null,null,null,null,null,{"$error":"#N/A"},null,null,null,null,null,null,null,null,null,null,null,null,null,{"$f":"(T298*Setup!$J$17)+(U298*Setup!$J$18)+(V298*Setup!$J$19)+(W298*Setup!$J$22)+X298*(Setup!$J$23)+(Y298*Setup!$J$24)+(Z298*Setup!$J$27)+(AA298*Setup!$J$28)+(AB298*Setup!$J$29)","v":0},"ERROR",1,{"$f":"IF(T298<>U299,1,0)","v":0},{"$f":"IF(V298<>V299,1,0)","v":0},1,{"$f":"IF(W298<>X299,1,0)","v":0},{"$f":"IF(Y298<>Y299,1,0)","v":0},1,{"$f":"IF(Z298<>AA299,1,0)","v":0},{"$f":"IF(AB298<>AB299,1,0)","v":0}]
[null,null,null,null,null,null,null,null,null,null,null,null,null,null,null,{"$error":"#N/A"},null,null,null,null,null,null,null,null,null,null,null,null,null,{"$f":"(T299*Setup!$J$17)+(U299*Setup!$J$18)+(V299*Setup!$J$19)+(W299*Setup!$J$22)+X299*(Setup!$J$23)+(Y299*Setup!$J$24)+(Z299*Setup!$J$27)+(AA299*Setup!$J$28)+(AB299*Setup!$J$29)","v":0},"ERROR",1,{"$f":"IF(T299<>U298,1,0)","v":0},{"$f":"IF(V299<>V298,1,0)","v":0},1,{"$f":"IF(W299<>X298,1,0)","v":0},{"$f":"IF(Y299<>Y298,1,0)","v":0},1,{"$f":"IF(Z299<>AA298,1,0)","v":0},{"$f":"IF(AB299<>AB298,1,0)","v":0}]
[null,null,null,null,null,null,null,null,null,null,null,null,null,null,null,{"$error":"#N/A"},null,null,null,null,null,null,null,null,null,null,null,null,null,{"$f":"(T300*Setup!$J$17)+(U300*Setup!$J$18)+(V300*Setup!$J$19)+(W300*Setup!$J$22)+X300*(Setup!$J$23)+(Y300*Setup!$J$24)+(Z300*Setup!$J$27)+(AA300*Setup!$J$28)+(AB300*Setup!$J$29)","v":0},"ERROR",1,{"$f":"IF(T300<>U301,1,0)","v":0},{"$f":"IF(V300<>V301,1,0)","v":0},1,{"$f":"IF(W300<>X301,1,0)","v":0},{"$f":"IF(Y300<>Y301,1,0)","v":0},1,{"$f":"IF(Z300<>AA301,1,0)","v":0},{"$f":"IF(AB300<>AB301,1,0)","v":0}]
[null,null,null,null,null,null,null,null,null,null,null,null,null,null,null,{"$error":"#N/A"},null,null,null,null,null,null,null,null,null,null,null,null,null,{"$f":"(T301*Setup!$J$17)+(U301*Setup!$J$18)+(V301*Setup!$J$19)+(W301*Setup!$J$22)+X301*(Setup!$J$23)+(Y301*Setup!$J$24)+(Z301*Setup!$J$27)+(AA301*Setup!$J$28)+(AB301*Setup!$J$29)","v":0},"ERROR",1,{"$f":"IF(T301<>U300,1,0)","v":0},{"$f":"IF(V301<>V300,1,0)","v":0},1,{"$f":"IF(W301<>X300,1,0)","v":0},{"$f":"IF(Y301<>Y300,1,0)","v":0},1,{"$f":"IF(Z301<>AA300,1,0)","v":0},{"$f":"IF(AB301<>AB300,1,0)","v":0}]
[null,null,null,null,null,null,null,null,null,null,null,null,null,null,null,{"$error":"#N/A"},null,null,null,null,null,null,null,null,null,null,null,null,null,{"$f":"(T302*Setup!$J$17)+(U302*Setup!$J$18)+(V302*Setup!$J$19)+(W302*Setup!$J$22)+X302*(Setup!$J$23)+(Y302*Setup!$J$24)+(Z302*Setup!$J$27)+(AA302*Setup!$J$28)+(AB302*Setup!$J$29)","v":0},"ERROR",1,{"$f":"IF(T302<>U303,1,0)","v":0},{"$f":"IF(V302<>V303,1,0)","v":0},1,{"$f":"IF(W302<>X303,1,0)","v":0},{"$f":"IF(Y302<>Y303,1,0)","v":0},1,{"$f":"IF(Z302<>AA303,1,0)","v":0},{"$f":"IF(AB302<>AB303,1,0)","v":0}]
[null,null,null,null,null,null,null,null,null,null,null,null,null,null,null,{"$error":"#N/A"},null,null,null,null,null,null,null,null,null,null,null,null,null,{"$f":"(T303*Setup!$J$17)+(U303*Setup!$J$18)+(V303*Setup!$J$19)+(W303*Setup!$J$22)+X303*(Setup!$J$23)+(Y303*Setup!$J$24)+(Z303*Setup!$J$27)+(AA303*Setup!$J$28)+(AB303*Setup!$J$29)","v":0},"ERROR",1,{"$f":"IF(T303<>U302,1,0)","v":0},{"$f":"IF(V303<>V302,1,0)","v":0},1,{"$f":"IF(W303<>X302,1,0)","v":0},{"$f":"IF(Y303<>Y302,1,0)","v":0},1,{"$f":"IF(Z303<>AA302,1,0)","v":0},{"$f":"IF(AB303<>AB302,1,0)","v":0}]
[null,null,null,null,null,null,null,null,null,null,null,null,null,null,null,{"$error":"#N/A"},null,null,null,null,null,null,null,null,null,null,null,null,null,{"$f":"(T304*Setup!$J$17)+(U304*Setup!$J$18)+(V304*Setup!$J$19)+(W304*Setup!$J$22)+X304*(Setup!$J$23)+(Y304*Setup!$J$24)+(Z304*Setup!$J$27)+(AA304*Setup!$J$28)+(AB304*Setup!$J$29)","v":0},"ERROR",1,{"$f":"IF(T304<>U305,1,0)","v":0},{"$f":"IF(V304<>V305,1,0)","v":0},1,{"$f":"IF(W304<>X305,1,0)","v":0},{"$f":"IF(Y304<>Y305,1,0)","v":0},1,{"$f":"IF(Z304<>AA305,1,0)","v":0},{"$f":"IF(AB304<>AB305,1,0)","v":0}]
[null,null,null,null,null,null,null,null,null,null,null,null,null,null,null,{"$error":"#N/A"},null,null,null,null,null,null,null,null,null,null,null,null,null,{"$f":"(T305*Setup!$J$17)+(U305*Setup!$J$18)+(V305*Setup!$J$19)+(W305*Setup!$J$22)+X305*(Setup!$J$23)+(Y305*Setup!$J$24)+(Z305*Setup!$J$27)+(AA305*Setup!$J$28)+(AB305*Setup!$J$29)","v":0},"ERROR",1,{"$f":"IF(T305<>U304,1,0)","v":0},{"$f":"IF(V305<>V304,1,0)","v":0},1,{"$f":"IF(W305<>X304,1,0)","v":0},{"$f":"IF(Y305<>Y304,1,0)","v":0},1,{"$f":"IF(Z305<>AA304,1,0)","v":0},{"$f":"IF(AB305<>AB304,1,0)","v":0}]
[null,null,null,null,null,null,null,null,null,null,null,null,null,null,null,{"$error":"#N/A"},null,null,null,null,null,null,null,null,null,null,null,null,null,{"$f":"(T306*Setup!$J$17)+(U306*Setup!$J$18)+(V306*Setup!$J$19)+(W306*Setup!$J$22)+X306*(Setup!$J$23)+(Y306*Setup!$J$24)+(Z306*Setup!$J$27)+(AA306*Setup!$J$28)+(AB306*Setup!$J$29)","v":0},"ERROR",1,{"$f":"IF(T306<>U307,1,0)","v":0},{"$f":"IF(V306<>V307,1,0)","v":0},1,{"$f":"IF(W306<>X307,1,0)","v":0},{"$f":"IF(Y306<>Y307,1,0)","v":0},1,{"$f":"IF(Z306<>AA307,1,0)","v":0},{"$f":"IF(AB306<>AB307,1,0)","v":0}]
[null,null,null,null,null,null,null,null,null,null,null,null,null,null,null,{"$error":"#N/A"},null,null,null,null,null,null,null,null,null,null,null,null,null,{"$f":"(T307*Setup!$J$17)+(U307*Setup!$J$18)+(V307*Setup!$J$19)+(W307*Setup!$J$22)+X307*(Setup!$J$23)+(Y307*Setup!$J$24)+(Z307*Setup!$J$27)+(AA307*Setup!$J$28)+(AB307*Setup!$J$29)","v":0},"ERROR",1,{"$f":"IF(T307<>U306,1,0)","v":0},{"$f":"IF(V307<>V306,1,0)","v":0},1,{"$f":"IF(W307<>X306,1,0)","v":0},{"$f":"IF(Y307<>Y306,1,0)","v":0},1,{"$f":"IF(Z307<>AA306,1,0)","v":0},{"$f":"IF(AB307<>AB306,1,0)","v":0}]
[null,null,null,null,null,null,null,null,null,null,null,null,null,null,null,{"$error":"#N/A"},null,null,null,null,null,null,null,null,null,null,null,null,null,{"$f":"(T308*Setup!$J$17)+(U308*Setup!$J$18)+(V308*Setup!$J$19)+(W308*Setup!$J$22)+X308*(Setup!$J$23)+(Y308*Setup!$J$24)+(Z308*Setup!$J$27)+(AA308*Setup!$J$28)+(AB308*Setup!$J$29)","v":0},"ERROR",1,{"$f":"IF(T308<>U309,1,0)","v":0},{"$f":"IF(V308<>V309,1,0)","v":0},1,{"$f":"IF(W308<>X309,1,0)","v":0},{"$f":"IF(Y308<>Y309,1,0)","v":0},1,{"$f":"IF(Z308<>AA309,1,0)","v":0},{"$f":"IF(AB308<>AB309,1,0)","v":0}]
[null,null,null,null,null,null,null,null,null,null,null,null,null,null,null,{"$error":"#N/A"},null,null,null,null,null,null,null,null,null,null,null,null,null,{"$f":"(T309*Setup!$J$17)+(U309*Setup!$J$18)+(V309*Setup!$J$19)+(W309*Setup!$J$22)+X309*(Setup!$J$23)+(Y309*Setup!$J$24)+(Z309*Setup!$J$27)+(AA309*Setup!$J$28)+(AB309*Setup!$J$29)","v":0},"ERROR",1,{"$f":"IF(T309<>U308,1,0)","v":0},{"$f":"IF(V309<>V308,1,0)","v":0},1,{"$f":"IF(W309<>X308,1,0)","v":0},{"$f":"IF(Y309<>Y308,1,0)","v":0},1,{"$f":"IF(Z309<>AA308,1,0)","v":0},{"$f":"IF(AB309<>AB308,1,0)","v":0}]
[null,null,null,null,null,null,null,null,null,null,null,null,null,null,null,{"$error":"#N/A"},null,null,null,null,null,null,null,null,null,null,null,null,null,{"$f":"(T310*Setup!$J$17)+(U310*Setup!$J$18)+(V310*Setup!$J$19)+(W310*Setup!$J$22)+X310*(Setup!$J$23)+(Y310*Setup!$J$24)+(Z310*Setup!$J$27)+(AA310*Setup!$J$28)+(AB310*Setup!$J$29)","v":0},"ERROR",1,{"$f":"IF(T310<>U311,1,0)","v":0},{"$f":"IF(V310<>V311,1,0)","v":0},1,{"$f":"IF(W310<>X311,1,0)","v":0},{"$f":"IF(Y310<>Y311,1,0)","v":0},1,{"$f":"IF(Z310<>AA311,1,0)","v":0},{"$f":"IF(AB310<>AB311,1,0)","v":0}]
[null,null,null,null,null,null,null,null,null,null,null,null,null,null,null,{"$error":"#N/A"},null,null,null,null,null,null,null,null,null,null,null,null,null,{"$f":"(T311*Setup!$J$17)+(U311*Setup!$J$18)+(V311*Setup!$J$19)+(W311*Setup!$J$22)+X311*(Setup!$J$23)+(Y311*Setup!$J$24)+(Z311*Setup!$J$27)+(AA311*Setup!$J$28)+(AB311*Setup!$J$29)","v":0},"ERROR",1,{"$f":"IF(T311<>U310,1,0)","v":0},{"$f":"IF(V311<>V310,1,0)","v":0},1,{"$f":"IF(W311<>X310,1,0)","v":0},{"$f":"IF(Y311<>Y310,1,0)","v":0},1,{"$f":"IF(Z311<>AA310,1,0)","v":0},{"$f":"IF(AB311<>AB310,1,0)","v":0}]
[null,null,null,null,null,null,null,null,null,null,null,null,null,null,null,{"$error":"#N/A"},null,null,null,null,null,null,null,null,null,null,null,null,null,{"$f":"(T312*Setup!$J$17)+(U312*Setup!$J$18)+(V312*Setup!$J$19)+(W312*Setup!$J$22)+X312*(Setup!$J$23)+(Y312*Setup!$J$24)+(Z312*Setup!$J$27)+(AA312*Setup!$J$28)+(AB312*Setup!$J$29)","v":0},"ERROR",1,{"$f":"IF(T312<>U313,1,0)","v":0},{"$f":"IF(V312<>V313,1,0)","v":0},1,{"$f":"IF(W312<>X313,1,0)","v":0},{"$f":"IF(Y312<>Y313,1,0)","v":0},1,{"$f":"IF(Z312<>AA313,1,0)","v":0},{"$f":"IF(AB312<>AB313,1,0)","v":0}]
[null,null,null,null,null,null,null,null,null,null,null,null,null,null,null,{"$error":"#N/A"},null,null,null,null,null,null,null,null,null,null,null,null,null,{"$f":"(T313*Setup!$J$17)+(U313*Setup!$J$18)+(V313*Setup!$J$19)+(W313*Setup!$J$22)+X313*(Setup!$J$23)+(Y313*Setup!$J$24)+(Z313*Setup!$J$27)+(AA313*Setup!$J$28)+(AB313*Setup!$J$29)","v":0},"ERROR",1,{"$f":"IF(T313<>U312,1,0)","v":0},{"$f":"IF(V313<>V312,1,0)","v":0},1,{"$f":"IF(W313<>X312,1,0)","v":0},{"$f":"IF(Y313<>Y312,1,0)","v":0},1,{"$f":"IF(Z313<>AA312,1,0)","v":0},{"$f":"IF(AB313<>AB312,1,0)","v":0}]
[null,null,null,null,null,null,null,null,null,null,null,null,null,null,null,{"$error":"#N/A"},null,null,null,null,null,null,null,null,null,null,null,null,null,{"$f":"(T314*Setup!$J$17)+(U314*Setup!$J$18)+(V314*Setup!$J$19)+(W314*Setup!$J$22)+X314*(Setup!$J$23)+(Y314*Setup!$J$24)+(Z314*Setup!$J$27)+(AA314*Setup!$J$28)+(AB314*Setup!$J$29)","v":0},"ERROR",1,{"$f":"IF(T314<>U315,1,0)","v":0},{"$f":"IF(V314<>V315,1,0)","v":0},1,{"$f":"IF(W314<>X315,1,0)","v":0},{"$f":"IF(Y314<>Y315,1,0)","v":0},1,{"$f":"IF(Z314<>AA315,1,0)","v":0},{"$f":"IF(AB314<>AB315,1,0)","v":0}]
[null,null,null,null,null,null,null,null,null,null,null,null,null,null,null,{"$error":"#N/A"},null,null,null,null,null,null,null,null,null,null,null,null,null,{"$f":"(T315*Setup!$J$17)+(U315*Setup!$J$18)+(V315*Setup!$J$19)+(W315*Setup!$J$22)+X315*(Setup!$J$23)+(Y315*Setup!$J$24)+(Z315*Setup!$J$27)+(AA315*Setup!$J$28)+(AB315*Setup!$J$29)","v":0},"ERROR",1,{"$f":"IF(T315<>U314,1,0)","v":0},{"$f":"IF(V315<>V314,1,0)","v":0},1,{"$f":"IF(W315<>X314,1,0)","v":0},{"$f":"IF(Y315<>Y314,1,0)","v":0},1,{"$f":"IF(Z315<>AA314,1,0)","v":0},{"$f":"IF(AB315<>AB314,1,0)","v":0}]
[null,null,null,null,null,null,null,null,null,null,null,null,null,null,null,{"$error":"#N/A"},null,null,null,null,null,null,null,null,null,null,null,null,null,{"$f":"(T316*Setup!$J$17)+(U316*Setup!$J$18)+(V316*Setup!$J$19)+(W316*Setup!$J$22)+X316*(Setup!$J$23)+(Y316*Setup!$J$24)+(Z316*Setup!$J$27)+(AA316*Setup!$J$28)+(AB316*Setup!$J$29)","v":0},"ERROR",1,{"$f":"IF(T316<>U317,1,0)","v":0},{"$f":"IF(V316<>V317,1,0)","v":0},1,{"$f":"IF(W316<>X317,1,0)","v":0},{"$f":"IF(Y316<>Y317,1,0)","v":0},1,{"$f":"IF(Z316<>AA317,1,0)","v":0},{"$f":"IF(AB316<>AB317,1,0)","v":0}]
[null,null,null,null,null,null,null,null,null,null,null,null,null,null,null,{"$error":"#N/A"},null,null,null,null,null,null,null,null,null,null,null,null,null,{"$f":"(T317*Setup!$J$17)+(U317*Setup!$J$18)+(V317*Setup!$J$19)+(W317*Setup!$J$22)+X317*(Setup!$J$23)+(Y317*Setup!$J$24)+(Z317*Setup!$J$27)+(AA317*Setup!$J$28)+(AB317*Setup!$J$29)","v":0},"ERROR",1,{"$f":"IF(T317<>U316,1,0)","v":0},{"$f":"IF(V317<>V316,1,0)","v":0},1,{"$f":"IF(W317<>X316,1,0)","v":0},{"$f":"IF(Y317<>Y316,1,0)","v":0},1,{"$f":"IF(Z317<>AA316,1,0)","v":0},{"$f":"IF(AB317<>AB316,1,0)","v":0}]
[null,null,null,null,null,null,null,null,null,null,null,null,null,null,null,{"$error":"#N/A"},null,null,null,null,null,null,null,null,null,null,null,null,null,{"$f":"(T318*Setup!$J$17)+(U318*Setup!$J$18)+(V318*Setup!$J$19)+(W318*Setup!$J$22)+X318*(Setup!$J$23)+(Y318*Setup!$J$24)+(Z318*Setup!$J$27)+(AA318*Setup!$J$28)+(AB318*Setup!$J$29)","v":0},"ERROR",1,{"$f":"IF(T318<>U319,1,0)","v":0},{"$f":"IF(V318<>V319,1,0)","v":0},1,{"$f":"IF(W318<>X319,1,0)","v":0},{"$f":"IF(Y318<>Y319,1,0)","v":0},1,{"$f":"IF(Z318<>AA319,1,0)","v":0},{"$f":"IF(AB318<>AB319,1,0)","v":0}]
[null,null,null,null,null,null,null,null,null,null,null,null,null,null,null,{"$error":"#N/A"},null,null,null,null,null,null,null,null,null,null,null,null,null,{"$f":"(T319*Setup!$J$17)+(U319*Setup!$J$18)+(V319*Setup!$J$19)+(W319*Setup!$J$22)+X319*(Setup!$J$23)+(Y319*Setup!$J$24)+(Z319*Setup!$J$27)+(AA319*Setup!$J$28)+(AB319*Setup!$J$29)","v":0},"ERROR",1,{"$f":"IF(T319<>U318,1,0)","v":0},{"$f":"IF(V319<>V318,1,0)","v":0},1,{"$f":"IF(W319<>X318,1,0)","v":0},{"$f":"IF(Y319<>Y318,1,0)","v":0},1,{"$f":"IF(Z319<>AA318,1,0)","v":0},{"$f":"IF(AB319<>AB318,1,0)","v":0}]
[null,null,null,null,null,null,null,null,null,null,null,null,null,null,null,{"$error":"#N/A"},null,null,null,null,null,null,null,null,null,null,null,null,null,{"$f":"(T320*Setup!$J$17)+(U320*Setup!$J$18)+(V320*Setup!$J$19)+(W320*Setup!$J$22)+X320*(Setup!$J$23)+(Y320*Setup!$J$24)+(Z320*Setup!$J$27)+(AA320*Setup!$J$28)+(AB320*Setup!$J$29)","v":0},"ERROR",1,{"$f":"IF(T320<>U321,1,0)","v":0},{"$f":"IF(V320<>V321,1,0)","v":0},1,{"$f":"IF(W320<>X321,1,0)","v":0},{"$f":"IF(Y320<>Y321,1,0)","v":0},1,{"$f":"IF(Z320<>AA321,1,0)","v":0},{"$f":"IF(AB320<>AB321,1,0)","v":0}]
[null,null,null,null,null,null,null,null,null,null,null,null,null,null,null,{"$error":"#N/A"},null,null,null,null,null,null,null,null,null,null,null,null,null,{"$f":"(T321*Setup!$J$17)+(U321*Setup!$J$18)+(V321*Setup!$J$19)+(W321*Setup!$J$22)+X321*(Setup!$J$23)+(Y321*Setup!$J$24)+(Z321*Setup!$J$27)+(AA321*Setup!$J$28)+(AB321*Setup!$J$29)","v":0},"ERROR",1,{"$f":"IF(T321<>U320,1,0)","v":0},{"$f":"IF(V321<>V320,1,0)","v":0},1,{"$f":"IF(W321<>X320,1,0)","v":0},{"$f":"IF(Y321<>Y320,1,0)","v":0},1,{"$f":"IF(Z321<>AA320,1,0)","v":0},{"$f":"IF(AB321<>AB320,1,0)","v":0}]
[null,null,null,null,null,null,null,null,null,null,null,null,null,null,null,{"$error":"#N/A"},null,null,null,null,null,null,null,null,null,null,null,null,null,{"$f":"(T322*Setup!$J$17)+(U322*Setup!$J$18)+(V322*Setup!$J$19)+(W322*Setup!$J$22)+X322*(Setup!$J$23)+(Y322*Setup!$J$24)+(Z322*Setup!$J$27)+(AA322*Setup!$J$28)+(AB322*Setup!$J$29)","v":0},"ERROR",1,{"$f":"IF(T322<>U323,1,0)","v":0},{"$f":"IF(V322<>V323,1,0)","v":0},1,{"$f":"IF(W322<>X323,1,0)","v":0},{"$f":"IF(Y322<>Y323,1,0)","v":0},1,{"$f":"IF(Z322<>AA323,1,0)","v":0},{"$f":"IF(AB322<>AB323,1,0)","v":0}]
[null,null,null,null,null,null,null,null,null,null,null,null,null,null,null,{"$error":"#N/A"},null,null,null,null,null,null,null,null,null,null,null,null,null,{"$f":"(T323*Setup!$J$17)+(U323*Setup!$J$18)+(V323*Setup!$J$19)+(W323*Setup!$J$22)+X323*(Setup!$J$23)+(Y323*Setup!$J$24)+(Z323*Setup!$J$27)+(AA323*Setup!$J$28)+(AB323*Setup!$J$29)","v":0},"ERROR",1,{"$f":"IF(T323<>U322,1,0)","v":0},{"$f":"IF(V323<>V322,1,0)","v":0},1,{"$f":"IF(W323<>X322,1,0)","v":0},{"$f":"IF(Y323<>Y322,1,0)","v":0},1,{"$f":"IF(Z323<>AA322,1,0)","v":0},{"$f":"IF(AB323<>AB322,1,0)","v":0}]
[null,null,null,null,null,null,null,null,null,null,null,null,null,null,null,{"$error":"#N/A"},null,null,null,null,null,null,null,null,null,null,null,null,null,{"$f":"(T324*Setup!$J$17)+(U324*Setup!$J$18)+(V324*Setup!$J$19)+(W324*Setup!$J$22)+X324*(Setup!$J$23)+(Y324*Setup!$J$24)+(Z324*Setup!$J$27)+(AA324*Setup!$J$28)+(AB324*Setup!$J$29)","v":0},"ERROR",1,{"$f":"IF(T324<>U325,1,0)","v":0},{"$f":"IF(V324<>V325,1,0)","v":0},1,{"$f":"IF(W324<>X325,1,0)","v":0},{"$f":"IF(Y324<>Y325,1,0)","v":0},1,{"$f":"IF(Z324<>AA325,1,0)","v":0},{"$f":"IF(AB324<>AB325,1,0)","v":0}]
[null,null,null,null,null,null,null,null,null,null,null,null,null,null,null,{"$error":"#N/A"},null,null,null,null,null,null,null,null,null,null,null,null,null,{"$f":"(T325*Setup!$J$17)+(U325*Setup!$J$18)+(V325*Setup!$J$19)+(W325*Setup!$J$22)+X325*(Setup!$J$23)+(Y325*Setup!$J$24)+(Z325*Setup!$J$27)+(AA325*Setup!$J$28)+(AB325*Setup!$J$29)","v":0},"ERROR",1,{"$f":"IF(T325<>U324,1,0)","v":0},{"$f":"IF(V325<>V324,1,0)","v":0},1,{"$f":"IF(W325<>X324,1,0)","v":0},{"$f":"IF(Y325<>Y324,1,0)","v":0},1,{"$f":"IF(Z325<>AA324,1,0)","v":0},{"$f":"IF(AB325<>AB324,1,0)","v":0}]
[null,null,null,null,null,null,null,null,null,null,null,null,null,null,null,{"$error":"#N/A"},null,null,null,null,null,null,null,null,null,null,null,null,null,{"$f":"(T326*Setup!$J$17)+(U326*Setup!$J$18)+(V326*Setup!$J$19)+(W326*Setup!$J$22)+X326*(Setup!$J$23)+(Y326*Setup!$J$24)+(Z326*Setup!$J$27)+(AA326*Setup!$J$28)+(AB326*Setup!$J$29)","v":0},"ERROR",1,{"$f":"IF(T326<>U327,1,0)","v":0},{"$f":"IF(V326<>V327,1,0)","v":0},1,{"$f":"IF(W326<>X327,1,0)","v":0},{"$f":"IF(Y326<>Y327,1,0)","v":0},1,{"$f":"IF(Z326<>AA327,1,0)","v":0},{"$f":"IF(AB326<>AB327,1,0)","v":0}]
[null,null,null,null,null,null,null,null,null,null,null,null,null,null,null,{"$error":"#N/A"},null,null,null,null,null,null,null,null,null,null,null,null,null,{"$f":"(T327*Setup!$J$17)+(U327*Setup!$J$18)+(V327*Setup!$J$19)+(W327*Setup!$J$22)+X327*(Setup!$J$23)+(Y327*Setup!$J$24)+(Z327*Setup!$J$27)+(AA327*Setup!$J$28)+(AB327*Setup!$J$29)","v":0},"ERROR",1,{"$f":"IF(T327<>U326,1,0)","v":0},{"$f":"IF(V327<>V326,1,0)","v":0},1,{"$f":"IF(W327<>X326,1,0)","v":0},{"$f":"IF(Y327<>Y326,1,0)","v":0},1,{"$f":"IF(Z327<>AA326,1,0)","v":0},{"$f":"IF(AB327<>AB326,1,0)","v":0}]
[null,null,null,null,null,null,null,null,null,null,null,null,null,null,null,{"$error":"#N/A"},null,null,null,null,null,null,null,null,null,null,null,null,null,{"$f":"(T328*Setup!$J$17)+(U328*Setup!$J$18)+(V328*Setup!$J$19)+(W328*Setup!$J$22)+X328*(Setup!$J$23)+(Y328*Setup!$J$24)+(Z328*Setup!$J$27)+(AA328*Setup!$J$28)+(AB328*Setup!$J$29)","v":0},"ERROR",1,{"$f":"IF(T328<>U329,1,0)","v":0},{"$f":"IF(V328<>V329,1,0)","v":0},1,{"$f":"IF(W328<>X329,1,0)","v":0},{"$f":"IF(Y328<>Y329,1,0)","v":0},1,{"$f":"IF(Z328<>AA329,1,0)","v":0},{"$f":"IF(AB328<>AB329,1,0)","v":0}]
[null,null,null,null,null,null,null,null,null,null,null,null,null,null,null,{"$error":"#N/A"},null,null,null,null,null,null,null,null,null,null,null,null,null,{"$f":"(T329*Setup!$J$17)+(U329*Setup!$J$18)+(V329*Setup!$J$19)+(W329*Setup!$J$22)+X329*(Setup!$J$23)+(Y329*Setup!$J$24)+(Z329*Setup!$J$27)+(AA329*Setup!$J$28)+(AB329*Setup!$J$29)","v":0},"ERROR",1,{"$f":"IF(T329<>U328,1,0)","v":0},{"$f":"IF(V329<>V328,1,0)","v":0},1,{"$f":"IF(W329<>X328,1,0)","v":0},{"$f":"IF(Y329<>Y328,1,0)","v":0},1,{"$f":"IF(Z329<>AA328,1,0)","v":0},{"$f":"IF(AB329<>AB328,1,0)","v":0}]
[null,null,null,null,null,null,null,null,null,null,null,null,null,null,null,{"$error":"#N/A"},null,null,null,null,null,null,null,null,null,null,null,null,null,{"$f":"(T330*Setup!$J$17)+(U330*Setup!$J$18)+(V330*Setup!$J$19)+(W330*Setup!$J$22)+X330*(Setup!$J$23)+(Y330*Setup!$J$24)+(Z330*Setup!$J$27)+(AA330*Setup!$J$28)+(AB330*Setup!$J$29)","v":0},"ERROR",1,{"$f":"IF(T330<>U331,1,0)","v":0},{"$f":"IF(V330<>V331,1,0)","v":0},1,{"$f":"IF(W330<>X331,1,0)","v":0},{"$f":"IF(Y330<>Y331,1,0)","v":0},1,{"$f":"IF(Z330<>AA331,1,0)","v":0},{"$f":"IF(AB330<>AB331,1,0)","v":0}]
[null,null,null,null,null,null,null,null,null,null,null,null,null,null,null,{"$error":"#N/A"},null,null,null,null,null,null,null,null,null,null,null,null,null,{"$f":"(T331*Setup!$J$17)+(U331*Setup!$J$18)+(V331*Setup!$J$19)+(W331*Setup!$J$22)+X331*(Setup!$J$23)+(Y331*Setup!$J$24)+(Z331*Setup!$J$27)+(AA331*Setup!$J$28)+(AB331*Setup!$J$29)","v":0},"ERROR",1,{"$f":"IF(T331<>U330,1,0)","v":0},{"$f":"IF(V331<>V330,1,0)","v":0},1,{"$f":"IF(W331<>X330,1,0)","v":0},{"$f":"IF(Y331<>Y330,1,0)","v":0},1,{"$f":"IF(Z331<>AA330,1,0)","v":0},{"$f":"IF(AB331<>AB330,1,0)","v":0}]
[null,null,null,null,null,null,null,null,null,null,null,null,null,null,null,{"$error":"#N/A"},null,null,null,null,null,null,null,null,null,null,null,null,null,{"$f":"(T332*Setup!$J$17)+(U332*Setup!$J$18)+(V332*Setup!$J$19)+(W332*Setup!$J$22)+X332*(Setup!$J$23)+(Y332*Setup!$J$24)+(Z332*Setup!$J$27)+(AA332*Setup!$J$28)+(AB332*Setup!$J$29)","v":0},"ERROR",1,{"$f":"IF(T332<>U333,1,0)","v":0},{"$f":"IF(V332<>V333,1,0)","v":0},1,{"$f":"IF(W332<>X333,1,0)","v":0},{"$f":"IF(Y332<>Y333,1,0)","v":0},1,{"$f":"IF(Z332<>AA333,1,0)","v":0},{"$f":"IF(AB332<>AB333,1,0)","v":0}]
[null,null,null,null,null,null,null,null,null,null,null,null,null,null,null,{"$error":"#N/A"},null,null,null,null,null,null,null,null,null,null,null,null,null,{"$f":"(T333*Setup!$J$17)+(U333*Setup!$J$18)+(V333*Setup!$J$19)+(W333*Setup!$J$22)+X333*(Setup!$J$23)+(Y333*Setup!$J$24)+(Z333*Setup!$J$27)+(AA333*Setup!$J$28)+(AB333*Setup!$J$29)","v":0},"ERROR",1,{"$f":"IF(T333<>U332,1,0)","v":0},{"$f":"IF(V333<>V332,1,0)","v":0},1,{"$f":"IF(W333<>X332,1,0)","v":0},{"$f":"IF(Y333<>Y332,1,0)","v":0},1,{"$f":"IF(Z333<>AA332,1,0)","v":0},{"$f":"IF(AB333<>AB332,1,0)","v":0}]
[null,null,null,null,null,null,null,null,null,null,null,null,null,null,null,{"$error":"#N/A"},null,null,null,null,null,null,null,null,null,null,null,null,null,{"$f":"(T334*Setup!$J$17)+(U334*Setup!$J$18)+(V334*Setup!$J$19)+(W334*Setup!$J$22)+X334*(Setup!$J$23)+(Y334*Setup!$J$24)+(Z334*Setup!$J$27)+(AA334*Setup!$J$28)+(AB334*Setup!$J$29)","v":0},"ERROR",1,{"$f":"IF(T334<>U335,1,0)","v":0},{"$f":"IF(V334<>V335,1,0)","v":0},1,{"$f":"IF(W334<>X335,1,0)","v":0},{"$f":"IF(Y334<>Y335,1,0)","v":0},1,{"$f":"IF(Z334<>AA335,1,0)","v":0},{"$f":"IF(AB334<>AB335,1,0)","v":0}]
[null,null,null,null,null,null,null,null,null,null,null,null,null,null,null,{"$error":"#N/A"},null,null,null,null,null,null,null,null,null,null,null,null,null,{"$f":"(T335*Setup!$J$17)+(U335*Setup!$J$18)+(V335*Setup!$J$19)+(W335*Setup!$J$22)+X335*(Setup!$J$23)+(Y335*Setup!$J$24)+(Z335*Setup!$J$27)+(AA335*Setup!$J$28)+(AB335*Setup!$J$29)","v":0},"ERROR",1,{"$f":"IF(T335<>U334,1,0)","v":0},{"$f":"IF(V335<>V334,1,0)","v":0},1,{"$f":"IF(W335<>X334,1,0)","v":0},{"$f":"IF(Y335<>Y334,1,0)","v":0},1,{"$f":"IF(Z335<>AA334,1,0)","v":0},{"$f":"IF(AB335<>AB334,1,0)","v":0}]
[null,null,null,null,null,null,null,null,null,null,null,null,null,null,null,{"$error":"#N/A"},null,null,null,null,null,null,null,null,null,null,null,null,null,{"$f":"(T336*Setup!$J$17)+(U336*Setup!$J$18)+(V336*Setup!$J$19)+(W336*Setup!$J$22)+X336*(Setup!$J$23)+(Y336*Setup!$J$24)+(Z336*Setup!$J$27)+(AA336*Setup!$J$28)+(AB336*Setup!$J$29)","v":0},"ERROR",1,{"$f":"IF(T336<>U337,1,0)","v":0},{"$f":"IF(V336<>V337,1,0)","v":0},1,{"$f":"IF(W336<>X337,1,0)","v":0},{"$f":"IF(Y336<>Y337,1,0)","v":0},1,{"$f":"IF(Z336<>AA337,1,0)","v":0},{"$f":"IF(AB336<>AB337,1,0)","v":0}]
[null,null,null,null,null,null,null,null,null,null,null,null,null,null,null,{"$error":"#N/A"},null,null,null,null,null,null,null,null,null,null,null,null,null,{"$f":"(T337*Setup!$J$17)+(U337*Setup!$J$18)+(V337*Setup!$J$19)+(W337*Setup!$J$22)+X337*(Setup!$J$23)+(Y337*Setup!$J$24)+(Z337*Setup!$J$27)+(AA337*Setup!$J$28)+(AB337*Setup!$J$29)","v":0},"ERROR",1,{"$f":"IF(T337<>U336,1,0)","v":0},{"$f":"IF(V337<>V336,1,0)","v":0},1,{"$f":"IF(W337<>X336,1,0)","v":0},{"$f":"IF(Y337<>Y336,1,0)","v":0},1,{"$f":"IF(Z337<>AA336,1,0)","v":0},{"$f":"IF(AB337<>AB336,1,0)","v":0}]
[null,null,null,null,null,null,null,null,null,null,null,null,null,null,null,{"$error":"#N/A"},null,null,null,null,null,null,null,null,null,null,null,null,null,{"$f":"(T338*Setup!$J$17)+(U338*Setup!$J$18)+(V338*Setup!$J$19)+(W338*Setup!$J$22)+X338*(Setup!$J$23)+(Y338*Setup!$J$24)+(Z338*Setup!$J$27)+(AA338*Setup!$J$28)+(AB338*Setup!$J$29)","v":0},"ERROR",1,{"$f":"IF(T338<>U339,1,0)","v":0},{"$f":"IF(V338<>V339,1,0)","v":0},1,{"$f":"IF(W338<>X339,1,0)","v":0},{"$f":"IF(Y338<>Y339,1,0)","v":0},1,{"$f":"IF(Z338<>AA339,1,0)","v":0},{"$f":"IF(AB338<>AB339,1,0)","v":0}]
[null,null,null,null,null,null,null,null,null,null,null,null,null,null,null,{"$error":"#N/A"},null,null,null,null,null,null,null,null,null,null,null,null,null,{"$f":"(T339*Setup!$J$17)+(U339*Setup!$J$18)+(V339*Setup!$J$19)+(W339*Setup!$J$22)+X339*(Setup!$J$23)+(Y339*Setup!$J$24)+(Z339*Setup!$J$27)+(AA339*Setup!$J$28)+(AB339*Setup!$J$29)","v":0},"ERROR",1,{"$f":"IF(T339<>U338,1,0)","v":0},{"$f":"IF(V339<>V338,1,0)","v":0},1,{"$f":"IF(W339<>X338,1,0)","v":0},{"$f":"IF(Y339<>Y338,1,0)","v":0},1,{"$f":"IF(Z339<>AA338,1,0)","v":0},{"$f":"IF(AB339<>AB338,1,0)","v":0}]
[null,null,null,null,null,null,null,null,null,null,null,null,null,null,null,{"$error":"#N/A"},null,null,null,null,null,null,null,null,null,null,null,null,null,{"$f":"(T340*Setup!$J$17)+(U340*Setup!$J$18)+(V340*Setup!$J$19)+(W340*Setup!$J$22)+X340*(Setup!$J$23)+(Y340*Setup!$J$24)+(Z340*Setup!$J$27)+(AA340*Setup!$J$28)+(AB340*Setup!$J$29)","v":0},"ERROR",1,{"$f":"IF(T340<>U341,1,0)","v":0},{"$f":"IF(V340<>V341,1,0)","v":0},1,{"$f":"IF(W340<>X341,1,0)","v":0},{"$f":"IF(Y340<>Y341,1,0)","v":0},1,{"$f":"IF(Z340<>AA341,1,0)","v":0},{"$f":"IF(AB340<>AB341,1,0)","v":0}]
[null,null,null,null,null,null,null,null,null,null,null,null,null,null,null,{"$error":"#N/A"},null,null,null,null,null,null,null,null,null,null,null,null,null,{"$f":"(T341*Setup!$J$17)+(U341*Setup!$J$18)+(V341*Setup!$J$19)+(W341*Setup!$J$22)+X341*(Setup!$J$23)+(Y341*Setup!$J$24)+(Z341*Setup!$J$27)+(AA341*Setup!$J$28)+(AB341*Setup!$J$29)","v":0},"ERROR",1,{"$f":"IF(T341<>U340,1,0)","v":0},{"$f":"IF(V341<>V340,1,0)","v":0},1,{"$f":"IF(W341<>X340,1,0)","v":0},{"$f":"IF(Y341<>Y340,1,0)","v":0},1,{"$f":"IF(Z341<>AA340,1,0)","v":0},{"$f":"IF(AB341<>AB340,1,0)","v":0}]
[null,null,null,null,null,null,null,null,null,null,null,null,null,null,null,{"$error":"#N/A"},null,null,null,null,null,null,null,null,null,null,null,null,null,{"$f":"(T342*Setup!$J$17)+(U342*Setup!$J$18)+(V342*Setup!$J$19)+(W342*Setup!$J$22)+X342*(Setup!$J$23)+(Y342*Setup!$J$24)+(Z342*Setup!$J$27)+(AA342*Setup!$J$28)+(AB342*Setup!$J$29)","v":0},"ERROR",1,{"$f":"IF(T342<>U343,1,0)","v":0},{"$f":"IF(V342<>V343,1,0)","v":0},1,{"$f":"IF(W342<>X343,1,0)","v":0},{"$f":"IF(Y342<>Y343,1,0)","v":0},1,{"$f":"IF(Z342<>AA343,1,0)","v":0},{"$f":"IF(AB342<>AB343,1,0)","v":0}]
[null,null,null,null,null,null,null,null,null,null,null,null,null,null,null,{"$error":"#N/A"},null,null,null,null,null,null,null,null,null,null,null,null,null,{"$f":"(T343*Setup!$J$17)+(U343*Setup!$J$18)+(V343*Setup!$J$19)+(W343*Setup!$J$22)+X343*(Setup!$J$23)+(Y343*Setup!$J$24)+(Z343*Setup!$J$27)+(AA343*Setup!$J$28)+(AB343*Setup!$J$29)","v":0},"ERROR",1,{"$f":"IF(T343<>U342,1,0)","v":0},{"$f":"IF(V343<>V342,1,0)","v":0},1,{"$f":"IF(W343<>X342,1,0)","v":0},{"$f":"IF(Y343<>Y342,1,0)","v":0},1,{"$f":"IF(Z343<>AA342,1,0)","v":0},{"$f":"IF(AB343<>AB342,1,0)","v":0}]
[null,null,null,null,null,null,null,null,null,null,null,null,null,null,null,{"$error":"#N/A"},null,null,null,null,null,null,null,null,null,null,null,null,null,{"$f":"(T344*Setup!$J$17)+(U344*Setup!$J$18)+(V344*Setup!$J$19)+(W344*Setup!$J$22)+X344*(Setup!$J$23)+(Y344*Setup!$J$24)+(Z344*Setup!$J$27)+(AA344*Setup!$J$28)+(AB344*Setup!$J$29)","v":0},"ERROR",1,{"$f":"IF(T344<>U345,1,0)","v":0},{"$f":"IF(V344<>V345,1,0)","v":0},1,{"$f":"IF(W344<>X345,1,0)","v":0},{"$f":"IF(Y344<>Y345,1,0)","v":0},1,{"$f":"IF(Z344<>AA345,1,0)","v":0},{"$f":"IF(AB344<>AB345,1,0)","v":0}]
[null,null,null,null,null,null,null,null,null,null,null,null,null,null,null,{"$error":"#N/A"},null,null,null,null,null,null,null,null,null,null,null,null,null,{"$f":"(T345*Setup!$J$17)+(U345*Setup!$J$18)+(V345*Setup!$J$19)+(W345*Setup!$J$22)+X345*(Setup!$J$23)+(Y345*Setup!$J$24)+(Z345*Setup!$J$27)+(AA345*Setup!$J$28)+(AB345*Setup!$J$29)","v":0},"ERROR",1,{"$f":"IF(T345<>U344,1,0)","v":0},{"$f":"IF(V345<>V344,1,0)","v":0},1,{"$f":"IF(W345<>X344,1,0)","v":0},{"$f":"IF(Y345<>Y344,1,0)","v":0},1,{"$f":"IF(Z345<>AA344,1,0)","v":0},{"$f":"IF(AB345<>AB344,1,0)","v":0}]
[null,null,null,null,null,null,null,null,null,null,null,null,null,null,null,{"$error":"#N/A"},null,null,null,null,null,null,null,null,null,null,null,null,null,{"$f":"(T346*Setup!$J$17)+(U346*Setup!$J$18)+(V346*Setup!$J$19)+(W346*Setup!$J$22)+X346*(Setup!$J$23)+(Y346*Setup!$J$24)+(Z346*Setup!$J$27)+(AA346*Setup!$J$28)+(AB346*Setup!$J$29)","v":0},"ERROR",1,{"$f":"IF(T346<>U347,1,0)","v":0},{"$f":"IF(V346<>V347,1,0)","v":0},1,{"$f":"IF(W346<>X347,1,0)","v":0},{"$f":"IF(Y346<>Y347,1,0)","v":0},1,{"$f":"IF(Z346<>AA347,1,0)","v":0},{"$f":"IF(AB346<>AB347,1,0)","v":0}]
[null,null,null,null,null,null,null,null,null,null,null,null,null,null,null,{"$error":"#N/A"},null,null,null,null,null,null,null,null,null,null,null,null,null,{"$f":"(T347*Setup!$J$17)+(U347*Setup!$J$18)+(V347*Setup!$J$19)+(W347*Setup!$J$22)+X347*(Setup!$J$23)+(Y347*Setup!$J$24)+(Z347*Setup!$J$27)+(AA347*Setup!$J$28)+(AB347*Setup!$J$29)","v":0},"ERROR",1,{"$f":"IF(T347<>U346,1,0)","v":0},{"$f":"IF(V347<>V346,1,0)","v":0},1,{"$f":"IF(W347<>X346,1,0)","v":0},{"$f":"IF(Y347<>Y346,1,0)","v":0},1,{"$f":"IF(Z347<>AA346,1,0)","v":0},{"$f":"IF(AB347<>AB346,1,0)","v":0}]
[null,null,null,null,null,null,null,null,null,null,null,null,null,null,null,{"$error":"#N/A"},null,null,null,null,null,null,null,null,null,null,null,null,null,{"$f":"(T348*Setup!$J$17)+(U348*Setup!$J$18)+(V348*Setup!$J$19)+(W348*Setup!$J$22)+X348*(Setup!$J$23)+(Y348*Setup!$J$24)+(Z348*Setup!$J$27)+(AA348*Setup!$J$28)+(AB348*Setup!$J$29)","v":0},"ERROR",1,{"$f":"IF(T348<>U349,1,0)","v":0},{"$f":"IF(V348<>V349,1,0)","v":0},1,{"$f":"IF(W348<>X349,1,0)","v":0},{"$f":"IF(Y348<>Y349,1,0)","v":0},1,{"$f":"IF(Z348<>AA349,1,0)","v":0},{"$f":"IF(AB348<>AB349,1,0)","v":0}]
[null,null,null,null,null,null,null,null,null,null,null,null,null,null,null,{"$error":"#N/A"},null,null,null,null,null,null,null,null,null,null,null,null,null,{"$f":"(T349*Setup!$J$17)+(U349*Setup!$J$18)+(V349*Setup!$J$19)+(W349*Setup!$J$22)+X349*(Setup!$J$23)+(Y349*Setup!$J$24)+(Z349*Setup!$J$27)+(AA349*Setup!$J$28)+(AB349*Setup!$J$29)","v":0},"ERROR",1,{"$f":"IF(T349<>U348,1,0)","v":0},{"$f":"IF(V349<>V348,1,0)","v":0},1,{"$f":"IF(W349<>X348,1,0)","v":0},{"$f":"IF(Y349<>Y348,1,0)","v":0},1,{"$f":"IF(Z349<>AA348,1,0)","v":0},{"$f":"IF(AB349<>AB348,1,0)","v":0}]
[null,null,null,null,null,null,null,null,null,null,null,null,null,null,null,{"$f":"VLOOKUP(S350,GE_Teams_DBID,2,FALSE)","v":{"$error":"#N/A"}},null,null,null,null,null,null,null,null,null,null,null,null,null,{"$f":"(T350*Setup!$J$17)+(U350*Setup!$J$18)+(V350*Setup!$J$19)+(W350*Setup!$J$22)+X350*(Setup!$J$23)+(Y350*Setup!$J$24)+(Z350*Setup!$J$27)+(AA350*Setup!$J$28)+(AB350*Setup!$J$29)","v":0},"ERROR",{"$f":"IF((T350+U350+V350)<>18,1,0)","v":1},{"$f":"IF(T350<>U351,1,0)","v":0},{"$f":"IF(V350<>V351,1,0)","v":0},{"$f":"IF((W350+X350+Y350)<>2,1,0)","v":1},{"$f":"IF(W350<>X351,1,0)","v":0},{"$f":"IF(Y350<>Y351,1,0)","v":0},{"$f":"IF((Z350+AA350+AB350)<>1,1,0)","v":1},{"$f":"IF(Z350<>AA351,1,0)","v":0},{"$f":"IF(AB350<>AB351,1,0)","v":0}]
[null,null,null,null,null,null,null,null,null,null,null,null,null,null,null,{"$error":"#N/A"},null,null,null,null,null,null,null,null,null,null,null,null,null,{"$f":"(T351*Setup!$J$17)+(U351*Setup!$J$18)+(V351*Setup!$J$19)+(W351*Setup!$J$22)+X351*(Setup!$J$23)+(Y351*Setup!$J$24)+(Z351*Setup!$J$27)+(AA351*Setup!$J$28)+(AB351*Setup!$J$29)","v":0},{"$f":"IF(SUM(AF351:AN351)>0,\"ERROR\",\"\")","v":"ERROR"},1,{"$f":"IF(T351<>U350,1,0)","v":0},{"$f":"IF(V351<>V350,1,0)","v":0},1,{"$f":"IF(W351<>X350,1,0)","v":0},{"$f":"IF(Y351<>Y350,1,0)","v":0},1,{"$f":"IF(Z351<>AA350,1,0)","v":0},{"$f":"IF(AB351<>AB350,1,0)","v":0}]
[null,null,null,null,null,null,null,null,null,null,null,null,null,null,null,{"$error":"#N/A"},null,null,null,null,null,null,null,null,null,null,null,null,null,{"$f":"(T352*Setup!$J$17)+(U352*Setup!$J$18)+(V352*Setup!$J$19)+(W352*Setup!$J$22)+X352*(Setup!$J$23)+(Y352*Setup!$J$24)+(Z352*Setup!$J$27)+(AA352*Setup!$J$28)+(AB352*Setup!$J$29)","v":0},"ERROR",1,{"$f":"IF(T352<>U353,1,0)","v":0},{"$f":"IF(V352<>V353,1,0)","v":0},1,{"$f":"IF(W352<>X353,1,0)","v":0},{"$f":"IF(Y352<>Y353,1,0)","v":0},1,{"$f":"IF(Z352<>AA353,1,0)","v":0},{"$f":"IF(AB352<>AB353,1,0)","v":0}]
[null,null,null,null,null,null,null,null,null,null,null,null,null,null,null,{"$error":"#N/A"},null,null,null,null,null,null,null,null,null,null,null,null,null,{"$f":"(T353*Setup!$J$17)+(U353*Setup!$J$18)+(V353*Setup!$J$19)+(W353*Setup!$J$22)+X353*(Setup!$J$23)+(Y353*Setup!$J$24)+(Z353*Setup!$J$27)+(AA353*Setup!$J$28)+(AB353*Setup!$J$29)","v":0},"ERROR",1,{"$f":"IF(T353<>U352,1,0)","v":0},{"$f":"IF(V353<>V352,1,0)","v":0},1,{"$f":"IF(W353<>X352,1,0)","v":0},{"$f":"IF(Y353<>Y352,1,0)","v":0},1,{"$f":"IF(Z353<>AA352,1,0)","v":0},{"$f":"IF(AB353<>AB352,1,0)","v":0}]
[null,null,null,null,null,null,null,null,null,null,null,null,null,null,null,{"$error":"#N/A"},null,null,null,null,null,null,null,null,null,null,null,null,null,{"$f":"(T354*Setup!$J$17)+(U354*Setup!$J$18)+(V354*Setup!$J$19)+(W354*Setup!$J$22)+X354*(Setup!$J$23)+(Y354*Setup!$J$24)+(Z354*Setup!$J$27)+(AA354*Setup!$J$28)+(AB354*Setup!$J$29)","v":0},"ERROR",1,{"$f":"IF(T354<>U355,1,0)","v":0},{"$f":"IF(V354<>V355,1,0)","v":0},1,{"$f":"IF(W354<>X355,1,0)","v":0},{"$f":"IF(Y354<>Y355,1,0)","v":0},1,{"$f":"IF(Z354<>AA355,1,0)","v":0},{"$f":"IF(AB354<>AB355,1,0)","v":0}]
[null,null,null,null,null,null,null,null,null,null,null,null,null,null,null,{"$error":"#N/A"},null,null,null,null,null,null,null,null,null,null,null,null,null,{"$f":"(T355*Setup!$J$17)+(U355*Setup!$J$18)+(V355*Setup!$J$19)+(W355*Setup!$J$22)+X355*(Setup!$J$23)+(Y355*Setup!$J$24)+(Z355*Setup!$J$27)+(AA355*Setup!$J$28)+(AB355*Setup!$J$29)","v":0},"ERROR",1,{"$f":"IF(T355<>U354,1,0)","v":0},{"$f":"IF(V355<>V354,1,0)","v":0},1,{"$f":"IF(W355<>X354,1,0)","v":0},{"$f":"IF(Y355<>Y354,1,0)","v":0},1,{"$f":"IF(Z355<>AA354,1,0)","v":0},{"$f":"IF(AB355<>AB354,1,0)","v":0}]
[null,null,null,null,null,null,null,null,null,null,null,null,null,null,null,{"$error":"#N/A"},null,null,null,null,null,null,null,null,null,null,null,null,null,{"$f":"(T356*Setup!$J$17)+(U356*Setup!$J$18)+(V356*Setup!$J$19)+(W356*Setup!$J$22)+X356*(Setup!$J$23)+(Y356*Setup!$J$24)+(Z356*Setup!$J$27)+(AA356*Setup!$J$28)+(AB356*Setup!$J$29)","v":0},"ERROR",1,{"$f":"IF(T356<>U357,1,0)","v":0},{"$f":"IF(V356<>V357,1,0)","v":0},1,{"$f":"IF(W356<>X357,1,0)","v":0},{"$f":"IF(Y356<>Y357,1,0)","v":0},1,{"$f":"IF(Z356<>AA357,1,0)","v":0},{"$f":"IF(AB356<>AB357,1,0)","v":0}]
[null,null,null,null,null,null,null,null,null,null,null,null,null,null,null,{"$error":"#N/A"},null,null,null,null,null,null,null,null,null,null,null,null,null,{"$f":"(T357*Setup!$J$17)+(U357*Setup!$J$18)+(V357*Setup!$J$19)+(W357*Setup!$J$22)+X357*(Setup!$J$23)+(Y357*Setup!$J$24)+(Z357*Setup!$J$27)+(AA357*Setup!$J$28)+(AB357*Setup!$J$29)","v":0},"ERROR",1,{"$f":"IF(T357<>U356,1,0)","v":0},{"$f":"IF(V357<>V356,1,0)","v":0},1,{"$f":"IF(W357<>X356,1,0)","v":0},{"$f":"IF(Y357<>Y356,1,0)","v":0},1,{"$f":"IF(Z357<>AA356,1,0)","v":0},{"$f":"IF(AB357<>AB356,1,0)","v":0}]
[null,null,null,null,null,null,null,null,null,null,null,null,null,null,null,{"$error":"#N/A"},null,null,null,null,null,null,null,null,null,null,null,null,null,{"$f":"(T358*Setup!$J$17)+(U358*Setup!$J$18)+(V358*Setup!$J$19)+(W358*Setup!$J$22)+X358*(Setup!$J$23)+(Y358*Setup!$J$24)+(Z358*Setup!$J$27)+(AA358*Setup!$J$28)+(AB358*Setup!$J$29)","v":0},"ERROR",1,{"$f":"IF(T358<>U359,1,0)","v":0},{"$f":"IF(V358<>V359,1,0)","v":0},1,{"$f":"IF(W358<>X359,1,0)","v":0},{"$f":"IF(Y358<>Y359,1,0)","v":0},1,{"$f":"IF(Z358<>AA359,1,0)","v":0},{"$f":"IF(AB358<>AB359,1,0)","v":0}]
[null,null,null,null,null,null,null,null,null,null,null,null,null,null,null,{"$error":"#N/A"},null,null,null,null,null,null,null,null,null,null,null,null,null,{"$f":"(T359*Setup!$J$17)+(U359*Setup!$J$18)+(V359*Setup!$J$19)+(W359*Setup!$J$22)+X359*(Setup!$J$23)+(Y359*Setup!$J$24)+(Z359*Setup!$J$27)+(AA359*Setup!$J$28)+(AB359*Setup!$J$29)","v":0},"ERROR",1,{"$f":"IF(T359<>U358,1,0)","v":0},{"$f":"IF(V359<>V358,1,0)","v":0},1,{"$f":"IF(W359<>X358,1,0)","v":0},{"$f":"IF(Y359<>Y358,1,0)","v":0},1,{"$f":"IF(Z359<>AA358,1,0)","v":0},{"$f":"IF(AB359<>AB358,1,0)","v":0}]
[null,null,null,null,null,null,null,null,null,null,null,null,null,null,null,{"$error":"#N/A"},null,null,null,null,null,null,null,null,null,null,null,null,null,{"$f":"(T360*Setup!$J$17)+(U360*Setup!$J$18)+(V360*Setup!$J$19)+(W360*Setup!$J$22)+X360*(Setup!$J$23)+(Y360*Setup!$J$24)+(Z360*Setup!$J$27)+(AA360*Setup!$J$28)+(AB360*Setup!$J$29)","v":0},"ERROR",1,{"$f":"IF(T360<>U361,1,0)","v":0},{"$f":"IF(V360<>V361,1,0)","v":0},1,{"$f":"IF(W360<>X361,1,0)","v":0},{"$f":"IF(Y360<>Y361,1,0)","v":0},1,{"$f":"IF(Z360<>AA361,1,0)","v":0},{"$f":"IF(AB360<>AB361,1,0)","v":0}]
[null,null,null,null,null,null,null,null,null,null,null,null,null,null,null,{"$error":"#N/A"},null,null,null,null,null,null,null,null,null,null,null,null,null,{"$f":"(T361*Setup!$J$17)+(U361*Setup!$J$18)+(V361*Setup!$J$19)+(W361*Setup!$J$22)+X361*(Setup!$J$23)+(Y361*Setup!$J$24)+(Z361*Setup!$J$27)+(AA361*Setup!$J$28)+(AB361*Setup!$J$29)","v":0},"ERROR",1,{"$f":"IF(T361<>U360,1,0)","v":0},{"$f":"IF(V361<>V360,1,0)","v":0},1,{"$f":"IF(W361<>X360,1,0)","v":0},{"$f":"IF(Y361<>Y360,1,0)","v":0},1,{"$f":"IF(Z361<>AA360,1,0)","v":0},{"$f":"IF(AB361<>AB360,1,0)","v":0}]
[null,null,null,null,null,null,null,null,null,null,null,null,null,null,null,{"$error":"#N/A"},null,null,null,null,null,null,null,null,null,null,null,null,null,{"$f":"(T362*Setup!$J$17)+(U362*Setup!$J$18)+(V362*Setup!$J$19)+(W362*Setup!$J$22)+X362*(Setup!$J$23)+(Y362*Setup!$J$24)+(Z362*Setup!$J$27)+(AA362*Setup!$J$28)+(AB362*Setup!$J$29)","v":0},"ERROR",1,{"$f":"IF(T362<>U363,1,0)","v":0},{"$f":"IF(V362<>V363,1,0)","v":0},1,{"$f":"IF(W362<>X363,1,0)","v":0},{"$f":"IF(Y362<>Y363,1,0)","v":0},1,{"$f":"IF(Z362<>AA363,1,0)","v":0},{"$f":"IF(AB362<>AB363,1,0)","v":0}]
[null,null,null,null,null,null,null,null,null,null,null,null,null,null,null,{"$error":"#N/A"},null,null,null,null,null,null,null,null,null,null,null,null,null,{"$f":"(T363*Setup!$J$17)+(U363*Setup!$J$18)+(V363*Setup!$J$19)+(W363*Setup!$J$22)+X363*(Setup!$J$23)+(Y363*Setup!$J$24)+(Z363*Setup!$J$27)+(AA363*Setup!$J$28)+(AB363*Setup!$J$29)","v":0},"ERROR",1,{"$f":"IF(T363<>U362,1,0)","v":0},{"$f":"IF(V363<>V362,1,0)","v":0},1,{"$f":"IF(W363<>X362,1,0)","v":0},{"$f":"IF(Y363<>Y362,1,0)","v":0},1,{"$f":"IF(Z363<>AA362,1,0)","v":0},{"$f":"IF(AB363<>AB362,1,0)","v":0}]
[null,null,null,null,null,null,null,null,null,null,null,null,null,null,null,{"$error":"#N/A"},null,null,null,null,null,null,null,null,null,null,null,null,null,{"$f":"(T364*Setup!$J$17)+(U364*Setup!$J$18)+(V364*Setup!$J$19)+(W364*Setup!$J$22)+X364*(Setup!$J$23)+(Y364*Setup!$J$24)+(Z364*Setup!$J$27)+(AA364*Setup!$J$28)+(AB364*Setup!$J$29)","v":0},"ERROR",1,{"$f":"IF(T364<>U365,1,0)","v":0},{"$f":"IF(V364<>V365,1,0)","v":0},1,{"$f":"IF(W364<>X365,1,0)","v":0},{"$f":"IF(Y364<>Y365,1,0)","v":0},1,{"$f":"IF(Z364<>AA365,1,0)","v":0},{"$f":"IF(AB364<>AB365,1,0)","v":0}]
[null,null,null,null,null,null,null,null,null,null,null,null,null,null,null,{"$error":"#N/A"},null,null,null,null,null,null,null,null,null,null,null,null,null,{"$f":"(T365*Setup!$J$17)+(U365*Setup!$J$18)+(V365*Setup!$J$19)+(W365*Setup!$J$22)+X365*(Setup!$J$23)+(Y365*Setup!$J$24)+(Z365*Setup!$J$27)+(AA365*Setup!$J$28)+(AB365*Setup!$J$29)","v":0},"ERROR",1,{"$f":"IF(T365<>U364,1,0)","v":0},{"$f":"IF(V365<>V364,1,0)","v":0},1,{"$f":"IF(W365<>X364,1,0)","v":0},{"$f":"IF(Y365<>Y364,1,0)","v":0},1,{"$f":"IF(Z365<>AA364,1,0)","v":0},{"$f":"IF(AB365<>AB364,1,0)","v":0}]
[null,null,null,null,null,null,null,null,null,null,null,null,null,null,null,{"$error":"#N/A"},null,null,null,null,null,null,null,null,null,null,null,null,null,{"$f":"(T366*Setup!$J$17)+(U366*Setup!$J$18)+(V366*Setup!$J$19)+(W366*Setup!$J$22)+X366*(Setup!$J$23)+(Y366*Setup!$J$24)+(Z366*Setup!$J$27)+(AA366*Setup!$J$28)+(AB366*Setup!$J$29)","v":0},"ERROR",1,{"$f":"IF(T366<>U367,1,0)","v":0},{"$f":"IF(V366<>V367,1,0)","v":0},1,{"$f":"IF(W366<>X367,1,0)","v":0},{"$f":"IF(Y366<>Y367,1,0)","v":0},1,{"$f":"IF(Z366<>AA367,1,0)","v":0},{"$f":"IF(AB366<>AB367,1,0)","v":0}]
[null,null,null,null,null,null,null,null,null,null,null,null,null,null,null,{"$error":"#N/A"},null,null,null,null,null,null,null,null,null,null,null,null,null,{"$f":"(T367*Setup!$J$17)+(U367*Setup!$J$18)+(V367*Setup!$J$19)+(W367*Setup!$J$22)+X367*(Setup!$J$23)+(Y367*Setup!$J$24)+(Z367*Setup!$J$27)+(AA367*Setup!$J$28)+(AB367*Setup!$J$29)","v":0},"ERROR",1,{"$f":"IF(T367<>U366,1,0)","v":0},{"$f":"IF(V367<>V366,1,0)","v":0},1,{"$f":"IF(W367<>X366,1,0)","v":0},{"$f":"IF(Y367<>Y366,1,0)","v":0},1,{"$f":"IF(Z367<>AA366,1,0)","v":0},{"$f":"IF(AB367<>AB366,1,0)","v":0}]
[null,null,null,null,null,null,null,null,null,null,null,null,null,null,null,{"$error":"#N/A"},null,null,null,null,null,null,null,null,null,null,null,null,null,{"$f":"(T368*Setup!$J$17)+(U368*Setup!$J$18)+(V368*Setup!$J$19)+(W368*Setup!$J$22)+X368*(Setup!$J$23)+(Y368*Setup!$J$24)+(Z368*Setup!$J$27)+(AA368*Setup!$J$28)+(AB368*Setup!$J$29)","v":0},"ERROR",1,{"$f":"IF(T368<>U369,1,0)","v":0},{"$f":"IF(V368<>V369,1,0)","v":0},1,{"$f":"IF(W368<>X369,1,0)","v":0},{"$f":"IF(Y368<>Y369,1,0)","v":0},1,{"$f":"IF(Z368<>AA369,1,0)","v":0},{"$f":"IF(AB368<>AB369,1,0)","v":0}]
[null,null,null,null,null,null,null,null,null,null,null,null,null,null,null,{"$error":"#N/A"},null,null,null,null,null,null,null,null,null,null,null,null,null,{"$f":"(T369*Setup!$J$17)+(U369*Setup!$J$18)+(V369*Setup!$J$19)+(W369*Setup!$J$22)+X369*(Setup!$J$23)+(Y369*Setup!$J$24)+(Z369*Setup!$J$27)+(AA369*Setup!$J$28)+(AB369*Setup!$J$29)","v":0},"ERROR",1,{"$f":"IF(T369<>U368,1,0)","v":0},{"$f":"IF(V369<>V368,1,0)","v":0},1,{"$f":"IF(W369<>X368,1,0)","v":0},{"$f":"IF(Y369<>Y368,1,0)","v":0},1,{"$f":"IF(Z369<>AA368,1,0)","v":0},{"$f":"IF(AB369<>AB368,1,0)","v":0}]
[null,null,null,null,null,null,null,null,null,null,null,null,null,null,null,{"$error":"#N/A"},null,null,null,null,null,null,null,null,null,null,null,null,null,{"$f":"(T370*Setup!$J$17)+(U370*Setup!$J$18)+(V370*Setup!$J$19)+(W370*Setup!$J$22)+X370*(Setup!$J$23)+(Y370*Setup!$J$24)+(Z370*Setup!$J$27)+(AA370*Setup!$J$28)+(AB370*Setup!$J$29)","v":0},"ERROR",1,{"$f":"IF(T370<>U371,1,0)","v":0},{"$f":"IF(V370<>V371,1,0)","v":0},1,{"$f":"IF(W370<>X371,1,0)","v":0},{"$f":"IF(Y370<>Y371,1,0)","v":0},1,{"$f":"IF(Z370<>AA371,1,0)","v":0},{"$f":"IF(AB370<>AB371,1,0)","v":0}]
[null,null,null,null,null,null,null,null,null,null,null,null,null,null,null,{"$error":"#N/A"},null,null,null,null,null,null,null,null,null,null,null,null,null,{"$f":"(T371*Setup!$J$17)+(U371*Setup!$J$18)+(V371*Setup!$J$19)+(W371*Setup!$J$22)+X371*(Setup!$J$23)+(Y371*Setup!$J$24)+(Z371*Setup!$J$27)+(AA371*Setup!$J$28)+(AB371*Setup!$J$29)","v":0},"ERROR",1,{"$f":"IF(T371<>U370,1,0)","v":0},{"$f":"IF(V371<>V370,1,0)","v":0},1,{"$f":"IF(W371<>X370,1,0)","v":0},{"$f":"IF(Y371<>Y370,1,0)","v":0},1,{"$f":"IF(Z371<>AA370,1,0)","v":0},{"$f":"IF(AB371<>AB370,1,0)","v":0}]
[null,null,null,null,null,null,null,null,null,null,null,null,null,null,null,{"$error":"#N/A"},null,null,null,null,null,null,null,null,null,null,null,null,null,{"$f":"(T372*Setup!$J$17)+(U372*Setup!$J$18)+(V372*Setup!$J$19)+(W372*Setup!$J$22)+X372*(Setup!$J$23)+(Y372*Setup!$J$24)+(Z372*Setup!$J$27)+(AA372*Setup!$J$28)+(AB372*Setup!$J$29)","v":0},"ERROR",1,{"$f":"IF(T372<>U373,1,0)","v":0},{"$f":"IF(V372<>V373,1,0)","v":0},1,{"$f":"IF(W372<>X373,1,0)","v":0},{"$f":"IF(Y372<>Y373,1,0)","v":0},1,{"$f":"IF(Z372<>AA373,1,0)","v":0},{"$f":"IF(AB372<>AB373,1,0)","v":0}]
[null,null,null,null,null,null,null,null,null,null,null,null,null,null,null,{"$error":"#N/A"},null,null,null,null,null,null,null,null,null,null,null,null,null,{"$f":"(T373*Setup!$J$17)+(U373*Setup!$J$18)+(V373*Setup!$J$19)+(W373*Setup!$J$22)+X373*(Setup!$J$23)+(Y373*Setup!$J$24)+(Z373*Setup!$J$27)+(AA373*Setup!$J$28)+(AB373*Setup!$J$29)","v":0},"ERROR",1,{"$f":"IF(T373<>U372,1,0)","v":0},{"$f":"IF(V373<>V372,1,0)","v":0},1,{"$f":"IF(W373<>X372,1,0)","v":0},{"$f":"IF(Y373<>Y372,1,0)","v":0},1,{"$f":"IF(Z373<>AA372,1,0)","v":0},{"$f":"IF(AB373<>AB372,1,0)","v":0}]
[null,null,null,null,null,null,null,null,null,null,null,null,null,null,null,{"$error":"#N/A"},null,null,null,null,null,null,null,null,null,null,null,null,null,{"$f":"(T374*Setup!$J$17)+(U374*Setup!$J$18)+(V374*Setup!$J$19)+(W374*Setup!$J$22)+X374*(Setup!$J$23)+(Y374*Setup!$J$24)+(Z374*Setup!$J$27)+(AA374*Setup!$J$28)+(AB374*Setup!$J$29)","v":0},"ERROR",1,{"$f":"IF(T374<>U375,1,0)","v":0},{"$f":"IF(V374<>V375,1,0)","v":0},1,{"$f":"IF(W374<>X375,1,0)","v":0},{"$f":"IF(Y374<>Y375,1,0)","v":0},1,{"$f":"IF(Z374<>AA375,1,0)","v":0},{"$f":"IF(AB374<>AB375,1,0)","v":0}]
[null,null,null,null,null,null,null,null,null,null,null,null,null,null,null,{"$error":"#N/A"},null,null,null,null,null,null,null,null,null,null,null,null,null,{"$f":"(T375*Setup!$J$17)+(U375*Setup!$J$18)+(V375*Setup!$J$19)+(W375*Setup!$J$22)+X375*(Setup!$J$23)+(Y375*Setup!$J$24)+(Z375*Setup!$J$27)+(AA375*Setup!$J$28)+(AB375*Setup!$J$29)","v":0},"ERROR",1,{"$f":"IF(T375<>U374,1,0)","v":0},{"$f":"IF(V375<>V374,1,0)","v":0},1,{"$f":"IF(W375<>X374,1,0)","v":0},{"$f":"IF(Y375<>Y374,1,0)","v":0},1,{"$f":"IF(Z375<>AA374,1,0)","v":0},{"$f":"IF(AB375<>AB374,1,0)","v":0}]
[null,null,null,null,null,null,null,null,null,null,null,null,null,null,null,{"$error":"#N/A"},null,null,null,null,null,null,null,null,null,null,null,null,null,{"$f":"(T376*Setup!$J$17)+(U376*Setup!$J$18)+(V376*Setup!$J$19)+(W376*Setup!$J$22)+X376*(Setup!$J$23)+(Y376*Setup!$J$24)+(Z376*Setup!$J$27)+(AA376*Setup!$J$28)+(AB376*Setup!$J$29)","v":0},"ERROR",1,{"$f":"IF(T376<>U377,1,0)","v":0},{"$f":"IF(V376<>V377,1,0)","v":0},1,{"$f":"IF(W376<>X377,1,0)","v":0},{"$f":"IF(Y376<>Y377,1,0)","v":0},1,{"$f":"IF(Z376<>AA377,1,0)","v":0},{"$f":"IF(AB376<>AB377,1,0)","v":0}]
[null,null,null,null,null,null,null,null,null,null,null,null,null,null,null,{"$error":"#N/A"},null,null,null,null,null,null,null,null,null,null,null,null,null,{"$f":"(T377*Setup!$J$17)+(U377*Setup!$J$18)+(V377*Setup!$J$19)+(W377*Setup!$J$22)+X377*(Setup!$J$23)+(Y377*Setup!$J$24)+(Z377*Setup!$J$27)+(AA377*Setup!$J$28)+(AB377*Setup!$J$29)","v":0},"ERROR",1,{"$f":"IF(T377<>U376,1,0)","v":0},{"$f":"IF(V377<>V376,1,0)","v":0},1,{"$f":"IF(W377<>X376,1,0)","v":0},{"$f":"IF(Y377<>Y376,1,0)","v":0},1,{"$f":"IF(Z377<>AA376,1,0)","v":0},{"$f":"IF(AB377<>AB376,1,0)","v":0}]
[null,null,null,null,null,null,null,null,null,null,null,null,null,null,null,{"$error":"#N/A"},null,null,null,null,null,null,null,null,null,null,null,null,null,{"$f":"(T378*Setup!$J$17)+(U378*Setup!$J$18)+(V378*Setup!$J$19)+(W378*Setup!$J$22)+X378*(Setup!$J$23)+(Y378*Setup!$J$24)+(Z378*Setup!$J$27)+(AA378*Setup!$J$28)+(AB378*Setup!$J$29)","v":0},"ERROR",1,{"$f":"IF(T378<>U379,1,0)","v":0},{"$f":"IF(V378<>V379,1,0)","v":0},1,{"$f":"IF(W378<>X379,1,0)","v":0},{"$f":"IF(Y378<>Y379,1,0)","v":0},1,{"$f":"IF(Z378<>AA379,1,0)","v":0},{"$f":"IF(AB378<>AB379,1,0)","v":0}]
[null,null,null,null,null,null,null,null,null,null,null,null,null,null,null,{"$error":"#N/A"},null,null,null,null,null,null,null,null,null,null,null,null,null,{"$f":"(T379*Setup!$J$17)+(U379*Setup!$J$18)+(V379*Setup!$J$19)+(W379*Setup!$J$22)+X379*(Setup!$J$23)+(Y379*Setup!$J$24)+(Z379*Setup!$J$27)+(AA379*Setup!$J$28)+(AB379*Setup!$J$29)","v":0},"ERROR",1,{"$f":"IF(T379<>U378,1,0)","v":0},{"$f":"IF(V379<>V378,1,0)","v":0},1,{"$f":"IF(W379<>X378,1,0)","v":0},{"$f":"IF(Y379<>Y378,1,0)","v":0},1,{"$f":"IF(Z379<>AA378,1,0)","v":0},{"$f":"IF(AB379<>AB378,1,0)","v":0}]
[null,null,null,null,null,null,null,null,null,null,null,null,null,null,null,{"$error":"#N/A"},null,null,null,null,null,null,null,null,null,null,null,null,null,{"$f":"(T380*Setup!$J$17)+(U380*Setup!$J$18)+(V380*Setup!$J$19)+(W380*Setup!$J$22)+X380*(Setup!$J$23)+(Y380*Setup!$J$24)+(Z380*Setup!$J$27)+(AA380*Setup!$J$28)+(AB380*Setup!$J$29)","v":0},"ERROR",1,{"$f":"IF(T380<>U381,1,0)","v":0},{"$f":"IF(V380<>V381,1,0)","v":0},1,{"$f":"IF(W380<>X381,1,0)","v":0},{"$f":"IF(Y380<>Y381,1,0)","v":0},1,{"$f":"IF(Z380<>AA381,1,0)","v":0},{"$f":"IF(AB380<>AB381,1,0)","v":0}]
[null,null,null,null,null,null,null,null,null,null,null,null,null,null,null,{"$error":"#N/A"},null,null,null,null,null,null,null,null,null,null,null,null,null,{"$f":"(T381*Setup!$J$17)+(U381*Setup!$J$18)+(V381*Setup!$J$19)+(W381*Setup!$J$22)+X381*(Setup!$J$23)+(Y381*Setup!$J$24)+(Z381*Setup!$J$27)+(AA381*Setup!$J$28)+(AB381*Setup!$J$29)","v":0},"ERROR",1,{"$f":"IF(T381<>U380,1,0)","v":0},{"$f":"IF(V381<>V380,1,0)","v":0},1,{"$f":"IF(W381<>X380,1,0)","v":0},{"$f":"IF(Y381<>Y380,1,0)","v":0},1,{"$f":"IF(Z381<>AA380,1,0)","v":0},{"$f":"IF(AB381<>AB380,1,0)","v":0}]
[null,null,null,null,null,null,null,null,null,null,null,null,null,null,null,{"$error":"#N/A"},null,null,null,null,null,null,null,null,null,null,null,null,null,{"$f":"(T382*Setup!$J$17)+(U382*Setup!$J$18)+(V382*Setup!$J$19)+(W382*Setup!$J$22)+X382*(Setup!$J$23)+(Y382*Setup!$J$24)+(Z382*Setup!$J$27)+(AA382*Setup!$J$28)+(AB382*Setup!$J$29)","v":0},"ERROR",1,{"$f":"IF(T382<>U383,1,0)","v":0},{"$f":"IF(V382<>V383,1,0)","v":0},1,{"$f":"IF(W382<>X383,1,0)","v":0},{"$f":"IF(Y382<>Y383,1,0)","v":0},1,{"$f":"IF(Z382<>AA383,1,0)","v":0},{"$f":"IF(AB382<>AB383,1,0)","v":0}]
[null,null,null,null,null,null,null,null,null,null,null,null,null,null,null,{"$error":"#N/A"},null,null,null,null,null,null,null,null,null,null,null,null,null,{"$f":"(T383*Setup!$J$17)+(U383*Setup!$J$18)+(V383*Setup!$J$19)+(W383*Setup!$J$22)+X383*(Setup!$J$23)+(Y383*Setup!$J$24)+(Z383*Setup!$J$27)+(AA383*Setup!$J$28)+(AB383*Setup!$J$29)","v":0},"ERROR",1,{"$f":"IF(T383<>U382,1,0)","v":0},{"$f":"IF(V383<>V382,1,0)","v":0},1,{"$f":"IF(W383<>X382,1,0)","v":0},{"$f":"IF(Y383<>Y382,1,0)","v":0},1,{"$f":"IF(Z383<>AA382,1,0)","v":0},{"$f":"IF(AB383<>AB382,1,0)","v":0}]
[null,null,null,null,null,null,null,null,null,null,null,null,null,null,null,{"$error":"#N/A"},null,null,null,null,null,null,null,null,null,null,null,null,null,{"$f":"(T384*Setup!$J$17)+(U384*Setup!$J$18)+(V384*Setup!$J$19)+(W384*Setup!$J$22)+X384*(Setup!$J$23)+(Y384*Setup!$J$24)+(Z384*Setup!$J$27)+(AA384*Setup!$J$28)+(AB384*Setup!$J$29)","v":0},"ERROR",1,{"$f":"IF(T384<>U385,1,0)","v":0},{"$f":"IF(V384<>V385,1,0)","v":0},1,{"$f":"IF(W384<>X385,1,0)","v":0},{"$f":"IF(Y384<>Y385,1,0)","v":0},1,{"$f":"IF(Z384<>AA385,1,0)","v":0},{"$f":"IF(AB384<>AB385,1,0)","v":0}]
[null,null,null,null,null,null,null,null,null,null,null,null,null,null,null,{"$error":"#N/A"},null,null,null,null,null,null,null,null,null,null,null,null,null,{"$f":"(T385*Setup!$J$17)+(U385*Setup!$J$18)+(V385*Setup!$J$19)+(W385*Setup!$J$22)+X385*(Setup!$J$23)+(Y385*Setup!$J$24)+(Z385*Setup!$J$27)+(AA385*Setup!$J$28)+(AB385*Setup!$J$29)","v":0},"ERROR",1,{"$f":"IF(T385<>U384,1,0)","v":0},{"$f":"IF(V385<>V384,1,0)","v":0},1,{"$f":"IF(W385<>X384,1,0)","v":0},{"$f":"IF(Y385<>Y384,1,0)","v":0},1,{"$f":"IF(Z385<>AA384,1,0)","v":0},{"$f":"IF(AB385<>AB384,1,0)","v":0}]
[null,null,null,null,null,null,null,null,null,null,null,null,null,null,null,{"$error":"#N/A"},null,null,null,null,null,null,null,null,null,null,null,null,null,{"$f":"(T386*Setup!$J$17)+(U386*Setup!$J$18)+(V386*Setup!$J$19)+(W386*Setup!$J$22)+X386*(Setup!$J$23)+(Y386*Setup!$J$24)+(Z386*Setup!$J$27)+(AA386*Setup!$J$28)+(AB386*Setup!$J$29)","v":0},"ERROR",1,{"$f":"IF(T386<>U387,1,0)","v":0},{"$f":"IF(V386<>V387,1,0)","v":0},1,{"$f":"IF(W386<>X387,1,0)","v":0},{"$f":"IF(Y386<>Y387,1,0)","v":0},1,{"$f":"IF(Z386<>AA387,1,0)","v":0},{"$f":"IF(AB386<>AB387,1,0)","v":0}]
[null,null,null,null,null,null,null,null,null,null,null,null,null,null,null,{"$error":"#N/A"},null,null,null,null,null,null,null,null,null,null,null,null,null,{"$f":"(T387*Setup!$J$17)+(U387*Setup!$J$18)+(V387*Setup!$J$19)+(W387*Setup!$J$22)+X387*(Setup!$J$23)+(Y387*Setup!$J$24)+(Z387*Setup!$J$27)+(AA387*Setup!$J$28)+(AB387*Setup!$J$29)","v":0},"ERROR",1,{"$f":"IF(T387<>U386,1,0)","v":0},{"$f":"IF(V387<>V386,1,0)","v":0},1,{"$f":"IF(W387<>X386,1,0)","v":0},{"$f":"IF(Y387<>Y386,1,0)","v":0},1,{"$f":"IF(Z387<>AA386,1,0)","v":0},{"$f":"IF(AB387<>AB386,1,0)","v":0}]
[null,null,null,null,null,null,null,null,null,null,null,null,null,null,null,{"$error":"#N/A"},null,null,null,null,null,null,null,null,null,null,null,null,null,{"$f":"(T388*Setup!$J$17)+(U388*Setup!$J$18)+(V388*Setup!$J$19)+(W388*Setup!$J$22)+X388*(Setup!$J$23)+(Y388*Setup!$J$24)+(Z388*Setup!$J$27)+(AA388*Setup!$J$28)+(AB388*Setup!$J$29)","v":0},"ERROR",1,{"$f":"IF(T388<>U389,1,0)","v":0},{"$f":"IF(V388<>V389,1,0)","v":0},1,{"$f":"IF(W388<>X389,1,0)","v":0},{"$f":"IF(Y388<>Y389,1,0)","v":0},1,{"$f":"IF(Z388<>AA389,1,0)","v":0},{"$f":"IF(AB388<>AB389,1,0)","v":0}]
[null,null,null,null,null,null,null,null,null,null,null,null,null,null,null,{"$error":"#N/A"},null,null,null,null,null,null,null,null,null,null,null,null,null,{"$f":"(T389*Setup!$J$17)+(U389*Setup!$J$18)+(V389*Setup!$J$19)+(W389*Setup!$J$22)+X389*(Setup!$J$23)+(Y389*Setup!$J$24)+(Z389*Setup!$J$27)+(AA389*Setup!$J$28)+(AB389*Setup!$J$29)","v":0},"ERROR",1,{"$f":"IF(T389<>U388,1,0)","v":0},{"$f":"IF(V389<>V388,1,0)","v":0},1,{"$f":"IF(W389<>X388,1,0)","v":0},{"$f":"IF(Y389<>Y388,1,0)","v":0},1,{"$f":"IF(Z389<>AA388,1,0)","v":0},{"$f":"IF(AB389<>AB388,1,0)","v":0}]
[null,null,null,null,null,null,null,null,null,null,null,null,null,null,null,{"$error":"#N/A"},null,null,null,null,null,null,null,null,null,null,null,null,null,{"$f":"(T390*Setup!$J$17)+(U390*Setup!$J$18)+(V390*Setup!$J$19)+(W390*Setup!$J$22)+X390*(Setup!$J$23)+(Y390*Setup!$J$24)+(Z390*Setup!$J$27)+(AA390*Setup!$J$28)+(AB390*Setup!$J$29)","v":0},"ERROR",1,{"$f":"IF(T390<>U391,1,0)","v":0},{"$f":"IF(V390<>V391,1,0)","v":0},1,{"$f":"IF(W390<>X391,1,0)","v":0},{"$f":"IF(Y390<>Y391,1,0)","v":0},1,{"$f":"IF(Z390<>AA391,1,0)","v":0},{"$f":"IF(AB390<>AB391,1,0)","v":0}]
[null,null,null,null,null,null,null,null,null,null,null,null,null,null,null,{"$error":"#N/A"},null,null,null,null,null,null,null,null,null,null,null,null,null,{"$f":"(T391*Setup!$J$17)+(U391*Setup!$J$18)+(V391*Setup!$J$19)+(W391*Setup!$J$22)+X391*(Setup!$J$23)+(Y391*Setup!$J$24)+(Z391*Setup!$J$27)+(AA391*Setup!$J$28)+(AB391*Setup!$J$29)","v":0},"ERROR",1,{"$f":"IF(T391<>U390,1,0)","v":0},{"$f":"IF(V391<>V390,1,0)","v":0},1,{"$f":"IF(W391<>X390,1,0)","v":0},{"$f":"IF(Y391<>Y390,1,0)","v":0},1,{"$f":"IF(Z391<>AA390,1,0)","v":0},{"$f":"IF(AB391<>AB390,1,0)","v":0}]
[null,null,null,null,null,null,null,null,null,null,null,null,null,null,null,{"$error":"#N/A"},null,null,null,null,null,null,null,null,null,null,null,null,null,{"$f":"(T392*Setup!$J$17)+(U392*Setup!$J$18)+(V392*Setup!$J$19)+(W392*Setup!$J$22)+X392*(Setup!$J$23)+(Y392*Setup!$J$24)+(Z392*Setup!$J$27)+(AA392*Setup!$J$28)+(AB392*Setup!$J$29)","v":0},"ERROR",1,{"$f":"IF(T392<>U393,1,0)","v":0},{"$f":"IF(V392<>V393,1,0)","v":0},1,{"$f":"IF(W392<>X393,1,0)","v":0},{"$f":"IF(Y392<>Y393,1,0)","v":0},1,{"$f":"IF(Z392<>AA393,1,0)","v":0},{"$f":"IF(AB392<>AB393,1,0)","v":0}]
[null,null,null,null,null,null,null,null,null,null,null,null,null,null,null,{"$error":"#N/A"},null,null,null,null,null,null,null,null,null,null,null,null,null,{"$f":"(T393*Setup!$J$17)+(U393*Setup!$J$18)+(V393*Setup!$J$19)+(W393*Setup!$J$22)+X393*(Setup!$J$23)+(Y393*Setup!$J$24)+(Z393*Setup!$J$27)+(AA393*Setup!$J$28)+(AB393*Setup!$J$29)","v":0},"ERROR",1,{"$f":"IF(T393<>U392,1,0)","v":0},{"$f":"IF(V393<>V392,1,0)","v":0},1,{"$f":"IF(W393<>X392,1,0)","v":0},{"$f":"IF(Y393<>Y392,1,0)","v":0},1,{"$f":"IF(Z393<>AA392,1,0)","v":0},{"$f":"IF(AB393<>AB392,1,0)","v":0}]
[null,null,null,null,null,null,null,null,null,null,null,null,null,null,null,{"$error":"#N/A"},null,null,null,null,null,null,null,null,null,null,null,null,null,{"$f":"(T394*Setup!$J$17)+(U394*Setup!$J$18)+(V394*Setup!$J$19)+(W394*Setup!$J$22)+X394*(Setup!$J$23)+(Y394*Setup!$J$24)+(Z394*Setup!$J$27)+(AA394*Setup!$J$28)+(AB394*Setup!$J$29)","v":0},"ERROR",1,{"$f":"IF(T394<>U395,1,0)","v":0},{"$f":"IF(V394<>V395,1,0)","v":0},1,{"$f":"IF(W394<>X395,1,0)","v":0},{"$f":"IF(Y394<>Y395,1,0)","v":0},1,{"$f":"IF(Z394<>AA395,1,0)","v":0},{"$f":"IF(AB394<>AB395,1,0)","v":0}]
[null,null,null,null,null,null,null,null,null,null,null,null,null,null,null,{"$error":"#N/A"},null,null,null,null,null,null,null,null,null,null,null,null,null,{"$f":"(T395*Setup!$J$17)+(U395*Setup!$J$18)+(V395*Setup!$J$19)+(W395*Setup!$J$22)+X395*(Setup!$J$23)+(Y395*Setup!$J$24)+(Z395*Setup!$J$27)+(AA395*Setup!$J$28)+(AB395*Setup!$J$29)","v":0},"ERROR",1,{"$f":"IF(T395<>U394,1,0)","v":0},{"$f":"IF(V395<>V394,1,0)","v":0},1,{"$f":"IF(W395<>X394,1,0)","v":0},{"$f":"IF(Y395<>Y394,1,0)","v":0},1,{"$f":"IF(Z395<>AA394,1,0)","v":0},{"$f":"IF(AB395<>AB394,1,0)","v":0}]
[null,null,null,null,null,null,null,null,null,null,null,null,null,null,null,{"$error":"#N/A"},null,null,null,null,null,null,null,null,null,null,null,null,null,{"$f":"(T396*Setup!$J$17)+(U396*Setup!$J$18)+(V396*Setup!$J$19)+(W396*Setup!$J$22)+X396*(Setup!$J$23)+(Y396*Setup!$J$24)+(Z396*Setup!$J$27)+(AA396*Setup!$J$28)+(AB396*Setup!$J$29)","v":0},"ERROR",1,{"$f":"IF(T396<>U397,1,0)","v":0},{"$f":"IF(V396<>V397,1,0)","v":0},1,{"$f":"IF(W396<>X397,1,0)","v":0},{"$f":"IF(Y396<>Y397,1,0)","v":0},1,{"$f":"IF(Z396<>AA397,1,0)","v":0},{"$f":"IF(AB396<>AB397,1,0)","v":0}]
[null,null,null,null,null,null,null,null,null,null,null,null,null,null,null,{"$error":"#N/A"},null,null,null,null,null,null,null,null,null,null,null,null,null,{"$f":"(T397*Setup!$J$17)+(U397*Setup!$J$18)+(V397*Setup!$J$19)+(W397*Setup!$J$22)+X397*(Setup!$J$23)+(Y397*Setup!$J$24)+(Z397*Setup!$J$27)+(AA397*Setup!$J$28)+(AB397*Setup!$J$29)","v":0},"ERROR",1,{"$f":"IF(T397<>U396,1,0)","v":0},{"$f":"IF(V397<>V396,1,0)","v":0},1,{"$f":"IF(W397<>X396,1,0)","v":0},{"$f":"IF(Y397<>Y396,1,0)","v":0},1,{"$f":"IF(Z397<>AA396,1,0)","v":0},{"$f":"IF(AB397<>AB396,1,0)","v":0}]
[null,null,null,null,null,null,null,null,null,null,null,null,null,null,null,{"$error":"#N/A"},null,null,null,null,null,null,null,null,null,null,null,null,null,{"$f":"(T398*Setup!$J$17)+(U398*Setup!$J$18)+(V398*Setup!$J$19)+(W398*Setup!$J$22)+X398*(Setup!$J$23)+(Y398*Setup!$J$24)+(Z398*Setup!$J$27)+(AA398*Setup!$J$28)+(AB398*Setup!$J$29)","v":0},"ERROR",1,{"$f":"IF(T398<>U399,1,0)","v":0},{"$f":"IF(V398<>V399,1,0)","v":0},1,{"$f":"IF(W398<>X399,1,0)","v":0},{"$f":"IF(Y398<>Y399,1,0)","v":0},1,{"$f":"IF(Z398<>AA399,1,0)","v":0},{"$f":"IF(AB398<>AB399,1,0)","v":0}]
[null,null,null,null,null,null,null,null,null,null,null,null,null,null,null,{"$error":"#N/A"},null,null,null,null,null,null,null,null,null,null,null,null,null,{"$f":"(T399*Setup!$J$17)+(U399*Setup!$J$18)+(V399*Setup!$J$19)+(W399*Setup!$J$22)+X399*(Setup!$J$23)+(Y399*Setup!$J$24)+(Z399*Setup!$J$27)+(AA399*Setup!$J$28)+(AB399*Setup!$J$29)","v":0},"ERROR",1,{"$f":"IF(T399<>U398,1,0)","v":0},{"$f":"IF(V399<>V398,1,0)","v":0},1,{"$f":"IF(W399<>X398,1,0)","v":0},{"$f":"IF(Y399<>Y398,1,0)","v":0},1,{"$f":"IF(Z399<>AA398,1,0)","v":0},{"$f":"IF(AB399<>AB398,1,0)","v":0}]
[null,null,null,null,null,null,null,null,null,null,null,null,null,null,null,{"$error":"#N/A"},null,null,null,null,null,null,null,null,null,null,null,null,null,{"$f":"(T400*Setup!$J$17)+(U400*Setup!$J$18)+(V400*Setup!$J$19)+(W400*Setup!$J$22)+X400*(Setup!$J$23)+(Y400*Setup!$J$24)+(Z400*Setup!$J$27)+(AA400*Setup!$J$28)+(AB400*Setup!$J$29)","v":0},"ERROR",1,{"$f":"IF(T400<>U401,1,0)","v":0},{"$f":"IF(V400<>V401,1,0)","v":0},1,{"$f":"IF(W400<>X401,1,0)","v":0},{"$f":"IF(Y400<>Y401,1,0)","v":0},1,{"$f":"IF(Z400<>AA401,1,0)","v":0},{"$f":"IF(AB400<>AB401,1,0)","v":0}]
[null,null,null,null,null,null,null,null,null,null,null,null,null,null,null,{"$error":"#N/A"},null,null,null,null,null,null,null,null,null,null,null,null,null,{"$f":"(T401*Setup!$J$17)+(U401*Setup!$J$18)+(V401*Setup!$J$19)+(W401*Setup!$J$22)+X401*(Setup!$J$23)+(Y401*Setup!$J$24)+(Z401*Setup!$J$27)+(AA401*Setup!$J$28)+(AB401*Setup!$J$29)","v":0},"ERROR",1,{"$f":"IF(T401<>U400,1,0)","v":0},{"$f":"IF(V401<>V400,1,0)","v":0},1,{"$f":"IF(W401<>X400,1,0)","v":0},{"$f":"IF(Y401<>Y400,1,0)","v":0},1,{"$f":"IF(Z401<>AA400,1,0)","v":0},{"$f":"IF(AB401<>AB400,1,0)","v":0}]
[null,null,null,null,null,null,null,null,null,null,null,null,null,null,null,{"$error":"#N/A"},null,null,null,null,null,null,null,null,null,null,null,null,null,{"$f":"(T402*Setup!$J$17)+(U402*Setup!$J$18)+(V402*Setup!$J$19)+(W402*Setup!$J$22)+X402*(Setup!$J$23)+(Y402*Setup!$J$24)+(Z402*Setup!$J$27)+(AA402*Setup!$J$28)+(AB402*Setup!$J$29)","v":0},"ERROR",1,{"$f":"IF(T402<>U403,1,0)","v":0},{"$f":"IF(V402<>V403,1,0)","v":0},1,{"$f":"IF(W402<>X403,1,0)","v":0},{"$f":"IF(Y402<>Y403,1,0)","v":0},1,{"$f":"IF(Z402<>AA403,1,0)","v":0},{"$f":"IF(AB402<>AB403,1,0)","v":0}]
[null,null,null,null,null,null,null,null,null,null,null,null,null,null,null,{"$error":"#N/A"},null,null,null,null,null,null,null,null,null,null,null,null,null,{"$f":"(T403*Setup!$J$17)+(U403*Setup!$J$18)+(V403*Setup!$J$19)+(W403*Setup!$J$22)+X403*(Setup!$J$23)+(Y403*Setup!$J$24)+(Z403*Setup!$J$27)+(AA403*Setup!$J$28)+(AB403*Setup!$J$29)","v":0},"ERROR",1,{"$f":"IF(T403<>U402,1,0)","v":0},{"$f":"IF(V403<>V402,1,0)","v":0},1,{"$f":"IF(W403<>X402,1,0)","v":0},{"$f":"IF(Y403<>Y402,1,0)","v":0},1,{"$f":"IF(Z403<>AA402,1,0)","v":0},{"$f":"IF(AB403<>AB402,1,0)","v":0}]
[null,null,null,null,null,null,null,null,null,null,null,null,null,null,null,{"$error":"#N/A"},null,null,null,null,null,null,null,null,null,null,null,null,null,{"$f":"(T404*Setup!$J$17)+(U404*Setup!$J$18)+(V404*Setup!$J$19)+(W404*Setup!$J$22)+X404*(Setup!$J$23)+(Y404*Setup!$J$24)+(Z404*Setup!$J$27)+(AA404*Setup!$J$28)+(AB404*Setup!$J$29)","v":0},"ERROR",1,{"$f":"IF(T404<>U405,1,0)","v":0},{"$f":"IF(V404<>V405,1,0)","v":0},1,{"$f":"IF(W404<>X405,1,0)","v":0},{"$f":"IF(Y404<>Y405,1,0)","v":0},1,{"$f":"IF(Z404<>AA405,1,0)","v":0},{"$f":"IF(AB404<>AB405,1,0)","v":0}]
[null,null,null,null,null,null,null,null,null,null,null,null,null,null,null,{"$error":"#N/A"},null,null,null,null,null,null,null,null,null,null,null,null,null,{"$f":"(T405*Setup!$J$17)+(U405*Setup!$J$18)+(V405*Setup!$J$19)+(W405*Setup!$J$22)+X405*(Setup!$J$23)+(Y405*Setup!$J$24)+(Z405*Setup!$J$27)+(AA405*Setup!$J$28)+(AB405*Setup!$J$29)","v":0},"ERROR",1,{"$f":"IF(T405<>U404,1,0)","v":0},{"$f":"IF(V405<>V404,1,0)","v":0},1,{"$f":"IF(W405<>X404,1,0)","v":0},{"$f":"IF(Y405<>Y404,1,0)","v":0},1,{"$f":"IF(Z405<>AA404,1,0)","v":0},{"$f":"IF(AB405<>AB404,1,0)","v":0}]
[null,null,null,null,null,null,null,null,null,null,null,null,null,null,null,{"$error":"#N/A"},null,null,null,null,null,null,null,null,null,null,null,null,null,{"$f":"(T406*Setup!$J$17)+(U406*Setup!$J$18)+(V406*Setup!$J$19)+(W406*Setup!$J$22)+X406*(Setup!$J$23)+(Y406*Setup!$J$24)+(Z406*Setup!$J$27)+(AA406*Setup!$J$28)+(AB406*Setup!$J$29)","v":0},"ERROR",1,{"$f":"IF(T406<>U407,1,0)","v":0},{"$f":"IF(V406<>V407,1,0)","v":0},1,{"$f":"IF(W406<>X407,1,0)","v":0},{"$f":"IF(Y406<>Y407,1,0)","v":0},1,{"$f":"IF(Z406<>AA407,1,0)","v":0},{"$f":"IF(AB406<>AB407,1,0)","v":0}]
[null,null,null,null,null,null,null,null,null,null,null,null,null,null,null,{"$error":"#N/A"},null,null,null,null,null,null,null,null,null,null,null,null,null,{"$f":"(T407*Setup!$J$17)+(U407*Setup!$J$18)+(V407*Setup!$J$19)+(W407*Setup!$J$22)+X407*(Setup!$J$23)+(Y407*Setup!$J$24)+(Z407*Setup!$J$27)+(AA407*Setup!$J$28)+(AB407*Setup!$J$29)","v":0},"ERROR",1,{"$f":"IF(T407<>U406,1,0)","v":0},{"$f":"IF(V407<>V406,1,0)","v":0},1,{"$f":"IF(W407<>X406,1,0)","v":0},{"$f":"IF(Y407<>Y406,1,0)","v":0},1,{"$f":"IF(Z407<>AA406,1,0)","v":0},{"$f":"IF(AB407<>AB406,1,0)","v":0}]
[null,null,null,null,null,null,null,null,null,null,null,null,null,null,null,{"$error":"#N/A"},null,null,null,null,null,null,null,null,null,null,null,null,null,{"$f":"(T408*Setup!$J$17)+(U408*Setup!$J$18)+(V408*Setup!$J$19)+(W408*Setup!$J$22)+X408*(Setup!$J$23)+(Y408*Setup!$J$24)+(Z408*Setup!$J$27)+(AA408*Setup!$J$28)+(AB408*Setup!$J$29)","v":0},"ERROR",1,{"$f":"IF(T408<>U409,1,0)","v":0},{"$f":"IF(V408<>V409,1,0)","v":0},1,{"$f":"IF(W408<>X409,1,0)","v":0},{"$f":"IF(Y408<>Y409,1,0)","v":0},1,{"$f":"IF(Z408<>AA409,1,0)","v":0},{"$f":"IF(AB408<>AB409,1,0)","v":0}]
[null,null,null,null,null,null,null,null,null,null,null,null,null,null,null,{"$error":"#N/A"},null,null,null,null,null,null,null,null,null,null,null,null,null,{"$f":"(T409*Setup!$J$17)+(U409*Setup!$J$18)+(V409*Setup!$J$19)+(W409*Setup!$J$22)+X409*(Setup!$J$23)+(Y409*Setup!$J$24)+(Z409*Setup!$J$27)+(AA409*Setup!$J$28)+(AB409*Setup!$J$29)","v":0},"ERROR",1,{"$f":"IF(T409<>U408,1,0)","v":0},{"$f":"IF(V409<>V408,1,0)","v":0},1,{"$f":"IF(W409<>X408,1,0)","v":0},{"$f":"IF(Y409<>Y408,1,0)","v":0},1,{"$f":"IF(Z409<>AA408,1,0)","v":0},{"$f":"IF(AB409<>AB408,1,0)","v":0}]
[null,null,null,null,null,null,null,null,null,null,null,null,null,null,null,{"$error":"#N/A"},null,null,null,null,null,null,null,null,null,null,null,null,null,{"$f":"(T410*Setup!$J$17)+(U410*Setup!$J$18)+(V410*Setup!$J$19)+(W410*Setup!$J$22)+X410*(Setup!$J$23)+(Y410*Setup!$J$24)+(Z410*Setup!$J$27)+(AA410*Setup!$J$28)+(AB410*Setup!$J$29)","v":0},"ERROR",1,{"$f":"IF(T410<>U411,1,0)","v":0},{"$f":"IF(V410<>V411,1,0)","v":0},1,{"$f":"IF(W410<>X411,1,0)","v":0},{"$f":"IF(Y410<>Y411,1,0)","v":0},1,{"$f":"IF(Z410<>AA411,1,0)","v":0},{"$f":"IF(AB410<>AB411,1,0)","v":0}]
[null,null,null,null,null,null,null,null,null,null,null,null,null,null,null,{"$error":"#N/A"},null,null,null,null,null,null,null,null,null,null,null,null,null,{"$f":"(T411*Setup!$J$17)+(U411*Setup!$J$18)+(V411*Setup!$J$19)+(W411*Setup!$J$22)+X411*(Setup!$J$23)+(Y411*Setup!$J$24)+(Z411*Setup!$J$27)+(AA411*Setup!$J$28)+(AB411*Setup!$J$29)","v":0},"ERROR",1,{"$f":"IF(T411<>U410,1,0)","v":0},{"$f":"IF(V411<>V410,1,0)","v":0},1,{"$f":"IF(W411<>X410,1,0)","v":0},{"$f":"IF(Y411<>Y410,1,0)","v":0},1,{"$f":"IF(Z411<>AA410,1,0)","v":0},{"$f":"IF(AB411<>AB410,1,0)","v":0}]
[null,null,null,null,null,null,null,null,null,null,null,null,null,null,null,{"$error":"#N/A"},null,null,null,null,null,null,null,null,null,null,null,null,null,{"$f":"(T412*Setup!$J$17)+(U412*Setup!$J$18)+(V412*Setup!$J$19)+(W412*Setup!$J$22)+X412*(Setup!$J$23)+(Y412*Setup!$J$24)+(Z412*Setup!$J$27)+(AA412*Setup!$J$28)+(AB412*Setup!$J$29)","v":0},"ERROR",1,{"$f":"IF(T412<>U413,1,0)","v":0},{"$f":"IF(V412<>V413,1,0)","v":0},1,{"$f":"IF(W412<>X413,1,0)","v":0},{"$f":"IF(Y412<>Y413,1,0)","v":0},1,{"$f":"IF(Z412<>AA413,1,0)","v":0},{"$f":"IF(AB412<>AB413,1,0)","v":0}]
[null,null,null,null,null,null,null,null,null,null,null,null,null,null,null,{"$error":"#N/A"},null,null,null,null,null,null,null,null,null,null,null,null,null,{"$f":"(T413*Setup!$J$17)+(U413*Setup!$J$18)+(V413*Setup!$J$19)+(W413*Setup!$J$22)+X413*(Setup!$J$23)+(Y413*Setup!$J$24)+(Z413*Setup!$J$27)+(AA413*Setup!$J$28)+(AB413*Setup!$J$29)","v":0},"ERROR",1,{"$f":"IF(T413<>U412,1,0)","v":0},{"$f":"IF(V413<>V412,1,0)","v":0},1,{"$f":"IF(W413<>X412,1,0)","v":0},{"$f":"IF(Y413<>Y412,1,0)","v":0},1,{"$f":"IF(Z413<>AA412,1,0)","v":0},{"$f":"IF(AB413<>AB412,1,0)","v":0}]
[null,null,null,null,null,null,null,null,null,null,null,null,null,null,null,{"$f":"VLOOKUP(S414,GE_Teams_DBID,2,FALSE)","v":{"$error":"#N/A"}},null,null,null,null,null,null,null,null,null,null,null,null,null,{"$f":"(T414*Setup!$J$17)+(U414*Setup!$J$18)+(V414*Setup!$J$19)+(W414*Setup!$J$22)+X414*(Setup!$J$23)+(Y414*Setup!$J$24)+(Z414*Setup!$J$27)+(AA414*Setup!$J$28)+(AB414*Setup!$J$29)","v":0},"ERROR",{"$f":"IF((T414+U414+V414)<>18,1,0)","v":1},{"$f":"IF(T414<>U415,1,0)","v":0},{"$f":"IF(V414<>V415,1,0)","v":0},{"$f":"IF((W414+X414+Y414)<>2,1,0)","v":1},{"$f":"IF(W414<>X415,1,0)","v":0},{"$f":"IF(Y414<>Y415,1,0)","v":0},{"$f":"IF((Z414+AA414+AB414)<>1,1,0)","v":1},{"$f":"IF(Z414<>AA415,1,0)","v":0},{"$f":"IF(AB414<>AB415,1,0)","v":0}]
[null,null,null,null,null,null,null,null,null,null,null,null,null,null,null,{"$error":"#N/A"},null,null,null,null,null,null,null,null,null,null,null,null,null,{"$f":"(T415*Setup!$J$17)+(U415*Setup!$J$18)+(V415*Setup!$J$19)+(W415*Setup!$J$22)+X415*(Setup!$J$23)+(Y415*Setup!$J$24)+(Z415*Setup!$J$27)+(AA415*Setup!$J$28)+(AB415*Setup!$J$29)","v":0},{"$f":"IF(SUM(AF415:AN415)>0,\"ERROR\",\"\")","v":"ERROR"},1,{"$f":"IF(T415<>U414,1,0)","v":0},{"$f":"IF(V415<>V414,1,0)","v":0},1,{"$f":"IF(W415<>X414,1,0)","v":0},{"$f":"IF(Y415<>Y414,1,0)","v":0},1,{"$f":"IF(Z415<>AA414,1,0)","v":0},{"$f":"IF(AB415<>AB414,1,0)","v":0}]
[null,null,null,null,null,null,null,null,null,null,null,null,null,null,null,{"$error":"#N/A"},null,null,null,null,null,null,null,null,null,null,null,null,null,{"$f":"(T416*Setup!$J$17)+(U416*Setup!$J$18)+(V416*Setup!$J$19)+(W416*Setup!$J$22)+X416*(Setup!$J$23)+(Y416*Setup!$J$24)+(Z416*Setup!$J$27)+(AA416*Setup!$J$28)+(AB416*Setup!$J$29)","v":0},"ERROR",1,{"$f":"IF(T416<>U417,1,0)","v":0},{"$f":"IF(V416<>V417,1,0)","v":0},1,{"$f":"IF(W416<>X417,1,0)","v":0},{"$f":"IF(Y416<>Y417,1,0)","v":0},1,{"$f":"IF(Z416<>AA417,1,0)","v":0},{"$f":"IF(AB416<>AB417,1,0)","v":0}]
[null,null,null,null,null,null,null,null,null,null,null,null,null,null,null,{"$error":"#N/A"},null,null,null,null,null,null,null,null,null,null,null,null,null,{"$f":"(T417*Setup!$J$17)+(U417*Setup!$J$18)+(V417*Setup!$J$19)+(W417*Setup!$J$22)+X417*(Setup!$J$23)+(Y417*Setup!$J$24)+(Z417*Setup!$J$27)+(AA417*Setup!$J$28)+(AB417*Setup!$J$29)","v":0},"ERROR",1,{"$f":"IF(T417<>U416,1,0)","v":0},{"$f":"IF(V417<>V416,1,0)","v":0},1,{"$f":"IF(W417<>X416,1,0)","v":0},{"$f":"IF(Y417<>Y416,1,0)","v":0},1,{"$f":"IF(Z417<>AA416,1,0)","v":0},{"$f":"IF(AB417<>AB416,1,0)","v":0}]
[null,null,null,null,null,null,null,null,null,null,null,null,null,null,null,{"$error":"#N/A"},null,null,null,null,null,null,null,null,null,null,null,null,null,{"$f":"(T418*Setup!$J$17)+(U418*Setup!$J$18)+(V418*Setup!$J$19)+(W418*Setup!$J$22)+X418*(Setup!$J$23)+(Y418*Setup!$J$24)+(Z418*Setup!$J$27)+(AA418*Setup!$J$28)+(AB418*Setup!$J$29)","v":0},"ERROR",1,{"$f":"IF(T418<>U419,1,0)","v":0},{"$f":"IF(V418<>V419,1,0)","v":0},1,{"$f":"IF(W418<>X419,1,0)","v":0},{"$f":"IF(Y418<>Y419,1,0)","v":0},1,{"$f":"IF(Z418<>AA419,1,0)","v":0},{"$f":"IF(AB418<>AB419,1,0)","v":0}]
[null,null,null,null,null,null,null,null,null,null,null,null,null,null,null,{"$error":"#N/A"},null,null,null,null,null,null,null,null,null,null,null,null,null,{"$f":"(T419*Setup!$J$17)+(U419*Setup!$J$18)+(V419*Setup!$J$19)+(W419*Setup!$J$22)+X419*(Setup!$J$23)+(Y419*Setup!$J$24)+(Z419*Setup!$J$27)+(AA419*Setup!$J$28)+(AB419*Setup!$J$29)","v":0},"ERROR",1,{"$f":"IF(T419<>U418,1,0)","v":0},{"$f":"IF(V419<>V418,1,0)","v":0},1,{"$f":"IF(W419<>X418,1,0)","v":0},{"$f":"IF(Y419<>Y418,1,0)","v":0},1,{"$f":"IF(Z419<>AA418,1,0)","v":0},{"$f":"IF(AB419<>AB418,1,0)","v":0}]
[null,null,null,null,null,null,null,null,null,null,null,null,null,null,null,{"$error":"#N/A"},null,null,null,null,null,null,null,null,null,null,null,null,null,{"$f":"(T420*Setup!$J$17)+(U420*Setup!$J$18)+(V420*Setup!$J$19)+(W420*Setup!$J$22)+X420*(Setup!$J$23)+(Y420*Setup!$J$24)+(Z420*Setup!$J$27)+(AA420*Setup!$J$28)+(AB420*Setup!$J$29)","v":0},"ERROR",1,{"$f":"IF(T420<>U421,1,0)","v":0},{"$f":"IF(V420<>V421,1,0)","v":0},1,{"$f":"IF(W420<>X421,1,0)","v":0},{"$f":"IF(Y420<>Y421,1,0)","v":0},1,{"$f":"IF(Z420<>AA421,1,0)","v":0},{"$f":"IF(AB420<>AB421,1,0)","v":0}]
[null,null,null,null,null,null,null,null,null,null,null,null,null,null,null,{"$error":"#N/A"},null,null,null,null,null,null,null,null,null,null,null,null,null,{"$f":"(T421*Setup!$J$17)+(U421*Setup!$J$18)+(V421*Setup!$J$19)+(W421*Setup!$J$22)+X421*(Setup!$J$23)+(Y421*Setup!$J$24)+(Z421*Setup!$J$27)+(AA421*Setup!$J$28)+(AB421*Setup!$J$29)","v":0},"ERROR",1,{"$f":"IF(T421<>U420,1,0)","v":0},{"$f":"IF(V421<>V420,1,0)","v":0},1,{"$f":"IF(W421<>X420,1,0)","v":0},{"$f":"IF(Y421<>Y420,1,0)","v":0},1,{"$f":"IF(Z421<>AA420,1,0)","v":0},{"$f":"IF(AB421<>AB420,1,0)","v":0}]
[null,null,null,null,null,null,null,null,null,null,null,null,null,null,null,{"$error":"#N/A"},null,null,null,null,null,null,null,null,null,null,null,null,null,{"$f":"(T422*Setup!$J$17)+(U422*Setup!$J$18)+(V422*Setup!$J$19)+(W422*Setup!$J$22)+X422*(Setup!$J$23)+(Y422*Setup!$J$24)+(Z422*Setup!$J$27)+(AA422*Setup!$J$28)+(AB422*Setup!$J$29)","v":0},"ERROR",1,{"$f":"IF(T422<>U423,1,0)","v":0},{"$f":"IF(V422<>V423,1,0)","v":0},1,{"$f":"IF(W422<>X423,1,0)","v":0},{"$f":"IF(Y422<>Y423,1,0)","v":0},1,{"$f":"IF(Z422<>AA423,1,0)","v":0},{"$f":"IF(AB422<>AB423,1,0)","v":0}]
[null,null,null,null,null,null,null,null,null,null,null,null,null,null,null,{"$error":"#N/A"},null,null,null,null,null,null,null,null,null,null,null,null,null,{"$f":"(T423*Setup!$J$17)+(U423*Setup!$J$18)+(V423*Setup!$J$19)+(W423*Setup!$J$22)+X423*(Setup!$J$23)+(Y423*Setup!$J$24)+(Z423*Setup!$J$27)+(AA423*Setup!$J$28)+(AB423*Setup!$J$29)","v":0},"ERROR",1,{"$f":"IF(T423<>U422,1,0)","v":0},{"$f":"IF(V423<>V422,1,0)","v":0},1,{"$f":"IF(W423<>X422,1,0)","v":0},{"$f":"IF(Y423<>Y422,1,0)","v":0},1,{"$f":"IF(Z423<>AA422,1,0)","v":0},{"$f":"IF(AB423<>AB422,1,0)","v":0}]
[null,null,null,null,null,null,null,null,null,null,null,null,null,null,null,{"$error":"#N/A"},null,null,null,null,null,null,null,null,null,null,null,null,null,{"$f":"(T424*Setup!$J$17)+(U424*Setup!$J$18)+(V424*Setup!$J$19)+(W424*Setup!$J$22)+X424*(Setup!$J$23)+(Y424*Setup!$J$24)+(Z424*Setup!$J$27)+(AA424*Setup!$J$28)+(AB424*Setup!$J$29)","v":0},"ERROR",1,{"$f":"IF(T424<>U425,1,0)","v":0},{"$f":"IF(V424<>V425,1,0)","v":0},1,{"$f":"IF(W424<>X425,1,0)","v":0},{"$f":"IF(Y424<>Y425,1,0)","v":0},1,{"$f":"IF(Z424<>AA425,1,0)","v":0},{"$f":"IF(AB424<>AB425,1,0)","v":0}]
[null,null,null,null,null,null,null,null,null,null,null,null,null,null,null,{"$error":"#N/A"},null,null,null,null,null,null,null,null,null,null,null,null,null,{"$f":"(T425*Setup!$J$17)+(U425*Setup!$J$18)+(V425*Setup!$J$19)+(W425*Setup!$J$22)+X425*(Setup!$J$23)+(Y425*Setup!$J$24)+(Z425*Setup!$J$27)+(AA425*Setup!$J$28)+(AB425*Setup!$J$29)","v":0},"ERROR",1,{"$f":"IF(T425<>U424,1,0)","v":0},{"$f":"IF(V425<>V424,1,0)","v":0},1,{"$f":"IF(W425<>X424,1,0)","v":0},{"$f":"IF(Y425<>Y424,1,0)","v":0},1,{"$f":"IF(Z425<>AA424,1,0)","v":0},{"$f":"IF(AB425<>AB424,1,0)","v":0}]
[null,null,null,null,null,null,null,null,null,null,null,null,null,null,null,{"$error":"#N/A"},null,null,null,null,null,null,null,null,null,null,null,null,null,{"$f":"(T426*Setup!$J$17)+(U426*Setup!$J$18)+(V426*Setup!$J$19)+(W426*Setup!$J$22)+X426*(Setup!$J$23)+(Y426*Setup!$J$24)+(Z426*Setup!$J$27)+(AA426*Setup!$J$28)+(AB426*Setup!$J$29)","v":0},"ERROR",1,{"$f":"IF(T426<>U427,1,0)","v":0},{"$f":"IF(V426<>V427,1,0)","v":0},1,{"$f":"IF(W426<>X427,1,0)","v":0},{"$f":"IF(Y426<>Y427,1,0)","v":0},1,{"$f":"IF(Z426<>AA427,1,0)","v":0},{"$f":"IF(AB426<>AB427,1,0)","v":0}]
[null,null,null,null,null,null,null,null,null,null,null,null,null,null,null,{"$error":"#N/A"},null,null,null,null,null,null,null,null,null,null,null,null,null,{"$f":"(T427*Setup!$J$17)+(U427*Setup!$J$18)+(V427*Setup!$J$19)+(W427*Setup!$J$22)+X427*(Setup!$J$23)+(Y427*Setup!$J$24)+(Z427*Setup!$J$27)+(AA427*Setup!$J$28)+(AB427*Setup!$J$29)","v":0},"ERROR",1,{"$f":"IF(T427<>U426,1,0)","v":0},{"$f":"IF(V427<>V426,1,0)","v":0},1,{"$f":"IF(W427<>X426,1,0)","v":0},{"$f":"IF(Y427<>Y426,1,0)","v":0},1,{"$f":"IF(Z427<>AA426,1,0)","v":0},{"$f":"IF(AB427<>AB426,1,0)","v":0}]
[null,null,null,null,null,null,null,null,null,null,null,null,null,null,null,{"$error":"#N/A"},null,null,null,null,null,null,null,null,null,null,null,null,null,{"$f":"(T428*Setup!$J$17)+(U428*Setup!$J$18)+(V428*Setup!$J$19)+(W428*Setup!$J$22)+X428*(Setup!$J$23)+(Y428*Setup!$J$24)+(Z428*Setup!$J$27)+(AA428*Setup!$J$28)+(AB428*Setup!$J$29)","v":0},"ERROR",1,{"$f":"IF(T428<>U429,1,0)","v":0},{"$f":"IF(V428<>V429,1,0)","v":0},1,{"$f":"IF(W428<>X429,1,0)","v":0},{"$f":"IF(Y428<>Y429,1,0)","v":0},1,{"$f":"IF(Z428<>AA429,1,0)","v":0},{"$f":"IF(AB428<>AB429,1,0)","v":0}]
[null,null,null,null,null,null,null,null,null,null,null,null,null,null,null,{"$error":"#N/A"},null,null,null,null,null,null,null,null,null,null,null,null,null,{"$f":"(T429*Setup!$J$17)+(U429*Setup!$J$18)+(V429*Setup!$J$19)+(W429*Setup!$J$22)+X429*(Setup!$J$23)+(Y429*Setup!$J$24)+(Z429*Setup!$J$27)+(AA429*Setup!$J$28)+(AB429*Setup!$J$29)","v":0},"ERROR",1,{"$f":"IF(T429<>U428,1,0)","v":0},{"$f":"IF(V429<>V428,1,0)","v":0},1,{"$f":"IF(W429<>X428,1,0)","v":0},{"$f":"IF(Y429<>Y428,1,0)","v":0},1,{"$f":"IF(Z429<>AA428,1,0)","v":0},{"$f":"IF(AB429<>AB428,1,0)","v":0}]
[null,null,null,null,null,null,null,null,null,null,null,null,null,null,null,{"$error":"#N/A"},null,null,null,null,null,null,null,null,null,null,null,null,null,{"$f":"(T430*Setup!$J$17)+(U430*Setup!$J$18)+(V430*Setup!$J$19)+(W430*Setup!$J$22)+X430*(Setup!$J$23)+(Y430*Setup!$J$24)+(Z430*Setup!$J$27)+(AA430*Setup!$J$28)+(AB430*Setup!$J$29)","v":0},"ERROR",1,{"$f":"IF(T430<>U431,1,0)","v":0},{"$f":"IF(V430<>V431,1,0)","v":0},1,{"$f":"IF(W430<>X431,1,0)","v":0},{"$f":"IF(Y430<>Y431,1,0)","v":0},1,{"$f":"IF(Z430<>AA431,1,0)","v":0},{"$f":"IF(AB430<>AB431,1,0)","v":0}]
[null,null,null,null,null,null,null,null,null,null,null,null,null,null,null,{"$error":"#N/A"},null,null,null,null,null,null,null,null,null,null,null,null,null,{"$f":"(T431*Setup!$J$17)+(U431*Setup!$J$18)+(V431*Setup!$J$19)+(W431*Setup!$J$22)+X431*(Setup!$J$23)+(Y431*Setup!$J$24)+(Z431*Setup!$J$27)+(AA431*Setup!$J$28)+(AB431*Setup!$J$29)","v":0},"ERROR",1,{"$f":"IF(T431<>U430,1,0)","v":0},{"$f":"IF(V431<>V430,1,0)","v":0},1,{"$f":"IF(W431<>X430,1,0)","v":0},{"$f":"IF(Y431<>Y430,1,0)","v":0},1,{"$f":"IF(Z431<>AA430,1,0)","v":0},{"$f":"IF(AB431<>AB430,1,0)","v":0}]
[null,null,null,null,null,null,null,null,null,null,null,null,null,null,null,{"$error":"#N/A"},null,null,null,null,null,null,null,null,null,null,null,null,null,{"$f":"(T432*Setup!$J$17)+(U432*Setup!$J$18)+(V432*Setup!$J$19)+(W432*Setup!$J$22)+X432*(Setup!$J$23)+(Y432*Setup!$J$24)+(Z432*Setup!$J$27)+(AA432*Setup!$J$28)+(AB432*Setup!$J$29)","v":0},"ERROR",1,{"$f":"IF(T432<>U433,1,0)","v":0},{"$f":"IF(V432<>V433,1,0)","v":0},1,{"$f":"IF(W432<>X433,1,0)","v":0},{"$f":"IF(Y432<>Y433,1,0)","v":0},1,{"$f":"IF(Z432<>AA433,1,0)","v":0},{"$f":"IF(AB432<>AB433,1,0)","v":0}]
[null,null,null,null,null,null,null,null,null,null,null,null,null,null,null,{"$error":"#N/A"},null,null,null,null,null,null,null,null,null,null,null,null,null,{"$f":"(T433*Setup!$J$17)+(U433*Setup!$J$18)+(V433*Setup!$J$19)+(W433*Setup!$J$22)+X433*(Setup!$J$23)+(Y433*Setup!$J$24)+(Z433*Setup!$J$27)+(AA433*Setup!$J$28)+(AB433*Setup!$J$29)","v":0},"ERROR",1,{"$f":"IF(T433<>U432,1,0)","v":0},{"$f":"IF(V433<>V432,1,0)","v":0},1,{"$f":"IF(W433<>X432,1,0)","v":0},{"$f":"IF(Y433<>Y432,1,0)","v":0},1,{"$f":"IF(Z433<>AA432,1,0)","v":0},{"$f":"IF(AB433<>AB432,1,0)","v":0}]
[null,null,null,null,null,null,null,null,null,null,null,null,null,null,null,{"$error":"#N/A"},null,null,null,null,null,null,null,null,null,null,null,null,null,{"$f":"(T434*Setup!$J$17)+(U434*Setup!$J$18)+(V434*Setup!$J$19)+(W434*Setup!$J$22)+X434*(Setup!$J$23)+(Y434*Setup!$J$24)+(Z434*Setup!$J$27)+(AA434*Setup!$J$28)+(AB434*Setup!$J$29)","v":0},"ERROR",1,{"$f":"IF(T434<>U435,1,0)","v":0},{"$f":"IF(V434<>V435,1,0)","v":0},1,{"$f":"IF(W434<>X435,1,0)","v":0},{"$f":"IF(Y434<>Y435,1,0)","v":0},1,{"$f":"IF(Z434<>AA435,1,0)","v":0},{"$f":"IF(AB434<>AB435,1,0)","v":0}]
[null,null,null,null,null,null,null,null,null,null,null,null,null,null,null,{"$error":"#N/A"},null,null,null,null,null,null,null,null,null,null,null,null,null,{"$f":"(T435*Setup!$J$17)+(U435*Setup!$J$18)+(V435*Setup!$J$19)+(W435*Setup!$J$22)+X435*(Setup!$J$23)+(Y435*Setup!$J$24)+(Z435*Setup!$J$27)+(AA435*Setup!$J$28)+(AB435*Setup!$J$29)","v":0},"ERROR",1,{"$f":"IF(T435<>U434,1,0)","v":0},{"$f":"IF(V435<>V434,1,0)","v":0},1,{"$f":"IF(W435<>X434,1,0)","v":0},{"$f":"IF(Y435<>Y434,1,0)","v":0},1,{"$f":"IF(Z435<>AA434,1,0)","v":0},{"$f":"IF(AB435<>AB434,1,0)","v":0}]
[null,null,null,null,null,null,null,null,null,null,null,null,null,null,null,{"$error":"#N/A"},null,null,null,null,null,null,null,null,null,null,null,null,null,{"$f":"(T436*Setup!$J$17)+(U436*Setup!$J$18)+(V436*Setup!$J$19)+(W436*Setup!$J$22)+X436*(Setup!$J$23)+(Y436*Setup!$J$24)+(Z436*Setup!$J$27)+(AA436*Setup!$J$28)+(AB436*Setup!$J$29)","v":0},"ERROR",1,{"$f":"IF(T436<>U437,1,0)","v":0},{"$f":"IF(V436<>V437,1,0)","v":0},1,{"$f":"IF(W436<>X437,1,0)","v":0},{"$f":"IF(Y436<>Y437,1,0)","v":0},1,{"$f":"IF(Z436<>AA437,1,0)","v":0},{"$f":"IF(AB436<>AB437,1,0)","v":0}]
[null,null,null,null,null,null,null,null,null,null,null,null,null,null,null,{"$error":"#N/A"},null,null,null,null,null,null,null,null,null,null,null,null,null,{"$f":"(T437*Setup!$J$17)+(U437*Setup!$J$18)+(V437*Setup!$J$19)+(W437*Setup!$J$22)+X437*(Setup!$J$23)+(Y437*Setup!$J$24)+(Z437*Setup!$J$27)+(AA437*Setup!$J$28)+(AB437*Setup!$J$29)","v":0},"ERROR",1,{"$f":"IF(T437<>U436,1,0)","v":0},{"$f":"IF(V437<>V436,1,0)","v":0},1,{"$f":"IF(W437<>X436,1,0)","v":0},{"$f":"IF(Y437<>Y436,1,0)","v":0},1,{"$f":"IF(Z437<>AA436,1,0)","v":0},{"$f":"IF(AB437<>AB436,1,0)","v":0}]
[null,null,null,null,null,null,null,null,null,null,null,null,null,null,null,{"$error":"#N/A"},null,null,null,null,null,null,null,null,null,null,null,null,null,{"$f":"(T438*Setup!$J$17)+(U438*Setup!$J$18)+(V438*Setup!$J$19)+(W438*Setup!$J$22)+X438*(Setup!$J$23)+(Y438*Setup!$J$24)+(Z438*Setup!$J$27)+(AA438*Setup!$J$28)+(AB438*Setup!$J$29)","v":0},"ERROR",1,{"$f":"IF(T438<>U439,1,0)","v":0},{"$f":"IF(V438<>V439,1,0)","v":0},1,{"$f":"IF(W438<>X439,1,0)","v":0},{"$f":"IF(Y438<>Y439,1,0)","v":0},1,{"$f":"IF(Z438<>AA439,1,0)","v":0},{"$f":"IF(AB438<>AB439,1,0)","v":0}]
[null,null,null,null,null,null,null,null,null,null,null,null,null,null,null,{"$error":"#N/A"},null,null,null,null,null,null,null,null,null,null,null,null,null,{"$f":"(T439*Setup!$J$17)+(U439*Setup!$J$18)+(V439*Setup!$J$19)+(W439*Setup!$J$22)+X439*(Setup!$J$23)+(Y439*Setup!$J$24)+(Z439*Setup!$J$27)+(AA439*Setup!$J$28)+(AB439*Setup!$J$29)","v":0},"ERROR",1,{"$f":"IF(T439<>U438,1,0)","v":0},{"$f":"IF(V439<>V438,1,0)","v":0},1,{"$f":"IF(W439<>X438,1,0)","v":0},{"$f":"IF(Y439<>Y438,1,0)","v":0},1,{"$f":"IF(Z439<>AA438,1,0)","v":0},{"$f":"IF(AB439<>AB438,1,0)","v":0}]
[null,null,null,null,null,null,null,null,null,null,null,null,null,null,null,{"$error":"#N/A"},null,null,null,null,null,null,null,null,null,null,null,null,null,{"$f":"(T440*Setup!$J$17)+(U440*Setup!$J$18)+(V440*Setup!$J$19)+(W440*Setup!$J$22)+X440*(Setup!$J$23)+(Y440*Setup!$J$24)+(Z440*Setup!$J$27)+(AA440*Setup!$J$28)+(AB440*Setup!$J$29)","v":0},"ERROR",1,{"$f":"IF(T440<>U441,1,0)","v":0},{"$f":"IF(V440<>V441,1,0)","v":0},1,{"$f":"IF(W440<>X441,1,0)","v":0},{"$f":"IF(Y440<>Y441,1,0)","v":0},1,{"$f":"IF(Z440<>AA441,1,0)","v":0},{"$f":"IF(AB440<>AB441,1,0)","v":0}]
[null,null,null,null,null,null,null,null,null,null,null,null,null,null,null,{"$error":"#N/A"},null,null,null,null,null,null,null,null,null,null,null,null,null,{"$f":"(T441*Setup!$J$17)+(U441*Setup!$J$18)+(V441*Setup!$J$19)+(W441*Setup!$J$22)+X441*(Setup!$J$23)+(Y441*Setup!$J$24)+(Z441*Setup!$J$27)+(AA441*Setup!$J$28)+(AB441*Setup!$J$29)","v":0},"ERROR",1,{"$f":"IF(T441<>U440,1,0)","v":0},{"$f":"IF(V441<>V440,1,0)","v":0},1,{"$f":"IF(W441<>X440,1,0)","v":0},{"$f":"IF(Y441<>Y440,1,0)","v":0},1,{"$f":"IF(Z441<>AA440,1,0)","v":0},{"$f":"IF(AB441<>AB440,1,0)","v":0}]
[null,null,null,null,null,null,null,null,null,null,null,null,null,null,null,{"$error":"#N/A"},null,null,null,null,null,null,null,null,null,null,null,null,null,{"$f":"(T442*Setup!$J$17)+(U442*Setup!$J$18)+(V442*Setup!$J$19)+(W442*Setup!$J$22)+X442*(Setup!$J$23)+(Y442*Setup!$J$24)+(Z442*Setup!$J$27)+(AA442*Setup!$J$28)+(AB442*Setup!$J$29)","v":0},"ERROR",1,{"$f":"IF(T442<>U443,1,0)","v":0},{"$f":"IF(V442<>V443,1,0)","v":0},1,{"$f":"IF(W442<>X443,1,0)","v":0},{"$f":"IF(Y442<>Y443,1,0)","v":0},1,{"$f":"IF(Z442<>AA443,1,0)","v":0},{"$f":"IF(AB442<>AB443,1,0)","v":0}]
[null,null,null,null,null,null,null,null,null,null,null,null,null,null,null,{"$error":"#N/A"},null,null,null,null,null,null,null,null,null,null,null,null,null,{"$f":"(T443*Setup!$J$17)+(U443*Setup!$J$18)+(V443*Setup!$J$19)+(W443*Setup!$J$22)+X443*(Setup!$J$23)+(Y443*Setup!$J$24)+(Z443*Setup!$J$27)+(AA443*Setup!$J$28)+(AB443*Setup!$J$29)","v":0},"ERROR",1,{"$f":"IF(T443<>U442,1,0)","v":0},{"$f":"IF(V443<>V442,1,0)","v":0},1,{"$f":"IF(W443<>X442,1,0)","v":0},{"$f":"IF(Y443<>Y442,1,0)","v":0},1,{"$f":"IF(Z443<>AA442,1,0)","v":0},{"$f":"IF(AB443<>AB442,1,0)","v":0}]
[null,null,null,null,null,null,null,null,null,null,null,null,null,null,null,{"$error":"#N/A"},null,null,null,null,null,null,null,null,null,null,null,null,null,{"$f":"(T444*Setup!$J$17)+(U444*Setup!$J$18)+(V444*Setup!$J$19)+(W444*Setup!$J$22)+X444*(Setup!$J$23)+(Y444*Setup!$J$24)+(Z444*Setup!$J$27)+(AA444*Setup!$J$28)+(AB444*Setup!$J$29)","v":0},"ERROR",1,{"$f":"IF(T444<>U445,1,0)","v":0},{"$f":"IF(V444<>V445,1,0)","v":0},1,{"$f":"IF(W444<>X445,1,0)","v":0},{"$f":"IF(Y444<>Y445,1,0)","v":0},1,{"$f":"IF(Z444<>AA445,1,0)","v":0},{"$f":"IF(AB444<>AB445,1,0)","v":0}]
[null,null,null,null,null,null,null,null,null,null,null,null,null,null,null,{"$error":"#N/A"},null,null,null,null,null,null,null,null,null,null,null,null,null,{"$f":"(T445*Setup!$J$17)+(U445*Setup!$J$18)+(V445*Setup!$J$19)+(W445*Setup!$J$22)+X445*(Setup!$J$23)+(Y445*Setup!$J$24)+(Z445*Setup!$J$27)+(AA445*Setup!$J$28)+(AB445*Setup!$J$29)","v":0},"ERROR",1,{"$f":"IF(T445<>U444,1,0)","v":0},{"$f":"IF(V445<>V444,1,0)","v":0},1,{"$f":"IF(W445<>X444,1,0)","v":0},{"$f":"IF(Y445<>Y444,1,0)","v":0},1,{"$f":"IF(Z445<>AA444,1,0)","v":0},{"$f":"IF(AB445<>AB444,1,0)","v":0}]
[null,null,null,null,null,null,null,null,null,null,null,null,null,null,null,{"$error":"#N/A"},null,null,null,null,null,null,null,null,null,null,null,null,null,{"$f":"(T446*Setup!$J$17)+(U446*Setup!$J$18)+(V446*Setup!$J$19)+(W446*Setup!$J$22)+X446*(Setup!$J$23)+(Y446*Setup!$J$24)+(Z446*Setup!$J$27)+(AA446*Setup!$J$28)+(AB446*Setup!$J$29)","v":0},"ERROR",1,{"$f":"IF(T446<>U447,1,0)","v":0},{"$f":"IF(V446<>V447,1,0)","v":0},1,{"$f":"IF(W446<>X447,1,0)","v":0},{"$f":"IF(Y446<>Y447,1,0)","v":0},1,{"$f":"IF(Z446<>AA447,1,0)","v":0},{"$f":"IF(AB446<>AB447,1,0)","v":0}]
[null,null,null,null,null,null,null,null,null,null,null,null,null,null,null,{"$error":"#N/A"},null,null,null,null,null,null,null,null,null,null,null,null,null,{"$f":"(T447*Setup!$J$17)+(U447*Setup!$J$18)+(V447*Setup!$J$19)+(W447*Setup!$J$22)+X447*(Setup!$J$23)+(Y447*Setup!$J$24)+(Z447*Setup!$J$27)+(AA447*Setup!$J$28)+(AB447*Setup!$J$29)","v":0},"ERROR",1,{"$f":"IF(T447<>U446,1,0)","v":0},{"$f":"IF(V447<>V446,1,0)","v":0},1,{"$f":"IF(W447<>X446,1,0)","v":0},{"$f":"IF(Y447<>Y446,1,0)","v":0},1,{"$f":"IF(Z447<>AA446,1,0)","v":0},{"$f":"IF(AB447<>AB446,1,0)","v":0}]
[null,null,null,null,null,null,null,null,null,null,null,null,null,null,null,{"$error":"#N/A"},null,null,null,null,null,null,null,null,null,null,null,null,null,{"$f":"(T448*Setup!$J$17)+(U448*Setup!$J$18)+(V448*Setup!$J$19)+(W448*Setup!$J$22)+X448*(Setup!$J$23)+(Y448*Setup!$J$24)+(Z448*Setup!$J$27)+(AA448*Setup!$J$28)+(AB448*Setup!$J$29)","v":0},"ERROR",1,{"$f":"IF(T448<>U449,1,0)","v":0},{"$f":"IF(V448<>V449,1,0)","v":0},1,{"$f":"IF(W448<>X449,1,0)","v":0},{"$f":"IF(Y448<>Y449,1,0)","v":0},1,{"$f":"IF(Z448<>AA449,1,0)","v":0},{"$f":"IF(AB448<>AB449,1,0)","v":0}]
[null,null,null,null,null,null,null,null,null,null,null,null,null,null,null,{"$error":"#N/A"},null,null,null,null,null,null,null,null,null,null,null,null,null,{"$f":"(T449*Setup!$J$17)+(U449*Setup!$J$18)+(V449*Setup!$J$19)+(W449*Setup!$J$22)+X449*(Setup!$J$23)+(Y449*Setup!$J$24)+(Z449*Setup!$J$27)+(AA449*Setup!$J$28)+(AB449*Setup!$J$29)","v":0},"ERROR",1,{"$f":"IF(T449<>U448,1,0)","v":0},{"$f":"IF(V449<>V448,1,0)","v":0},1,{"$f":"IF(W449<>X448,1,0)","v":0},{"$f":"IF(Y449<>Y448,1,0)","v":0},1,{"$f":"IF(Z449<>AA448,1,0)","v":0},{"$f":"IF(AB449<>AB448,1,0)","v":0}]
[null,null,null,null,null,null,null,null,null,null,null,null,null,null,null,{"$error":"#N/A"},null,null,null,null,null,null,null,null,null,null,null,null,null,{"$f":"(T450*Setup!$J$17)+(U450*Setup!$J$18)+(V450*Setup!$J$19)+(W450*Setup!$J$22)+X450*(Setup!$J$23)+(Y450*Setup!$J$24)+(Z450*Setup!$J$27)+(AA450*Setup!$J$28)+(AB450*Setup!$J$29)","v":0},"ERROR",1,{"$f":"IF(T450<>U451,1,0)","v":0},{"$f":"IF(V450<>V451,1,0)","v":0},1,{"$f":"IF(W450<>X451,1,0)","v":0},{"$f":"IF(Y450<>Y451,1,0)","v":0},1,{"$f":"IF(Z450<>AA451,1,0)","v":0},{"$f":"IF(AB450<>AB451,1,0)","v":0}]
[null,null,null,null,null,null,null,null,null,null,null,null,null,null,null,{"$error":"#N/A"},null,null,null,null,null,null,null,null,null,null,null,null,null,{"$f":"(T451*Setup!$J$17)+(U451*Setup!$J$18)+(V451*Setup!$J$19)+(W451*Setup!$J$22)+X451*(Setup!$J$23)+(Y451*Setup!$J$24)+(Z451*Setup!$J$27)+(AA451*Setup!$J$28)+(AB451*Setup!$J$29)","v":0},"ERROR",1,{"$f":"IF(T451<>U450,1,0)","v":0},{"$f":"IF(V451<>V450,1,0)","v":0},1,{"$f":"IF(W451<>X450,1,0)","v":0},{"$f":"IF(Y451<>Y450,1,0)","v":0},1,{"$f":"IF(Z451<>AA450,1,0)","v":0},{"$f":"IF(AB451<>AB450,1,0)","v":0}]
[null,null,null,null,null,null,null,null,null,null,null,null,null,null,null,{"$error":"#N/A"},null,null,null,null,null,null,null,null,null,null,null,null,null,{"$f":"(T452*Setup!$J$17)+(U452*Setup!$J$18)+(V452*Setup!$J$19)+(W452*Setup!$J$22)+X452*(Setup!$J$23)+(Y452*Setup!$J$24)+(Z452*Setup!$J$27)+(AA452*Setup!$J$28)+(AB452*Setup!$J$29)","v":0},"ERROR",1,{"$f":"IF(T452<>U453,1,0)","v":0},{"$f":"IF(V452<>V453,1,0)","v":0},1,{"$f":"IF(W452<>X453,1,0)","v":0},{"$f":"IF(Y452<>Y453,1,0)","v":0},1,{"$f":"IF(Z452<>AA453,1,0)","v":0},{"$f":"IF(AB452<>AB453,1,0)","v":0}]
[null,null,null,null,null,null,null,null,null,null,null,null,null,null,null,{"$error":"#N/A"},null,null,null,null,null,null,null,null,null,null,null,null,null,{"$f":"(T453*Setup!$J$17)+(U453*Setup!$J$18)+(V453*Setup!$J$19)+(W453*Setup!$J$22)+X453*(Setup!$J$23)+(Y453*Setup!$J$24)+(Z453*Setup!$J$27)+(AA453*Setup!$J$28)+(AB453*Setup!$J$29)","v":0},"ERROR",1,{"$f":"IF(T453<>U452,1,0)","v":0},{"$f":"IF(V453<>V452,1,0)","v":0},1,{"$f":"IF(W453<>X452,1,0)","v":0},{"$f":"IF(Y453<>Y452,1,0)","v":0},1,{"$f":"IF(Z453<>AA452,1,0)","v":0},{"$f":"IF(AB453<>AB452,1,0)","v":0}]
[null,null,null,null,null,null,null,null,null,null,null,null,null,null,null,{"$error":"#N/A"},null,null,null,null,null,null,null,null,null,null,null,null,null,{"$f":"(T454*Setup!$J$17)+(U454*Setup!$J$18)+(V454*Setup!$J$19)+(W454*Setup!$J$22)+X454*(Setup!$J$23)+(Y454*Setup!$J$24)+(Z454*Setup!$J$27)+(AA454*Setup!$J$28)+(AB454*Setup!$J$29)","v":0},"ERROR",1,{"$f":"IF(T454<>U455,1,0)","v":0},{"$f":"IF(V454<>V455,1,0)","v":0},1,{"$f":"IF(W454<>X455,1,0)","v":0},{"$f":"IF(Y454<>Y455,1,0)","v":0},1,{"$f":"IF(Z454<>AA455,1,0)","v":0},{"$f":"IF(AB454<>AB455,1,0)","v":0}]
[null,null,null,null,null,null,null,null,null,null,null,null,null,null,null,{"$error":"#N/A"},null,null,null,null,null,null,null,null,null,null,null,null,null,{"$f":"(T455*Setup!$J$17)+(U455*Setup!$J$18)+(V455*Setup!$J$19)+(W455*Setup!$J$22)+X455*(Setup!$J$23)+(Y455*Setup!$J$24)+(Z455*Setup!$J$27)+(AA455*Setup!$J$28)+(AB455*Setup!$J$29)","v":0},"ERROR",1,{"$f":"IF(T455<>U454,1,0)","v":0},{"$f":"IF(V455<>V454,1,0)","v":0},1,{"$f":"IF(W455<>X454,1,0)","v":0},{"$f":"IF(Y455<>Y454,1,0)","v":0},1,{"$f":"IF(Z455<>AA454,1,0)","v":0},{"$f":"IF(AB455<>AB454,1,0)","v":0}]
[null,null,null,null,null,null,null,null,null,null,null,null,null,null,null,{"$error":"#N/A"},null,null,null,null,null,null,null,null,null,null,null,null,null,{"$f":"(T456*Setup!$J$17)+(U456*Setup!$J$18)+(V456*Setup!$J$19)+(W456*Setup!$J$22)+X456*(Setup!$J$23)+(Y456*Setup!$J$24)+(Z456*Setup!$J$27)+(AA456*Setup!$J$28)+(AB456*Setup!$J$29)","v":0},"ERROR",1,{"$f":"IF(T456<>U457,1,0)","v":0},{"$f":"IF(V456<>V457,1,0)","v":0},1,{"$f":"IF(W456<>X457,1,0)","v":0},{"$f":"IF(Y456<>Y457,1,0)","v":0},1,{"$f":"IF(Z456<>AA457,1,0)","v":0},{"$f":"IF(AB456<>AB457,1,0)","v":0}]
[null,null,null,null,null,null,null,null,null,null,null,null,null,null,null,{"$error":"#N/A"},null,null,null,null,null,null,null,null,null,null,null,null,null,{"$f":"(T457*Setup!$J$17)+(U457*Setup!$J$18)+(V457*Setup!$J$19)+(W457*Setup!$J$22)+X457*(Setup!$J$23)+(Y457*Setup!$J$24)+(Z457*Setup!$J$27)+(AA457*Setup!$J$28)+(AB457*Setup!$J$29)","v":0},"ERROR",1,{"$f":"IF(T457<>U456,1,0)","v":0},{"$f":"IF(V457<>V456,1,0)","v":0},1,{"$f":"IF(W457<>X456,1,0)","v":0},{"$f":"IF(Y457<>Y456,1,0)","v":0},1,{"$f":"IF(Z457<>AA456,1,0)","v":0},{"$f":"IF(AB457<>AB456,1,0)","v":0}]
[null,null,null,null,null,null,null,null,null,null,null,null,null,null,null,{"$error":"#N/A"},null,null,null,null,null,null,null,null,null,null,null,null,null,{"$f":"(T458*Setup!$J$17)+(U458*Setup!$J$18)+(V458*Setup!$J$19)+(W458*Setup!$J$22)+X458*(Setup!$J$23)+(Y458*Setup!$J$24)+(Z458*Setup!$J$27)+(AA458*Setup!$J$28)+(AB458*Setup!$J$29)","v":0},"ERROR",1,{"$f":"IF(T458<>U459,1,0)","v":0},{"$f":"IF(V458<>V459,1,0)","v":0},1,{"$f":"IF(W458<>X459,1,0)","v":0},{"$f":"IF(Y458<>Y459,1,0)","v":0},1,{"$f":"IF(Z458<>AA459,1,0)","v":0},{"$f":"IF(AB458<>AB459,1,0)","v":0}]
[null,null,null,null,null,null,null,null,null,null,null,null,null,null,null,{"$error":"#N/A"},null,null,null,null,null,null,null,null,null,null,null,null,null,{"$f":"(T459*Setup!$J$17)+(U459*Setup!$J$18)+(V459*Setup!$J$19)+(W459*Setup!$J$22)+X459*(Setup!$J$23)+(Y459*Setup!$J$24)+(Z459*Setup!$J$27)+(AA459*Setup!$J$28)+(AB459*Setup!$J$29)","v":0},"ERROR",1,{"$f":"IF(T459<>U458,1,0)","v":0},{"$f":"IF(V459<>V458,1,0)","v":0},1,{"$f":"IF(W459<>X458,1,0)","v":0},{"$f":"IF(Y459<>Y458,1,0)","v":0},1,{"$f":"IF(Z459<>AA458,1,0)","v":0},{"$f":"IF(AB459<>AB458,1,0)","v":0}]
[null,null,null,null,null,null,null,null,null,null,null,null,null,null,null,{"$error":"#N/A"},null,null,null,null,null,null,null,null,null,null,null,null,null,{"$f":"(T460*Setup!$J$17)+(U460*Setup!$J$18)+(V460*Setup!$J$19)+(W460*Setup!$J$22)+X460*(Setup!$J$23)+(Y460*Setup!$J$24)+(Z460*Setup!$J$27)+(AA460*Setup!$J$28)+(AB460*Setup!$J$29)","v":0},"ERROR",1,{"$f":"IF(T460<>U461,1,0)","v":0},{"$f":"IF(V460<>V461,1,0)","v":0},1,{"$f":"IF(W460<>X461,1,0)","v":0},{"$f":"IF(Y460<>Y461,1,0)","v":0},1,{"$f":"IF(Z460<>AA461,1,0)","v":0},{"$f":"IF(AB460<>AB461,1,0)","v":0}]
[null,null,null,null,null,null,null,null,null,null,null,null,null,null,null,{"$error":"#N/A"},null,null,null,null,null,null,null,null,null,null,null,null,null,{"$f":"(T461*Setup!$J$17)+(U461*Setup!$J$18)+(V461*Setup!$J$19)+(W461*Setup!$J$22)+X461*(Setup!$J$23)+(Y461*Setup!$J$24)+(Z461*Setup!$J$27)+(AA461*Setup!$J$28)+(AB461*Setup!$J$29)","v":0},"ERROR",1,{"$f":"IF(T461<>U460,1,0)","v":0},{"$f":"IF(V461<>V460,1,0)","v":0},1,{"$f":"IF(W461<>X460,1,0)","v":0},{"$f":"IF(Y461<>Y460,1,0)","v":0},1,{"$f":"IF(Z461<>AA460,1,0)","v":0},{"$f":"IF(AB461<>AB460,1,0)","v":0}]
[null,null,null,null,null,null,null,null,null,null,null,null,null,null,null,{"$error":"#N/A"},null,null,null,null,null,null,null,null,null,null,null,null,null,{"$f":"(T462*Setup!$J$17)+(U462*Setup!$J$18)+(V462*Setup!$J$19)+(W462*Setup!$J$22)+X462*(Setup!$J$23)+(Y462*Setup!$J$24)+(Z462*Setup!$J$27)+(AA462*Setup!$J$28)+(AB462*Setup!$J$29)","v":0},"ERROR",1,{"$f":"IF(T462<>U463,1,0)","v":0},{"$f":"IF(V462<>V463,1,0)","v":0},1,{"$f":"IF(W462<>X463,1,0)","v":0},{"$f":"IF(Y462<>Y463,1,0)","v":0},1,{"$f":"IF(Z462<>AA463,1,0)","v":0},{"$f":"IF(AB462<>AB463,1,0)","v":0}]
[null,null,null,null,null,null,null,null,null,null,null,null,null,null,null,{"$error":"#N/A"},null,null,null,null,null,null,null,null,null,null,null,null,null,{"$f":"(T463*Setup!$J$17)+(U463*Setup!$J$18)+(V463*Setup!$J$19)+(W463*Setup!$J$22)+X463*(Setup!$J$23)+(Y463*Setup!$J$24)+(Z463*Setup!$J$27)+(AA463*Setup!$J$28)+(AB463*Setup!$J$29)","v":0},"ERROR",1,{"$f":"IF(T463<>U462,1,0)","v":0},{"$f":"IF(V463<>V462,1,0)","v":0},1,{"$f":"IF(W463<>X462,1,0)","v":0},{"$f":"IF(Y463<>Y462,1,0)","v":0},1,{"$f":"IF(Z463<>AA462,1,0)","v":0},{"$f":"IF(AB463<>AB462,1,0)","v":0}]
[null,null,null,null,null,null,null,null,null,null,null,null,null,null,null,{"$error":"#N/A"},null,null,null,null,null,null,null,null,null,null,null,null,null,{"$f":"(T464*Setup!$J$17)+(U464*Setup!$J$18)+(V464*Setup!$J$19)+(W464*Setup!$J$22)+X464*(Setup!$J$23)+(Y464*Setup!$J$24)+(Z464*Setup!$J$27)+(AA464*Setup!$J$28)+(AB464*Setup!$J$29)","v":0},"ERROR",1,{"$f":"IF(T464<>U465,1,0)","v":0},{"$f":"IF(V464<>V465,1,0)","v":0},1,{"$f":"IF(W464<>X465,1,0)","v":0},{"$f":"IF(Y464<>Y465,1,0)","v":0},1,{"$f":"IF(Z464<>AA465,1,0)","v":0},{"$f":"IF(AB464<>AB465,1,0)","v":0}]
[null,null,null,null,null,null,null,null,null,null,null,null,null,null,null,{"$error":"#N/A"},null,null,null,null,null,null,null,null,null,null,null,null,null,{"$f":"(T465*Setup!$J$17)+(U465*Setup!$J$18)+(V465*Setup!$J$19)+(W465*Setup!$J$22)+X465*(Setup!$J$23)+(Y465*Setup!$J$24)+(Z465*Setup!$J$27)+(AA465*Setup!$J$28)+(AB465*Setup!$J$29)","v":0},"ERROR",1,{"$f":"IF(T465<>U464,1,0)","v":0},{"$f":"IF(V465<>V464,1,0)","v":0},1,{"$f":"IF(W465<>X464,1,0)","v":0},{"$f":"IF(Y465<>Y464,1,0)","v":0},1,{"$f":"IF(Z465<>AA464,1,0)","v":0},{"$f":"IF(AB465<>AB464,1,0)","v":0}]
[null,null,null,null,null,null,null,null,null,null,null,null,null,null,null,{"$error":"#N/A"},null,null,null,null,null,null,null,null,null,null,null,null,null,{"$f":"(T466*Setup!$J$17)+(U466*Setup!$J$18)+(V466*Setup!$J$19)+(W466*Setup!$J$22)+X466*(Setup!$J$23)+(Y466*Setup!$J$24)+(Z466*Setup!$J$27)+(AA466*Setup!$J$28)+(AB466*Setup!$J$29)","v":0},"ERROR",1,{"$f":"IF(T466<>U467,1,0)","v":0},{"$f":"IF(V466<>V467,1,0)","v":0},1,{"$f":"IF(W466<>X467,1,0)","v":0},{"$f":"IF(Y466<>Y467,1,0)","v":0},1,{"$f":"IF(Z466<>AA467,1,0)","v":0},{"$f":"IF(AB466<>AB467,1,0)","v":0}]
[null,null,null,null,null,null,null,null,null,null,null,null,null,null,null,{"$error":"#N/A"},null,null,null,null,null,null,null,null,null,null,null,null,null,{"$f":"(T467*Setup!$J$17)+(U467*Setup!$J$18)+(V467*Setup!$J$19)+(W467*Setup!$J$22)+X467*(Setup!$J$23)+(Y467*Setup!$J$24)+(Z467*Setup!$J$27)+(AA467*Setup!$J$28)+(AB467*Setup!$J$29)","v":0},"ERROR",1,{"$f":"IF(T467<>U466,1,0)","v":0},{"$f":"IF(V467<>V466,1,0)","v":0},1,{"$f":"IF(W467<>X466,1,0)","v":0},{"$f":"IF(Y467<>Y466,1,0)","v":0},1,{"$f":"IF(Z467<>AA466,1,0)","v":0},{"$f":"IF(AB467<>AB466,1,0)","v":0}]
[null,null,null,null,null,null,null,null,null,null,null,null,null,null,null,{"$error":"#N/A"},null,null,null,null,null,null,null,null,null,null,null,null,null,{"$f":"(T468*Setup!$J$17)+(U468*Setup!$J$18)+(V468*Setup!$J$19)+(W468*Setup!$J$22)+X468*(Setup!$J$23)+(Y468*Setup!$J$24)+(Z468*Setup!$J$27)+(AA468*Setup!$J$28)+(AB468*Setup!$J$29)","v":0},"ERROR",1,{"$f":"IF(T468<>U469,1,0)","v":0},{"$f":"IF(V468<>V469,1,0)","v":0},1,{"$f":"IF(W468<>X469,1,0)","v":0},{"$f":"IF(Y468<>Y469,1,0)","v":0},1,{"$f":"IF(Z468<>AA469,1,0)","v":0},{"$f":"IF(AB468<>AB469,1,0)","v":0}]
[null,null,null,null,null,null,null,null,null,null,null,null,null,null,null,{"$error":"#N/A"},null,null,null,null,null,null,null,null,null,null,null,null,null,{"$f":"(T469*Setup!$J$17)+(U469*Setup!$J$18)+(V469*Setup!$J$19)+(W469*Setup!$J$22)+X469*(Setup!$J$23)+(Y469*Setup!$J$24)+(Z469*Setup!$J$27)+(AA469*Setup!$J$28)+(AB469*Setup!$J$29)","v":0},"ERROR",1,{"$f":"IF(T469<>U468,1,0)","v":0},{"$f":"IF(V469<>V468,1,0)","v":0},1,{"$f":"IF(W469<>X468,1,0)","v":0},{"$f":"IF(Y469<>Y468,1,0)","v":0},1,{"$f":"IF(Z469<>AA468,1,0)","v":0},{"$f":"IF(AB469<>AB468,1,0)","v":0}]
[null,null,null,null,null,null,null,null,null,null,null,null,null,null,null,{"$error":"#N/A"},null,null,null,null,null,null,null,null,null,null,null,null,null,{"$f":"(T470*Setup!$J$17)+(U470*Setup!$J$18)+(V470*Setup!$J$19)+(W470*Setup!$J$22)+X470*(Setup!$J$23)+(Y470*Setup!$J$24)+(Z470*Setup!$J$27)+(AA470*Setup!$J$28)+(AB470*Setup!$J$29)","v":0},"ERROR",1,{"$f":"IF(T470<>U471,1,0)","v":0},{"$f":"IF(V470<>V471,1,0)","v":0},1,{"$f":"IF(W470<>X471,1,0)","v":0},{"$f":"IF(Y470<>Y471,1,0)","v":0},1,{"$f":"IF(Z470<>AA471,1,0)","v":0},{"$f":"IF(AB470<>AB471,1,0)","v":0}]
[null,null,null,null,null,null,null,null,null,null,null,null,null,null,null,{"$error":"#N/A"},null,null,null,null,null,null,null,null,null,null,null,null,null,{"$f":"(T471*Setup!$J$17)+(U471*Setup!$J$18)+(V471*Setup!$J$19)+(W471*Setup!$J$22)+X471*(Setup!$J$23)+(Y471*Setup!$J$24)+(Z471*Setup!$J$27)+(AA471*Setup!$J$28)+(AB471*Setup!$J$29)","v":0},"ERROR",1,{"$f":"IF(T471<>U470,1,0)","v":0},{"$f":"IF(V471<>V470,1,0)","v":0},1,{"$f":"IF(W471<>X470,1,0)","v":0},{"$f":"IF(Y471<>Y470,1,0)","v":0},1,{"$f":"IF(Z471<>AA470,1,0)","v":0},{"$f":"IF(AB471<>AB470,1,0)","v":0}]
[null,null,null,null,null,null,null,null,null,null,null,null,null,null,null,{"$error":"#N/A"},null,null,null,null,null,null,null,null,null,null,null,null,null,{"$f":"(T472*Setup!$J$17)+(U472*Setup!$J$18)+(V472*Setup!$J$19)+(W472*Setup!$J$22)+X472*(Setup!$J$23)+(Y472*Setup!$J$24)+(Z472*Setup!$J$27)+(AA472*Setup!$J$28)+(AB472*Setup!$J$29)","v":0},"ERROR",1,{"$f":"IF(T472<>U473,1,0)","v":0},{"$f":"IF(V472<>V473,1,0)","v":0},1,{"$f":"IF(W472<>X473,1,0)","v":0},{"$f":"IF(Y472<>Y473,1,0)","v":0},1,{"$f":"IF(Z472<>AA473,1,0)","v":0},{"$f":"IF(AB472<>AB473,1,0)","v":0}]
[null,null,null,null,null,null,null,null,null,null,null,null,null,null,null,{"$error":"#N/A"},null,null,null,null,null,null,null,null,null,null,null,null,null,{"$f":"(T473*Setup!$J$17)+(U473*Setup!$J$18)+(V473*Setup!$J$19)+(W473*Setup!$J$22)+X473*(Setup!$J$23)+(Y473*Setup!$J$24)+(Z473*Setup!$J$27)+(AA473*Setup!$J$28)+(AB473*Setup!$J$29)","v":0},"ERROR",1,{"$f":"IF(T473<>U472,1,0)","v":0},{"$f":"IF(V473<>V472,1,0)","v":0},1,{"$f":"IF(W473<>X472,1,0)","v":0},{"$f":"IF(Y473<>Y472,1,0)","v":0},1,{"$f":"IF(Z473<>AA472,1,0)","v":0},{"$f":"IF(AB473<>AB472,1,0)","v":0}]
[null,null,null,null,null,null,null,null,null,null,null,null,null,null,null,{"$error":"#N/A"},null,null,null,null,null,null,null,null,null,null,null,null,null,{"$f":"(T474*Setup!$J$17)+(U474*Setup!$J$18)+(V474*Setup!$J$19)+(W474*Setup!$J$22)+X474*(Setup!$J$23)+(Y474*Setup!$J$24)+(Z474*Setup!$J$27)+(AA474*Setup!$J$28)+(AB474*Setup!$J$29)","v":0},"ERROR",1,{"$f":"IF(T474<>U475,1,0)","v":0},{"$f":"IF(V474<>V475,1,0)","v":0},1,{"$f":"IF(W474<>X475,1,0)","v":0},{"$f":"IF(Y474<>Y475,1,0)","v":0},1,{"$f":"IF(Z474<>AA475,1,0)","v":0},{"$f":"IF(AB474<>AB475,1,0)","v":0}]
[null,null,null,null,null,null,null,null,null,null,null,null,null,null,null,{"$error":"#N/A"},null,null,null,null,null,null,null,null,null,null,null,null,null,{"$f":"(T475*Setup!$J$17)+(U475*Setup!$J$18)+(V475*Setup!$J$19)+(W475*Setup!$J$22)+X475*(Setup!$J$23)+(Y475*Setup!$J$24)+(Z475*Setup!$J$27)+(AA475*Setup!$J$28)+(AB475*Setup!$J$29)","v":0},"ERROR",1,{"$f":"IF(T475<>U474,1,0)","v":0},{"$f":"IF(V475<>V474,1,0)","v":0},1,{"$f":"IF(W475<>X474,1,0)","v":0},{"$f":"IF(Y475<>Y474,1,0)","v":0},1,{"$f":"IF(Z475<>AA474,1,0)","v":0},{"$f":"IF(AB475<>AB474,1,0)","v":0}]
[null,null,null,null,null,null,null,null,null,null,null,null,null,null,null,{"$error":"#N/A"},null,null,null,null,null,null,null,null,null,null,null,null,null,{"$f":"(T476*Setup!$J$17)+(U476*Setup!$J$18)+(V476*Setup!$J$19)+(W476*Setup!$J$22)+X476*(Setup!$J$23)+(Y476*Setup!$J$24)+(Z476*Setup!$J$27)+(AA476*Setup!$J$28)+(AB476*Setup!$J$29)","v":0},"ERROR",1,{"$f":"IF(T476<>U477,1,0)","v":0},{"$f":"IF(V476<>V477,1,0)","v":0},1,{"$f":"IF(W476<>X477,1,0)","v":0},{"$f":"IF(Y476<>Y477,1,0)","v":0},1,{"$f":"IF(Z476<>AA477,1,0)","v":0},{"$f":"IF(AB476<>AB477,1,0)","v":0}]
[null,null,null,null,null,null,null,null,null,null,null,null,null,null,null,{"$error":"#N/A"},null,null,null,null,null,null,null,null,null,null,null,null,null,{"$f":"(T477*Setup!$J$17)+(U477*Setup!$J$18)+(V477*Setup!$J$19)+(W477*Setup!$J$22)+X477*(Setup!$J$23)+(Y477*Setup!$J$24)+(Z477*Setup!$J$27)+(AA477*Setup!$J$28)+(AB477*Setup!$J$29)","v":0},"ERROR",1,{"$f":"IF(T477<>U476,1,0)","v":0},{"$f":"IF(V477<>V476,1,0)","v":0},1,{"$f":"IF(W477<>X476,1,0)","v":0},{"$f":"IF(Y477<>Y476,1,0)","v":0},1,{"$f":"IF(Z477<>AA476,1,0)","v":0},{"$f":"IF(AB477<>AB476,1,0)","v":0}]
[null,null,null,null,null,null,null,null,null,null,null,null,null,null,null,{"$f":"VLOOKUP(S478,GE_Teams_DBID,2,FALSE)","v":{"$error":"#N/A"}},null,null,null,null,null,null,null,null,null,null,null,null,null,{"$f":"(T478*Setup!$J$17)+(U478*Setup!$J$18)+(V478*Setup!$J$19)+(W478*Setup!$J$22)+X478*(Setup!$J$23)+(Y478*Setup!$J$24)+(Z478*Setup!$J$27)+(AA478*Setup!$J$28)+(AB478*Setup!$J$29)","v":0},"ERROR",{"$f":"IF((T478+U478+V478)<>18,1,0)","v":1},{"$f":"IF(T478<>U479,1,0)","v":0},{"$f":"IF(V478<>V479,1,0)","v":0},{"$f":"IF((W478+X478+Y478)<>2,1,0)","v":1},{"$f":"IF(W478<>X479,1,0)","v":0},{"$f":"IF(Y478<>Y479,1,0)","v":0},{"$f":"IF((Z478+AA478+AB478)<>1,1,0)","v":1},{"$f":"IF(Z478<>AA479,1,0)","v":0},{"$f":"IF(AB478<>AB479,1,0)","v":0}]
[null,null,null,null,null,null,null,null,null,null,null,null,null,null,null,{"$error":"#N/A"},null,null,null,null,null,null,null,null,null,null,null,null,null,{"$f":"(T479*Setup!$J$17)+(U479*Setup!$J$18)+(V479*Setup!$J$19)+(W479*Setup!$J$22)+X479*(Setup!$J$23)+(Y479*Setup!$J$24)+(Z479*Setup!$J$27)+(AA479*Setup!$J$28)+(AB479*Setup!$J$29)","v":0},{"$f":"IF(SUM(AF479:AN479)>0,\"ERROR\",\"\")","v":"ERROR"},1,{"$f":"IF(T479<>U478,1,0)","v":0},{"$f":"IF(V479<>V478,1,0)","v":0},1,{"$f":"IF(W479<>X478,1,0)","v":0},{"$f":"IF(Y479<>Y478,1,0)","v":0},1,{"$f":"IF(Z479<>AA478,1,0)","v":0},{"$f":"IF(AB479<>AB478,1,0)","v":0}]
[null,null,null,null,null,null,null,null,null,null,null,null,null,null,null,{"$error":"#N/A"},null,null,null,null,null,null,null,null,null,null,null,null,null,{"$f":"(T480*Setup!$J$17)+(U480*Setup!$J$18)+(V480*Setup!$J$19)+(W480*Setup!$J$22)+X480*(Setup!$J$23)+(Y480*Setup!$J$24)+(Z480*Setup!$J$27)+(AA480*Setup!$J$28)+(AB480*Setup!$J$29)","v":0},"ERROR",1,{"$f":"IF(T480<>U481,1,0)","v":0},{"$f":"IF(V480<>V481,1,0)","v":0},1,{"$f":"IF(W480<>X481,1,0)","v":0},{"$f":"IF(Y480<>Y481,1,0)","v":0},1,{"$f":"IF(Z480<>AA481,1,0)","v":0},{"$f":"IF(AB480<>AB481,1,0)","v":0}]
[null,null,null,null,null,null,null,null,null,null,null,null,null,null,null,{"$error":"#N/A"},null,null,null,null,null,null,null,null,null,null,null,null,null,{"$f":"(T481*Setup!$J$17)+(U481*Setup!$J$18)+(V481*Setup!$J$19)+(W481*Setup!$J$22)+X481*(Setup!$J$23)+(Y481*Setup!$J$24)+(Z481*Setup!$J$27)+(AA481*Setup!$J$28)+(AB481*Setup!$J$29)","v":0},"ERROR",1,{"$f":"IF(T481<>U480,1,0)","v":0},{"$f":"IF(V481<>V480,1,0)","v":0},1,{"$f":"IF(W481<>X480,1,0)","v":0},{"$f":"IF(Y481<>Y480,1,0)","v":0},1,{"$f":"IF(Z481<>AA480,1,0)","v":0},{"$f":"IF(AB481<>AB480,1,0)","v":0}]
[null,null,null,null,null,null,null,null,null,null,null,null,null,null,null,{"$error":"#N/A"},null,null,null,null,null,null,null,null,null,null,null,null,null,{"$f":"(T482*Setup!$J$17)+(U482*Setup!$J$18)+(V482*Setup!$J$19)+(W482*Setup!$J$22)+X482*(Setup!$J$23)+(Y482*Setup!$J$24)+(Z482*Setup!$J$27)+(AA482*Setup!$J$28)+(AB482*Setup!$J$29)","v":0},"ERROR",1,{"$f":"IF(T482<>U483,1,0)","v":0},{"$f":"IF(V482<>V483,1,0)","v":0},1,{"$f":"IF(W482<>X483,1,0)","v":0},{"$f":"IF(Y482<>Y483,1,0)","v":0},1,{"$f":"IF(Z482<>AA483,1,0)","v":0},{"$f":"IF(AB482<>AB483,1,0)","v":0}]
[null,null,null,null,null,null,null,null,null,null,null,null,null,null,null,{"$error":"#N/A"},null,null,null,null,null,null,null,null,null,null,null,null,null,{"$f":"(T483*Setup!$J$17)+(U483*Setup!$J$18)+(V483*Setup!$J$19)+(W483*Setup!$J$22)+X483*(Setup!$J$23)+(Y483*Setup!$J$24)+(Z483*Setup!$J$27)+(AA483*Setup!$J$28)+(AB483*Setup!$J$29)","v":0},"ERROR",1,{"$f":"IF(T483<>U482,1,0)","v":0},{"$f":"IF(V483<>V482,1,0)","v":0},1,{"$f":"IF(W483<>X482,1,0)","v":0},{"$f":"IF(Y483<>Y482,1,0)","v":0},1,{"$f":"IF(Z483<>AA482,1,0)","v":0},{"$f":"IF(AB483<>AB482,1,0)","v":0}]
[null,null,null,null,null,null,null,null,null,null,null,null,null,null,null,{"$error":"#N/A"},null,null,null,null,null,null,null,null,null,null,null,null,null,{"$f":"(T484*Setup!$J$17)+(U484*Setup!$J$18)+(V484*Setup!$J$19)+(W484*Setup!$J$22)+X484*(Setup!$J$23)+(Y484*Setup!$J$24)+(Z484*Setup!$J$27)+(AA484*Setup!$J$28)+(AB484*Setup!$J$29)","v":0},"ERROR",1,{"$f":"IF(T484<>U485,1,0)","v":0},{"$f":"IF(V484<>V485,1,0)","v":0},1,{"$f":"IF(W484<>X485,1,0)","v":0},{"$f":"IF(Y484<>Y485,1,0)","v":0},1,{"$f":"IF(Z484<>AA485,1,0)","v":0},{"$f":"IF(AB484<>AB485,1,0)","v":0}]
[null,null,null,null,null,null,null,null,null,null,null,null,null,null,null,{"$error":"#N/A"},null,null,null,null,null,null,null,null,null,null,null,null,null,{"$f":"(T485*Setup!$J$17)+(U485*Setup!$J$18)+(V485*Setup!$J$19)+(W485*Setup!$J$22)+X485*(Setup!$J$23)+(Y485*Setup!$J$24)+(Z485*Setup!$J$27)+(AA485*Setup!$J$28)+(AB485*Setup!$J$29)","v":0},"ERROR",1,{"$f":"IF(T485<>U484,1,0)","v":0},{"$f":"IF(V485<>V484,1,0)","v":0},1,{"$f":"IF(W485<>X484,1,0)","v":0},{"$f":"IF(Y485<>Y484,1,0)","v":0},1,{"$f":"IF(Z485<>AA484,1,0)","v":0},{"$f":"IF(AB485<>AB484,1,0)","v":0}]
[null,null,null,null,null,null,null,null,null,null,null,null,null,null,null,{"$error":"#N/A"},null,null,null,null,null,null,null,null,null,null,null,null,null,{"$f":"(T486*Setup!$J$17)+(U486*Setup!$J$18)+(V486*Setup!$J$19)+(W486*Setup!$J$22)+X486*(Setup!$J$23)+(Y486*Setup!$J$24)+(Z486*Setup!$J$27)+(AA486*Setup!$J$28)+(AB486*Setup!$J$29)","v":0},"ERROR",1,{"$f":"IF(T486<>U487,1,0)","v":0},{"$f":"IF(V486<>V487,1,0)","v":0},1,{"$f":"IF(W486<>X487,1,0)","v":0},{"$f":"IF(Y486<>Y487,1,0)","v":0},1,{"$f":"IF(Z486<>AA487,1,0)","v":0},{"$f":"IF(AB486<>AB487,1,0)","v":0}]
[null,null,null,null,null,null,null,null,null,null,null,null,null,null,null,{"$error":"#N/A"},null,null,null,null,null,null,null,null,null,null,null,null,null,{"$f":"(T487*Setup!$J$17)+(U487*Setup!$J$18)+(V487*Setup!$J$19)+(W487*Setup!$J$22)+X487*(Setup!$J$23)+(Y487*Setup!$J$24)+(Z487*Setup!$J$27)+(AA487*Setup!$J$28)+(AB487*Setup!$J$29)","v":0},"ERROR",1,{"$f":"IF(T487<>U486,1,0)","v":0},{"$f":"IF(V487<>V486,1,0)","v":0},1,{"$f":"IF(W487<>X486,1,0)","v":0},{"$f":"IF(Y487<>Y486,1,0)","v":0},1,{"$f":"IF(Z487<>AA486,1,0)","v":0},{"$f":"IF(AB487<>AB486,1,0)","v":0}]
[null,null,null,null,null,null,null,null,null,null,null,null,null,null,null,{"$error":"#N/A"},null,null,null,null,null,null,null,null,null,null,null,null,null,{"$f":"(T488*Setup!$J$17)+(U488*Setup!$J$18)+(V488*Setup!$J$19)+(W488*Setup!$J$22)+X488*(Setup!$J$23)+(Y488*Setup!$J$24)+(Z488*Setup!$J$27)+(AA488*Setup!$J$28)+(AB488*Setup!$J$29)","v":0},"ERROR",1,{"$f":"IF(T488<>U489,1,0)","v":0},{"$f":"IF(V488<>V489,1,0)","v":0},1,{"$f":"IF(W488<>X489,1,0)","v":0},{"$f":"IF(Y488<>Y489,1,0)","v":0},1,{"$f":"IF(Z488<>AA489,1,0)","v":0},{"$f":"IF(AB488<>AB489,1,0)","v":0}]
[null,null,null,null,null,null,null,null,null,null,null,null,null,null,null,{"$error":"#N/A"},null,null,null,null,null,null,null,null,null,null,null,null,null,{"$f":"(T489*Setup!$J$17)+(U489*Setup!$J$18)+(V489*Setup!$J$19)+(W489*Setup!$J$22)+X489*(Setup!$J$23)+(Y489*Setup!$J$24)+(Z489*Setup!$J$27)+(AA489*Setup!$J$28)+(AB489*Setup!$J$29)","v":0},"ERROR",1,{"$f":"IF(T489<>U488,1,0)","v":0},{"$f":"IF(V489<>V488,1,0)","v":0},1,{"$f":"IF(W489<>X488,1,0)","v":0},{"$f":"IF(Y489<>Y488,1,0)","v":0},1,{"$f":"IF(Z489<>AA488,1,0)","v":0},{"$f":"IF(AB489<>AB488,1,0)","v":0}]
[null,null,null,null,null,null,null,null,null,null,null,null,null,null,null,{"$error":"#N/A"},null,null,null,null,null,null,null,null,null,null,null,null,null,{"$f":"(T490*Setup!$J$17)+(U490*Setup!$J$18)+(V490*Setup!$J$19)+(W490*Setup!$J$22)+X490*(Setup!$J$23)+(Y490*Setup!$J$24)+(Z490*Setup!$J$27)+(AA490*Setup!$J$28)+(AB490*Setup!$J$29)","v":0},"ERROR",1,{"$f":"IF(T490<>U491,1,0)","v":0},{"$f":"IF(V490<>V491,1,0)","v":0},1,{"$f":"IF(W490<>X491,1,0)","v":0},{"$f":"IF(Y490<>Y491,1,0)","v":0},1,{"$f":"IF(Z490<>AA491,1,0)","v":0},{"$f":"IF(AB490<>AB491,1,0)","v":0}]
[null,null,null,null,null,null,null,null,null,null,null,null,null,null,null,{"$error":"#N/A"},null,null,null,null,null,null,null,null,null,null,null,null,null,{"$f":"(T491*Setup!$J$17)+(U491*Setup!$J$18)+(V491*Setup!$J$19)+(W491*Setup!$J$22)+X491*(Setup!$J$23)+(Y491*Setup!$J$24)+(Z491*Setup!$J$27)+(AA491*Setup!$J$28)+(AB491*Setup!$J$29)","v":0},"ERROR",1,{"$f":"IF(T491<>U490,1,0)","v":0},{"$f":"IF(V491<>V490,1,0)","v":0},1,{"$f":"IF(W491<>X490,1,0)","v":0},{"$f":"IF(Y491<>Y490,1,0)","v":0},1,{"$f":"IF(Z491<>AA490,1,0)","v":0},{"$f":"IF(AB491<>AB490,1,0)","v":0}]
[null,null,null,null,null,null,null,null,null,null,null,null,null,null,null,{"$error":"#N/A"},null,null,null,null,null,null,null,null,null,null,null,null,null,{"$f":"(T492*Setup!$J$17)+(U492*Setup!$J$18)+(V492*Setup!$J$19)+(W492*Setup!$J$22)+X492*(Setup!$J$23)+(Y492*Setup!$J$24)+(Z492*Setup!$J$27)+(AA492*Setup!$J$28)+(AB492*Setup!$J$29)","v":0},"ERROR",1,{"$f":"IF(T492<>U493,1,0)","v":0},{"$f":"IF(V492<>V493,1,0)","v":0},1,{"$f":"IF(W492<>X493,1,0)","v":0},{"$f":"IF(Y492<>Y493,1,0)","v":0},1,{"$f":"IF(Z492<>AA493,1,0)","v":0},{"$f":"IF(AB492<>AB493,1,0)","v":0}]
[null,null,null,null,null,null,null,null,null,null,null,null,null,null,null,{"$error":"#N/A"},null,null,null,null,null,null,null,null,null,null,null,null,null,{"$f":"(T493*Setup!$J$17)+(U493*Setup!$J$18)+(V493*Setup!$J$19)+(W493*Setup!$J$22)+X493*(Setup!$J$23)+(Y493*Setup!$J$24)+(Z493*Setup!$J$27)+(AA493*Setup!$J$28)+(AB493*Setup!$J$29)","v":0},"ERROR",1,{"$f":"IF(T493<>U492,1,0)","v":0},{"$f":"IF(V493<>V492,1,0)","v":0},1,{"$f":"IF(W493<>X492,1,0)","v":0},{"$f":"IF(Y493<>Y492,1,0)","v":0},1,{"$f":"IF(Z493<>AA492,1,0)","v":0},{"$f":"IF(AB493<>AB492,1,0)","v":0}]
[null,null,null,null,null,null,null,null,null,null,null,null,null,null,null,{"$error":"#N/A"},null,null,null,null,null,null,null,null,null,null,null,null,null,{"$f":"(T494*Setup!$J$17)+(U494*Setup!$J$18)+(V494*Setup!$J$19)+(W494*Setup!$J$22)+X494*(Setup!$J$23)+(Y494*Setup!$J$24)+(Z494*Setup!$J$27)+(AA494*Setup!$J$28)+(AB494*Setup!$J$29)","v":0},"ERROR",1,{"$f":"IF(T494<>U495,1,0)","v":0},{"$f":"IF(V494<>V495,1,0)","v":0},1,{"$f":"IF(W494<>X495,1,0)","v":0},{"$f":"IF(Y494<>Y495,1,0)","v":0},1,{"$f":"IF(Z494<>AA495,1,0)","v":0},{"$f":"IF(AB494<>AB495,1,0)","v":0}]
[null,null,null,null,null,null,null,null,null,null,null,null,null,null,null,{"$error":"#N/A"},null,null,null,null,null,null,null,null,null,null,null,null,null,{"$f":"(T495*Setup!$J$17)+(U495*Setup!$J$18)+(V495*Setup!$J$19)+(W495*Setup!$J$22)+X495*(Setup!$J$23)+(Y495*Setup!$J$24)+(Z495*Setup!$J$27)+(AA495*Setup!$J$28)+(AB495*Setup!$J$29)","v":0},"ERROR",1,{"$f":"IF(T495<>U494,1,0)","v":0},{"$f":"IF(V495<>V494,1,0)","v":0},1,{"$f":"IF(W495<>X494,1,0)","v":0},{"$f":"IF(Y495<>Y494,1,0)","v":0},1,{"$f":"IF(Z495<>AA494,1,0)","v":0},{"$f":"IF(AB495<>AB494,1,0)","v":0}]
[null,null,null,null,null,null,null,null,null,null,null,null,null,null,null,{"$error":"#N/A"},null,null,null,null,null,null,null,null,null,null,null,null,null,{"$f":"(T496*Setup!$J$17)+(U496*Setup!$J$18)+(V496*Setup!$J$19)+(W496*Setup!$J$22)+X496*(Setup!$J$23)+(Y496*Setup!$J$24)+(Z496*Setup!$J$27)+(AA496*Setup!$J$28)+(AB496*Setup!$J$29)","v":0},"ERROR",1,{"$f":"IF(T496<>U497,1,0)","v":0},{"$f":"IF(V496<>V497,1,0)","v":0},1,{"$f":"IF(W496<>X497,1,0)","v":0},{"$f":"IF(Y496<>Y497,1,0)","v":0},1,{"$f":"IF(Z496<>AA497,1,0)","v":0},{"$f":"IF(AB496<>AB497,1,0)","v":0}]
[null,null,null,null,null,null,null,null,null,null,null,null,null,null,null,{"$error":"#N/A"},null,null,null,null,null,null,null,null,null,null,null,null,null,{"$f":"(T497*Setup!$J$17)+(U497*Setup!$J$18)+(V497*Setup!$J$19)+(W497*Setup!$J$22)+X497*(Setup!$J$23)+(Y497*Setup!$J$24)+(Z497*Setup!$J$27)+(AA497*Setup!$J$28)+(AB497*Setup!$J$29)","v":0},"ERROR",1,{"$f":"IF(T497<>U496,1,0)","v":0},{"$f":"IF(V497<>V496,1,0)","v":0},1,{"$f":"IF(W497<>X496,1,0)","v":0},{"$f":"IF(Y497<>Y496,1,0)","v":0},1,{"$f":"IF(Z497<>AA496,1,0)","v":0},{"$f":"IF(AB497<>AB496,1,0)","v":0}]
[null,null,null,null,null,null,null,null,null,null,null,null,null,null,null,{"$error":"#N/A"},null,null,null,null,null,null,null,null,null,null,null,null,null,{"$f":"(T498*Setup!$J$17)+(U498*Setup!$J$18)+(V498*Setup!$J$19)+(W498*Setup!$J$22)+X498*(Setup!$J$23)+(Y498*Setup!$J$24)+(Z498*Setup!$J$27)+(AA498*Setup!$J$28)+(AB498*Setup!$J$29)","v":0},"ERROR",1,{"$f":"IF(T498<>U499,1,0)","v":0},{"$f":"IF(V498<>V499,1,0)","v":0},1,{"$f":"IF(W498<>X499,1,0)","v":0},{"$f":"IF(Y498<>Y499,1,0)","v":0},1,{"$f":"IF(Z498<>AA499,1,0)","v":0},{"$f":"IF(AB498<>AB499,1,0)","v":0}]
[null,null,null,null,null,null,null,null,null,null,null,null,null,null,null,{"$error":"#N/A"},null,null,null,null,null,null,null,null,null,null,null,null,null,{"$f":"(T499*Setup!$J$17)+(U499*Setup!$J$18)+(V499*Setup!$J$19)+(W499*Setup!$J$22)+X499*(Setup!$J$23)+(Y499*Setup!$J$24)+(Z499*Setup!$J$27)+(AA499*Setup!$J$28)+(AB499*Setup!$J$29)","v":0},"ERROR",1,{"$f":"IF(T499<>U498,1,0)","v":0},{"$f":"IF(V499<>V498,1,0)","v":0},1,{"$f":"IF(W499<>X498,1,0)","v":0},{"$f":"IF(Y499<>Y498,1,0)","v":0},1,{"$f":"IF(Z499<>AA498,1,0)","v":0},{"$f":"IF(AB499<>AB498,1,0)","v":0}]
[null,null,null,null,null,null,null,null,null,null,null,null,null,null,null,{"$error":"#N/A"},null,null,null,null,null,null,null,null,null,null,null,null,null,{"$f":"(T500*Setup!$J$17)+(U500*Setup!$J$18)+(V500*Setup!$J$19)+(W500*Setup!$J$22)+X500*(Setup!$J$23)+(Y500*Setup!$J$24)+(Z500*Setup!$J$27)+(AA500*Setup!$J$28)+(AB500*Setup!$J$29)","v":0},"ERROR",1,{"$f":"IF(T500<>U501,1,0)","v":0},{"$f":"IF(V500<>V501,1,0)","v":0},1,{"$f":"IF(W500<>X501,1,0)","v":0},{"$f":"IF(Y500<>Y501,1,0)","v":0},1,{"$f":"IF(Z500<>AA501,1,0)","v":0},{"$f":"IF(AB500<>AB501,1,0)","v":0}]
[null,null,null,null,null,null,null,null,null,null,null,null,null,null,null,{"$error":"#N/A"},null,null,null,null,null,null,null,null,null,null,null,null,null,{"$f":"(T501*Setup!$J$17)+(U501*Setup!$J$18)+(V501*Setup!$J$19)+(W501*Setup!$J$22)+X501*(Setup!$J$23)+(Y501*Setup!$J$24)+(Z501*Setup!$J$27)+(AA501*Setup!$J$28)+(AB501*Setup!$J$29)","v":0},"ERROR",1,{"$f":"IF(T501<>U500,1,0)","v":0},{"$f":"IF(V501<>V500,1,0)","v":0},1,{"$f":"IF(W501<>X500,1,0)","v":0},{"$f":"IF(Y501<>Y500,1,0)","v":0},1,{"$f":"IF(Z501<>AA500,1,0)","v":0},{"$f":"IF(AB501<>AB500,1,0)","v":0}]
[null,null,null,null,null,null,null,null,null,null,null,null,null,null,null,{"$error":"#N/A"},null,null,null,null,null,null,null,null,null,null,null,null,null,{"$f":"(T502*Setup!$J$17)+(U502*Setup!$J$18)+(V502*Setup!$J$19)+(W502*Setup!$J$22)+X502*(Setup!$J$23)+(Y502*Setup!$J$24)+(Z502*Setup!$J$27)+(AA502*Setup!$J$28)+(AB502*Setup!$J$29)","v":0},"ERROR",1,{"$f":"IF(T502<>U503,1,0)","v":0},{"$f":"IF(V502<>V503,1,0)","v":0},1,{"$f":"IF(W502<>X503,1,0)","v":0},{"$f":"IF(Y502<>Y503,1,0)","v":0},1,{"$f":"IF(Z502<>AA503,1,0)","v":0},{"$f":"IF(AB502<>AB503,1,0)","v":0}]
[null,null,null,null,null,null,null,null,null,null,null,null,null,null,null,{"$error":"#N/A"},null,null,null,null,null,null,null,null,null,null,null,null,null,{"$f":"(T503*Setup!$J$17)+(U503*Setup!$J$18)+(V503*Setup!$J$19)+(W503*Setup!$J$22)+X503*(Setup!$J$23)+(Y503*Setup!$J$24)+(Z503*Setup!$J$27)+(AA503*Setup!$J$28)+(AB503*Setup!$J$29)","v":0},"ERROR",1,{"$f":"IF(T503<>U502,1,0)","v":0},{"$f":"IF(V503<>V502,1,0)","v":0},1,{"$f":"IF(W503<>X502,1,0)","v":0},{"$f":"IF(Y503<>Y502,1,0)","v":0},1,{"$f":"IF(Z503<>AA502,1,0)","v":0},{"$f":"IF(AB503<>AB502,1,0)","v":0}]
[null,null,null,null,null,null,null,null,null,null,null,null,null,null,null,{"$error":"#N/A"},null,null,null,null,null,null,null,null,null,null,null,null,null,{"$f":"(T504*Setup!$J$17)+(U504*Setup!$J$18)+(V504*Setup!$J$19)+(W504*Setup!$J$22)+X504*(Setup!$J$23)+(Y504*Setup!$J$24)+(Z504*Setup!$J$27)+(AA504*Setup!$J$28)+(AB504*Setup!$J$29)","v":0},"ERROR",1,{"$f":"IF(T504<>U505,1,0)","v":0},{"$f":"IF(V504<>V505,1,0)","v":0},1,{"$f":"IF(W504<>X505,1,0)","v":0},{"$f":"IF(Y504<>Y505,1,0)","v":0},1,{"$f":"IF(Z504<>AA505,1,0)","v":0},{"$f":"IF(AB504<>AB505,1,0)","v":0}]
[null,null,null,null,null,null,null,null,null,null,null,null,null,null,null,{"$error":"#N/A"},null,null,null,null,null,null,null,null,null,null,null,null,null,{"$f":"(T505*Setup!$J$17)+(U505*Setup!$J$18)+(V505*Setup!$J$19)+(W505*Setup!$J$22)+X505*(Setup!$J$23)+(Y505*Setup!$J$24)+(Z505*Setup!$J$27)+(AA505*Setup!$J$28)+(AB505*Setup!$J$29)","v":0},"ERROR",1,{"$f":"IF(T505<>U504,1,0)","v":0},{"$f":"IF(V505<>V504,1,0)","v":0},1,{"$f":"IF(W505<>X504,1,0)","v":0},{"$f":"IF(Y505<>Y504,1,0)","v":0},1,{"$f":"IF(Z505<>AA504,1,0)","v":0},{"$f":"IF(AB505<>AB504,1,0)","v":0}]
[null,null,null,null,null,null,null,null,null,null,null,null,null,null,null,{"$error":"#N/A"},null,null,null,null,null,null,null,null,null,null,null,null,null,{"$f":"(T506*Setup!$J$17)+(U506*Setup!$J$18)+(V506*Setup!$J$19)+(W506*Setup!$J$22)+X506*(Setup!$J$23)+(Y506*Setup!$J$24)+(Z506*Setup!$J$27)+(AA506*Setup!$J$28)+(AB506*Setup!$J$29)","v":0},"ERROR",1,{"$f":"IF(T506<>U507,1,0)","v":0},{"$f":"IF(V506<>V507,1,0)","v":0},1,{"$f":"IF(W506<>X507,1,0)","v":0},{"$f":"IF(Y506<>Y507,1,0)","v":0},1,{"$f":"IF(Z506<>AA507,1,0)","v":0},{"$f":"IF(AB506<>AB507,1,0)","v":0}]
[null,null,null,null,null,null,null,null,null,null,null,null,null,null,null,{"$error":"#N/A"},null,null,null,null,null,null,null,null,null,null,null,null,null,{"$f":"(T507*Setup!$J$17)+(U507*Setup!$J$18)+(V507*Setup!$J$19)+(W507*Setup!$J$22)+X507*(Setup!$J$23)+(Y507*Setup!$J$24)+(Z507*Setup!$J$27)+(AA507*Setup!$J$28)+(AB507*Setup!$J$29)","v":0},"ERROR",1,{"$f":"IF(T507<>U506,1,0)","v":0},{"$f":"IF(V507<>V506,1,0)","v":0},1,{"$f":"IF(W507<>X506,1,0)","v":0},{"$f":"IF(Y507<>Y506,1,0)","v":0},1,{"$f":"IF(Z507<>AA506,1,0)","v":0},{"$f":"IF(AB507<>AB506,1,0)","v":0}]
[null,null,null,null,null,null,null,null,null,null,null,null,null,null,null,{"$error":"#N/A"},null,null,null,null,null,null,null,null,null,null,null,null,null,{"$f":"(T508*Setup!$J$17)+(U508*Setup!$J$18)+(V508*Setup!$J$19)+(W508*Setup!$J$22)+X508*(Setup!$J$23)+(Y508*Setup!$J$24)+(Z508*Setup!$J$27)+(AA508*Setup!$J$28)+(AB508*Setup!$J$29)","v":0},"ERROR",1,{"$f":"IF(T508<>U509,1,0)","v":0},{"$f":"IF(V508<>V509,1,0)","v":0},1,{"$f":"IF(W508<>X509,1,0)","v":0},{"$f":"IF(Y508<>Y509,1,0)","v":0},1,{"$f":"IF(Z508<>AA509,1,0)","v":0},{"$f":"IF(AB508<>AB509,1,0)","v":0}]
[null,null,null,null,null,null,null,null,null,null,null,null,null,null,null,{"$error":"#N/A"},null,null,null,null,null,null,null,null,null,null,null,null,null,{"$f":"(T509*Setup!$J$17)+(U509*Setup!$J$18)+(V509*Setup!$J$19)+(W509*Setup!$J$22)+X509*(Setup!$J$23)+(Y509*Setup!$J$24)+(Z509*Setup!$J$27)+(AA509*Setup!$J$28)+(AB509*Setup!$J$29)","v":0},"ERROR",1,{"$f":"IF(T509<>U508,1,0)","v":0},{"$f":"IF(V509<>V508,1,0)","v":0},1,{"$f":"IF(W509<>X508,1,0)","v":0},{"$f":"IF(Y509<>Y508,1,0)","v":0},1,{"$f":"IF(Z509<>AA508,1,0)","v":0},{"$f":"IF(AB509<>AB508,1,0)","v":0}]
[null,null,null,null,null,null,null,null,null,null,null,null,null,null,null,{"$error":"#N/A"},null,null,null,null,null,null,null,null,null,null,null,null,null,{"$f":"(T510*Setup!$J$17)+(U510*Setup!$J$18)+(V510*Setup!$J$19)+(W510*Setup!$J$22)+X510*(Setup!$J$23)+(Y510*Setup!$J$24)+(Z510*Setup!$J$27)+(AA510*Setup!$J$28)+(AB510*Setup!$J$29)","v":0},"ERROR",1,{"$f":"IF(T510<>U511,1,0)","v":0},{"$f":"IF(V510<>V511,1,0)","v":0},1,{"$f":"IF(W510<>X511,1,0)","v":0},{"$f":"IF(Y510<>Y511,1,0)","v":0},1,{"$f":"IF(Z510<>AA511,1,0)","v":0},{"$f":"IF(AB510<>AB511,1,0)","v":0}]
[null,null,null,null,null,null,null,null,null,null,null,null,null,null,null,{"$error":"#N/A"},null,null,null,null,null,null,null,null,null,null,null,null,null,{"$f":"(T511*Setup!$J$17)+(U511*Setup!$J$18)+(V511*Setup!$J$19)+(W511*Setup!$J$22)+X511*(Setup!$J$23)+(Y511*Setup!$J$24)+(Z511*Setup!$J$27)+(AA511*Setup!$J$28)+(AB511*Setup!$J$29)","v":0},"ERROR",1,{"$f":"IF(T511<>U510,1,0)","v":0},{"$f":"IF(V511<>V510,1,0)","v":0},1,{"$f":"IF(W511<>X510,1,0)","v":0},{"$f":"IF(Y511<>Y510,1,0)","v":0},1,{"$f":"IF(Z511<>AA510,1,0)","v":0},{"$f":"IF(AB511<>AB510,1,0)","v":0}]
[null,null,null,null,null,null,null,null,null,null,null,null,null,null,null,{"$error":"#N/A"},null,null,null,null,null,null,null,null,null,null,null,null,null,{"$f":"(T512*Setup!$J$17)+(U512*Setup!$J$18)+(V512*Setup!$J$19)+(W512*Setup!$J$22)+X512*(Setup!$J$23)+(Y512*Setup!$J$24)+(Z512*Setup!$J$27)+(AA512*Setup!$J$28)+(AB512*Setup!$J$29)","v":0},"ERROR",1,{"$f":"IF(T512<>U513,1,0)","v":0},{"$f":"IF(V512<>V513,1,0)","v":0},1,{"$f":"IF(W512<>X513,1,0)","v":0},{"$f":"IF(Y512<>Y513,1,0)","v":0},1,{"$f":"IF(Z512<>AA513,1,0)","v":0},{"$f":"IF(AB512<>AB513,1,0)","v":0}]
[null,null,null,null,null,null,null,null,null,null,null,null,null,null,null,{"$error":"#N/A"},null,null,null,null,null,null,null,null,null,null,null,null,null,{"$f":"(T513*Setup!$J$17)+(U513*Setup!$J$18)+(V513*Setup!$J$19)+(W513*Setup!$J$22)+X513*(Setup!$J$23)+(Y513*Setup!$J$24)+(Z513*Setup!$J$27)+(AA513*Setup!$J$28)+(AB513*Setup!$J$29)","v":0},"ERROR",1,{"$f":"IF(T513<>U512,1,0)","v":0},{"$f":"IF(V513<>V512,1,0)","v":0},1,{"$f":"IF(W513<>X512,1,0)","v":0},{"$f":"IF(Y513<>Y512,1,0)","v":0},1,{"$f":"IF(Z513<>AA512,1,0)","v":0},{"$f":"IF(AB513<>AB512,1,0)","v":0}]
[null,null,null,null,null,null,null,null,null,null,null,null,null,null,null,{"$error":"#N/A"},null,null,null,null,null,null,null,null,null,null,null,null,null,{"$f":"(T514*Setup!$J$17)+(U514*Setup!$J$18)+(V514*Setup!$J$19)+(W514*Setup!$J$22)+X514*(Setup!$J$23)+(Y514*Setup!$J$24)+(Z514*Setup!$J$27)+(AA514*Setup!$J$28)+(AB514*Setup!$J$29)","v":0},"ERROR",1,{"$f":"IF(T514<>U515,1,0)","v":0},{"$f":"IF(V514<>V515,1,0)","v":0},1,{"$f":"IF(W514<>X515,1,0)","v":0},{"$f":"IF(Y514<>Y515,1,0)","v":0},1,{"$f":"IF(Z514<>AA515,1,0)","v":0},{"$f":"IF(AB514<>AB515,1,0)","v":0}]
[null,null,null,null,null,null,null,null,null,null,null,null,null,null,null,{"$error":"#N/A"},null,null,null,null,null,null,null,null,null,null,null,null,null,{"$f":"(T515*Setup!$J$17)+(U515*Setup!$J$18)+(V515*Setup!$J$19)+(W515*Setup!$J$22)+X515*(Setup!$J$23)+(Y515*Setup!$J$24)+(Z515*Setup!$J$27)+(AA515*Setup!$J$28)+(AB515*Setup!$J$29)","v":0},"ERROR",1,{"$f":"IF(T515<>U514,1,0)","v":0},{"$f":"IF(V515<>V514,1,0)","v":0},1,{"$f":"IF(W515<>X514,1,0)","v":0},{"$f":"IF(Y515<>Y514,1,0)","v":0},1,{"$f":"IF(Z515<>AA514,1,0)","v":0},{"$f":"IF(AB515<>AB514,1,0)","v":0}]
[null,null,null,null,null,null,null,null,null,null,null,null,null,null,null,{"$error":"#N/A"},null,null,null,null,null,null,null,null,null,null,null,null,null,{"$f":"(T516*Setup!$J$17)+(U516*Setup!$J$18)+(V516*Setup!$J$19)+(W516*Setup!$J$22)+X516*(Setup!$J$23)+(Y516*Setup!$J$24)+(Z516*Setup!$J$27)+(AA516*Setup!$J$28)+(AB516*Setup!$J$29)","v":0},"ERROR",1,{"$f":"IF(T516<>U517,1,0)","v":0},{"$f":"IF(V516<>V517,1,0)","v":0},1,{"$f":"IF(W516<>X517,1,0)","v":0},{"$f":"IF(Y516<>Y517,1,0)","v":0},1,{"$f":"IF(Z516<>AA517,1,0)","v":0},{"$f":"IF(AB516<>AB517,1,0)","v":0}]
[null,null,null,null,null,null,null,null,null,null,null,null,null,null,null,{"$error":"#N/A"},null,null,null,null,null,null,null,null,null,null,null,null,null,{"$f":"(T517*Setup!$J$17)+(U517*Setup!$J$18)+(V517*Setup!$J$19)+(W517*Setup!$J$22)+X517*(Setup!$J$23)+(Y517*Setup!$J$24)+(Z517*Setup!$J$27)+(AA517*Setup!$J$28)+(AB517*Setup!$J$29)","v":0},"ERROR",1,{"$f":"IF(T517<>U516,1,0)","v":0},{"$f":"IF(V517<>V516,1,0)","v":0},1,{"$f":"IF(W517<>X516,1,0)","v":0},{"$f":"IF(Y517<>Y516,1,0)","v":0},1,{"$f":"IF(Z517<>AA516,1,0)","v":0},{"$f":"IF(AB517<>AB516,1,0)","v":0}]
[null,null,null,null,null,null,null,null,null,null,null,null,null,null,null,{"$error":"#N/A"},null,null,null,null,null,null,null,null,null,null,null,null,null,{"$f":"(T518*Setup!$J$17)+(U518*Setup!$J$18)+(V518*Setup!$J$19)+(W518*Setup!$J$22)+X518*(Setup!$J$23)+(Y518*Setup!$J$24)+(Z518*Setup!$J$27)+(AA518*Setup!$J$28)+(AB518*Setup!$J$29)","v":0},"ERROR",1,{"$f":"IF(T518<>U519,1,0)","v":0},{"$f":"IF(V518<>V519,1,0)","v":0},1,{"$f":"IF(W518<>X519,1,0)","v":0},{"$f":"IF(Y518<>Y519,1,0)","v":0},1,{"$f":"IF(Z518<>AA519,1,0)","v":0},{"$f":"IF(AB518<>AB519,1,0)","v":0}]
[null,null,null,null,null,null,null,null,null,null,null,null,null,null,null,{"$error":"#N/A"},null,null,null,null,null,null,null,null,null,null,null,null,null,{"$f":"(T519*Setup!$J$17)+(U519*Setup!$J$18)+(V519*Setup!$J$19)+(W519*Setup!$J$22)+X519*(Setup!$J$23)+(Y519*Setup!$J$24)+(Z519*Setup!$J$27)+(AA519*Setup!$J$28)+(AB519*Setup!$J$29)","v":0},"ERROR",1,{"$f":"IF(T519<>U518,1,0)","v":0},{"$f":"IF(V519<>V518,1,0)","v":0},1,{"$f":"IF(W519<>X518,1,0)","v":0},{"$f":"IF(Y519<>Y518,1,0)","v":0},1,{"$f":"IF(Z519<>AA518,1,0)","v":0},{"$f":"IF(AB519<>AB518,1,0)","v":0}]
[null,null,null,null,null,null,null,null,null,null,null,null,null,null,null,{"$error":"#N/A"},null,null,null,null,null,null,null,null,null,null,null,null,null,{"$f":"(T520*Setup!$J$17)+(U520*Setup!$J$18)+(V520*Setup!$J$19)+(W520*Setup!$J$22)+X520*(Setup!$J$23)+(Y520*Setup!$J$24)+(Z520*Setup!$J$27)+(AA520*Setup!$J$28)+(AB520*Setup!$J$29)","v":0},"ERROR",1,{"$f":"IF(T520<>U521,1,0)","v":0},{"$f":"IF(V520<>V521,1,0)","v":0},1,{"$f":"IF(W520<>X521,1,0)","v":0},{"$f":"IF(Y520<>Y521,1,0)","v":0},1,{"$f":"IF(Z520<>AA521,1,0)","v":0},{"$f":"IF(AB520<>AB521,1,0)","v":0}]
[null,null,null,null,null,null,null,null,null,null,null,null,null,null,null,{"$error":"#N/A"},null,null,null,null,null,null,null,null,null,null,null,null,null,{"$f":"(T521*Setup!$J$17)+(U521*Setup!$J$18)+(V521*Setup!$J$19)+(W521*Setup!$J$22)+X521*(Setup!$J$23)+(Y521*Setup!$J$24)+(Z521*Setup!$J$27)+(AA521*Setup!$J$28)+(AB521*Setup!$J$29)","v":0},"ERROR",1,{"$f":"IF(T521<>U520,1,0)","v":0},{"$f":"IF(V521<>V520,1,0)","v":0},1,{"$f":"IF(W521<>X520,1,0)","v":0},{"$f":"IF(Y521<>Y520,1,0)","v":0},1,{"$f":"IF(Z521<>AA520,1,0)","v":0},{"$f":"IF(AB521<>AB520,1,0)","v":0}]
[null,null,null,null,null,null,null,null,null,null,null,null,null,null,null,{"$error":"#N/A"},null,null,null,null,null,null,null,null,null,null,null,null,null,{"$f":"(T522*Setup!$J$17)+(U522*Setup!$J$18)+(V522*Setup!$J$19)+(W522*Setup!$J$22)+X522*(Setup!$J$23)+(Y522*Setup!$J$24)+(Z522*Setup!$J$27)+(AA522*Setup!$J$28)+(AB522*Setup!$J$29)","v":0},"ERROR",1,{"$f":"IF(T522<>U523,1,0)","v":0},{"$f":"IF(V522<>V523,1,0)","v":0},1,{"$f":"IF(W522<>X523,1,0)","v":0},{"$f":"IF(Y522<>Y523,1,0)","v":0},1,{"$f":"IF(Z522<>AA523,1,0)","v":0},{"$f":"IF(AB522<>AB523,1,0)","v":0}]
[null,null,null,null,null,null,null,null,null,null,null,null,null,null,null,{"$error":"#N/A"},null,null,null,null,null,null,null,null,null,null,null,null,null,{"$f":"(T523*Setup!$J$17)+(U523*Setup!$J$18)+(V523*Setup!$J$19)+(W523*Setup!$J$22)+X523*(Setup!$J$23)+(Y523*Setup!$J$24)+(Z523*Setup!$J$27)+(AA523*Setup!$J$28)+(AB523*Setup!$J$29)","v":0},"ERROR",1,{"$f":"IF(T523<>U522,1,0)","v":0},{"$f":"IF(V523<>V522,1,0)","v":0},1,{"$f":"IF(W523<>X522,1,0)","v":0},{"$f":"IF(Y523<>Y522,1,0)","v":0},1,{"$f":"IF(Z523<>AA522,1,0)","v":0},{"$f":"IF(AB523<>AB522,1,0)","v":0}]
[null,null,null,null,null,null,null,null,null,null,null,null,null,null,null,{"$error":"#N/A"},null,null,null,null,null,null,null,null,null,null,null,null,null,{"$f":"(T524*Setup!$J$17)+(U524*Setup!$J$18)+(V524*Setup!$J$19)+(W524*Setup!$J$22)+X524*(Setup!$J$23)+(Y524*Setup!$J$24)+(Z524*Setup!$J$27)+(AA524*Setup!$J$28)+(AB524*Setup!$J$29)","v":0},"ERROR",1,{"$f":"IF(T524<>U525,1,0)","v":0},{"$f":"IF(V524<>V525,1,0)","v":0},1,{"$f":"IF(W524<>X525,1,0)","v":0},{"$f":"IF(Y524<>Y525,1,0)","v":0},1,{"$f":"IF(Z524<>AA525,1,0)","v":0},{"$f":"IF(AB524<>AB525,1,0)","v":0}]
[null,null,null,null,null,null,null,null,null,null,null,null,null,null,null,{"$error":"#N/A"},null,null,null,null,null,null,null,null,null,null,null,null,null,{"$f":"(T525*Setup!$J$17)+(U525*Setup!$J$18)+(V525*Setup!$J$19)+(W525*Setup!$J$22)+X525*(Setup!$J$23)+(Y525*Setup!$J$24)+(Z525*Setup!$J$27)+(AA525*Setup!$J$28)+(AB525*Setup!$J$29)","v":0},"ERROR",1,{"$f":"IF(T525<>U524,1,0)","v":0},{"$f":"IF(V525<>V524,1,0)","v":0},1,{"$f":"IF(W525<>X524,1,0)","v":0},{"$f":"IF(Y525<>Y524,1,0)","v":0},1,{"$f":"IF(Z525<>AA524,1,0)","v":0},{"$f":"IF(AB525<>AB524,1,0)","v":0}]
[null,null,null,null,null,null,null,null,null,null,null,null,null,null,null,{"$error":"#N/A"},null,null,null,null,null,null,null,null,null,null,null,null,null,{"$f":"(T526*Setup!$J$17)+(U526*Setup!$J$18)+(V526*Setup!$J$19)+(W526*Setup!$J$22)+X526*(Setup!$J$23)+(Y526*Setup!$J$24)+(Z526*Setup!$J$27)+(AA526*Setup!$J$28)+(AB526*Setup!$J$29)","v":0},"ERROR",1,{"$f":"IF(T526<>U527,1,0)","v":0},{"$f":"IF(V526<>V527,1,0)","v":0},1,{"$f":"IF(W526<>X527,1,0)","v":0},{"$f":"IF(Y526<>Y527,1,0)","v":0},1,{"$f":"IF(Z526<>AA527,1,0)","v":0},{"$f":"IF(AB526<>AB527,1,0)","v":0}]
[null,null,null,null,null,null,null,null,null,null,null,null,null,null,null,{"$error":"#N/A"},null,null,null,null,null,null,null,null,null,null,null,null,null,{"$f":"(T527*Setup!$J$17)+(U527*Setup!$J$18)+(V527*Setup!$J$19)+(W527*Setup!$J$22)+X527*(Setup!$J$23)+(Y527*Setup!$J$24)+(Z527*Setup!$J$27)+(AA527*Setup!$J$28)+(AB527*Setup!$J$29)","v":0},"ERROR",1,{"$f":"IF(T527<>U526,1,0)","v":0},{"$f":"IF(V527<>V526,1,0)","v":0},1,{"$f":"IF(W527<>X526,1,0)","v":0},{"$f":"IF(Y527<>Y526,1,0)","v":0},1,{"$f":"IF(Z527<>AA526,1,0)","v":0},{"$f":"IF(AB527<>AB526,1,0)","v":0}]
[null,null,null,null,null,null,null,null,null,null,null,null,null,null,null,{"$error":"#N/A"},null,null,null,null,null,null,null,null,null,null,null,null,null,{"$f":"(T528*Setup!$J$17)+(U528*Setup!$J$18)+(V528*Setup!$J$19)+(W528*Setup!$J$22)+X528*(Setup!$J$23)+(Y528*Setup!$J$24)+(Z528*Setup!$J$27)+(AA528*Setup!$J$28)+(AB528*Setup!$J$29)","v":0},"ERROR",1,{"$f":"IF(T528<>U529,1,0)","v":0},{"$f":"IF(V528<>V529,1,0)","v":0},1,{"$f":"IF(W528<>X529,1,0)","v":0},{"$f":"IF(Y528<>Y529,1,0)","v":0},1,{"$f":"IF(Z528<>AA529,1,0)","v":0},{"$f":"IF(AB528<>AB529,1,0)","v":0}]
[null,null,null,null,null,null,null,null,null,null,null,null,null,null,null,{"$error":"#N/A"},null,null,null,null,null,null,null,null,null,null,null,null,null,{"$f":"(T529*Setup!$J$17)+(U529*Setup!$J$18)+(V529*Setup!$J$19)+(W529*Setup!$J$22)+X529*(Setup!$J$23)+(Y529*Setup!$J$24)+(Z529*Setup!$J$27)+(AA529*Setup!$J$28)+(AB529*Setup!$J$29)","v":0},"ERROR",1,{"$f":"IF(T529<>U528,1,0)","v":0},{"$f":"IF(V529<>V528,1,0)","v":0},1,{"$f":"IF(W529<>X528,1,0)","v":0},{"$f":"IF(Y529<>Y528,1,0)","v":0},1,{"$f":"IF(Z529<>AA528,1,0)","v":0},{"$f":"IF(AB529<>AB528,1,0)","v":0}]
[null,null,null,null,null,null,null,null,null,null,null,null,null,null,null,{"$error":"#N/A"},null,null,null,null,null,null,null,null,null,null,null,null,null,{"$f":"(T530*Setup!$J$17)+(U530*Setup!$J$18)+(V530*Setup!$J$19)+(W530*Setup!$J$22)+X530*(Setup!$J$23)+(Y530*Setup!$J$24)+(Z530*Setup!$J$27)+(AA530*Setup!$J$28)+(AB530*Setup!$J$29)","v":0},"ERROR",1,{"$f":"IF(T530<>U531,1,0)","v":0},{"$f":"IF(V530<>V531,1,0)","v":0},1,{"$f":"IF(W530<>X531,1,0)","v":0},{"$f":"IF(Y530<>Y531,1,0)","v":0},1,{"$f":"IF(Z530<>AA531,1,0)","v":0},{"$f":"IF(AB530<>AB531,1,0)","v":0}]
[null,null,null,null,null,null,null,null,null,null,null,null,null,null,null,{"$error":"#N/A"},null,null,null,null,null,null,null,null,null,null,null,null,null,{"$f":"(T531*Setup!$J$17)+(U531*Setup!$J$18)+(V531*Setup!$J$19)+(W531*Setup!$J$22)+X531*(Setup!$J$23)+(Y531*Setup!$J$24)+(Z531*Setup!$J$27)+(AA531*Setup!$J$28)+(AB531*Setup!$J$29)","v":0},"ERROR",1,{"$f":"IF(T531<>U530,1,0)","v":0},{"$f":"IF(V531<>V530,1,0)","v":0},1,{"$f":"IF(W531<>X530,1,0)","v":0},{"$f":"IF(Y531<>Y530,1,0)","v":0},1,{"$f":"IF(Z531<>AA530,1,0)","v":0},{"$f":"IF(AB531<>AB530,1,0)","v":0}]
[null,null,null,null,null,null,null,null,null,null,null,null,null,null,null,{"$error":"#N/A"},null,null,null,null,null,null,null,null,null,null,null,null,null,{"$f":"(T532*Setup!$J$17)+(U532*Setup!$J$18)+(V532*Setup!$J$19)+(W532*Setup!$J$22)+X532*(Setup!$J$23)+(Y532*Setup!$J$24)+(Z532*Setup!$J$27)+(AA532*Setup!$J$28)+(AB532*Setup!$J$29)","v":0},"ERROR",1,{"$f":"IF(T532<>U533,1,0)","v":0},{"$f":"IF(V532<>V533,1,0)","v":0},1,{"$f":"IF(W532<>X533,1,0)","v":0},{"$f":"IF(Y532<>Y533,1,0)","v":0},1,{"$f":"IF(Z532<>AA533,1,0)","v":0},{"$f":"IF(AB532<>AB533,1,0)","v":0}]
[null,null,null,null,null,null,null,null,null,null,null,null,null,null,null,{"$error":"#N/A"},null,null,null,null,null,null,null,null,null,null,null,null,null,{"$f":"(T533*Setup!$J$17)+(U533*Setup!$J$18)+(V533*Setup!$J$19)+(W533*Setup!$J$22)+X533*(Setup!$J$23)+(Y533*Setup!$J$24)+(Z533*Setup!$J$27)+(AA533*Setup!$J$28)+(AB533*Setup!$J$29)","v":0},"ERROR",1,{"$f":"IF(T533<>U532,1,0)","v":0},{"$f":"IF(V533<>V532,1,0)","v":0},1,{"$f":"IF(W533<>X532,1,0)","v":0},{"$f":"IF(Y533<>Y532,1,0)","v":0},1,{"$f":"IF(Z533<>AA532,1,0)","v":0},{"$f":"IF(AB533<>AB532,1,0)","v":0}]
[null,null,null,null,null,null,null,null,null,null,null,null,null,null,null,{"$error":"#N/A"},null,null,null,null,null,null,null,null,null,null,null,null,null,{"$f":"(T534*Setup!$J$17)+(U534*Setup!$J$18)+(V534*Setup!$J$19)+(W534*Setup!$J$22)+X534*(Setup!$J$23)+(Y534*Setup!$J$24)+(Z534*Setup!$J$27)+(AA534*Setup!$J$28)+(AB534*Setup!$J$29)","v":0},"ERROR",1,{"$f":"IF(T534<>U535,1,0)","v":0},{"$f":"IF(V534<>V535,1,0)","v":0},1,{"$f":"IF(W534<>X535,1,0)","v":0},{"$f":"IF(Y534<>Y535,1,0)","v":0},1,{"$f":"IF(Z534<>AA535,1,0)","v":0},{"$f":"IF(AB534<>AB535,1,0)","v":0}]
[null,null,null,null,null,null,null,null,null,null,null,null,null,null,null,{"$error":"#N/A"},null,null,null,null,null,null,null,null,null,null,null,null,null,{"$f":"(T535*Setup!$J$17)+(U535*Setup!$J$18)+(V535*Setup!$J$19)+(W535*Setup!$J$22)+X535*(Setup!$J$23)+(Y535*Setup!$J$24)+(Z535*Setup!$J$27)+(AA535*Setup!$J$28)+(AB535*Setup!$J$29)","v":0},"ERROR",1,{"$f":"IF(T535<>U534,1,0)","v":0},{"$f":"IF(V535<>V534,1,0)","v":0},1,{"$f":"IF(W535<>X534,1,0)","v":0},{"$f":"IF(Y535<>Y534,1,0)","v":0},1,{"$f":"IF(Z535<>AA534,1,0)","v":0},{"$f":"IF(AB535<>AB534,1,0)","v":0}]
[null,null,null,null,null,null,null,null,null,null,null,null,null,null,null,{"$error":"#N/A"},null,null,null,null,null,null,null,null,null,null,null,null,null,{"$f":"(T536*Setup!$J$17)+(U536*Setup!$J$18)+(V536*Setup!$J$19)+(W536*Setup!$J$22)+X536*(Setup!$J$23)+(Y536*Setup!$J$24)+(Z536*Setup!$J$27)+(AA536*Setup!$J$28)+(AB536*Setup!$J$29)","v":0},"ERROR",1,{"$f":"IF(T536<>U537,1,0)","v":0},{"$f":"IF(V536<>V537,1,0)","v":0},1,{"$f":"IF(W536<>X537,1,0)","v":0},{"$f":"IF(Y536<>Y537,1,0)","v":0},1,{"$f":"IF(Z536<>AA537,1,0)","v":0},{"$f":"IF(AB536<>AB537,1,0)","v":0}]
[null,null,null,null,null,null,null,null,null,null,null,null,null,null,null,{"$error":"#N/A"},null,null,null,null,null,null,null,null,null,null,null,null,null,{"$f":"(T537*Setup!$J$17)+(U537*Setup!$J$18)+(V537*Setup!$J$19)+(W537*Setup!$J$22)+X537*(Setup!$J$23)+(Y537*Setup!$J$24)+(Z537*Setup!$J$27)+(AA537*Setup!$J$28)+(AB537*Setup!$J$29)","v":0},"ERROR",1,{"$f":"IF(T537<>U536,1,0)","v":0},{"$f":"IF(V537<>V536,1,0)","v":0},1,{"$f":"IF(W537<>X536,1,0)","v":0},{"$f":"IF(Y537<>Y536,1,0)","v":0},1,{"$f":"IF(Z537<>AA536,1,0)","v":0},{"$f":"IF(AB537<>AB536,1,0)","v":0}]
[null,null,null,null,null,null,null,null,null,null,null,null,null,null,null,{"$error":"#N/A"},null,null,null,null,null,null,null,null,null,null,null,null,null,{"$f":"(T538*Setup!$J$17)+(U538*Setup!$J$18)+(V538*Setup!$J$19)+(W538*Setup!$J$22)+X538*(Setup!$J$23)+(Y538*Setup!$J$24)+(Z538*Setup!$J$27)+(AA538*Setup!$J$28)+(AB538*Setup!$J$29)","v":0},"ERROR",1,{"$f":"IF(T538<>U539,1,0)","v":0},{"$f":"IF(V538<>V539,1,0)","v":0},1,{"$f":"IF(W538<>X539,1,0)","v":0},{"$f":"IF(Y538<>Y539,1,0)","v":0},1,{"$f":"IF(Z538<>AA539,1,0)","v":0},{"$f":"IF(AB538<>AB539,1,0)","v":0}]
[null,null,null,null,null,null,null,null,null,null,null,null,null,null,null,{"$error":"#N/A"},null,null,null,null,null,null,null,null,null,null,null,null,null,{"$f":"(T539*Setup!$J$17)+(U539*Setup!$J$18)+(V539*Setup!$J$19)+(W539*Setup!$J$22)+X539*(Setup!$J$23)+(Y539*Setup!$J$24)+(Z539*Setup!$J$27)+(AA539*Setup!$J$28)+(AB539*Setup!$J$29)","v":0},"ERROR",1,{"$f":"IF(T539<>U538,1,0)","v":0},{"$f":"IF(V539<>V538,1,0)","v":0},1,{"$f":"IF(W539<>X538,1,0)","v":0},{"$f":"IF(Y539<>Y538,1,0)","v":0},1,{"$f":"IF(Z539<>AA538,1,0)","v":0},{"$f":"IF(AB539<>AB538,1,0)","v":0}]
[null,null,null,null,null,null,null,null,null,null,null,null,null,null,null,{"$error":"#N/A"},null,null,null,null,null,null,null,null,null,null,null,null,null,{"$f":"(T540*Setup!$J$17)+(U540*Setup!$J$18)+(V540*Setup!$J$19)+(W540*Setup!$J$22)+X540*(Setup!$J$23)+(Y540*Setup!$J$24)+(Z540*Setup!$J$27)+(AA540*Setup!$J$28)+(AB540*Setup!$J$29)","v":0},"ERROR",1,{"$f":"IF(T540<>U541,1,0)","v":0},{"$f":"IF(V540<>V541,1,0)","v":0},1,{"$f":"IF(W540<>X541,1,0)","v":0},{"$f":"IF(Y540<>Y541,1,0)","v":0},1,{"$f":"IF(Z540<>AA541,1,0)","v":0},{"$f":"IF(AB540<>AB541,1,0)","v":0}]
[null,null,null,null,null,null,null,null,null,null,null,null,null,null,null,{"$error":"#N/A"},null,null,null,null,null,null,null,null,null,null,null,null,null,{"$f":"(T541*Setup!$J$17)+(U541*Setup!$J$18)+(V541*Setup!$J$19)+(W541*Setup!$J$22)+X541*(Setup!$J$23)+(Y541*Setup!$J$24)+(Z541*Setup!$J$27)+(AA541*Setup!$J$28)+(AB541*Setup!$J$29)","v":0},"ERROR",1,{"$f":"IF(T541<>U540,1,0)","v":0},{"$f":"IF(V541<>V540,1,0)","v":0},1,{"$f":"IF(W541<>X540,1,0)","v":0},{"$f":"IF(Y541<>Y540,1,0)","v":0},1,{"$f":"IF(Z541<>AA540,1,0)","v":0},{"$f":"IF(AB541<>AB540,1,0)","v":0}]
[null,null,null,null,null,null,null,null,null,null,null,null,null,null,null,{"$f":"VLOOKUP(S542,GE_Teams_DBID,2,FALSE)","v":{"$error":"#N/A"}},null,null,null,null,null,null,null,null,null,null,null,null,null,{"$f":"(T542*Setup!$J$17)+(U542*Setup!$J$18)+(V542*Setup!$J$19)+(W542*Setup!$J$22)+X542*(Setup!$J$23)+(Y542*Setup!$J$24)+(Z542*Setup!$J$27)+(AA542*Setup!$J$28)+(AB542*Setup!$J$29)","v":0},"ERROR",{"$f":"IF((T542+U542+V542)<>18,1,0)","v":1},{"$f":"IF(T542<>U543,1,0)","v":0},{"$f":"IF(V542<>V543,1,0)","v":0},{"$f":"IF((W542+X542+Y542)<>2,1,0)","v":1},{"$f":"IF(W542<>X543,1,0)","v":0},{"$f":"IF(Y542<>Y543,1,0)","v":0},{"$f":"IF((Z542+AA542+AB542)<>1,1,0)","v":1},{"$f":"IF(Z542<>AA543,1,0)","v":0},{"$f":"IF(AB542<>AB543,1,0)","v":0}]
[null,null,null,null,null,null,null,null,null,null,null,null,null,null,null,{"$error":"#N/A"},null,null,null,null,null,null,null,null,null,null,null,null,null,{"$f":"(T543*Setup!$J$17)+(U543*Setup!$J$18)+(V543*Setup!$J$19)+(W543*Setup!$J$22)+X543*(Setup!$J$23)+(Y543*Setup!$J$24)+(Z543*Setup!$J$27)+(AA543*Setup!$J$28)+(AB543*Setup!$J$29)","v":0},{"$f":"IF(SUM(AF543:AN543)>0,\"ERROR\",\"\")","v":"ERROR"},1,{"$f":"IF(T543<>U542,1,0)","v":0},{"$f":"IF(V543<>V542,1,0)","v":0},1,{"$f":"IF(W543<>X542,1,0)","v":0},{"$f":"IF(Y543<>Y542,1,0)","v":0},1,{"$f":"IF(Z543<>AA542,1,0)","v":0},{"$f":"IF(AB543<>AB542,1,0)","v":0}]
[null,null,null,null,null,null,null,null,null,null,null,null,null,null,null,{"$error":"#N/A"},null,null,null,null,null,null,null,null,null,null,null,null,null,{"$f":"(T544*Setup!$J$17)+(U544*Setup!$J$18)+(V544*Setup!$J$19)+(W544*Setup!$J$22)+X544*(Setup!$J$23)+(Y544*Setup!$J$24)+(Z544*Setup!$J$27)+(AA544*Setup!$J$28)+(AB544*Setup!$J$29)","v":0},"ERROR",1,{"$f":"IF(T544<>U545,1,0)","v":0},{"$f":"IF(V544<>V545,1,0)","v":0},1,{"$f":"IF(W544<>X545,1,0)","v":0},{"$f":"IF(Y544<>Y545,1,0)","v":0},1,{"$f":"IF(Z544<>AA545,1,0)","v":0},{"$f":"IF(AB544<>AB545,1,0)","v":0}]
[null,null,null,null,null,null,null,null,null,null,null,null,null,null,null,{"$error":"#N/A"},null,null,null,null,null,null,null,null,null,null,null,null,null,{"$f":"(T545*Setup!$J$17)+(U545*Setup!$J$18)+(V545*Setup!$J$19)+(W545*Setup!$J$22)+X545*(Setup!$J$23)+(Y545*Setup!$J$24)+(Z545*Setup!$J$27)+(AA545*Setup!$J$28)+(AB545*Setup!$J$29)","v":0},"ERROR",1,{"$f":"IF(T545<>U544,1,0)","v":0},{"$f":"IF(V545<>V544,1,0)","v":0},1,{"$f":"IF(W545<>X544,1,0)","v":0},{"$f":"IF(Y545<>Y544,1,0)","v":0},1,{"$f":"IF(Z545<>AA544,1,0)","v":0},{"$f":"IF(AB545<>AB544,1,0)","v":0}]
[null,null,null,null,null,null,null,null,null,null,null,null,null,null,null,{"$error":"#N/A"},null,null,null,null,null,null,null,null,null,null,null,null,null,{"$f":"(T546*Setup!$J$17)+(U546*Setup!$J$18)+(V546*Setup!$J$19)+(W546*Setup!$J$22)+X546*(Setup!$J$23)+(Y546*Setup!$J$24)+(Z546*Setup!$J$27)+(AA546*Setup!$J$28)+(AB546*Setup!$J$29)","v":0},"ERROR",1,{"$f":"IF(T546<>U547,1,0)","v":0},{"$f":"IF(V546<>V547,1,0)","v":0},1,{"$f":"IF(W546<>X547,1,0)","v":0},{"$f":"IF(Y546<>Y547,1,0)","v":0},1,{"$f":"IF(Z546<>AA547,1,0)","v":0},{"$f":"IF(AB546<>AB547,1,0)","v":0}]
[null,null,null,null,null,null,null,null,null,null,null,null,null,null,null,{"$error":"#N/A"},null,null,null,null,null,null,null,null,null,null,null,null,null,{"$f":"(T547*Setup!$J$17)+(U547*Setup!$J$18)+(V547*Setup!$J$19)+(W547*Setup!$J$22)+X547*(Setup!$J$23)+(Y547*Setup!$J$24)+(Z547*Setup!$J$27)+(AA547*Setup!$J$28)+(AB547*Setup!$J$29)","v":0},"ERROR",1,{"$f":"IF(T547<>U546,1,0)","v":0},{"$f":"IF(V547<>V546,1,0)","v":0},1,{"$f":"IF(W547<>X546,1,0)","v":0},{"$f":"IF(Y547<>Y546,1,0)","v":0},1,{"$f":"IF(Z547<>AA546,1,0)","v":0},{"$f":"IF(AB547<>AB546,1,0)","v":0}]
[null,null,null,null,null,null,null,null,null,null,null,null,null,null,null,{"$error":"#N/A"},null,null,null,null,null,null,null,null,null,null,null,null,null,{"$f":"(T548*Setup!$J$17)+(U548*Setup!$J$18)+(V548*Setup!$J$19)+(W548*Setup!$J$22)+X548*(Setup!$J$23)+(Y548*Setup!$J$24)+(Z548*Setup!$J$27)+(AA548*Setup!$J$28)+(AB548*Setup!$J$29)","v":0},"ERROR",1,{"$f":"IF(T548<>U549,1,0)","v":0},{"$f":"IF(V548<>V549,1,0)","v":0},1,{"$f":"IF(W548<>X549,1,0)","v":0},{"$f":"IF(Y548<>Y549,1,0)","v":0},1,{"$f":"IF(Z548<>AA549,1,0)","v":0},{"$f":"IF(AB548<>AB549,1,0)","v":0}]
[null,null,null,null,null,null,null,null,null,null,null,null,null,null,null,{"$error":"#N/A"},null,null,null,null,null,null,null,null,null,null,null,null,null,{"$f":"(T549*Setup!$J$17)+(U549*Setup!$J$18)+(V549*Setup!$J$19)+(W549*Setup!$J$22)+X549*(Setup!$J$23)+(Y549*Setup!$J$24)+(Z549*Setup!$J$27)+(AA549*Setup!$J$28)+(AB549*Setup!$J$29)","v":0},"ERROR",1,{"$f":"IF(T549<>U548,1,0)","v":0},{"$f":"IF(V549<>V548,1,0)","v":0},1,{"$f":"IF(W549<>X548,1,0)","v":0},{"$f":"IF(Y549<>Y548,1,0)","v":0},1,{"$f":"IF(Z549<>AA548,1,0)","v":0},{"$f":"IF(AB549<>AB548,1,0)","v":0}]
[null,null,null,null,null,null,null,null,null,null,null,null,null,null,null,{"$error":"#N/A"},null,null,null,null,null,null,null,null,null,null,null,null,null,{"$f":"(T550*Setup!$J$17)+(U550*Setup!$J$18)+(V550*Setup!$J$19)+(W550*Setup!$J$22)+X550*(Setup!$J$23)+(Y550*Setup!$J$24)+(Z550*Setup!$J$27)+(AA550*Setup!$J$28)+(AB550*Setup!$J$29)","v":0},"ERROR",1,{"$f":"IF(T550<>U551,1,0)","v":0},{"$f":"IF(V550<>V551,1,0)","v":0},1,{"$f":"IF(W550<>X551,1,0)","v":0},{"$f":"IF(Y550<>Y551,1,0)","v":0},1,{"$f":"IF(Z550<>AA551,1,0)","v":0},{"$f":"IF(AB550<>AB551,1,0)","v":0}]
[null,null,null,null,null,null,null,null,null,null,null,null,null,null,null,{"$error":"#N/A"},null,null,null,null,null,null,null,null,null,null,null,null,null,{"$f":"(T551*Setup!$J$17)+(U551*Setup!$J$18)+(V551*Setup!$J$19)+(W551*Setup!$J$22)+X551*(Setup!$J$23)+(Y551*Setup!$J$24)+(Z551*Setup!$J$27)+(AA551*Setup!$J$28)+(AB551*Setup!$J$29)","v":0},"ERROR",1,{"$f":"IF(T551<>U550,1,0)","v":0},{"$f":"IF(V551<>V550,1,0)","v":0},1,{"$f":"IF(W551<>X550,1,0)","v":0},{"$f":"IF(Y551<>Y550,1,0)","v":0},1,{"$f":"IF(Z551<>AA550,1,0)","v":0},{"$f":"IF(AB551<>AB550,1,0)","v":0}]
[null,null,null,null,null,null,null,null,null,null,null,null,null,null,null,{"$error":"#N/A"},null,null,null,null,null,null,null,null,null,null,null,null,null,{"$f":"(T552*Setup!$J$17)+(U552*Setup!$J$18)+(V552*Setup!$J$19)+(W552*Setup!$J$22)+X552*(Setup!$J$23)+(Y552*Setup!$J$24)+(Z552*Setup!$J$27)+(AA552*Setup!$J$28)+(AB552*Setup!$J$29)","v":0},"ERROR",1,{"$f":"IF(T552<>U553,1,0)","v":0},{"$f":"IF(V552<>V553,1,0)","v":0},1,{"$f":"IF(W552<>X553,1,0)","v":0},{"$f":"IF(Y552<>Y553,1,0)","v":0},1,{"$f":"IF(Z552<>AA553,1,0)","v":0},{"$f":"IF(AB552<>AB553,1,0)","v":0}]
[null,null,null,null,null,null,null,null,null,null,null,null,null,null,null,{"$error":"#N/A"},null,null,null,null,null,null,null,null,null,null,null,null,null,{"$f":"(T553*Setup!$J$17)+(U553*Setup!$J$18)+(V553*Setup!$J$19)+(W553*Setup!$J$22)+X553*(Setup!$J$23)+(Y553*Setup!$J$24)+(Z553*Setup!$J$27)+(AA553*Setup!$J$28)+(AB553*Setup!$J$29)","v":0},"ERROR",1,{"$f":"IF(T553<>U552,1,0)","v":0},{"$f":"IF(V553<>V552,1,0)","v":0},1,{"$f":"IF(W553<>X552,1,0)","v":0},{"$f":"IF(Y553<>Y552,1,0)","v":0},1,{"$f":"IF(Z553<>AA552,1,0)","v":0},{"$f":"IF(AB553<>AB552,1,0)","v":0}]
[null,null,null,null,null,null,null,null,null,null,null,null,null,null,null,{"$error":"#N/A"},null,null,null,null,null,null,null,null,null,null,null,null,null,{"$f":"(T554*Setup!$J$17)+(U554*Setup!$J$18)+(V554*Setup!$J$19)+(W554*Setup!$J$22)+X554*(Setup!$J$23)+(Y554*Setup!$J$24)+(Z554*Setup!$J$27)+(AA554*Setup!$J$28)+(AB554*Setup!$J$29)","v":0},"ERROR",1,{"$f":"IF(T554<>U555,1,0)","v":0},{"$f":"IF(V554<>V555,1,0)","v":0},1,{"$f":"IF(W554<>X555,1,0)","v":0},{"$f":"IF(Y554<>Y555,1,0)","v":0},1,{"$f":"IF(Z554<>AA555,1,0)","v":0},{"$f":"IF(AB554<>AB555,1,0)","v":0}]
[null,null,null,null,null,null,null,null,null,null,null,null,null,null,null,{"$error":"#N/A"},null,null,null,null,null,null,null,null,null,null,null,null,null,{"$f":"(T555*Setup!$J$17)+(U555*Setup!$J$18)+(V555*Setup!$J$19)+(W555*Setup!$J$22)+X555*(Setup!$J$23)+(Y555*Setup!$J$24)+(Z555*Setup!$J$27)+(AA555*Setup!$J$28)+(AB555*Setup!$J$29)","v":0},"ERROR",1,{"$f":"IF(T555<>U554,1,0)","v":0},{"$f":"IF(V555<>V554,1,0)","v":0},1,{"$f":"IF(W555<>X554,1,0)","v":0},{"$f":"IF(Y555<>Y554,1,0)","v":0},1,{"$f":"IF(Z555<>AA554,1,0)","v":0},{"$f":"IF(AB555<>AB554,1,0)","v":0}]
[null,null,null,null,null,null,null,null,null,null,null,null,null,null,null,{"$error":"#N/A"},null,null,null,null,null,null,null,null,null,null,null,null,null,{"$f":"(T556*Setup!$J$17)+(U556*Setup!$J$18)+(V556*Setup!$J$19)+(W556*Setup!$J$22)+X556*(Setup!$J$23)+(Y556*Setup!$J$24)+(Z556*Setup!$J$27)+(AA556*Setup!$J$28)+(AB556*Setup!$J$29)","v":0},"ERROR",1,{"$f":"IF(T556<>U557,1,0)","v":0},{"$f":"IF(V556<>V557,1,0)","v":0},1,{"$f":"IF(W556<>X557,1,0)","v":0},{"$f":"IF(Y556<>Y557,1,0)","v":0},1,{"$f":"IF(Z556<>AA557,1,0)","v":0},{"$f":"IF(AB556<>AB557,1,0)","v":0}]
[null,null,null,null,null,null,null,null,null,null,null,null,null,null,null,{"$error":"#N/A"},null,null,null,null,null,null,null,null,null,null,null,null,null,{"$f":"(T557*Setup!$J$17)+(U557*Setup!$J$18)+(V557*Setup!$J$19)+(W557*Setup!$J$22)+X557*(Setup!$J$23)+(Y557*Setup!$J$24)+(Z557*Setup!$J$27)+(AA557*Setup!$J$28)+(AB557*Setup!$J$29)","v":0},"ERROR",1,{"$f":"IF(T557<>U556,1,0)","v":0},{"$f":"IF(V557<>V556,1,0)","v":0},1,{"$f":"IF(W557<>X556,1,0)","v":0},{"$f":"IF(Y557<>Y556,1,0)","v":0},1,{"$f":"IF(Z557<>AA556,1,0)","v":0},{"$f":"IF(AB557<>AB556,1,0)","v":0}]
[null,null,null,null,null,null,null,null,null,null,null,null,null,null,null,{"$error":"#N/A"},null,null,null,null,null,null,null,null,null,null,null,null,null,{"$f":"(T558*Setup!$J$17)+(U558*Setup!$J$18)+(V558*Setup!$J$19)+(W558*Setup!$J$22)+X558*(Setup!$J$23)+(Y558*Setup!$J$24)+(Z558*Setup!$J$27)+(AA558*Setup!$J$28)+(AB558*Setup!$J$29)","v":0},"ERROR",1,{"$f":"IF(T558<>U559,1,0)","v":0},{"$f":"IF(V558<>V559,1,0)","v":0},1,{"$f":"IF(W558<>X559,1,0)","v":0},{"$f":"IF(Y558<>Y559,1,0)","v":0},1,{"$f":"IF(Z558<>AA559,1,0)","v":0},{"$f":"IF(AB558<>AB559,1,0)","v":0}]
[null,null,null,null,null,null,null,null,null,null,null,null,null,null,null,{"$error":"#N/A"},null,null,null,null,null,null,null,null,null,null,null,null,null,{"$f":"(T559*Setup!$J$17)+(U559*Setup!$J$18)+(V559*Setup!$J$19)+(W559*Setup!$J$22)+X559*(Setup!$J$23)+(Y559*Setup!$J$24)+(Z559*Setup!$J$27)+(AA559*Setup!$J$28)+(AB559*Setup!$J$29)","v":0},"ERROR",1,{"$f":"IF(T559<>U558,1,0)","v":0},{"$f":"IF(V559<>V558,1,0)","v":0},1,{"$f":"IF(W559<>X558,1,0)","v":0},{"$f":"IF(Y559<>Y558,1,0)","v":0},1,{"$f":"IF(Z559<>AA558,1,0)","v":0},{"$f":"IF(AB559<>AB558,1,0)","v":0}]
[null,null,null,null,null,null,null,null,null,null,null,null,null,null,null,{"$error":"#N/A"},null,null,null,null,null,null,null,null,null,null,null,null,null,{"$f":"(T560*Setup!$J$17)+(U560*Setup!$J$18)+(V560*Setup!$J$19)+(W560*Setup!$J$22)+X560*(Setup!$J$23)+(Y560*Setup!$J$24)+(Z560*Setup!$J$27)+(AA560*Setup!$J$28)+(AB560*Setup!$J$29)","v":0},"ERROR",1,{"$f":"IF(T560<>U561,1,0)","v":0},{"$f":"IF(V560<>V561,1,0)","v":0},1,{"$f":"IF(W560<>X561,1,0)","v":0},{"$f":"IF(Y560<>Y561,1,0)","v":0},1,{"$f":"IF(Z560<>AA561,1,0)","v":0},{"$f":"IF(AB560<>AB561,1,0)","v":0}]
[null,null,null,null,null,null,null,null,null,null,null,null,null,null,null,{"$error":"#N/A"},null,null,null,null,null,null,null,null,null,null,null,null,null,{"$f":"(T561*Setup!$J$17)+(U561*Setup!$J$18)+(V561*Setup!$J$19)+(W561*Setup!$J$22)+X561*(Setup!$J$23)+(Y561*Setup!$J$24)+(Z561*Setup!$J$27)+(AA561*Setup!$J$28)+(AB561*Setup!$J$29)","v":0},"ERROR",1,{"$f":"IF(T561<>U560,1,0)","v":0},{"$f":"IF(V561<>V560,1,0)","v":0},1,{"$f":"IF(W561<>X560,1,0)","v":0},{"$f":"IF(Y561<>Y560,1,0)","v":0},1,{"$f":"IF(Z561<>AA560,1,0)","v":0},{"$f":"IF(AB561<>AB560,1,0)","v":0}]
[null,null,null,null,null,null,null,null,null,null,null,null,null,null,null,{"$error":"#N/A"},null,null,null,null,null,null,null,null,null,null,null,null,null,{"$f":"(T562*Setup!$J$17)+(U562*Setup!$J$18)+(V562*Setup!$J$19)+(W562*Setup!$J$22)+X562*(Setup!$J$23)+(Y562*Setup!$J$24)+(Z562*Setup!$J$27)+(AA562*Setup!$J$28)+(AB562*Setup!$J$29)","v":0},"ERROR",1,{"$f":"IF(T562<>U563,1,0)","v":0},{"$f":"IF(V562<>V563,1,0)","v":0},1,{"$f":"IF(W562<>X563,1,0)","v":0},{"$f":"IF(Y562<>Y563,1,0)","v":0},1,{"$f":"IF(Z562<>AA563,1,0)","v":0},{"$f":"IF(AB562<>AB563,1,0)","v":0}]
[null,null,null,null,null,null,null,null,null,null,null,null,null,null,null,{"$error":"#N/A"},null,null,null,null,null,null,null,null,null,null,null,null,null,{"$f":"(T563*Setup!$J$17)+(U563*Setup!$J$18)+(V563*Setup!$J$19)+(W563*Setup!$J$22)+X563*(Setup!$J$23)+(Y563*Setup!$J$24)+(Z563*Setup!$J$27)+(AA563*Setup!$J$28)+(AB563*Setup!$J$29)","v":0},"ERROR",1,{"$f":"IF(T563<>U562,1,0)","v":0},{"$f":"IF(V563<>V562,1,0)","v":0},1,{"$f":"IF(W563<>X562,1,0)","v":0},{"$f":"IF(Y563<>Y562,1,0)","v":0},1,{"$f":"IF(Z563<>AA562,1,0)","v":0},{"$f":"IF(AB563<>AB562,1,0)","v":0}]
[null,null,null,null,null,null,null,null,null,null,null,null,null,null,null,{"$error":"#N/A"},null,null,null,null,null,null,null,null,null,null,null,null,null,{"$f":"(T564*Setup!$J$17)+(U564*Setup!$J$18)+(V564*Setup!$J$19)+(W564*Setup!$J$22)+X564*(Setup!$J$23)+(Y564*Setup!$J$24)+(Z564*Setup!$J$27)+(AA564*Setup!$J$28)+(AB564*Setup!$J$29)","v":0},"ERROR",1,{"$f":"IF(T564<>U565,1,0)","v":0},{"$f":"IF(V564<>V565,1,0)","v":0},1,{"$f":"IF(W564<>X565,1,0)","v":0},{"$f":"IF(Y564<>Y565,1,0)","v":0},1,{"$f":"IF(Z564<>AA565,1,0)","v":0},{"$f":"IF(AB564<>AB565,1,0)","v":0}]
[null,null,null,null,null,null,null,null,null,null,null,null,null,null,null,{"$error":"#N/A"},null,null,null,null,null,null,null,null,null,null,null,null,null,{"$f":"(T565*Setup!$J$17)+(U565*Setup!$J$18)+(V565*Setup!$J$19)+(W565*Setup!$J$22)+X565*(Setup!$J$23)+(Y565*Setup!$J$24)+(Z565*Setup!$J$27)+(AA565*Setup!$J$28)+(AB565*Setup!$J$29)","v":0},"ERROR",1,{"$f":"IF(T565<>U564,1,0)","v":0},{"$f":"IF(V565<>V564,1,0)","v":0},1,{"$f":"IF(W565<>X564,1,0)","v":0},{"$f":"IF(Y565<>Y564,1,0)","v":0},1,{"$f":"IF(Z565<>AA564,1,0)","v":0},{"$f":"IF(AB565<>AB564,1,0)","v":0}]
[null,null,null,null,null,null,null,null,null,null,null,null,null,null,null,{"$error":"#N/A"},null,null,null,null,null,null,null,null,null,null,null,null,null,{"$f":"(T566*Setup!$J$17)+(U566*Setup!$J$18)+(V566*Setup!$J$19)+(W566*Setup!$J$22)+X566*(Setup!$J$23)+(Y566*Setup!$J$24)+(Z566*Setup!$J$27)+(AA566*Setup!$J$28)+(AB566*Setup!$J$29)","v":0},"ERROR",1,{"$f":"IF(T566<>U567,1,0)","v":0},{"$f":"IF(V566<>V567,1,0)","v":0},1,{"$f":"IF(W566<>X567,1,0)","v":0},{"$f":"IF(Y566<>Y567,1,0)","v":0},1,{"$f":"IF(Z566<>AA567,1,0)","v":0},{"$f":"IF(AB566<>AB567,1,0)","v":0}]
[null,null,null,null,null,null,null,null,null,null,null,null,null,null,null,{"$error":"#N/A"},null,null,null,null,null,null,null,null,null,null,null,null,null,{"$f":"(T567*Setup!$J$17)+(U567*Setup!$J$18)+(V567*Setup!$J$19)+(W567*Setup!$J$22)+X567*(Setup!$J$23)+(Y567*Setup!$J$24)+(Z567*Setup!$J$27)+(AA567*Setup!$J$28)+(AB567*Setup!$J$29)","v":0},"ERROR",1,{"$f":"IF(T567<>U566,1,0)","v":0},{"$f":"IF(V567<>V566,1,0)","v":0},1,{"$f":"IF(W567<>X566,1,0)","v":0},{"$f":"IF(Y567<>Y566,1,0)","v":0},1,{"$f":"IF(Z567<>AA566,1,0)","v":0},{"$f":"IF(AB567<>AB566,1,0)","v":0}]
[null,null,null,null,null,null,null,null,null,null,null,null,null,null,null,{"$error":"#N/A"},null,null,null,null,null,null,null,null,null,null,null,null,null,{"$f":"(T568*Setup!$J$17)+(U568*Setup!$J$18)+(V568*Setup!$J$19)+(W568*Setup!$J$22)+X568*(Setup!$J$23)+(Y568*Setup!$J$24)+(Z568*Setup!$J$27)+(AA568*Setup!$J$28)+(AB568*Setup!$J$29)","v":0},"ERROR",1,{"$f":"IF(T568<>U569,1,0)","v":0},{"$f":"IF(V568<>V569,1,0)","v":0},1,{"$f":"IF(W568<>X569,1,0)","v":0},{"$f":"IF(Y568<>Y569,1,0)","v":0},1,{"$f":"IF(Z568<>AA569,1,0)","v":0},{"$f":"IF(AB568<>AB569,1,0)","v":0}]
[null,null,null,null,null,null,null,null,null,null,null,null,null,null,null,{"$error":"#N/A"},null,null,null,null,null,null,null,null,null,null,null,null,null,{"$f":"(T569*Setup!$J$17)+(U569*Setup!$J$18)+(V569*Setup!$J$19)+(W569*Setup!$J$22)+X569*(Setup!$J$23)+(Y569*Setup!$J$24)+(Z569*Setup!$J$27)+(AA569*Setup!$J$28)+(AB569*Setup!$J$29)","v":0},"ERROR",1,{"$f":"IF(T569<>U568,1,0)","v":0},{"$f":"IF(V569<>V568,1,0)","v":0},1,{"$f":"IF(W569<>X568,1,0)","v":0},{"$f":"IF(Y569<>Y568,1,0)","v":0},1,{"$f":"IF(Z569<>AA568,1,0)","v":0},{"$f":"IF(AB569<>AB568,1,0)","v":0}]
[null,null,null,null,null,null,null,null,null,null,null,null,null,null,null,{"$error":"#N/A"},null,null,null,null,null,null,null,null,null,null,null,null,null,{"$f":"(T570*Setup!$J$17)+(U570*Setup!$J$18)+(V570*Setup!$J$19)+(W570*Setup!$J$22)+X570*(Setup!$J$23)+(Y570*Setup!$J$24)+(Z570*Setup!$J$27)+(AA570*Setup!$J$28)+(AB570*Setup!$J$29)","v":0},"ERROR",1,{"$f":"IF(T570<>U571,1,0)","v":0},{"$f":"IF(V570<>V571,1,0)","v":0},1,{"$f":"IF(W570<>X571,1,0)","v":0},{"$f":"IF(Y570<>Y571,1,0)","v":0},1,{"$f":"IF(Z570<>AA571,1,0)","v":0},{"$f":"IF(AB570<>AB571,1,0)","v":0}]
[null,null,null,null,null,null,null,null,null,null,null,null,null,null,null,{"$error":"#N/A"},null,null,null,null,null,null,null,null,null,null,null,null,null,{"$f":"(T571*Setup!$J$17)+(U571*Setup!$J$18)+(V571*Setup!$J$19)+(W571*Setup!$J$22)+X571*(Setup!$J$23)+(Y571*Setup!$J$24)+(Z571*Setup!$J$27)+(AA571*Setup!$J$28)+(AB571*Setup!$J$29)","v":0},"ERROR",1,{"$f":"IF(T571<>U570,1,0)","v":0},{"$f":"IF(V571<>V570,1,0)","v":0},1,{"$f":"IF(W571<>X570,1,0)","v":0},{"$f":"IF(Y571<>Y570,1,0)","v":0},1,{"$f":"IF(Z571<>AA570,1,0)","v":0},{"$f":"IF(AB571<>AB570,1,0)","v":0}]
[null,null,null,null,null,null,null,null,null,null,null,null,null,null,null,{"$error":"#N/A"},null,null,null,null,null,null,null,null,null,null,null,null,null,{"$f":"(T572*Setup!$J$17)+(U572*Setup!$J$18)+(V572*Setup!$J$19)+(W572*Setup!$J$22)+X572*(Setup!$J$23)+(Y572*Setup!$J$24)+(Z572*Setup!$J$27)+(AA572*Setup!$J$28)+(AB572*Setup!$J$29)","v":0},"ERROR",1,{"$f":"IF(T572<>U573,1,0)","v":0},{"$f":"IF(V572<>V573,1,0)","v":0},1,{"$f":"IF(W572<>X573,1,0)","v":0},{"$f":"IF(Y572<>Y573,1,0)","v":0},1,{"$f":"IF(Z572<>AA573,1,0)","v":0},{"$f":"IF(AB572<>AB573,1,0)","v":0}]
[null,null,null,null,null,null,null,null,null,null,null,null,null,null,null,{"$error":"#N/A"},null,null,null,null,null,null,null,null,null,null,null,null,null,{"$f":"(T573*Setup!$J$17)+(U573*Setup!$J$18)+(V573*Setup!$J$19)+(W573*Setup!$J$22)+X573*(Setup!$J$23)+(Y573*Setup!$J$24)+(Z573*Setup!$J$27)+(AA573*Setup!$J$28)+(AB573*Setup!$J$29)","v":0},"ERROR",1,{"$f":"IF(T573<>U572,1,0)","v":0},{"$f":"IF(V573<>V572,1,0)","v":0},1,{"$f":"IF(W573<>X572,1,0)","v":0},{"$f":"IF(Y573<>Y572,1,0)","v":0},1,{"$f":"IF(Z573<>AA572,1,0)","v":0},{"$f":"IF(AB573<>AB572,1,0)","v":0}]
[null,null,null,null,null,null,null,null,null,null,null,null,null,null,null,{"$error":"#N/A"},null,null,null,null,null,null,null,null,null,null,null,null,null,{"$f":"(T574*Setup!$J$17)+(U574*Setup!$J$18)+(V574*Setup!$J$19)+(W574*Setup!$J$22)+X574*(Setup!$J$23)+(Y574*Setup!$J$24)+(Z574*Setup!$J$27)+(AA574*Setup!$J$28)+(AB574*Setup!$J$29)","v":0},"ERROR",1,{"$f":"IF(T574<>U575,1,0)","v":0},{"$f":"IF(V574<>V575,1,0)","v":0},1,{"$f":"IF(W574<>X575,1,0)","v":0},{"$f":"IF(Y574<>Y575,1,0)","v":0},1,{"$f":"IF(Z574<>AA575,1,0)","v":0},{"$f":"IF(AB574<>AB575,1,0)","v":0}]
[null,null,null,null,null,null,null,null,null,null,null,null,null,null,null,{"$error":"#N/A"},null,null,null,null,null,null,null,null,null,null,null,null,null,{"$f":"(T575*Setup!$J$17)+(U575*Setup!$J$18)+(V575*Setup!$J$19)+(W575*Setup!$J$22)+X575*(Setup!$J$23)+(Y575*Setup!$J$24)+(Z575*Setup!$J$27)+(AA575*Setup!$J$28)+(AB575*Setup!$J$29)","v":0},"ERROR",1,{"$f":"IF(T575<>U574,1,0)","v":0},{"$f":"IF(V575<>V574,1,0)","v":0},1,{"$f":"IF(W575<>X574,1,0)","v":0},{"$f":"IF(Y575<>Y574,1,0)","v":0},1,{"$f":"IF(Z575<>AA574,1,0)","v":0},{"$f":"IF(AB575<>AB574,1,0)","v":0}]
[null,null,null,null,null,null,null,null,null,null,null,null,null,null,null,{"$error":"#N/A"},null,null,null,null,null,null,null,null,null,null,null,null,null,{"$f":"(T576*Setup!$J$17)+(U576*Setup!$J$18)+(V576*Setup!$J$19)+(W576*Setup!$J$22)+X576*(Setup!$J$23)+(Y576*Setup!$J$24)+(Z576*Setup!$J$27)+(AA576*Setup!$J$28)+(AB576*Setup!$J$29)","v":0},"ERROR",1,{"$f":"IF(T576<>U577,1,0)","v":0},{"$f":"IF(V576<>V577,1,0)","v":0},1,{"$f":"IF(W576<>X577,1,0)","v":0},{"$f":"IF(Y576<>Y577,1,0)","v":0},1,{"$f":"IF(Z576<>AA577,1,0)","v":0},{"$f":"IF(AB576<>AB577,1,0)","v":0}]
[null,null,null,null,null,null,null,null,null,null,null,null,null,null,null,{"$error":"#N/A"},null,null,null,null,null,null,null,null,null,null,null,null,null,{"$f":"(T577*Setup!$J$17)+(U577*Setup!$J$18)+(V577*Setup!$J$19)+(W577*Setup!$J$22)+X577*(Setup!$J$23)+(Y577*Setup!$J$24)+(Z577*Setup!$J$27)+(AA577*Setup!$J$28)+(AB577*Setup!$J$29)","v":0},"ERROR",1,{"$f":"IF(T577<>U576,1,0)","v":0},{"$f":"IF(V577<>V576,1,0)","v":0},1,{"$f":"IF(W577<>X576,1,0)","v":0},{"$f":"IF(Y577<>Y576,1,0)","v":0},1,{"$f":"IF(Z577<>AA576,1,0)","v":0},{"$f":"IF(AB577<>AB576,1,0)","v":0}]
[null,null,null,null,null,null,null,null,null,null,null,null,null,null,null,{"$error":"#N/A"},null,null,null,null,null,null,null,null,null,null,null,null,null,{"$f":"(T578*Setup!$J$17)+(U578*Setup!$J$18)+(V578*Setup!$J$19)+(W578*Setup!$J$22)+X578*(Setup!$J$23)+(Y578*Setup!$J$24)+(Z578*Setup!$J$27)+(AA578*Setup!$J$28)+(AB578*Setup!$J$29)","v":0},"ERROR",1,{"$f":"IF(T578<>U579,1,0)","v":0},{"$f":"IF(V578<>V579,1,0)","v":0},1,{"$f":"IF(W578<>X579,1,0)","v":0},{"$f":"IF(Y578<>Y579,1,0)","v":0},1,{"$f":"IF(Z578<>AA579,1,0)","v":0},{"$f":"IF(AB578<>AB579,1,0)","v":0}]
[null,null,null,null,null,null,null,null,null,null,null,null,null,null,null,{"$error":"#N/A"},null,null,null,null,null,null,null,null,null,null,null,null,null,{"$f":"(T579*Setup!$J$17)+(U579*Setup!$J$18)+(V579*Setup!$J$19)+(W579*Setup!$J$22)+X579*(Setup!$J$23)+(Y579*Setup!$J$24)+(Z579*Setup!$J$27)+(AA579*Setup!$J$28)+(AB579*Setup!$J$29)","v":0},"ERROR",1,{"$f":"IF(T579<>U578,1,0)","v":0},{"$f":"IF(V579<>V578,1,0)","v":0},1,{"$f":"IF(W579<>X578,1,0)","v":0},{"$f":"IF(Y579<>Y578,1,0)","v":0},1,{"$f":"IF(Z579<>AA578,1,0)","v":0},{"$f":"IF(AB579<>AB578,1,0)","v":0}]
[null,null,null,null,null,null,null,null,null,null,null,null,null,null,null,{"$error":"#N/A"},null,null,null,null,null,null,null,null,null,null,null,null,null,{"$f":"(T580*Setup!$J$17)+(U580*Setup!$J$18)+(V580*Setup!$J$19)+(W580*Setup!$J$22)+X580*(Setup!$J$23)+(Y580*Setup!$J$24)+(Z580*Setup!$J$27)+(AA580*Setup!$J$28)+(AB580*Setup!$J$29)","v":0},"ERROR",1,{"$f":"IF(T580<>U581,1,0)","v":0},{"$f":"IF(V580<>V581,1,0)","v":0},1,{"$f":"IF(W580<>X581,1,0)","v":0},{"$f":"IF(Y580<>Y581,1,0)","v":0},1,{"$f":"IF(Z580<>AA581,1,0)","v":0},{"$f":"IF(AB580<>AB581,1,0)","v":0}]
[null,null,null,null,null,null,null,null,null,null,null,null,null,null,null,{"$error":"#N/A"},null,null,null,null,null,null,null,null,null,null,null,null,null,{"$f":"(T581*Setup!$J$17)+(U581*Setup!$J$18)+(V581*Setup!$J$19)+(W581*Setup!$J$22)+X581*(Setup!$J$23)+(Y581*Setup!$J$24)+(Z581*Setup!$J$27)+(AA581*Setup!$J$28)+(AB581*Setup!$J$29)","v":0},"ERROR",1,{"$f":"IF(T581<>U580,1,0)","v":0},{"$f":"IF(V581<>V580,1,0)","v":0},1,{"$f":"IF(W581<>X580,1,0)","v":0},{"$f":"IF(Y581<>Y580,1,0)","v":0},1,{"$f":"IF(Z581<>AA580,1,0)","v":0},{"$f":"IF(AB581<>AB580,1,0)","v":0}]
[null,null,null,null,null,null,null,null,null,null,null,null,null,null,null,{"$error":"#N/A"},null,null,null,null,null,null,null,null,null,null,null,null,null,{"$f":"(T582*Setup!$J$17)+(U582*Setup!$J$18)+(V582*Setup!$J$19)+(W582*Setup!$J$22)+X582*(Setup!$J$23)+(Y582*Setup!$J$24)+(Z582*Setup!$J$27)+(AA582*Setup!$J$28)+(AB582*Setup!$J$29)","v":0},"ERROR",1,{"$f":"IF(T582<>U583,1,0)","v":0},{"$f":"IF(V582<>V583,1,0)","v":0},1,{"$f":"IF(W582<>X583,1,0)","v":0},{"$f":"IF(Y582<>Y583,1,0)","v":0},1,{"$f":"IF(Z582<>AA583,1,0)","v":0},{"$f":"IF(AB582<>AB583,1,0)","v":0}]
[null,null,null,null,null,null,null,null,null,null,null,null,null,null,null,{"$error":"#N/A"},null,null,null,null,null,null,null,null,null,null,null,null,null,{"$f":"(T583*Setup!$J$17)+(U583*Setup!$J$18)+(V583*Setup!$J$19)+(W583*Setup!$J$22)+X583*(Setup!$J$23)+(Y583*Setup!$J$24)+(Z583*Setup!$J$27)+(AA583*Setup!$J$28)+(AB583*Setup!$J$29)","v":0},"ERROR",1,{"$f":"IF(T583<>U582,1,0)","v":0},{"$f":"IF(V583<>V582,1,0)","v":0},1,{"$f":"IF(W583<>X582,1,0)","v":0},{"$f":"IF(Y583<>Y582,1,0)","v":0},1,{"$f":"IF(Z583<>AA582,1,0)","v":0},{"$f":"IF(AB583<>AB582,1,0)","v":0}]
[null,null,null,null,null,null,null,null,null,null,null,null,null,null,null,{"$error":"#N/A"},null,null,null,null,null,null,null,null,null,null,null,null,null,{"$f":"(T584*Setup!$J$17)+(U584*Setup!$J$18)+(V584*Setup!$J$19)+(W584*Setup!$J$22)+X584*(Setup!$J$23)+(Y584*Setup!$J$24)+(Z584*Setup!$J$27)+(AA584*Setup!$J$28)+(AB584*Setup!$J$29)","v":0},"ERROR",1,{"$f":"IF(T584<>U585,1,0)","v":0},{"$f":"IF(V584<>V585,1,0)","v":0},1,{"$f":"IF(W584<>X585,1,0)","v":0},{"$f":"IF(Y584<>Y585,1,0)","v":0},1,{"$f":"IF(Z584<>AA585,1,0)","v":0},{"$f":"IF(AB584<>AB585,1,0)","v":0}]
[null,null,null,null,null,null,null,null,null,null,null,null,null,null,null,{"$error":"#N/A"},null,null,null,null,null,null,null,null,null,null,null,null,null,{"$f":"(T585*Setup!$J$17)+(U585*Setup!$J$18)+(V585*Setup!$J$19)+(W585*Setup!$J$22)+X585*(Setup!$J$23)+(Y585*Setup!$J$24)+(Z585*Setup!$J$27)+(AA585*Setup!$J$28)+(AB585*Setup!$J$29)","v":0},"ERROR",1,{"$f":"IF(T585<>U584,1,0)","v":0},{"$f":"IF(V585<>V584,1,0)","v":0},1,{"$f":"IF(W585<>X584,1,0)","v":0},{"$f":"IF(Y585<>Y584,1,0)","v":0},1,{"$f":"IF(Z585<>AA584,1,0)","v":0},{"$f":"IF(AB585<>AB584,1,0)","v":0}]
[null,null,null,null,null,null,null,null,null,null,null,null,null,null,null,{"$error":"#N/A"},null,null,null,null,null,null,null,null,null,null,null,null,null,{"$f":"(T586*Setup!$J$17)+(U586*Setup!$J$18)+(V586*Setup!$J$19)+(W586*Setup!$J$22)+X586*(Setup!$J$23)+(Y586*Setup!$J$24)+(Z586*Setup!$J$27)+(AA586*Setup!$J$28)+(AB586*Setup!$J$29)","v":0},"ERROR",1,{"$f":"IF(T586<>U587,1,0)","v":0},{"$f":"IF(V586<>V587,1,0)","v":0},1,{"$f":"IF(W586<>X587,1,0)","v":0},{"$f":"IF(Y586<>Y587,1,0)","v":0},1,{"$f":"IF(Z586<>AA587,1,0)","v":0},{"$f":"IF(AB586<>AB587,1,0)","v":0}]
[null,null,null,null,null,null,null,null,null,null,null,null,null,null,null,{"$error":"#N/A"},null,null,null,null,null,null,null,null,null,null,null,null,null,{"$f":"(T587*Setup!$J$17)+(U587*Setup!$J$18)+(V587*Setup!$J$19)+(W587*Setup!$J$22)+X587*(Setup!$J$23)+(Y587*Setup!$J$24)+(Z587*Setup!$J$27)+(AA587*Setup!$J$28)+(AB587*Setup!$J$29)","v":0},"ERROR",1,{"$f":"IF(T587<>U586,1,0)","v":0},{"$f":"IF(V587<>V586,1,0)","v":0},1,{"$f":"IF(W587<>X586,1,0)","v":0},{"$f":"IF(Y587<>Y586,1,0)","v":0},1,{"$f":"IF(Z587<>AA586,1,0)","v":0},{"$f":"IF(AB587<>AB586,1,0)","v":0}]
[null,null,null,null,null,null,null,null,null,null,null,null,null,null,null,{"$error":"#N/A"},null,null,null,null,null,null,null,null,null,null,null,null,null,{"$f":"(T588*Setup!$J$17)+(U588*Setup!$J$18)+(V588*Setup!$J$19)+(W588*Setup!$J$22)+X588*(Setup!$J$23)+(Y588*Setup!$J$24)+(Z588*Setup!$J$27)+(AA588*Setup!$J$28)+(AB588*Setup!$J$29)","v":0},"ERROR",1,{"$f":"IF(T588<>U589,1,0)","v":0},{"$f":"IF(V588<>V589,1,0)","v":0},1,{"$f":"IF(W588<>X589,1,0)","v":0},{"$f":"IF(Y588<>Y589,1,0)","v":0},1,{"$f":"IF(Z588<>AA589,1,0)","v":0},{"$f":"IF(AB588<>AB589,1,0)","v":0}]
[null,null,null,null,null,null,null,null,null,null,null,null,null,null,null,{"$error":"#N/A"},null,null,null,null,null,null,null,null,null,null,null,null,null,{"$f":"(T589*Setup!$J$17)+(U589*Setup!$J$18)+(V589*Setup!$J$19)+(W589*Setup!$J$22)+X589*(Setup!$J$23)+(Y589*Setup!$J$24)+(Z589*Setup!$J$27)+(AA589*Setup!$J$28)+(AB589*Setup!$J$29)","v":0},"ERROR",1,{"$f":"IF(T589<>U588,1,0)","v":0},{"$f":"IF(V589<>V588,1,0)","v":0},1,{"$f":"IF(W589<>X588,1,0)","v":0},{"$f":"IF(Y589<>Y588,1,0)","v":0},1,{"$f":"IF(Z589<>AA588,1,0)","v":0},{"$f":"IF(AB589<>AB588,1,0)","v":0}]
[null,null,null,null,null,null,null,null,null,null,null,null,null,null,null,{"$error":"#N/A"},null,null,null,null,null,null,null,null,null,null,null,null,null,{"$f":"(T590*Setup!$J$17)+(U590*Setup!$J$18)+(V590*Setup!$J$19)+(W590*Setup!$J$22)+X590*(Setup!$J$23)+(Y590*Setup!$J$24)+(Z590*Setup!$J$27)+(AA590*Setup!$J$28)+(AB590*Setup!$J$29)","v":0},"ERROR",1,{"$f":"IF(T590<>U591,1,0)","v":0},{"$f":"IF(V590<>V591,1,0)","v":0},1,{"$f":"IF(W590<>X591,1,0)","v":0},{"$f":"IF(Y590<>Y591,1,0)","v":0},1,{"$f":"IF(Z590<>AA591,1,0)","v":0},{"$f":"IF(AB590<>AB591,1,0)","v":0}]
[null,null,null,null,null,null,null,null,null,null,null,null,null,null,null,{"$error":"#N/A"},null,null,null,null,null,null,null,null,null,null,null,null,null,{"$f":"(T591*Setup!$J$17)+(U591*Setup!$J$18)+(V591*Setup!$J$19)+(W591*Setup!$J$22)+X591*(Setup!$J$23)+(Y591*Setup!$J$24)+(Z591*Setup!$J$27)+(AA591*Setup!$J$28)+(AB591*Setup!$J$29)","v":0},"ERROR",1,{"$f":"IF(T591<>U590,1,0)","v":0},{"$f":"IF(V591<>V590,1,0)","v":0},1,{"$f":"IF(W591<>X590,1,0)","v":0},{"$f":"IF(Y591<>Y590,1,0)","v":0},1,{"$f":"IF(Z591<>AA590,1,0)","v":0},{"$f":"IF(AB591<>AB590,1,0)","v":0}]
[null,null,null,null,null,null,null,null,null,null,null,null,null,null,null,{"$error":"#N/A"},null,null,null,null,null,null,null,null,null,null,null,null,null,{"$f":"(T592*Setup!$J$17)+(U592*Setup!$J$18)+(V592*Setup!$J$19)+(W592*Setup!$J$22)+X592*(Setup!$J$23)+(Y592*Setup!$J$24)+(Z592*Setup!$J$27)+(AA592*Setup!$J$28)+(AB592*Setup!$J$29)","v":0},"ERROR",1,{"$f":"IF(T592<>U593,1,0)","v":0},{"$f":"IF(V592<>V593,1,0)","v":0},1,{"$f":"IF(W592<>X593,1,0)","v":0},{"$f":"IF(Y592<>Y593,1,0)","v":0},1,{"$f":"IF(Z592<>AA593,1,0)","v":0},{"$f":"IF(AB592<>AB593,1,0)","v":0}]
[null,null,null,null,null,null,null,null,null,null,null,null,null,null,null,{"$error":"#N/A"},null,null,null,null,null,null,null,null,null,null,null,null,null,{"$f":"(T593*Setup!$J$17)+(U593*Setup!$J$18)+(V593*Setup!$J$19)+(W593*Setup!$J$22)+X593*(Setup!$J$23)+(Y593*Setup!$J$24)+(Z593*Setup!$J$27)+(AA593*Setup!$J$28)+(AB593*Setup!$J$29)","v":0},"ERROR",1,{"$f":"IF(T593<>U592,1,0)","v":0},{"$f":"IF(V593<>V592,1,0)","v":0},1,{"$f":"IF(W593<>X592,1,0)","v":0},{"$f":"IF(Y593<>Y592,1,0)","v":0},1,{"$f":"IF(Z593<>AA592,1,0)","v":0},{"$f":"IF(AB593<>AB592,1,0)","v":0}]
[null,null,null,null,null,null,null,null,null,null,null,null,null,null,null,{"$error":"#N/A"},null,null,null,null,null,null,null,null,null,null,null,null,null,{"$f":"(T594*Setup!$J$17)+(U594*Setup!$J$18)+(V594*Setup!$J$19)+(W594*Setup!$J$22)+X594*(Setup!$J$23)+(Y594*Setup!$J$24)+(Z594*Setup!$J$27)+(AA594*Setup!$J$28)+(AB594*Setup!$J$29)","v":0},"ERROR",1,{"$f":"IF(T594<>U595,1,0)","v":0},{"$f":"IF(V594<>V595,1,0)","v":0},1,{"$f":"IF(W594<>X595,1,0)","v":0},{"$f":"IF(Y594<>Y595,1,0)","v":0},1,{"$f":"IF(Z594<>AA595,1,0)","v":0},{"$f":"IF(AB594<>AB595,1,0)","v":0}]
[null,null,null,null,null,null,null,null,null,null,null,null,null,null,null,{"$error":"#N/A"},null,null,null,null,null,null,null,null,null,null,null,null,null,{"$f":"(T595*Setup!$J$17)+(U595*Setup!$J$18)+(V595*Setup!$J$19)+(W595*Setup!$J$22)+X595*(Setup!$J$23)+(Y595*Setup!$J$24)+(Z595*Setup!$J$27)+(AA595*Setup!$J$28)+(AB595*Setup!$J$29)","v":0},"ERROR",1,{"$f":"IF(T595<>U594,1,0)","v":0},{"$f":"IF(V595<>V594,1,0)","v":0},1,{"$f":"IF(W595<>X594,1,0)","v":0},{"$f":"IF(Y595<>Y594,1,0)","v":0},1,{"$f":"IF(Z595<>AA594,1,0)","v":0},{"$f":"IF(AB595<>AB594,1,0)","v":0}]
[null,null,null,null,null,null,null,null,null,null,null,null,null,null,null,{"$error":"#N/A"},null,null,null,null,null,null,null,null,null,null,null,null,null,{"$f":"(T596*Setup!$J$17)+(U596*Setup!$J$18)+(V596*Setup!$J$19)+(W596*Setup!$J$22)+X596*(Setup!$J$23)+(Y596*Setup!$J$24)+(Z596*Setup!$J$27)+(AA596*Setup!$J$28)+(AB596*Setup!$J$29)","v":0},"ERROR",1,{"$f":"IF(T596<>U597,1,0)","v":0},{"$f":"IF(V596<>V597,1,0)","v":0},1,{"$f":"IF(W596<>X597,1,0)","v":0},{"$f":"IF(Y596<>Y597,1,0)","v":0},1,{"$f":"IF(Z596<>AA597,1,0)","v":0},{"$f":"IF(AB596<>AB597,1,0)","v":0}]
[null,null,null,null,null,null,null,null,null,null,null,null,null,null,null,{"$error":"#N/A"},null,null,null,null,null,null,null,null,null,null,null,null,null,{"$f":"(T597*Setup!$J$17)+(U597*Setup!$J$18)+(V597*Setup!$J$19)+(W597*Setup!$J$22)+X597*(Setup!$J$23)+(Y597*Setup!$J$24)+(Z597*Setup!$J$27)+(AA597*Setup!$J$28)+(AB597*Setup!$J$29)","v":0},"ERROR",1,{"$f":"IF(T597<>U596,1,0)","v":0},{"$f":"IF(V597<>V596,1,0)","v":0},1,{"$f":"IF(W597<>X596,1,0)","v":0},{"$f":"IF(Y597<>Y596,1,0)","v":0},1,{"$f":"IF(Z597<>AA596,1,0)","v":0},{"$f":"IF(AB597<>AB596,1,0)","v":0}]
[null,null,null,null,null,null,null,null,null,null,null,null,null,null,null,{"$error":"#N/A"},null,null,null,null,null,null,null,null,null,null,null,null,null,{"$f":"(T598*Setup!$J$17)+(U598*Setup!$J$18)+(V598*Setup!$J$19)+(W598*Setup!$J$22)+X598*(Setup!$J$23)+(Y598*Setup!$J$24)+(Z598*Setup!$J$27)+(AA598*Setup!$J$28)+(AB598*Setup!$J$29)","v":0},"ERROR",1,{"$f":"IF(T598<>U599,1,0)","v":0},{"$f":"IF(V598<>V599,1,0)","v":0},1,{"$f":"IF(W598<>X599,1,0)","v":0},{"$f":"IF(Y598<>Y599,1,0)","v":0},1,{"$f":"IF(Z598<>AA599,1,0)","v":0},{"$f":"IF(AB598<>AB599,1,0)","v":0}]
[null,null,null,null,null,null,null,null,null,null,null,null,null,null,null,{"$error":"#N/A"},null,null,null,null,null,null,null,null,null,null,null,null,null,{"$f":"(T599*Setup!$J$17)+(U599*Setup!$J$18)+(V599*Setup!$J$19)+(W599*Setup!$J$22)+X599*(Setup!$J$23)+(Y599*Setup!$J$24)+(Z599*Setup!$J$27)+(AA599*Setup!$J$28)+(AB599*Setup!$J$29)","v":0},"ERROR",1,{"$f":"IF(T599<>U598,1,0)","v":0},{"$f":"IF(V599<>V598,1,0)","v":0},1,{"$f":"IF(W599<>X598,1,0)","v":0},{"$f":"IF(Y599<>Y598,1,0)","v":0},1,{"$f":"IF(Z599<>AA598,1,0)","v":0},{"$f":"IF(AB599<>AB598,1,0)","v":0}]
[null,null,null,null,null,null,null,null,null,null,null,null,null,null,null,{"$error":"#N/A"},null,null,null,null,null,null,null,null,null,null,null,null,null,{"$f":"(T600*Setup!$J$17)+(U600*Setup!$J$18)+(V600*Setup!$J$19)+(W600*Setup!$J$22)+X600*(Setup!$J$23)+(Y600*Setup!$J$24)+(Z600*Setup!$J$27)+(AA600*Setup!$J$28)+(AB600*Setup!$J$29)","v":0},"ERROR",1,{"$f":"IF(T600<>U601,1,0)","v":0},{"$f":"IF(V600<>V601,1,0)","v":0},1,{"$f":"IF(W600<>X601,1,0)","v":0},{"$f":"IF(Y600<>Y601,1,0)","v":0},1,{"$f":"IF(Z600<>AA601,1,0)","v":0},{"$f":"IF(AB600<>AB601,1,0)","v":0}]
[null,null,null,null,null,null,null,null,null,null,null,null,null,null,null,{"$error":"#N/A"},null,null,null,null,null,null,null,null,null,null,null,null,null,{"$f":"(T601*Setup!$J$17)+(U601*Setup!$J$18)+(V601*Setup!$J$19)+(W601*Setup!$J$22)+X601*(Setup!$J$23)+(Y601*Setup!$J$24)+(Z601*Setup!$J$27)+(AA601*Setup!$J$28)+(AB601*Setup!$J$29)","v":0},"ERROR",1,{"$f":"IF(T601<>U600,1,0)","v":0},{"$f":"IF(V601<>V600,1,0)","v":0},1,{"$f":"IF(W601<>X600,1,0)","v":0},{"$f":"IF(Y601<>Y600,1,0)","v":0},1,{"$f":"IF(Z601<>AA600,1,0)","v":0},{"$f":"IF(AB601<>AB600,1,0)","v":0}]
[null,null,null,null,null,null,null,null,null,null,null,null,null,null,null,{"$error":"#N/A"},null,null,null,null,null,null,null,null,null,null,null,null,null,{"$f":"(T602*Setup!$J$17)+(U602*Setup!$J$18)+(V602*Setup!$J$19)+(W602*Setup!$J$22)+X602*(Setup!$J$23)+(Y602*Setup!$J$24)+(Z602*Setup!$J$27)+(AA602*Setup!$J$28)+(AB602*Setup!$J$29)","v":0},"ERROR",1,{"$f":"IF(T602<>U603,1,0)","v":0},{"$f":"IF(V602<>V603,1,0)","v":0},1,{"$f":"IF(W602<>X603,1,0)","v":0},{"$f":"IF(Y602<>Y603,1,0)","v":0},1,{"$f":"IF(Z602<>AA603,1,0)","v":0},{"$f":"IF(AB602<>AB603,1,0)","v":0}]
[null,null,null,null,null,null,null,null,null,null,null,null,null,null,null,{"$error":"#N/A"},null,null,null,null,null,null,null,null,null,null,null,null,null,{"$f":"(T603*Setup!$J$17)+(U603*Setup!$J$18)+(V603*Setup!$J$19)+(W603*Setup!$J$22)+X603*(Setup!$J$23)+(Y603*Setup!$J$24)+(Z603*Setup!$J$27)+(AA603*Setup!$J$28)+(AB603*Setup!$J$29)","v":0},"ERROR",1,{"$f":"IF(T603<>U602,1,0)","v":0},{"$f":"IF(V603<>V602,1,0)","v":0},1,{"$f":"IF(W603<>X602,1,0)","v":0},{"$f":"IF(Y603<>Y602,1,0)","v":0},1,{"$f":"IF(Z603<>AA602,1,0)","v":0},{"$f":"IF(AB603<>AB602,1,0)","v":0}]
[null,null,null,null,null,null,null,null,null,null,null,null,null,null,null,{"$error":"#N/A"},null,null,null,null,null,null,null,null,null,null,null,null,null,{"$f":"(T604*Setup!$J$17)+(U604*Setup!$J$18)+(V604*Setup!$J$19)+(W604*Setup!$J$22)+X604*(Setup!$J$23)+(Y604*Setup!$J$24)+(Z604*Setup!$J$27)+(AA604*Setup!$J$28)+(AB604*Setup!$J$29)","v":0},"ERROR",1,{"$f":"IF(T604<>U605,1,0)","v":0},{"$f":"IF(V604<>V605,1,0)","v":0},1,{"$f":"IF(W604<>X605,1,0)","v":0},{"$f":"IF(Y604<>Y605,1,0)","v":0},1,{"$f":"IF(Z604<>AA605,1,0)","v":0},{"$f":"IF(AB604<>AB605,1,0)","v":0}]
[null,null,null,null,null,null,null,null,null,null,null,null,null,null,null,{"$error":"#N/A"},null,null,null,null,null,null,null,null,null,null,null,null,null,{"$f":"(T605*Setup!$J$17)+(U605*Setup!$J$18)+(V605*Setup!$J$19)+(W605*Setup!$J$22)+X605*(Setup!$J$23)+(Y605*Setup!$J$24)+(Z605*Setup!$J$27)+(AA605*Setup!$J$28)+(AB605*Setup!$J$29)","v":0},"ERROR",1,{"$f":"IF(T605<>U604,1,0)","v":0},{"$f":"IF(V605<>V604,1,0)","v":0},1,{"$f":"IF(W605<>X604,1,0)","v":0},{"$f":"IF(Y605<>Y604,1,0)","v":0},1,{"$f":"IF(Z605<>AA604,1,0)","v":0},{"$f":"IF(AB605<>AB604,1,0)","v":0}]
[null,null,null,null,null,null,null,null,null,null,null,null,null,null,null,{"$f":"VLOOKUP(S606,GE_Teams_DBID,2,FALSE)","v":{"$error":"#N/A"}},null,null,null,null,null,null,null,null,null,null,null,null,null,{"$f":"(T606*Setup!$J$17)+(U606*Setup!$J$18)+(V606*Setup!$J$19)+(W606*Setup!$J$22)+X606*(Setup!$J$23)+(Y606*Setup!$J$24)+(Z606*Setup!$J$27)+(AA606*Setup!$J$28)+(AB606*Setup!$J$29)","v":0},"ERROR",{"$f":"IF((T606+U606+V606)<>18,1,0)","v":1},{"$f":"IF(T606<>U607,1,0)","v":0},{"$f":"IF(V606<>V607,1,0)","v":0},{"$f":"IF((W606+X606+Y606)<>2,1,0)","v":1},{"$f":"IF(W606<>X607,1,0)","v":0},{"$f":"IF(Y606<>Y607,1,0)","v":0},{"$f":"IF((Z606+AA606+AB606)<>1,1,0)","v":1},{"$f":"IF(Z606<>AA607,1,0)","v":0},{"$f":"IF(AB606<>AB607,1,0)","v":0}]
[null,null,null,null,null,null,null,null,null,null,null,null,null,null,null,{"$error":"#N/A"},null,null,null,null,null,null,null,null,null,null,null,null,null,{"$f":"(T607*Setup!$J$17)+(U607*Setup!$J$18)+(V607*Setup!$J$19)+(W607*Setup!$J$22)+X607*(Setup!$J$23)+(Y607*Setup!$J$24)+(Z607*Setup!$J$27)+(AA607*Setup!$J$28)+(AB607*Setup!$J$29)","v":0},{"$f":"IF(SUM(AF607:AN607)>0,\"ERROR\",\"\")","v":"ERROR"},1,{"$f":"IF(T607<>U606,1,0)","v":0},{"$f":"IF(V607<>V606,1,0)","v":0},1,{"$f":"IF(W607<>X606,1,0)","v":0},{"$f":"IF(Y607<>Y606,1,0)","v":0},1,{"$f":"IF(Z607<>AA606,1,0)","v":0},{"$f":"IF(AB607<>AB606,1,0)","v":0}]
[null,null,null,null,null,null,null,null,null,null,null,null,null,null,null,{"$error":"#N/A"},null,null,null,null,null,null,null,null,null,null,null,null,null,{"$f":"(T608*Setup!$J$17)+(U608*Setup!$J$18)+(V608*Setup!$J$19)+(W608*Setup!$J$22)+X608*(Setup!$J$23)+(Y608*Setup!$J$24)+(Z608*Setup!$J$27)+(AA608*Setup!$J$28)+(AB608*Setup!$J$29)","v":0},"ERROR",1,{"$f":"IF(T608<>U609,1,0)","v":0},{"$f":"IF(V608<>V609,1,0)","v":0},1,{"$f":"IF(W608<>X609,1,0)","v":0},{"$f":"IF(Y608<>Y609,1,0)","v":0},1,{"$f":"IF(Z608<>AA609,1,0)","v":0},{"$f":"IF(AB608<>AB609,1,0)","v":0}]
[null,null,null,null,null,null,null,null,null,null,null,null,null,null,null,{"$error":"#N/A"},null,null,null,null,null,null,null,null,null,null,null,null,null,{"$f":"(T609*Setup!$J$17)+(U609*Setup!$J$18)+(V609*Setup!$J$19)+(W609*Setup!$J$22)+X609*(Setup!$J$23)+(Y609*Setup!$J$24)+(Z609*Setup!$J$27)+(AA609*Setup!$J$28)+(AB609*Setup!$J$29)","v":0},"ERROR",1,{"$f":"IF(T609<>U608,1,0)","v":0},{"$f":"IF(V609<>V608,1,0)","v":0},1,{"$f":"IF(W609<>X608,1,0)","v":0},{"$f":"IF(Y609<>Y608,1,0)","v":0},1,{"$f":"IF(Z609<>AA608,1,0)","v":0},{"$f":"IF(AB609<>AB608,1,0)","v":0}]
[null,null,null,null,null,null,null,null,null,null,null,null,null,null,null,{"$error":"#N/A"},null,null,null,null,null,null,null,null,null,null,null,null,null,{"$f":"(T610*Setup!$J$17)+(U610*Setup!$J$18)+(V610*Setup!$J$19)+(W610*Setup!$J$22)+X610*(Setup!$J$23)+(Y610*Setup!$J$24)+(Z610*Setup!$J$27)+(AA610*Setup!$J$28)+(AB610*Setup!$J$29)","v":0},"ERROR",1,{"$f":"IF(T610<>U611,1,0)","v":0},{"$f":"IF(V610<>V611,1,0)","v":0},1,{"$f":"IF(W610<>X611,1,0)","v":0},{"$f":"IF(Y610<>Y611,1,0)","v":0},1,{"$f":"IF(Z610<>AA611,1,0)","v":0},{"$f":"IF(AB610<>AB611,1,0)","v":0}]
[null,null,null,null,null,null,null,null,null,null,null,null,null,null,null,{"$error":"#N/A"},null,null,null,null,null,null,null,null,null,null,null,null,null,{"$f":"(T611*Setup!$J$17)+(U611*Setup!$J$18)+(V611*Setup!$J$19)+(W611*Setup!$J$22)+X611*(Setup!$J$23)+(Y611*Setup!$J$24)+(Z611*Setup!$J$27)+(AA611*Setup!$J$28)+(AB611*Setup!$J$29)","v":0},"ERROR",1,{"$f":"IF(T611<>U610,1,0)","v":0},{"$f":"IF(V611<>V610,1,0)","v":0},1,{"$f":"IF(W611<>X610,1,0)","v":0},{"$f":"IF(Y611<>Y610,1,0)","v":0},1,{"$f":"IF(Z611<>AA610,1,0)","v":0},{"$f":"IF(AB611<>AB610,1,0)","v":0}]
[null,null,null,null,null,null,null,null,null,null,null,null,null,null,null,{"$error":"#N/A"},null,null,null,null,null,null,null,null,null,null,null,null,null,{"$f":"(T612*Setup!$J$17)+(U612*Setup!$J$18)+(V612*Setup!$J$19)+(W612*Setup!$J$22)+X612*(Setup!$J$23)+(Y612*Setup!$J$24)+(Z612*Setup!$J$27)+(AA612*Setup!$J$28)+(AB612*Setup!$J$29)","v":0},"ERROR",1,{"$f":"IF(T612<>U613,1,0)","v":0},{"$f":"IF(V612<>V613,1,0)","v":0},1,{"$f":"IF(W612<>X613,1,0)","v":0},{"$f":"IF(Y612<>Y613,1,0)","v":0},1,{"$f":"IF(Z612<>AA613,1,0)","v":0},{"$f":"IF(AB612<>AB613,1,0)","v":0}]
[null,null,null,null,null,null,null,null,null,null,null,null,null,null,null,{"$error":"#N/A"},null,null,null,null,null,null,null,null,null,null,null,null,null,{"$f":"(T613*Setup!$J$17)+(U613*Setup!$J$18)+(V613*Setup!$J$19)+(W613*Setup!$J$22)+X613*(Setup!$J$23)+(Y613*Setup!$J$24)+(Z613*Setup!$J$27)+(AA613*Setup!$J$28)+(AB613*Setup!$J$29)","v":0},"ERROR",1,{"$f":"IF(T613<>U612,1,0)","v":0},{"$f":"IF(V613<>V612,1,0)","v":0},1,{"$f":"IF(W613<>X612,1,0)","v":0},{"$f":"IF(Y613<>Y612,1,0)","v":0},1,{"$f":"IF(Z613<>AA612,1,0)","v":0},{"$f":"IF(AB613<>AB612,1,0)","v":0}]
[null,null,null,null,null,null,null,null,null,null,null,null,null,null,null,{"$error":"#N/A"},null,null,null,null,null,null,null,null,null,null,null,null,null,{"$f":"(T614*Setup!$J$17)+(U614*Setup!$J$18)+(V614*Setup!$J$19)+(W614*Setup!$J$22)+X614*(Setup!$J$23)+(Y614*Setup!$J$24)+(Z614*Setup!$J$27)+(AA614*Setup!$J$28)+(AB614*Setup!$J$29)","v":0},"ERROR",1,{"$f":"IF(T614<>U615,1,0)","v":0},{"$f":"IF(V614<>V615,1,0)","v":0},1,{"$f":"IF(W614<>X615,1,0)","v":0},{"$f":"IF(Y614<>Y615,1,0)","v":0},1,{"$f":"IF(Z614<>AA615,1,0)","v":0},{"$f":"IF(AB614<>AB615,1,0)","v":0}]
[null,null,null,null,null,null,null,null,null,null,null,null,null,null,null,{"$error":"#N/A"},null,null,null,null,null,null,null,null,null,null,null,null,null,{"$f":"(T615*Setup!$J$17)+(U615*Setup!$J$18)+(V615*Setup!$J$19)+(W615*Setup!$J$22)+X615*(Setup!$J$23)+(Y615*Setup!$J$24)+(Z615*Setup!$J$27)+(AA615*Setup!$J$28)+(AB615*Setup!$J$29)","v":0},"ERROR",1,{"$f":"IF(T615<>U614,1,0)","v":0},{"$f":"IF(V615<>V614,1,0)","v":0},1,{"$f":"IF(W615<>X614,1,0)","v":0},{"$f":"IF(Y615<>Y614,1,0)","v":0},1,{"$f":"IF(Z615<>AA614,1,0)","v":0},{"$f":"IF(AB615<>AB614,1,0)","v":0}]
[null,null,null,null,null,null,null,null,null,null,null,null,null,null,null,{"$error":"#N/A"},null,null,null,null,null,null,null,null,null,null,null,null,null,{"$f":"(T616*Setup!$J$17)+(U616*Setup!$J$18)+(V616*Setup!$J$19)+(W616*Setup!$J$22)+X616*(Setup!$J$23)+(Y616*Setup!$J$24)+(Z616*Setup!$J$27)+(AA616*Setup!$J$28)+(AB616*Setup!$J$29)","v":0},"ERROR",1,{"$f":"IF(T616<>U617,1,0)","v":0},{"$f":"IF(V616<>V617,1,0)","v":0},1,{"$f":"IF(W616<>X617,1,0)","v":0},{"$f":"IF(Y616<>Y617,1,0)","v":0},1,{"$f":"IF(Z616<>AA617,1,0)","v":0},{"$f":"IF(AB616<>AB617,1,0)","v":0}]
[null,null,null,null,null,null,null,null,null,null,null,null,null,null,null,{"$error":"#N/A"},null,null,null,null,null,null,null,null,null,null,null,null,null,{"$f":"(T617*Setup!$J$17)+(U617*Setup!$J$18)+(V617*Setup!$J$19)+(W617*Setup!$J$22)+X617*(Setup!$J$23)+(Y617*Setup!$J$24)+(Z617*Setup!$J$27)+(AA617*Setup!$J$28)+(AB617*Setup!$J$29)","v":0},"ERROR",1,{"$f":"IF(T617<>U616,1,0)","v":0},{"$f":"IF(V617<>V616,1,0)","v":0},1,{"$f":"IF(W617<>X616,1,0)","v":0},{"$f":"IF(Y617<>Y616,1,0)","v":0},1,{"$f":"IF(Z617<>AA616,1,0)","v":0},{"$f":"IF(AB617<>AB616,1,0)","v":0}]
[null,null,null,null,null,null,null,null,null,null,null,null,null,null,null,{"$error":"#N/A"},null,null,null,null,null,null,null,null,null,null,null,null,null,{"$f":"(T618*Setup!$J$17)+(U618*Setup!$J$18)+(V618*Setup!$J$19)+(W618*Setup!$J$22)+X618*(Setup!$J$23)+(Y618*Setup!$J$24)+(Z618*Setup!$J$27)+(AA618*Setup!$J$28)+(AB618*Setup!$J$29)","v":0},"ERROR",1,{"$f":"IF(T618<>U619,1,0)","v":0},{"$f":"IF(V618<>V619,1,0)","v":0},1,{"$f":"IF(W618<>X619,1,0)","v":0},{"$f":"IF(Y618<>Y619,1,0)","v":0},1,{"$f":"IF(Z618<>AA619,1,0)","v":0},{"$f":"IF(AB618<>AB619,1,0)","v":0}]
[null,null,null,null,null,null,null,null,null,null,null,null,null,null,null,{"$error":"#N/A"},null,null,null,null,null,null,null,null,null,null,null,null,null,{"$f":"(T619*Setup!$J$17)+(U619*Setup!$J$18)+(V619*Setup!$J$19)+(W619*Setup!$J$22)+X619*(Setup!$J$23)+(Y619*Setup!$J$24)+(Z619*Setup!$J$27)+(AA619*Setup!$J$28)+(AB619*Setup!$J$29)","v":0},"ERROR",1,{"$f":"IF(T619<>U618,1,0)","v":0},{"$f":"IF(V619<>V618,1,0)","v":0},1,{"$f":"IF(W619<>X618,1,0)","v":0},{"$f":"IF(Y619<>Y618,1,0)","v":0},1,{"$f":"IF(Z619<>AA618,1,0)","v":0},{"$f":"IF(AB619<>AB618,1,0)","v":0}]
[null,null,null,null,null,null,null,null,null,null,null,null,null,null,null,{"$error":"#N/A"},null,null,null,null,null,null,null,null,null,null,null,null,null,{"$f":"(T620*Setup!$J$17)+(U620*Setup!$J$18)+(V620*Setup!$J$19)+(W620*Setup!$J$22)+X620*(Setup!$J$23)+(Y620*Setup!$J$24)+(Z620*Setup!$J$27)+(AA620*Setup!$J$28)+(AB620*Setup!$J$29)","v":0},"ERROR",1,{"$f":"IF(T620<>U621,1,0)","v":0},{"$f":"IF(V620<>V621,1,0)","v":0},1,{"$f":"IF(W620<>X621,1,0)","v":0},{"$f":"IF(Y620<>Y621,1,0)","v":0},1,{"$f":"IF(Z620<>AA621,1,0)","v":0},{"$f":"IF(AB620<>AB621,1,0)","v":0}]
[null,null,null,null,null,null,null,null,null,null,null,null,null,null,null,{"$error":"#N/A"},null,null,null,null,null,null,null,null,null,null,null,null,null,{"$f":"(T621*Setup!$J$17)+(U621*Setup!$J$18)+(V621*Setup!$J$19)+(W621*Setup!$J$22)+X621*(Setup!$J$23)+(Y621*Setup!$J$24)+(Z621*Setup!$J$27)+(AA621*Setup!$J$28)+(AB621*Setup!$J$29)","v":0},"ERROR",1,{"$f":"IF(T621<>U620,1,0)","v":0},{"$f":"IF(V621<>V620,1,0)","v":0},1,{"$f":"IF(W621<>X620,1,0)","v":0},{"$f":"IF(Y621<>Y620,1,0)","v":0},1,{"$f":"IF(Z621<>AA620,1,0)","v":0},{"$f":"IF(AB621<>AB620,1,0)","v":0}]
[null,null,null,null,null,null,null,null,null,null,null,null,null,null,null,{"$error":"#N/A"},null,null,null,null,null,null,null,null,null,null,null,null,null,{"$f":"(T622*Setup!$J$17)+(U622*Setup!$J$18)+(V622*Setup!$J$19)+(W622*Setup!$J$22)+X622*(Setup!$J$23)+(Y622*Setup!$J$24)+(Z622*Setup!$J$27)+(AA622*Setup!$J$28)+(AB622*Setup!$J$29)","v":0},"ERROR",1,{"$f":"IF(T622<>U623,1,0)","v":0},{"$f":"IF(V622<>V623,1,0)","v":0},1,{"$f":"IF(W622<>X623,1,0)","v":0},{"$f":"IF(Y622<>Y623,1,0)","v":0},1,{"$f":"IF(Z622<>AA623,1,0)","v":0},{"$f":"IF(AB622<>AB623,1,0)","v":0}]
[null,null,null,null,null,null,null,null,null,null,null,null,null,null,null,{"$error":"#N/A"},null,null,null,null,null,null,null,null,null,null,null,null,null,{"$f":"(T623*Setup!$J$17)+(U623*Setup!$J$18)+(V623*Setup!$J$19)+(W623*Setup!$J$22)+X623*(Setup!$J$23)+(Y623*Setup!$J$24)+(Z623*Setup!$J$27)+(AA623*Setup!$J$28)+(AB623*Setup!$J$29)","v":0},"ERROR",1,{"$f":"IF(T623<>U622,1,0)","v":0},{"$f":"IF(V623<>V622,1,0)","v":0},1,{"$f":"IF(W623<>X622,1,0)","v":0},{"$f":"IF(Y623<>Y622,1,0)","v":0},1,{"$f":"IF(Z623<>AA622,1,0)","v":0},{"$f":"IF(AB623<>AB622,1,0)","v":0}]
[null,null,null,null,null,null,null,null,null,null,null,null,null,null,null,{"$error":"#N/A"},null,null,null,null,null,null,null,null,null,null,null,null,null,{"$f":"(T624*Setup!$J$17)+(U624*Setup!$J$18)+(V624*Setup!$J$19)+(W624*Setup!$J$22)+X624*(Setup!$J$23)+(Y624*Setup!$J$24)+(Z624*Setup!$J$27)+(AA624*Setup!$J$28)+(AB624*Setup!$J$29)","v":0},"ERROR",1,{"$f":"IF(T624<>U625,1,0)","v":0},{"$f":"IF(V624<>V625,1,0)","v":0},1,{"$f":"IF(W624<>X625,1,0)","v":0},{"$f":"IF(Y624<>Y625,1,0)","v":0},1,{"$f":"IF(Z624<>AA625,1,0)","v":0},{"$f":"IF(AB624<>AB625,1,0)","v":0}]
[null,null,null,null,null,null,null,null,null,null,null,null,null,null,null,{"$error":"#N/A"},null,null,null,null,null,null,null,null,null,null,null,null,null,{"$f":"(T625*Setup!$J$17)+(U625*Setup!$J$18)+(V625*Setup!$J$19)+(W625*Setup!$J$22)+X625*(Setup!$J$23)+(Y625*Setup!$J$24)+(Z625*Setup!$J$27)+(AA625*Setup!$J$28)+(AB625*Setup!$J$29)","v":0},"ERROR",1,{"$f":"IF(T625<>U624,1,0)","v":0},{"$f":"IF(V625<>V624,1,0)","v":0},1,{"$f":"IF(W625<>X624,1,0)","v":0},{"$f":"IF(Y625<>Y624,1,0)","v":0},1,{"$f":"IF(Z625<>AA624,1,0)","v":0},{"$f":"IF(AB625<>AB624,1,0)","v":0}]
[null,null,null,null,null,null,null,null,null,null,null,null,null,null,null,{"$error":"#N/A"},null,null,null,null,null,null,null,null,null,null,null,null,null,{"$f":"(T626*Setup!$J$17)+(U626*Setup!$J$18)+(V626*Setup!$J$19)+(W626*Setup!$J$22)+X626*(Setup!$J$23)+(Y626*Setup!$J$24)+(Z626*Setup!$J$27)+(AA626*Setup!$J$28)+(AB626*Setup!$J$29)","v":0},"ERROR",1,{"$f":"IF(T626<>U627,1,0)","v":0},{"$f":"IF(V626<>V627,1,0)","v":0},1,{"$f":"IF(W626<>X627,1,0)","v":0},{"$f":"IF(Y626<>Y627,1,0)","v":0},1,{"$f":"IF(Z626<>AA627,1,0)","v":0},{"$f":"IF(AB626<>AB627,1,0)","v":0}]
[null,null,null,null,null,null,null,null,null,null,null,null,null,null,null,{"$error":"#N/A"},null,null,null,null,null,null,null,null,null,null,null,null,null,{"$f":"(T627*Setup!$J$17)+(U627*Setup!$J$18)+(V627*Setup!$J$19)+(W627*Setup!$J$22)+X627*(Setup!$J$23)+(Y627*Setup!$J$24)+(Z627*Setup!$J$27)+(AA627*Setup!$J$28)+(AB627*Setup!$J$29)","v":0},"ERROR",1,{"$f":"IF(T627<>U626,1,0)","v":0},{"$f":"IF(V627<>V626,1,0)","v":0},1,{"$f":"IF(W627<>X626,1,0)","v":0},{"$f":"IF(Y627<>Y626,1,0)","v":0},1,{"$f":"IF(Z627<>AA626,1,0)","v":0},{"$f":"IF(AB627<>AB626,1,0)","v":0}]
[null,null,null,null,null,null,null,null,null,null,null,null,null,null,null,{"$error":"#N/A"},null,null,null,null,null,null,null,null,null,null,null,null,null,{"$f":"(T628*Setup!$J$17)+(U628*Setup!$J$18)+(V628*Setup!$J$19)+(W628*Setup!$J$22)+X628*(Setup!$J$23)+(Y628*Setup!$J$24)+(Z628*Setup!$J$27)+(AA628*Setup!$J$28)+(AB628*Setup!$J$29)","v":0},"ERROR",1,{"$f":"IF(T628<>U629,1,0)","v":0},{"$f":"IF(V628<>V629,1,0)","v":0},1,{"$f":"IF(W628<>X629,1,0)","v":0},{"$f":"IF(Y628<>Y629,1,0)","v":0},1,{"$f":"IF(Z628<>AA629,1,0)","v":0},{"$f":"IF(AB628<>AB629,1,0)","v":0}]
[null,null,null,null,null,null,null,null,null,null,null,null,null,null,null,{"$error":"#N/A"},null,null,null,null,null,null,null,null,null,null,null,null,null,{"$f":"(T629*Setup!$J$17)+(U629*Setup!$J$18)+(V629*Setup!$J$19)+(W629*Setup!$J$22)+X629*(Setup!$J$23)+(Y629*Setup!$J$24)+(Z629*Setup!$J$27)+(AA629*Setup!$J$28)+(AB629*Setup!$J$29)","v":0},"ERROR",1,{"$f":"IF(T629<>U628,1,0)","v":0},{"$f":"IF(V629<>V628,1,0)","v":0},1,{"$f":"IF(W629<>X628,1,0)","v":0},{"$f":"IF(Y629<>Y628,1,0)","v":0},1,{"$f":"IF(Z629<>AA628,1,0)","v":0},{"$f":"IF(AB629<>AB628,1,0)","v":0}]
[null,null,null,null,null,null,null,null,null,null,null,null,null,null,null,{"$error":"#N/A"},null,null,null,null,null,null,null,null,null,null,null,null,null,{"$f":"(T630*Setup!$J$17)+(U630*Setup!$J$18)+(V630*Setup!$J$19)+(W630*Setup!$J$22)+X630*(Setup!$J$23)+(Y630*Setup!$J$24)+(Z630*Setup!$J$27)+(AA630*Setup!$J$28)+(AB630*Setup!$J$29)","v":0},"ERROR",1,{"$f":"IF(T630<>U631,1,0)","v":0},{"$f":"IF(V630<>V631,1,0)","v":0},1,{"$f":"IF(W630<>X631,1,0)","v":0},{"$f":"IF(Y630<>Y631,1,0)","v":0},1,{"$f":"IF(Z630<>AA631,1,0)","v":0},{"$f":"IF(AB630<>AB631,1,0)","v":0}]
[null,null,null,null,null,null,null,null,null,null,null,null,null,null,null,{"$error":"#N/A"},null,null,null,null,null,null,null,null,null,null,null,null,null,{"$f":"(T631*Setup!$J$17)+(U631*Setup!$J$18)+(V631*Setup!$J$19)+(W631*Setup!$J$22)+X631*(Setup!$J$23)+(Y631*Setup!$J$24)+(Z631*Setup!$J$27)+(AA631*Setup!$J$28)+(AB631*Setup!$J$29)","v":0},"ERROR",1,{"$f":"IF(T631<>U630,1,0)","v":0},{"$f":"IF(V631<>V630,1,0)","v":0},1,{"$f":"IF(W631<>X630,1,0)","v":0},{"$f":"IF(Y631<>Y630,1,0)","v":0},1,{"$f":"IF(Z631<>AA630,1,0)","v":0},{"$f":"IF(AB631<>AB630,1,0)","v":0}]
[null,null,null,null,null,null,null,null,null,null,null,null,null,null,null,{"$error":"#N/A"},null,null,null,null,null,null,null,null,null,null,null,null,null,{"$f":"(T632*Setup!$J$17)+(U632*Setup!$J$18)+(V632*Setup!$J$19)+(W632*Setup!$J$22)+X632*(Setup!$J$23)+(Y632*Setup!$J$24)+(Z632*Setup!$J$27)+(AA632*Setup!$J$28)+(AB632*Setup!$J$29)","v":0},"ERROR",1,{"$f":"IF(T632<>U633,1,0)","v":0},{"$f":"IF(V632<>V633,1,0)","v":0},1,{"$f":"IF(W632<>X633,1,0)","v":0},{"$f":"IF(Y632<>Y633,1,0)","v":0},1,{"$f":"IF(Z632<>AA633,1,0)","v":0},{"$f":"IF(AB632<>AB633,1,0)","v":0}]
[null,null,null,null,null,null,null,null,null,null,null,null,null,null,null,{"$error":"#N/A"},null,null,null,null,null,null,null,null,null,null,null,null,null,{"$f":"(T633*Setup!$J$17)+(U633*Setup!$J$18)+(V633*Setup!$J$19)+(W633*Setup!$J$22)+X633*(Setup!$J$23)+(Y633*Setup!$J$24)+(Z633*Setup!$J$27)+(AA633*Setup!$J$28)+(AB633*Setup!$J$29)","v":0},"ERROR",1,{"$f":"IF(T633<>U632,1,0)","v":0},{"$f":"IF(V633<>V632,1,0)","v":0},1,{"$f":"IF(W633<>X632,1,0)","v":0},{"$f":"IF(Y633<>Y632,1,0)","v":0},1,{"$f":"IF(Z633<>AA632,1,0)","v":0},{"$f":"IF(AB633<>AB632,1,0)","v":0}]
[null,null,null,null,null,null,null,null,null,null,null,null,null,null,null,{"$error":"#N/A"},null,null,null,null,null,null,null,null,null,null,null,null,null,{"$f":"(T634*Setup!$J$17)+(U634*Setup!$J$18)+(V634*Setup!$J$19)+(W634*Setup!$J$22)+X634*(Setup!$J$23)+(Y634*Setup!$J$24)+(Z634*Setup!$J$27)+(AA634*Setup!$J$28)+(AB634*Setup!$J$29)","v":0},"ERROR",1,{"$f":"IF(T634<>U635,1,0)","v":0},{"$f":"IF(V634<>V635,1,0)","v":0},1,{"$f":"IF(W634<>X635,1,0)","v":0},{"$f":"IF(Y634<>Y635,1,0)","v":0},1,{"$f":"IF(Z634<>AA635,1,0)","v":0},{"$f":"IF(AB634<>AB635,1,0)","v":0}]
[null,null,null,null,null,null,null,null,null,null,null,null,null,null,null,{"$error":"#N/A"},null,null,null,null,null,null,null,null,null,null,null,null,null,{"$f":"(T635*Setup!$J$17)+(U635*Setup!$J$18)+(V635*Setup!$J$19)+(W635*Setup!$J$22)+X635*(Setup!$J$23)+(Y635*Setup!$J$24)+(Z635*Setup!$J$27)+(AA635*Setup!$J$28)+(AB635*Setup!$J$29)","v":0},"ERROR",1,{"$f":"IF(T635<>U634,1,0)","v":0},{"$f":"IF(V635<>V634,1,0)","v":0},1,{"$f":"IF(W635<>X634,1,0)","v":0},{"$f":"IF(Y635<>Y634,1,0)","v":0},1,{"$f":"IF(Z635<>AA634,1,0)","v":0},{"$f":"IF(AB635<>AB634,1,0)","v":0}]
[null,null,null,null,null,null,null,null,null,null,null,null,null,null,null,{"$error":"#N/A"},null,null,null,null,null,null,null,null,null,null,null,null,null,{"$f":"(T636*Setup!$J$17)+(U636*Setup!$J$18)+(V636*Setup!$J$19)+(W636*Setup!$J$22)+X636*(Setup!$J$23)+(Y636*Setup!$J$24)+(Z636*Setup!$J$27)+(AA636*Setup!$J$28)+(AB636*Setup!$J$29)","v":0},"ERROR",1,{"$f":"IF(T636<>U637,1,0)","v":0},{"$f":"IF(V636<>V637,1,0)","v":0},1,{"$f":"IF(W636<>X637,1,0)","v":0},{"$f":"IF(Y636<>Y637,1,0)","v":0},1,{"$f":"IF(Z636<>AA637,1,0)","v":0},{"$f":"IF(AB636<>AB637,1,0)","v":0}]
[null,null,null,null,null,null,null,null,null,null,null,null,null,null,null,{"$error":"#N/A"},null,null,null,null,null,null,null,null,null,null,null,null,null,{"$f":"(T637*Setup!$J$17)+(U637*Setup!$J$18)+(V637*Setup!$J$19)+(W637*Setup!$J$22)+X637*(Setup!$J$23)+(Y637*Setup!$J$24)+(Z637*Setup!$J$27)+(AA637*Setup!$J$28)+(AB637*Setup!$J$29)","v":0},"ERROR",1,{"$f":"IF(T637<>U636,1,0)","v":0},{"$f":"IF(V637<>V636,1,0)","v":0},1,{"$f":"IF(W637<>X636,1,0)","v":0},{"$f":"IF(Y637<>Y636,1,0)","v":0},1,{"$f":"IF(Z637<>AA636,1,0)","v":0},{"$f":"IF(AB637<>AB636,1,0)","v":0}]
[null,null,null,null,null,null,null,null,null,null,null,null,null,null,null,{"$error":"#N/A"},null,null,null,null,null,null,null,null,null,null,null,null,null,{"$f":"(T638*Setup!$J$17)+(U638*Setup!$J$18)+(V638*Setup!$J$19)+(W638*Setup!$J$22)+X638*(Setup!$J$23)+(Y638*Setup!$J$24)+(Z638*Setup!$J$27)+(AA638*Setup!$J$28)+(AB638*Setup!$J$29)","v":0},"ERROR",1,{"$f":"IF(T638<>U639,1,0)","v":0},{"$f":"IF(V638<>V639,1,0)","v":0},1,{"$f":"IF(W638<>X639,1,0)","v":0},{"$f":"IF(Y638<>Y639,1,0)","v":0},1,{"$f":"IF(Z638<>AA639,1,0)","v":0},{"$f":"IF(AB638<>AB639,1,0)","v":0}]
[null,null,null,null,null,null,null,null,null,null,null,null,null,null,null,{"$error":"#N/A"},null,null,null,null,null,null,null,null,null,null,null,null,null,{"$f":"(T639*Setup!$J$17)+(U639*Setup!$J$18)+(V639*Setup!$J$19)+(W639*Setup!$J$22)+X639*(Setup!$J$23)+(Y639*Setup!$J$24)+(Z639*Setup!$J$27)+(AA639*Setup!$J$28)+(AB639*Setup!$J$29)","v":0},"ERROR",1,{"$f":"IF(T639<>U638,1,0)","v":0},{"$f":"IF(V639<>V638,1,0)","v":0},1,{"$f":"IF(W639<>X638,1,0)","v":0},{"$f":"IF(Y639<>Y638,1,0)","v":0},1,{"$f":"IF(Z639<>AA638,1,0)","v":0},{"$f":"IF(AB639<>AB638,1,0)","v":0}]
[null,null,null,null,null,null,null,null,null,null,null,null,null,null,null,{"$error":"#N/A"},null,null,null,null,null,null,null,null,null,null,null,null,null,{"$f":"(T640*Setup!$J$17)+(U640*Setup!$J$18)+(V640*Setup!$J$19)+(W640*Setup!$J$22)+X640*(Setup!$J$23)+(Y640*Setup!$J$24)+(Z640*Setup!$J$27)+(AA640*Setup!$J$28)+(AB640*Setup!$J$29)","v":0},"ERROR",1,{"$f":"IF(T640<>U641,1,0)","v":0},{"$f":"IF(V640<>V641,1,0)","v":0},1,{"$f":"IF(W640<>X641,1,0)","v":0},{"$f":"IF(Y640<>Y641,1,0)","v":0},1,{"$f":"IF(Z640<>AA641,1,0)","v":0},{"$f":"IF(AB640<>AB641,1,0)","v":0}]
[null,null,null,null,null,null,null,null,null,null,null,null,null,null,null,{"$error":"#N/A"},null,null,null,null,null,null,null,null,null,null,null,null,null,{"$f":"(T641*Setup!$J$17)+(U641*Setup!$J$18)+(V641*Setup!$J$19)+(W641*Setup!$J$22)+X641*(Setup!$J$23)+(Y641*Setup!$J$24)+(Z641*Setup!$J$27)+(AA641*Setup!$J$28)+(AB641*Setup!$J$29)","v":0},"ERROR",1,{"$f":"IF(T641<>U640,1,0)","v":0},{"$f":"IF(V641<>V640,1,0)","v":0},1,{"$f":"IF(W641<>X640,1,0)","v":0},{"$f":"IF(Y641<>Y640,1,0)","v":0},1,{"$f":"IF(Z641<>AA640,1,0)","v":0},{"$f":"IF(AB641<>AB640,1,0)","v":0}]
[null,null,null,null,null,null,null,null,null,null,null,null,null,null,null,{"$error":"#N/A"},null,null,null,null,null,null,null,null,null,null,null,null,null,{"$f":"(T642*Setup!$J$17)+(U642*Setup!$J$18)+(V642*Setup!$J$19)+(W642*Setup!$J$22)+X642*(Setup!$J$23)+(Y642*Setup!$J$24)+(Z642*Setup!$J$27)+(AA642*Setup!$J$28)+(AB642*Setup!$J$29)","v":0},"ERROR",1,{"$f":"IF(T642<>U643,1,0)","v":0},{"$f":"IF(V642<>V643,1,0)","v":0},1,{"$f":"IF(W642<>X643,1,0)","v":0},{"$f":"IF(Y642<>Y643,1,0)","v":0},1,{"$f":"IF(Z642<>AA643,1,0)","v":0},{"$f":"IF(AB642<>AB643,1,0)","v":0}]
[null,null,null,null,null,null,null,null,null,null,null,null,null,null,null,{"$error":"#N/A"},null,null,null,null,null,null,null,null,null,null,null,null,null,{"$f":"(T643*Setup!$J$17)+(U643*Setup!$J$18)+(V643*Setup!$J$19)+(W643*Setup!$J$22)+X643*(Setup!$J$23)+(Y643*Setup!$J$24)+(Z643*Setup!$J$27)+(AA643*Setup!$J$28)+(AB643*Setup!$J$29)","v":0},"ERROR",1,{"$f":"IF(T643<>U642,1,0)","v":0},{"$f":"IF(V643<>V642,1,0)","v":0},1,{"$f":"IF(W643<>X642,1,0)","v":0},{"$f":"IF(Y643<>Y642,1,0)","v":0},1,{"$f":"IF(Z643<>AA642,1,0)","v":0},{"$f":"IF(AB643<>AB642,1,0)","v":0}]
[null,null,null,null,null,null,null,null,null,null,null,null,null,null,null,{"$error":"#N/A"},null,null,null,null,null,null,null,null,null,null,null,null,null,{"$f":"(T644*Setup!$J$17)+(U644*Setup!$J$18)+(V644*Setup!$J$19)+(W644*Setup!$J$22)+X644*(Setup!$J$23)+(Y644*Setup!$J$24)+(Z644*Setup!$J$27)+(AA644*Setup!$J$28)+(AB644*Setup!$J$29)","v":0},"ERROR",1,{"$f":"IF(T644<>U645,1,0)","v":0},{"$f":"IF(V644<>V645,1,0)","v":0},1,{"$f":"IF(W644<>X645,1,0)","v":0},{"$f":"IF(Y644<>Y645,1,0)","v":0},1,{"$f":"IF(Z644<>AA645,1,0)","v":0},{"$f":"IF(AB644<>AB645,1,0)","v":0}]
[null,null,null,null,null,null,null,null,null,null,null,null,null,null,null,{"$error":"#N/A"},null,null,null,null,null,null,null,null,null,null,null,null,null,{"$f":"(T645*Setup!$J$17)+(U645*Setup!$J$18)+(V645*Setup!$J$19)+(W645*Setup!$J$22)+X645*(Setup!$J$23)+(Y645*Setup!$J$24)+(Z645*Setup!$J$27)+(AA645*Setup!$J$28)+(AB645*Setup!$J$29)","v":0},"ERROR",1,{"$f":"IF(T645<>U644,1,0)","v":0},{"$f":"IF(V645<>V644,1,0)","v":0},1,{"$f":"IF(W645<>X644,1,0)","v":0},{"$f":"IF(Y645<>Y644,1,0)","v":0},1,{"$f":"IF(Z645<>AA644,1,0)","v":0},{"$f":"IF(AB645<>AB644,1,0)","v":0}]
[null,null,null,null,null,null,null,null,null,null,null,null,null,null,null,{"$error":"#N/A"},null,null,null,null,null,null,null,null,null,null,null,null,null,{"$f":"(T646*Setup!$J$17)+(U646*Setup!$J$18)+(V646*Setup!$J$19)+(W646*Setup!$J$22)+X646*(Setup!$J$23)+(Y646*Setup!$J$24)+(Z646*Setup!$J$27)+(AA646*Setup!$J$28)+(AB646*Setup!$J$29)","v":0},"ERROR",1,{"$f":"IF(T646<>U647,1,0)","v":0},{"$f":"IF(V646<>V647,1,0)","v":0},1,{"$f":"IF(W646<>X647,1,0)","v":0},{"$f":"IF(Y646<>Y647,1,0)","v":0},1,{"$f":"IF(Z646<>AA647,1,0)","v":0},{"$f":"IF(AB646<>AB647,1,0)","v":0}]
[null,null,null,null,null,null,null,null,null,null,null,null,null,null,null,{"$error":"#N/A"},null,null,null,null,null,null,null,null,null,null,null,null,null,{"$f":"(T647*Setup!$J$17)+(U647*Setup!$J$18)+(V647*Setup!$J$19)+(W647*Setup!$J$22)+X647*(Setup!$J$23)+(Y647*Setup!$J$24)+(Z647*Setup!$J$27)+(AA647*Setup!$J$28)+(AB647*Setup!$J$29)","v":0},"ERROR",1,{"$f":"IF(T647<>U646,1,0)","v":0},{"$f":"IF(V647<>V646,1,0)","v":0},1,{"$f":"IF(W647<>X646,1,0)","v":0},{"$f":"IF(Y647<>Y646,1,0)","v":0},1,{"$f":"IF(Z647<>AA646,1,0)","v":0},{"$f":"IF(AB647<>AB646,1,0)","v":0}]
[null,null,null,null,null,null,null,null,null,null,null,null,null,null,null,{"$error":"#N/A"},null,null,null,null,null,null,null,null,null,null,null,null,null,{"$f":"(T648*Setup!$J$17)+(U648*Setup!$J$18)+(V648*Setup!$J$19)+(W648*Setup!$J$22)+X648*(Setup!$J$23)+(Y648*Setup!$J$24)+(Z648*Setup!$J$27)+(AA648*Setup!$J$28)+(AB648*Setup!$J$29)","v":0},"ERROR",1,{"$f":"IF(T648<>U649,1,0)","v":0},{"$f":"IF(V648<>V649,1,0)","v":0},1,{"$f":"IF(W648<>X649,1,0)","v":0},{"$f":"IF(Y648<>Y649,1,0)","v":0},1,{"$f":"IF(Z648<>AA649,1,0)","v":0},{"$f":"IF(AB648<>AB649,1,0)","v":0}]
[null,null,null,null,null,null,null,null,null,null,null,null,null,null,null,{"$error":"#N/A"},null,null,null,null,null,null,null,null,null,null,null,null,null,{"$f":"(T649*Setup!$J$17)+(U649*Setup!$J$18)+(V649*Setup!$J$19)+(W649*Setup!$J$22)+X649*(Setup!$J$23)+(Y649*Setup!$J$24)+(Z649*Setup!$J$27)+(AA649*Setup!$J$28)+(AB649*Setup!$J$29)","v":0},"ERROR",1,{"$f":"IF(T649<>U648,1,0)","v":0},{"$f":"IF(V649<>V648,1,0)","v":0},1,{"$f":"IF(W649<>X648,1,0)","v":0},{"$f":"IF(Y649<>Y648,1,0)","v":0},1,{"$f":"IF(Z649<>AA648,1,0)","v":0},{"$f":"IF(AB649<>AB648,1,0)","v":0}]
[null,null,null,null,null,null,null,null,null,null,null,null,null,null,null,{"$error":"#N/A"},null,null,null,null,null,null,null,null,null,null,null,null,null,{"$f":"(T650*Setup!$J$17)+(U650*Setup!$J$18)+(V650*Setup!$J$19)+(W650*Setup!$J$22)+X650*(Setup!$J$23)+(Y650*Setup!$J$24)+(Z650*Setup!$J$27)+(AA650*Setup!$J$28)+(AB650*Setup!$J$29)","v":0},"ERROR",1,{"$f":"IF(T650<>U651,1,0)","v":0},{"$f":"IF(V650<>V651,1,0)","v":0},1,{"$f":"IF(W650<>X651,1,0)","v":0},{"$f":"IF(Y650<>Y651,1,0)","v":0},1,{"$f":"IF(Z650<>AA651,1,0)","v":0},{"$f":"IF(AB650<>AB651,1,0)","v":0}]
[null,null,null,null,null,null,null,null,null,null,null,null,null,null,null,{"$error":"#N/A"},null,null,null,null,null,null,null,null,null,null,null,null,null,{"$f":"(T651*Setup!$J$17)+(U651*Setup!$J$18)+(V651*Setup!$J$19)+(W651*Setup!$J$22)+X651*(Setup!$J$23)+(Y651*Setup!$J$24)+(Z651*Setup!$J$27)+(AA651*Setup!$J$28)+(AB651*Setup!$J$29)","v":0},"ERROR",1,{"$f":"IF(T651<>U650,1,0)","v":0},{"$f":"IF(V651<>V650,1,0)","v":0},1,{"$f":"IF(W651<>X650,1,0)","v":0},{"$f":"IF(Y651<>Y650,1,0)","v":0},1,{"$f":"IF(Z651<>AA650,1,0)","v":0},{"$f":"IF(AB651<>AB650,1,0)","v":0}]
[null,null,null,null,null,null,null,null,null,null,null,null,null,null,null,{"$error":"#N/A"},null,null,null,null,null,null,null,null,null,null,null,null,null,{"$f":"(T652*Setup!$J$17)+(U652*Setup!$J$18)+(V652*Setup!$J$19)+(W652*Setup!$J$22)+X652*(Setup!$J$23)+(Y652*Setup!$J$24)+(Z652*Setup!$J$27)+(AA652*Setup!$J$28)+(AB652*Setup!$J$29)","v":0},"ERROR",1,{"$f":"IF(T652<>U653,1,0)","v":0},{"$f":"IF(V652<>V653,1,0)","v":0},1,{"$f":"IF(W652<>X653,1,0)","v":0},{"$f":"IF(Y652<>Y653,1,0)","v":0},1,{"$f":"IF(Z652<>AA653,1,0)","v":0},{"$f":"IF(AB652<>AB653,1,0)","v":0}]
[null,null,null,null,null,null,null,null,null,null,null,null,null,null,null,{"$error":"#N/A"},null,null,null,null,null,null,null,null,null,null,null,null,null,{"$f":"(T653*Setup!$J$17)+(U653*Setup!$J$18)+(V653*Setup!$J$19)+(W653*Setup!$J$22)+X653*(Setup!$J$23)+(Y653*Setup!$J$24)+(Z653*Setup!$J$27)+(AA653*Setup!$J$28)+(AB653*Setup!$J$29)","v":0},"ERROR",1,{"$f":"IF(T653<>U652,1,0)","v":0},{"$f":"IF(V653<>V652,1,0)","v":0},1,{"$f":"IF(W653<>X652,1,0)","v":0},{"$f":"IF(Y653<>Y652,1,0)","v":0},1,{"$f":"IF(Z653<>AA652,1,0)","v":0},{"$f":"IF(AB653<>AB652,1,0)","v":0}]
[null,null,null,null,null,null,null,null,null,null,null,null,null,null,null,{"$error":"#N/A"},null,null,null,null,null,null,null,null,null,null,null,null,null,{"$f":"(T654*Setup!$J$17)+(U654*Setup!$J$18)+(V654*Setup!$J$19)+(W654*Setup!$J$22)+X654*(Setup!$J$23)+(Y654*Setup!$J$24)+(Z654*Setup!$J$27)+(AA654*Setup!$J$28)+(AB654*Setup!$J$29)","v":0},"ERROR",1,{"$f":"IF(T654<>U655,1,0)","v":0},{"$f":"IF(V654<>V655,1,0)","v":0},1,{"$f":"IF(W654<>X655,1,0)","v":0},{"$f":"IF(Y654<>Y655,1,0)","v":0},1,{"$f":"IF(Z654<>AA655,1,0)","v":0},{"$f":"IF(AB654<>AB655,1,0)","v":0}]
[null,null,null,null,null,null,null,null,null,null,null,null,null,null,null,{"$error":"#N/A"},null,null,null,null,null,null,null,null,null,null,null,null,null,{"$f":"(T655*Setup!$J$17)+(U655*Setup!$J$18)+(V655*Setup!$J$19)+(W655*Setup!$J$22)+X655*(Setup!$J$23)+(Y655*Setup!$J$24)+(Z655*Setup!$J$27)+(AA655*Setup!$J$28)+(AB655*Setup!$J$29)","v":0},"ERROR",1,{"$f":"IF(T655<>U654,1,0)","v":0},{"$f":"IF(V655<>V654,1,0)","v":0},1,{"$f":"IF(W655<>X654,1,0)","v":0},{"$f":"IF(Y655<>Y654,1,0)","v":0},1,{"$f":"IF(Z655<>AA654,1,0)","v":0},{"$f":"IF(AB655<>AB654,1,0)","v":0}]
[null,null,null,null,null,null,null,null,null,null,null,null,null,null,null,{"$error":"#N/A"},null,null,null,null,null,null,null,null,null,null,null,null,null,{"$f":"(T656*Setup!$J$17)+(U656*Setup!$J$18)+(V656*Setup!$J$19)+(W656*Setup!$J$22)+X656*(Setup!$J$23)+(Y656*Setup!$J$24)+(Z656*Setup!$J$27)+(AA656*Setup!$J$28)+(AB656*Setup!$J$29)","v":0},"ERROR",1,{"$f":"IF(T656<>U657,1,0)","v":0},{"$f":"IF(V656<>V657,1,0)","v":0},1,{"$f":"IF(W656<>X657,1,0)","v":0},{"$f":"IF(Y656<>Y657,1,0)","v":0},1,{"$f":"IF(Z656<>AA657,1,0)","v":0},{"$f":"IF(AB656<>AB657,1,0)","v":0}]
[null,null,null,null,null,null,null,null,null,null,null,null,null,null,null,{"$error":"#N/A"},null,null,null,null,null,null,null,null,null,null,null,null,null,{"$f":"(T657*Setup!$J$17)+(U657*Setup!$J$18)+(V657*Setup!$J$19)+(W657*Setup!$J$22)+X657*(Setup!$J$23)+(Y657*Setup!$J$24)+(Z657*Setup!$J$27)+(AA657*Setup!$J$28)+(AB657*Setup!$J$29)","v":0},"ERROR",1,{"$f":"IF(T657<>U656,1,0)","v":0},{"$f":"IF(V657<>V656,1,0)","v":0},1,{"$f":"IF(W657<>X656,1,0)","v":0},{"$f":"IF(Y657<>Y656,1,0)","v":0},1,{"$f":"IF(Z657<>AA656,1,0)","v":0},{"$f":"IF(AB657<>AB656,1,0)","v":0}]
[null,null,null,null,null,null,null,null,null,null,null,null,null,null,null,{"$error":"#N/A"},null,null,null,null,null,null,null,null,null,null,null,null,null,{"$f":"(T658*Setup!$J$17)+(U658*Setup!$J$18)+(V658*Setup!$J$19)+(W658*Setup!$J$22)+X658*(Setup!$J$23)+(Y658*Setup!$J$24)+(Z658*Setup!$J$27)+(AA658*Setup!$J$28)+(AB658*Setup!$J$29)","v":0},"ERROR",1,{"$f":"IF(T658<>U659,1,0)","v":0},{"$f":"IF(V658<>V659,1,0)","v":0},1,{"$f":"IF(W658<>X659,1,0)","v":0},{"$f":"IF(Y658<>Y659,1,0)","v":0},1,{"$f":"IF(Z658<>AA659,1,0)","v":0},{"$f":"IF(AB658<>AB659,1,0)","v":0}]
[null,null,null,null,null,null,null,null,null,null,null,null,null,null,null,{"$error":"#N/A"},null,null,null,null,null,null,null,null,null,null,null,null,null,{"$f":"(T659*Setup!$J$17)+(U659*Setup!$J$18)+(V659*Setup!$J$19)+(W659*Setup!$J$22)+X659*(Setup!$J$23)+(Y659*Setup!$J$24)+(Z659*Setup!$J$27)+(AA659*Setup!$J$28)+(AB659*Setup!$J$29)","v":0},"ERROR",1,{"$f":"IF(T659<>U658,1,0)","v":0},{"$f":"IF(V659<>V658,1,0)","v":0},1,{"$f":"IF(W659<>X658,1,0)","v":0},{"$f":"IF(Y659<>Y658,1,0)","v":0},1,{"$f":"IF(Z659<>AA658,1,0)","v":0},{"$f":"IF(AB659<>AB658,1,0)","v":0}]
[null,null,null,null,null,null,null,null,null,null,null,null,null,null,null,{"$error":"#N/A"},null,null,null,null,null,null,null,null,null,null,null,null,null,{"$f":"(T660*Setup!$J$17)+(U660*Setup!$J$18)+(V660*Setup!$J$19)+(W660*Setup!$J$22)+X660*(Setup!$J$23)+(Y660*Setup!$J$24)+(Z660*Setup!$J$27)+(AA660*Setup!$J$28)+(AB660*Setup!$J$29)","v":0},"ERROR",1,{"$f":"IF(T660<>U661,1,0)","v":0},{"$f":"IF(V660<>V661,1,0)","v":0},1,{"$f":"IF(W660<>X661,1,0)","v":0},{"$f":"IF(Y660<>Y661,1,0)","v":0},1,{"$f":"IF(Z660<>AA661,1,0)","v":0},{"$f":"IF(AB660<>AB661,1,0)","v":0}]
[null,null,null,null,null,null,null,null,null,null,null,null,null,null,null,{"$error":"#N/A"},null,null,null,null,null,null,null,null,null,null,null,null,null,{"$f":"(T661*Setup!$J$17)+(U661*Setup!$J$18)+(V661*Setup!$J$19)+(W661*Setup!$J$22)+X661*(Setup!$J$23)+(Y661*Setup!$J$24)+(Z661*Setup!$J$27)+(AA661*Setup!$J$28)+(AB661*Setup!$J$29)","v":0},"ERROR",1,{"$f":"IF(T661<>U660,1,0)","v":0},{"$f":"IF(V661<>V660,1,0)","v":0},1,{"$f":"IF(W661<>X660,1,0)","v":0},{"$f":"IF(Y661<>Y660,1,0)","v":0},1,{"$f":"IF(Z661<>AA660,1,0)","v":0},{"$f":"IF(AB661<>AB660,1,0)","v":0}]
[null,null,null,null,null,null,null,null,null,null,null,null,null,null,null,{"$error":"#N/A"},null,null,null,null,null,null,null,null,null,null,null,null,null,{"$f":"(T662*Setup!$J$17)+(U662*Setup!$J$18)+(V662*Setup!$J$19)+(W662*Setup!$J$22)+X662*(Setup!$J$23)+(Y662*Setup!$J$24)+(Z662*Setup!$J$27)+(AA662*Setup!$J$28)+(AB662*Setup!$J$29)","v":0},"ERROR",1,{"$f":"IF(T662<>U663,1,0)","v":0},{"$f":"IF(V662<>V663,1,0)","v":0},1,{"$f":"IF(W662<>X663,1,0)","v":0},{"$f":"IF(Y662<>Y663,1,0)","v":0},1,{"$f":"IF(Z662<>AA663,1,0)","v":0},{"$f":"IF(AB662<>AB663,1,0)","v":0}]
[null,null,null,null,null,null,null,null,null,null,null,null,null,null,null,{"$error":"#N/A"},null,null,null,null,null,null,null,null,null,null,null,null,null,{"$f":"(T663*Setup!$J$17)+(U663*Setup!$J$18)+(V663*Setup!$J$19)+(W663*Setup!$J$22)+X663*(Setup!$J$23)+(Y663*Setup!$J$24)+(Z663*Setup!$J$27)+(AA663*Setup!$J$28)+(AB663*Setup!$J$29)","v":0},"ERROR",1,{"$f":"IF(T663<>U662,1,0)","v":0},{"$f":"IF(V663<>V662,1,0)","v":0},1,{"$f":"IF(W663<>X662,1,0)","v":0},{"$f":"IF(Y663<>Y662,1,0)","v":0},1,{"$f":"IF(Z663<>AA662,1,0)","v":0},{"$f":"IF(AB663<>AB662,1,0)","v":0}]
[null,null,null,null,null,null,null,null,null,null,null,null,null,null,null,{"$error":"#N/A"},null,null,null,null,null,null,null,null,null,null,null,null,null,{"$f":"(T664*Setup!$J$17)+(U664*Setup!$J$18)+(V664*Setup!$J$19)+(W664*Setup!$J$22)+X664*(Setup!$J$23)+(Y664*Setup!$J$24)+(Z664*Setup!$J$27)+(AA664*Setup!$J$28)+(AB664*Setup!$J$29)","v":0},"ERROR",1,{"$f":"IF(T664<>U665,1,0)","v":0},{"$f":"IF(V664<>V665,1,0)","v":0},1,{"$f":"IF(W664<>X665,1,0)","v":0},{"$f":"IF(Y664<>Y665,1,0)","v":0},1,{"$f":"IF(Z664<>AA665,1,0)","v":0},{"$f":"IF(AB664<>AB665,1,0)","v":0}]
[null,null,null,null,null,null,null,null,null,null,null,null,null,null,null,{"$error":"#N/A"},null,null,null,null,null,null,null,null,null,null,null,null,null,{"$f":"(T665*Setup!$J$17)+(U665*Setup!$J$18)+(V665*Setup!$J$19)+(W665*Setup!$J$22)+X665*(Setup!$J$23)+(Y665*Setup!$J$24)+(Z665*Setup!$J$27)+(AA665*Setup!$J$28)+(AB665*Setup!$J$29)","v":0},"ERROR",1,{"$f":"IF(T665<>U664,1,0)","v":0},{"$f":"IF(V665<>V664,1,0)","v":0},1,{"$f":"IF(W665<>X664,1,0)","v":0},{"$f":"IF(Y665<>Y664,1,0)","v":0},1,{"$f":"IF(Z665<>AA664,1,0)","v":0},{"$f":"IF(AB665<>AB664,1,0)","v":0}]
[null,null,null,null,null,null,null,null,null,null,null,null,null,null,null,{"$error":"#N/A"},null,null,null,null,null,null,null,null,null,null,null,null,null,{"$f":"(T666*Setup!$J$17)+(U666*Setup!$J$18)+(V666*Setup!$J$19)+(W666*Setup!$J$22)+X666*(Setup!$J$23)+(Y666*Setup!$J$24)+(Z666*Setup!$J$27)+(AA666*Setup!$J$28)+(AB666*Setup!$J$29)","v":0},"ERROR",1,{"$f":"IF(T666<>U667,1,0)","v":0},{"$f":"IF(V666<>V667,1,0)","v":0},1,{"$f":"IF(W666<>X667,1,0)","v":0},{"$f":"IF(Y666<>Y667,1,0)","v":0},1,{"$f":"IF(Z666<>AA667,1,0)","v":0},{"$f":"IF(AB666<>AB667,1,0)","v":0}]
[null,null,null,null,null,null,null,null,null,null,null,null,null,null,null,{"$error":"#N/A"},null,null,null,null,null,null,null,null,null,null,null,null,null,{"$f":"(T667*Setup!$J$17)+(U667*Setup!$J$18)+(V667*Setup!$J$19)+(W667*Setup!$J$22)+X667*(Setup!$J$23)+(Y667*Setup!$J$24)+(Z667*Setup!$J$27)+(AA667*Setup!$J$28)+(AB667*Setup!$J$29)","v":0},"ERROR",1,{"$f":"IF(T667<>U666,1,0)","v":0},{"$f":"IF(V667<>V666,1,0)","v":0},1,{"$f":"IF(W667<>X666,1,0)","v":0},{"$f":"IF(Y667<>Y666,1,0)","v":0},1,{"$f":"IF(Z667<>AA666,1,0)","v":0},{"$f":"IF(AB667<>AB666,1,0)","v":0}]
[null,null,null,null,null,null,null,null,null,null,null,null,null,null,null,{"$error":"#N/A"},null,null,null,null,null,null,null,null,null,null,null,null,null,{"$f":"(T668*Setup!$J$17)+(U668*Setup!$J$18)+(V668*Setup!$J$19)+(W668*Setup!$J$22)+X668*(Setup!$J$23)+(Y668*Setup!$J$24)+(Z668*Setup!$J$27)+(AA668*Setup!$J$28)+(AB668*Setup!$J$29)","v":0},"ERROR",1,{"$f":"IF(T668<>U669,1,0)","v":0},{"$f":"IF(V668<>V669,1,0)","v":0},1,{"$f":"IF(W668<>X669,1,0)","v":0},{"$f":"IF(Y668<>Y669,1,0)","v":0},1,{"$f":"IF(Z668<>AA669,1,0)","v":0},{"$f":"IF(AB668<>AB669,1,0)","v":0}]
[null,null,null,null,null,null,null,null,null,null,null,null,null,null,null,{"$error":"#N/A"},null,null,null,null,null,null,null,null,null,null,null,null,null,{"$f":"(T669*Setup!$J$17)+(U669*Setup!$J$18)+(V669*Setup!$J$19)+(W669*Setup!$J$22)+X669*(Setup!$J$23)+(Y669*Setup!$J$24)+(Z669*Setup!$J$27)+(AA669*Setup!$J$28)+(AB669*Setup!$J$29)","v":0},"ERROR",1,{"$f":"IF(T669<>U668,1,0)","v":0},{"$f":"IF(V669<>V668,1,0)","v":0},1,{"$f":"IF(W669<>X668,1,0)","v":0},{"$f":"IF(Y669<>Y668,1,0)","v":0},1,{"$f":"IF(Z669<>AA668,1,0)","v":0},{"$f":"IF(AB669<>AB668,1,0)","v":0}]
[null,null,null,null,null,null,null,null,null,null,null,null,null,null,null,{"$f":"VLOOKUP(S670,GE_Teams_DBID,2,FALSE)","v":{"$error":"#N/A"}},null,null,null,null,null,null,null,null,null,null,null,null,null,{"$f":"(T670*Setup!$J$17)+(U670*Setup!$J$18)+(V670*Setup!$J$19)+(W670*Setup!$J$22)+X670*(Setup!$J$23)+(Y670*Setup!$J$24)+(Z670*Setup!$J$27)+(AA670*Setup!$J$28)+(AB670*Setup!$J$29)","v":0},"ERROR",{"$f":"IF((T670+U670+V670)<>18,1,0)","v":1},{"$f":"IF(T670<>U671,1,0)","v":0},{"$f":"IF(V670<>V671,1,0)","v":0},{"$f":"IF((W670+X670+Y670)<>2,1,0)","v":1},{"$f":"IF(W670<>X671,1,0)","v":0},{"$f":"IF(Y670<>Y671,1,0)","v":0},{"$f":"IF((Z670+AA670+AB670)<>1,1,0)","v":1},{"$f":"IF(Z670<>AA671,1,0)","v":0},{"$f":"IF(AB670<>AB671,1,0)","v":0}]
[null,null,null,null,null,null,null,null,null,null,null,null,null,null,null,{"$error":"#N/A"},null,null,null,null,null,null,null,null,null,null,null,null,null,{"$f":"(T671*Setup!$J$17)+(U671*Setup!$J$18)+(V671*Setup!$J$19)+(W671*Setup!$J$22)+X671*(Setup!$J$23)+(Y671*Setup!$J$24)+(Z671*Setup!$J$27)+(AA671*Setup!$J$28)+(AB671*Setup!$J$29)","v":0},{"$f":"IF(SUM(AF671:AN671)>0,\"ERROR\",\"\")","v":"ERROR"},1,{"$f":"IF(T671<>U670,1,0)","v":0},{"$f":"IF(V671<>V670,1,0)","v":0},1,{"$f":"IF(W671<>X670,1,0)","v":0},{"$f":"IF(Y671<>Y670,1,0)","v":0},1,{"$f":"IF(Z671<>AA670,1,0)","v":0},{"$f":"IF(AB671<>AB670,1,0)","v":0}]
[null,null,null,null,null,null,null,null,null,null,null,null,null,null,null,{"$error":"#N/A"},null,null,null,null,null,null,null,null,null,null,null,null,null,{"$f":"(T672*Setup!$J$17)+(U672*Setup!$J$18)+(V672*Setup!$J$19)+(W672*Setup!$J$22)+X672*(Setup!$J$23)+(Y672*Setup!$J$24)+(Z672*Setup!$J$27)+(AA672*Setup!$J$28)+(AB672*Setup!$J$29)","v":0},"ERROR",1,{"$f":"IF(T672<>U673,1,0)","v":0},{"$f":"IF(V672<>V673,1,0)","v":0},1,{"$f":"IF(W672<>X673,1,0)","v":0},{"$f":"IF(Y672<>Y673,1,0)","v":0},1,{"$f":"IF(Z672<>AA673,1,0)","v":0},{"$f":"IF(AB672<>AB673,1,0)","v":0}]
[null,null,null,null,null,null,null,null,null,null,null,null,null,null,null,{"$error":"#N/A"},null,null,null,null,null,null,null,null,null,null,null,null,null,{"$f":"(T673*Setup!$J$17)+(U673*Setup!$J$18)+(V673*Setup!$J$19)+(W673*Setup!$J$22)+X673*(Setup!$J$23)+(Y673*Setup!$J$24)+(Z673*Setup!$J$27)+(AA673*Setup!$J$28)+(AB673*Setup!$J$29)","v":0},"ERROR",1,{"$f":"IF(T673<>U672,1,0)","v":0},{"$f":"IF(V673<>V672,1,0)","v":0},1,{"$f":"IF(W673<>X672,1,0)","v":0},{"$f":"IF(Y673<>Y672,1,0)","v":0},1,{"$f":"IF(Z673<>AA672,1,0)","v":0},{"$f":"IF(AB673<>AB672,1,0)","v":0}]
[null,null,null,null,null,null,null,null,null,null,null,null,null,null,null,{"$error":"#N/A"},null,null,null,null,null,null,null,null,null,null,null,null,null,{"$f":"(T674*Setup!$J$17)+(U674*Setup!$J$18)+(V674*Setup!$J$19)+(W674*Setup!$J$22)+X674*(Setup!$J$23)+(Y674*Setup!$J$24)+(Z674*Setup!$J$27)+(AA674*Setup!$J$28)+(AB674*Setup!$J$29)","v":0},"ERROR",1,{"$f":"IF(T674<>U675,1,0)","v":0},{"$f":"IF(V674<>V675,1,0)","v":0},1,{"$f":"IF(W674<>X675,1,0)","v":0},{"$f":"IF(Y674<>Y675,1,0)","v":0},1,{"$f":"IF(Z674<>AA675,1,0)","v":0},{"$f":"IF(AB674<>AB675,1,0)","v":0}]
[null,null,null,null,null,null,null,null,null,null,null,null,null,null,null,{"$error":"#N/A"},null,null,null,null,null,null,null,null,null,null,null,null,null,{"$f":"(T675*Setup!$J$17)+(U675*Setup!$J$18)+(V675*Setup!$J$19)+(W675*Setup!$J$22)+X675*(Setup!$J$23)+(Y675*Setup!$J$24)+(Z675*Setup!$J$27)+(AA675*Setup!$J$28)+(AB675*Setup!$J$29)","v":0},"ERROR",1,{"$f":"IF(T675<>U674,1,0)","v":0},{"$f":"IF(V675<>V674,1,0)","v":0},1,{"$f":"IF(W675<>X674,1,0)","v":0},{"$f":"IF(Y675<>Y674,1,0)","v":0},1,{"$f":"IF(Z675<>AA674,1,0)","v":0},{"$f":"IF(AB675<>AB674,1,0)","v":0}]
[null,null,null,null,null,null,null,null,null,null,null,null,null,null,null,{"$error":"#N/A"},null,null,null,null,null,null,null,null,null,null,null,null,null,{"$f":"(T676*Setup!$J$17)+(U676*Setup!$J$18)+(V676*Setup!$J$19)+(W676*Setup!$J$22)+X676*(Setup!$J$23)+(Y676*Setup!$J$24)+(Z676*Setup!$J$27)+(AA676*Setup!$J$28)+(AB676*Setup!$J$29)","v":0},"ERROR",1,{"$f":"IF(T676<>U677,1,0)","v":0},{"$f":"IF(V676<>V677,1,0)","v":0},1,{"$f":"IF(W676<>X677,1,0)","v":0},{"$f":"IF(Y676<>Y677,1,0)","v":0},1,{"$f":"IF(Z676<>AA677,1,0)","v":0},{"$f":"IF(AB676<>AB677,1,0)","v":0}]
[null,null,null,null,null,null,null,null,null,null,null,null,null,null,null,{"$error":"#N/A"},null,null,null,null,null,null,null,null,null,null,null,null,null,{"$f":"(T677*Setup!$J$17)+(U677*Setup!$J$18)+(V677*Setup!$J$19)+(W677*Setup!$J$22)+X677*(Setup!$J$23)+(Y677*Setup!$J$24)+(Z677*Setup!$J$27)+(AA677*Setup!$J$28)+(AB677*Setup!$J$29)","v":0},"ERROR",1,{"$f":"IF(T677<>U676,1,0)","v":0},{"$f":"IF(V677<>V676,1,0)","v":0},1,{"$f":"IF(W677<>X676,1,0)","v":0},{"$f":"IF(Y677<>Y676,1,0)","v":0},1,{"$f":"IF(Z677<>AA676,1,0)","v":0},{"$f":"IF(AB677<>AB676,1,0)","v":0}]
[null,null,null,null,null,null,null,null,null,null,null,null,null,null,null,{"$error":"#N/A"},null,null,null,null,null,null,null,null,null,null,null,null,null,{"$f":"(T678*Setup!$J$17)+(U678*Setup!$J$18)+(V678*Setup!$J$19)+(W678*Setup!$J$22)+X678*(Setup!$J$23)+(Y678*Setup!$J$24)+(Z678*Setup!$J$27)+(AA678*Setup!$J$28)+(AB678*Setup!$J$29)","v":0},"ERROR",1,{"$f":"IF(T678<>U679,1,0)","v":0},{"$f":"IF(V678<>V679,1,0)","v":0},1,{"$f":"IF(W678<>X679,1,0)","v":0},{"$f":"IF(Y678<>Y679,1,0)","v":0},1,{"$f":"IF(Z678<>AA679,1,0)","v":0},{"$f":"IF(AB678<>AB679,1,0)","v":0}]
[null,null,null,null,null,null,null,null,null,null,null,null,null,null,null,{"$error":"#N/A"},null,null,null,null,null,null,null,null,null,null,null,null,null,{"$f":"(T679*Setup!$J$17)+(U679*Setup!$J$18)+(V679*Setup!$J$19)+(W679*Setup!$J$22)+X679*(Setup!$J$23)+(Y679*Setup!$J$24)+(Z679*Setup!$J$27)+(AA679*Setup!$J$28)+(AB679*Setup!$J$29)","v":0},"ERROR",1,{"$f":"IF(T679<>U678,1,0)","v":0},{"$f":"IF(V679<>V678,1,0)","v":0},1,{"$f":"IF(W679<>X678,1,0)","v":0},{"$f":"IF(Y679<>Y678,1,0)","v":0},1,{"$f":"IF(Z679<>AA678,1,0)","v":0},{"$f":"IF(AB679<>AB678,1,0)","v":0}]
[null,null,null,null,null,null,null,null,null,null,null,null,null,null,null,{"$error":"#N/A"},null,null,null,null,null,null,null,null,null,null,null,null,null,{"$f":"(T680*Setup!$J$17)+(U680*Setup!$J$18)+(V680*Setup!$J$19)+(W680*Setup!$J$22)+X680*(Setup!$J$23)+(Y680*Setup!$J$24)+(Z680*Setup!$J$27)+(AA680*Setup!$J$28)+(AB680*Setup!$J$29)","v":0},"ERROR",1,{"$f":"IF(T680<>U681,1,0)","v":0},{"$f":"IF(V680<>V681,1,0)","v":0},1,{"$f":"IF(W680<>X681,1,0)","v":0},{"$f":"IF(Y680<>Y681,1,0)","v":0},1,{"$f":"IF(Z680<>AA681,1,0)","v":0},{"$f":"IF(AB680<>AB681,1,0)","v":0}]
[null,null,null,null,null,null,null,null,null,null,null,null,null,null,null,{"$error":"#N/A"},null,null,null,null,null,null,null,null,null,null,null,null,null,{"$f":"(T681*Setup!$J$17)+(U681*Setup!$J$18)+(V681*Setup!$J$19)+(W681*Setup!$J$22)+X681*(Setup!$J$23)+(Y681*Setup!$J$24)+(Z681*Setup!$J$27)+(AA681*Setup!$J$28)+(AB681*Setup!$J$29)","v":0},"ERROR",1,{"$f":"IF(T681<>U680,1,0)","v":0},{"$f":"IF(V681<>V680,1,0)","v":0},1,{"$f":"IF(W681<>X680,1,0)","v":0},{"$f":"IF(Y681<>Y680,1,0)","v":0},1,{"$f":"IF(Z681<>AA680,1,0)","v":0},{"$f":"IF(AB681<>AB680,1,0)","v":0}]
[null,null,null,null,null,null,null,null,null,null,null,null,null,null,null,{"$error":"#N/A"},null,null,null,null,null,null,null,null,null,null,null,null,null,{"$f":"(T682*Setup!$J$17)+(U682*Setup!$J$18)+(V682*Setup!$J$19)+(W682*Setup!$J$22)+X682*(Setup!$J$23)+(Y682*Setup!$J$24)+(Z682*Setup!$J$27)+(AA682*Setup!$J$28)+(AB682*Setup!$J$29)","v":0},"ERROR",1,{"$f":"IF(T682<>U683,1,0)","v":0},{"$f":"IF(V682<>V683,1,0)","v":0},1,{"$f":"IF(W682<>X683,1,0)","v":0},{"$f":"IF(Y682<>Y683,1,0)","v":0},1,{"$f":"IF(Z682<>AA683,1,0)","v":0},{"$f":"IF(AB682<>AB683,1,0)","v":0}]
[null,null,null,null,null,null,null,null,null,null,null,null,null,null,null,{"$error":"#N/A"},null,null,null,null,null,null,null,null,null,null,null,null,null,{"$f":"(T683*Setup!$J$17)+(U683*Setup!$J$18)+(V683*Setup!$J$19)+(W683*Setup!$J$22)+X683*(Setup!$J$23)+(Y683*Setup!$J$24)+(Z683*Setup!$J$27)+(AA683*Setup!$J$28)+(AB683*Setup!$J$29)","v":0},"ERROR",1,{"$f":"IF(T683<>U682,1,0)","v":0},{"$f":"IF(V683<>V682,1,0)","v":0},1,{"$f":"IF(W683<>X682,1,0)","v":0},{"$f":"IF(Y683<>Y682,1,0)","v":0},1,{"$f":"IF(Z683<>AA682,1,0)","v":0},{"$f":"IF(AB683<>AB682,1,0)","v":0}]
[null,null,null,null,null,null,null,null,null,null,null,null,null,null,null,{"$error":"#N/A"},null,null,null,null,null,null,null,null,null,null,null,null,null,{"$f":"(T684*Setup!$J$17)+(U684*Setup!$J$18)+(V684*Setup!$J$19)+(W684*Setup!$J$22)+X684*(Setup!$J$23)+(Y684*Setup!$J$24)+(Z684*Setup!$J$27)+(AA684*Setup!$J$28)+(AB684*Setup!$J$29)","v":0},"ERROR",1,{"$f":"IF(T684<>U685,1,0)","v":0},{"$f":"IF(V684<>V685,1,0)","v":0},1,{"$f":"IF(W684<>X685,1,0)","v":0},{"$f":"IF(Y684<>Y685,1,0)","v":0},1,{"$f":"IF(Z684<>AA685,1,0)","v":0},{"$f":"IF(AB684<>AB685,1,0)","v":0}]
[null,null,null,null,null,null,null,null,null,null,null,null,null,null,null,{"$error":"#N/A"},null,null,null,null,null,null,null,null,null,null,null,null,null,{"$f":"(T685*Setup!$J$17)+(U685*Setup!$J$18)+(V685*Setup!$J$19)+(W685*Setup!$J$22)+X685*(Setup!$J$23)+(Y685*Setup!$J$24)+(Z685*Setup!$J$27)+(AA685*Setup!$J$28)+(AB685*Setup!$J$29)","v":0},"ERROR",1,{"$f":"IF(T685<>U684,1,0)","v":0},{"$f":"IF(V685<>V684,1,0)","v":0},1,{"$f":"IF(W685<>X684,1,0)","v":0},{"$f":"IF(Y685<>Y684,1,0)","v":0},1,{"$f":"IF(Z685<>AA684,1,0)","v":0},{"$f":"IF(AB685<>AB684,1,0)","v":0}]
[null,null,null,null,null,null,null,null,null,null,null,null,null,null,null,{"$error":"#N/A"},null,null,null,null,null,null,null,null,null,null,null,null,null,{"$f":"(T686*Setup!$J$17)+(U686*Setup!$J$18)+(V686*Setup!$J$19)+(W686*Setup!$J$22)+X686*(Setup!$J$23)+(Y686*Setup!$J$24)+(Z686*Setup!$J$27)+(AA686*Setup!$J$28)+(AB686*Setup!$J$29)","v":0},"ERROR",1,{"$f":"IF(T686<>U687,1,0)","v":0},{"$f":"IF(V686<>V687,1,0)","v":0},1,{"$f":"IF(W686<>X687,1,0)","v":0},{"$f":"IF(Y686<>Y687,1,0)","v":0},1,{"$f":"IF(Z686<>AA687,1,0)","v":0},{"$f":"IF(AB686<>AB687,1,0)","v":0}]
[null,null,null,null,null,null,null,null,null,null,null,null,null,null,null,{"$error":"#N/A"},null,null,null,null,null,null,null,null,null,null,null,null,null,{"$f":"(T687*Setup!$J$17)+(U687*Setup!$J$18)+(V687*Setup!$J$19)+(W687*Setup!$J$22)+X687*(Setup!$J$23)+(Y687*Setup!$J$24)+(Z687*Setup!$J$27)+(AA687*Setup!$J$28)+(AB687*Setup!$J$29)","v":0},"ERROR",1,{"$f":"IF(T687<>U686,1,0)","v":0},{"$f":"IF(V687<>V686,1,0)","v":0},1,{"$f":"IF(W687<>X686,1,0)","v":0},{"$f":"IF(Y687<>Y686,1,0)","v":0},1,{"$f":"IF(Z687<>AA686,1,0)","v":0},{"$f":"IF(AB687<>AB686,1,0)","v":0}]
[null,null,null,null,null,null,null,null,null,null,null,null,null,null,null,{"$error":"#N/A"},null,null,null,null,null,null,null,null,null,null,null,null,null,{"$f":"(T688*Setup!$J$17)+(U688*Setup!$J$18)+(V688*Setup!$J$19)+(W688*Setup!$J$22)+X688*(Setup!$J$23)+(Y688*Setup!$J$24)+(Z688*Setup!$J$27)+(AA688*Setup!$J$28)+(AB688*Setup!$J$29)","v":0},"ERROR",1,{"$f":"IF(T688<>U689,1,0)","v":0},{"$f":"IF(V688<>V689,1,0)","v":0},1,{"$f":"IF(W688<>X689,1,0)","v":0},{"$f":"IF(Y688<>Y689,1,0)","v":0},1,{"$f":"IF(Z688<>AA689,1,0)","v":0},{"$f":"IF(AB688<>AB689,1,0)","v":0}]
[null,null,null,null,null,null,null,null,null,null,null,null,null,null,null,{"$error":"#N/A"},null,null,null,null,null,null,null,null,null,null,null,null,null,{"$f":"(T689*Setup!$J$17)+(U689*Setup!$J$18)+(V689*Setup!$J$19)+(W689*Setup!$J$22)+X689*(Setup!$J$23)+(Y689*Setup!$J$24)+(Z689*Setup!$J$27)+(AA689*Setup!$J$28)+(AB689*Setup!$J$29)","v":0},"ERROR",1,{"$f":"IF(T689<>U688,1,0)","v":0},{"$f":"IF(V689<>V688,1,0)","v":0},1,{"$f":"IF(W689<>X688,1,0)","v":0},{"$f":"IF(Y689<>Y688,1,0)","v":0},1,{"$f":"IF(Z689<>AA688,1,0)","v":0},{"$f":"IF(AB689<>AB688,1,0)","v":0}]
[null,null,null,null,null,null,null,null,null,null,null,null,null,null,null,{"$error":"#N/A"},null,null,null,null,null,null,null,null,null,null,null,null,null,{"$f":"(T690*Setup!$J$17)+(U690*Setup!$J$18)+(V690*Setup!$J$19)+(W690*Setup!$J$22)+X690*(Setup!$J$23)+(Y690*Setup!$J$24)+(Z690*Setup!$J$27)+(AA690*Setup!$J$28)+(AB690*Setup!$J$29)","v":0},"ERROR",1,{"$f":"IF(T690<>U691,1,0)","v":0},{"$f":"IF(V690<>V691,1,0)","v":0},1,{"$f":"IF(W690<>X691,1,0)","v":0},{"$f":"IF(Y690<>Y691,1,0)","v":0},1,{"$f":"IF(Z690<>AA691,1,0)","v":0},{"$f":"IF(AB690<>AB691,1,0)","v":0}]
[null,null,null,null,null,null,null,null,null,null,null,null,null,null,null,{"$error":"#N/A"},null,null,null,null,null,null,null,null,null,null,null,null,null,{"$f":"(T691*Setup!$J$17)+(U691*Setup!$J$18)+(V691*Setup!$J$19)+(W691*Setup!$J$22)+X691*(Setup!$J$23)+(Y691*Setup!$J$24)+(Z691*Setup!$J$27)+(AA691*Setup!$J$28)+(AB691*Setup!$J$29)","v":0},"ERROR",1,{"$f":"IF(T691<>U690,1,0)","v":0},{"$f":"IF(V691<>V690,1,0)","v":0},1,{"$f":"IF(W691<>X690,1,0)","v":0},{"$f":"IF(Y691<>Y690,1,0)","v":0},1,{"$f":"IF(Z691<>AA690,1,0)","v":0},{"$f":"IF(AB691<>AB690,1,0)","v":0}]
[null,null,null,null,null,null,null,null,null,null,null,null,null,null,null,{"$error":"#N/A"},null,null,null,null,null,null,null,null,null,null,null,null,null,{"$f":"(T692*Setup!$J$17)+(U692*Setup!$J$18)+(V692*Setup!$J$19)+(W692*Setup!$J$22)+X692*(Setup!$J$23)+(Y692*Setup!$J$24)+(Z692*Setup!$J$27)+(AA692*Setup!$J$28)+(AB692*Setup!$J$29)","v":0},"ERROR",1,{"$f":"IF(T692<>U693,1,0)","v":0},{"$f":"IF(V692<>V693,1,0)","v":0},1,{"$f":"IF(W692<>X693,1,0)","v":0},{"$f":"IF(Y692<>Y693,1,0)","v":0},1,{"$f":"IF(Z692<>AA693,1,0)","v":0},{"$f":"IF(AB692<>AB693,1,0)","v":0}]
[null,null,null,null,null,null,null,null,null,null,null,null,null,null,null,{"$error":"#N/A"},null,null,null,null,null,null,null,null,null,null,null,null,null,{"$f":"(T693*Setup!$J$17)+(U693*Setup!$J$18)+(V693*Setup!$J$19)+(W693*Setup!$J$22)+X693*(Setup!$J$23)+(Y693*Setup!$J$24)+(Z693*Setup!$J$27)+(AA693*Setup!$J$28)+(AB693*Setup!$J$29)","v":0},"ERROR",1,{"$f":"IF(T693<>U692,1,0)","v":0},{"$f":"IF(V693<>V692,1,0)","v":0},1,{"$f":"IF(W693<>X692,1,0)","v":0},{"$f":"IF(Y693<>Y692,1,0)","v":0},1,{"$f":"IF(Z693<>AA692,1,0)","v":0},{"$f":"IF(AB693<>AB692,1,0)","v":0}]
[null,null,null,null,null,null,null,null,null,null,null,null,null,null,null,{"$error":"#N/A"},null,null,null,null,null,null,null,null,null,null,null,null,null,{"$f":"(T694*Setup!$J$17)+(U694*Setup!$J$18)+(V694*Setup!$J$19)+(W694*Setup!$J$22)+X694*(Setup!$J$23)+(Y694*Setup!$J$24)+(Z694*Setup!$J$27)+(AA694*Setup!$J$28)+(AB694*Setup!$J$29)","v":0},"ERROR",1,{"$f":"IF(T694<>U695,1,0)","v":0},{"$f":"IF(V694<>V695,1,0)","v":0},1,{"$f":"IF(W694<>X695,1,0)","v":0},{"$f":"IF(Y694<>Y695,1,0)","v":0},1,{"$f":"IF(Z694<>AA695,1,0)","v":0},{"$f":"IF(AB694<>AB695,1,0)","v":0}]
[null,null,null,null,null,null,null,null,null,null,null,null,null,null,null,{"$error":"#N/A"},null,null,null,null,null,null,null,null,null,null,null,null,null,{"$f":"(T695*Setup!$J$17)+(U695*Setup!$J$18)+(V695*Setup!$J$19)+(W695*Setup!$J$22)+X695*(Setup!$J$23)+(Y695*Setup!$J$24)+(Z695*Setup!$J$27)+(AA695*Setup!$J$28)+(AB695*Setup!$J$29)","v":0},"ERROR",1,{"$f":"IF(T695<>U694,1,0)","v":0},{"$f":"IF(V695<>V694,1,0)","v":0},1,{"$f":"IF(W695<>X694,1,0)","v":0},{"$f":"IF(Y695<>Y694,1,0)","v":0},1,{"$f":"IF(Z695<>AA694,1,0)","v":0},{"$f":"IF(AB695<>AB694,1,0)","v":0}]
[null,null,null,null,null,null,null,null,null,null,null,null,null,null,null,{"$error":"#N/A"},null,null,null,null,null,null,null,null,null,null,null,null,null,{"$f":"(T696*Setup!$J$17)+(U696*Setup!$J$18)+(V696*Setup!$J$19)+(W696*Setup!$J$22)+X696*(Setup!$J$23)+(Y696*Setup!$J$24)+(Z696*Setup!$J$27)+(AA696*Setup!$J$28)+(AB696*Setup!$J$29)","v":0},"ERROR",1,{"$f":"IF(T696<>U697,1,0)","v":0},{"$f":"IF(V696<>V697,1,0)","v":0},1,{"$f":"IF(W696<>X697,1,0)","v":0},{"$f":"IF(Y696<>Y697,1,0)","v":0},1,{"$f":"IF(Z696<>AA697,1,0)","v":0},{"$f":"IF(AB696<>AB697,1,0)","v":0}]
[null,null,null,null,null,null,null,null,null,null,null,null,null,null,null,{"$error":"#N/A"},null,null,null,null,null,null,null,null,null,null,null,null,null,{"$f":"(T697*Setup!$J$17)+(U697*Setup!$J$18)+(V697*Setup!$J$19)+(W697*Setup!$J$22)+X697*(Setup!$J$23)+(Y697*Setup!$J$24)+(Z697*Setup!$J$27)+(AA697*Setup!$J$28)+(AB697*Setup!$J$29)","v":0},"ERROR",1,{"$f":"IF(T697<>U696,1,0)","v":0},{"$f":"IF(V697<>V696,1,0)","v":0},1,{"$f":"IF(W697<>X696,1,0)","v":0},{"$f":"IF(Y697<>Y696,1,0)","v":0},1,{"$f":"IF(Z697<>AA696,1,0)","v":0},{"$f":"IF(AB697<>AB696,1,0)","v":0}]
[null,null,null,null,null,null,null,null,null,null,null,null,null,null,null,{"$error":"#N/A"},null,null,null,null,null,null,null,null,null,null,null,null,null,{"$f":"(T698*Setup!$J$17)+(U698*Setup!$J$18)+(V698*Setup!$J$19)+(W698*Setup!$J$22)+X698*(Setup!$J$23)+(Y698*Setup!$J$24)+(Z698*Setup!$J$27)+(AA698*Setup!$J$28)+(AB698*Setup!$J$29)","v":0},"ERROR",1,{"$f":"IF(T698<>U699,1,0)","v":0},{"$f":"IF(V698<>V699,1,0)","v":0},1,{"$f":"IF(W698<>X699,1,0)","v":0},{"$f":"IF(Y698<>Y699,1,0)","v":0},1,{"$f":"IF(Z698<>AA699,1,0)","v":0},{"$f":"IF(AB698<>AB699,1,0)","v":0}]
[null,null,null,null,null,null,null,null,null,null,null,null,null,null,null,{"$error":"#N/A"},null,null,null,null,null,null,null,null,null,null,null,null,null,{"$f":"(T699*Setup!$J$17)+(U699*Setup!$J$18)+(V699*Setup!$J$19)+(W699*Setup!$J$22)+X699*(Setup!$J$23)+(Y699*Setup!$J$24)+(Z699*Setup!$J$27)+(AA699*Setup!$J$28)+(AB699*Setup!$J$29)","v":0},"ERROR",1,{"$f":"IF(T699<>U698,1,0)","v":0},{"$f":"IF(V699<>V698,1,0)","v":0},1,{"$f":"IF(W699<>X698,1,0)","v":0},{"$f":"IF(Y699<>Y698,1,0)","v":0},1,{"$f":"IF(Z699<>AA698,1,0)","v":0},{"$f":"IF(AB699<>AB698,1,0)","v":0}]
[null,null,null,null,null,null,null,null,null,null,null,null,null,null,null,{"$error":"#N/A"},null,null,null,null,null,null,null,null,null,null,null,null,null,{"$f":"(T700*Setup!$J$17)+(U700*Setup!$J$18)+(V700*Setup!$J$19)+(W700*Setup!$J$22)+X700*(Setup!$J$23)+(Y700*Setup!$J$24)+(Z700*Setup!$J$27)+(AA700*Setup!$J$28)+(AB700*Setup!$J$29)","v":0},"ERROR",1,{"$f":"IF(T700<>U701,1,0)","v":0},{"$f":"IF(V700<>V701,1,0)","v":0},1,{"$f":"IF(W700<>X701,1,0)","v":0},{"$f":"IF(Y700<>Y701,1,0)","v":0},1,{"$f":"IF(Z700<>AA701,1,0)","v":0},{"$f":"IF(AB700<>AB701,1,0)","v":0}]
[null,null,null,null,null,null,null,null,null,null,null,null,null,null,null,{"$error":"#N/A"},null,null,null,null,null,null,null,null,null,null,null,null,null,{"$f":"(T701*Setup!$J$17)+(U701*Setup!$J$18)+(V701*Setup!$J$19)+(W701*Setup!$J$22)+X701*(Setup!$J$23)+(Y701*Setup!$J$24)+(Z701*Setup!$J$27)+(AA701*Setup!$J$28)+(AB701*Setup!$J$29)","v":0},"ERROR",1,{"$f":"IF(T701<>U700,1,0)","v":0},{"$f":"IF(V701<>V700,1,0)","v":0},1,{"$f":"IF(W701<>X700,1,0)","v":0},{"$f":"IF(Y701<>Y700,1,0)","v":0},1,{"$f":"IF(Z701<>AA700,1,0)","v":0},{"$f":"IF(AB701<>AB700,1,0)","v":0}]
[null,null,null,null,null,null,null,null,null,null,null,null,null,null,null,{"$error":"#N/A"},null,null,null,null,null,null,null,null,null,null,null,null,null,{"$f":"(T702*Setup!$J$17)+(U702*Setup!$J$18)+(V702*Setup!$J$19)+(W702*Setup!$J$22)+X702*(Setup!$J$23)+(Y702*Setup!$J$24)+(Z702*Setup!$J$27)+(AA702*Setup!$J$28)+(AB702*Setup!$J$29)","v":0},"ERROR",1,{"$f":"IF(T702<>U703,1,0)","v":0},{"$f":"IF(V702<>V703,1,0)","v":0},1,{"$f":"IF(W702<>X703,1,0)","v":0},{"$f":"IF(Y702<>Y703,1,0)","v":0},1,{"$f":"IF(Z702<>AA703,1,0)","v":0},{"$f":"IF(AB702<>AB703,1,0)","v":0}]
[null,null,null,null,null,null,null,null,null,null,null,null,null,null,null,{"$error":"#N/A"},null,null,null,null,null,null,null,null,null,null,null,null,null,{"$f":"(T703*Setup!$J$17)+(U703*Setup!$J$18)+(V703*Setup!$J$19)+(W703*Setup!$J$22)+X703*(Setup!$J$23)+(Y703*Setup!$J$24)+(Z703*Setup!$J$27)+(AA703*Setup!$J$28)+(AB703*Setup!$J$29)","v":0},"ERROR",1,{"$f":"IF(T703<>U702,1,0)","v":0},{"$f":"IF(V703<>V702,1,0)","v":0},1,{"$f":"IF(W703<>X702,1,0)","v":0},{"$f":"IF(Y703<>Y702,1,0)","v":0},1,{"$f":"IF(Z703<>AA702,1,0)","v":0},{"$f":"IF(AB703<>AB702,1,0)","v":0}]
[null,null,null,null,null,null,null,null,null,null,null,null,null,null,null,{"$error":"#N/A"},null,null,null,null,null,null,null,null,null,null,null,null,null,{"$f":"(T704*Setup!$J$17)+(U704*Setup!$J$18)+(V704*Setup!$J$19)+(W704*Setup!$J$22)+X704*(Setup!$J$23)+(Y704*Setup!$J$24)+(Z704*Setup!$J$27)+(AA704*Setup!$J$28)+(AB704*Setup!$J$29)","v":0},"ERROR",1,{"$f":"IF(T704<>U705,1,0)","v":0},{"$f":"IF(V704<>V705,1,0)","v":0},1,{"$f":"IF(W704<>X705,1,0)","v":0},{"$f":"IF(Y704<>Y705,1,0)","v":0},1,{"$f":"IF(Z704<>AA705,1,0)","v":0},{"$f":"IF(AB704<>AB705,1,0)","v":0}]
[null,null,null,null,null,null,null,null,null,null,null,null,null,null,null,{"$error":"#N/A"},null,null,null,null,null,null,null,null,null,null,null,null,null,{"$f":"(T705*Setup!$J$17)+(U705*Setup!$J$18)+(V705*Setup!$J$19)+(W705*Setup!$J$22)+X705*(Setup!$J$23)+(Y705*Setup!$J$24)+(Z705*Setup!$J$27)+(AA705*Setup!$J$28)+(AB705*Setup!$J$29)","v":0},"ERROR",1,{"$f":"IF(T705<>U704,1,0)","v":0},{"$f":"IF(V705<>V704,1,0)","v":0},1,{"$f":"IF(W705<>X704,1,0)","v":0},{"$f":"IF(Y705<>Y704,1,0)","v":0},1,{"$f":"IF(Z705<>AA704,1,0)","v":0},{"$f":"IF(AB705<>AB704,1,0)","v":0}]
[null,null,null,null,null,null,null,null,null,null,null,null,null,null,null,{"$error":"#N/A"},null,null,null,null,null,null,null,null,null,null,null,null,null,{"$f":"(T706*Setup!$J$17)+(U706*Setup!$J$18)+(V706*Setup!$J$19)+(W706*Setup!$J$22)+X706*(Setup!$J$23)+(Y706*Setup!$J$24)+(Z706*Setup!$J$27)+(AA706*Setup!$J$28)+(AB706*Setup!$J$29)","v":0},"ERROR",1,{"$f":"IF(T706<>U707,1,0)","v":0},{"$f":"IF(V706<>V707,1,0)","v":0},1,{"$f":"IF(W706<>X707,1,0)","v":0},{"$f":"IF(Y706<>Y707,1,0)","v":0},1,{"$f":"IF(Z706<>AA707,1,0)","v":0},{"$f":"IF(AB706<>AB707,1,0)","v":0}]
[null,null,null,null,null,null,null,null,null,null,null,null,null,null,null,{"$error":"#N/A"},null,null,null,null,null,null,null,null,null,null,null,null,null,{"$f":"(T707*Setup!$J$17)+(U707*Setup!$J$18)+(V707*Setup!$J$19)+(W707*Setup!$J$22)+X707*(Setup!$J$23)+(Y707*Setup!$J$24)+(Z707*Setup!$J$27)+(AA707*Setup!$J$28)+(AB707*Setup!$J$29)","v":0},"ERROR",1,{"$f":"IF(T707<>U706,1,0)","v":0},{"$f":"IF(V707<>V706,1,0)","v":0},1,{"$f":"IF(W707<>X706,1,0)","v":0},{"$f":"IF(Y707<>Y706,1,0)","v":0},1,{"$f":"IF(Z707<>AA706,1,0)","v":0},{"$f":"IF(AB707<>AB706,1,0)","v":0}]
[null,null,null,null,null,null,null,null,null,null,null,null,null,null,null,{"$error":"#N/A"},null,null,null,null,null,null,null,null,null,null,null,null,null,{"$f":"(T708*Setup!$J$17)+(U708*Setup!$J$18)+(V708*Setup!$J$19)+(W708*Setup!$J$22)+X708*(Setup!$J$23)+(Y708*Setup!$J$24)+(Z708*Setup!$J$27)+(AA708*Setup!$J$28)+(AB708*Setup!$J$29)","v":0},"ERROR",1,{"$f":"IF(T708<>U709,1,0)","v":0},{"$f":"IF(V708<>V709,1,0)","v":0},1,{"$f":"IF(W708<>X709,1,0)","v":0},{"$f":"IF(Y708<>Y709,1,0)","v":0},1,{"$f":"IF(Z708<>AA709,1,0)","v":0},{"$f":"IF(AB708<>AB709,1,0)","v":0}]
[null,null,null,null,null,null,null,null,null,null,null,null,null,null,null,{"$error":"#N/A"},null,null,null,null,null,null,null,null,null,null,null,null,null,{"$f":"(T709*Setup!$J$17)+(U709*Setup!$J$18)+(V709*Setup!$J$19)+(W709*Setup!$J$22)+X709*(Setup!$J$23)+(Y709*Setup!$J$24)+(Z709*Setup!$J$27)+(AA709*Setup!$J$28)+(AB709*Setup!$J$29)","v":0},"ERROR",1,{"$f":"IF(T709<>U708,1,0)","v":0},{"$f":"IF(V709<>V708,1,0)","v":0},1,{"$f":"IF(W709<>X708,1,0)","v":0},{"$f":"IF(Y709<>Y708,1,0)","v":0},1,{"$f":"IF(Z709<>AA708,1,0)","v":0},{"$f":"IF(AB709<>AB708,1,0)","v":0}]
[null,null,null,null,null,null,null,null,null,null,null,null,null,null,null,{"$error":"#N/A"},null,null,null,null,null,null,null,null,null,null,null,null,null,{"$f":"(T710*Setup!$J$17)+(U710*Setup!$J$18)+(V710*Setup!$J$19)+(W710*Setup!$J$22)+X710*(Setup!$J$23)+(Y710*Setup!$J$24)+(Z710*Setup!$J$27)+(AA710*Setup!$J$28)+(AB710*Setup!$J$29)","v":0},"ERROR",1,{"$f":"IF(T710<>U711,1,0)","v":0},{"$f":"IF(V710<>V711,1,0)","v":0},1,{"$f":"IF(W710<>X711,1,0)","v":0},{"$f":"IF(Y710<>Y711,1,0)","v":0},1,{"$f":"IF(Z710<>AA711,1,0)","v":0},{"$f":"IF(AB710<>AB711,1,0)","v":0}]
[null,null,null,null,null,null,null,null,null,null,null,null,null,null,null,{"$error":"#N/A"},null,null,null,null,null,null,null,null,null,null,null,null,null,{"$f":"(T711*Setup!$J$17)+(U711*Setup!$J$18)+(V711*Setup!$J$19)+(W711*Setup!$J$22)+X711*(Setup!$J$23)+(Y711*Setup!$J$24)+(Z711*Setup!$J$27)+(AA711*Setup!$J$28)+(AB711*Setup!$J$29)","v":0},"ERROR",1,{"$f":"IF(T711<>U710,1,0)","v":0},{"$f":"IF(V711<>V710,1,0)","v":0},1,{"$f":"IF(W711<>X710,1,0)","v":0},{"$f":"IF(Y711<>Y710,1,0)","v":0},1,{"$f":"IF(Z711<>AA710,1,0)","v":0},{"$f":"IF(AB711<>AB710,1,0)","v":0}]
[null,null,null,null,null,null,null,null,null,null,null,null,null,null,null,{"$error":"#N/A"},null,null,null,null,null,null,null,null,null,null,null,null,null,{"$f":"(T712*Setup!$J$17)+(U712*Setup!$J$18)+(V712*Setup!$J$19)+(W712*Setup!$J$22)+X712*(Setup!$J$23)+(Y712*Setup!$J$24)+(Z712*Setup!$J$27)+(AA712*Setup!$J$28)+(AB712*Setup!$J$29)","v":0},"ERROR",1,{"$f":"IF(T712<>U713,1,0)","v":0},{"$f":"IF(V712<>V713,1,0)","v":0},1,{"$f":"IF(W712<>X713,1,0)","v":0},{"$f":"IF(Y712<>Y713,1,0)","v":0},1,{"$f":"IF(Z712<>AA713,1,0)","v":0},{"$f":"IF(AB712<>AB713,1,0)","v":0}]
[null,null,null,null,null,null,null,null,null,null,null,null,null,null,null,{"$error":"#N/A"},null,null,null,null,null,null,null,null,null,null,null,null,null,{"$f":"(T713*Setup!$J$17)+(U713*Setup!$J$18)+(V713*Setup!$J$19)+(W713*Setup!$J$22)+X713*(Setup!$J$23)+(Y713*Setup!$J$24)+(Z713*Setup!$J$27)+(AA713*Setup!$J$28)+(AB713*Setup!$J$29)","v":0},"ERROR",1,{"$f":"IF(T713<>U712,1,0)","v":0},{"$f":"IF(V713<>V712,1,0)","v":0},1,{"$f":"IF(W713<>X712,1,0)","v":0},{"$f":"IF(Y713<>Y712,1,0)","v":0},1,{"$f":"IF(Z713<>AA712,1,0)","v":0},{"$f":"IF(AB713<>AB712,1,0)","v":0}]
[null,null,null,null,null,null,null,null,null,null,null,null,null,null,null,{"$error":"#N/A"},null,null,null,null,null,null,null,null,null,null,null,null,null,{"$f":"(T714*Setup!$J$17)+(U714*Setup!$J$18)+(V714*Setup!$J$19)+(W714*Setup!$J$22)+X714*(Setup!$J$23)+(Y714*Setup!$J$24)+(Z714*Setup!$J$27)+(AA714*Setup!$J$28)+(AB714*Setup!$J$29)","v":0},"ERROR",1,{"$f":"IF(T714<>U715,1,0)","v":0},{"$f":"IF(V714<>V715,1,0)","v":0},1,{"$f":"IF(W714<>X715,1,0)","v":0},{"$f":"IF(Y714<>Y715,1,0)","v":0},1,{"$f":"IF(Z714<>AA715,1,0)","v":0},{"$f":"IF(AB714<>AB715,1,0)","v":0}]
[null,null,null,null,null,null,null,null,null,null,null,null,null,null,null,{"$error":"#N/A"},null,null,null,null,null,null,null,null,null,null,null,null,null,{"$f":"(T715*Setup!$J$17)+(U715*Setup!$J$18)+(V715*Setup!$J$19)+(W715*Setup!$J$22)+X715*(Setup!$J$23)+(Y715*Setup!$J$24)+(Z715*Setup!$J$27)+(AA715*Setup!$J$28)+(AB715*Setup!$J$29)","v":0},"ERROR",1,{"$f":"IF(T715<>U714,1,0)","v":0},{"$f":"IF(V715<>V714,1,0)","v":0},1,{"$f":"IF(W715<>X714,1,0)","v":0},{"$f":"IF(Y715<>Y714,1,0)","v":0},1,{"$f":"IF(Z715<>AA714,1,0)","v":0},{"$f":"IF(AB715<>AB714,1,0)","v":0}]
[null,null,null,null,null,null,null,null,null,null,null,null,null,null,null,{"$error":"#N/A"},null,null,null,null,null,null,null,null,null,null,null,null,null,{"$f":"(T716*Setup!$J$17)+(U716*Setup!$J$18)+(V716*Setup!$J$19)+(W716*Setup!$J$22)+X716*(Setup!$J$23)+(Y716*Setup!$J$24)+(Z716*Setup!$J$27)+(AA716*Setup!$J$28)+(AB716*Setup!$J$29)","v":0},"ERROR",1,{"$f":"IF(T716<>U717,1,0)","v":0},{"$f":"IF(V716<>V717,1,0)","v":0},1,{"$f":"IF(W716<>X717,1,0)","v":0},{"$f":"IF(Y716<>Y717,1,0)","v":0},1,{"$f":"IF(Z716<>AA717,1,0)","v":0},{"$f":"IF(AB716<>AB717,1,0)","v":0}]
[null,null,null,null,null,null,null,null,null,null,null,null,null,null,null,{"$error":"#N/A"},null,null,null,null,null,null,null,null,null,null,null,null,null,{"$f":"(T717*Setup!$J$17)+(U717*Setup!$J$18)+(V717*Setup!$J$19)+(W717*Setup!$J$22)+X717*(Setup!$J$23)+(Y717*Setup!$J$24)+(Z717*Setup!$J$27)+(AA717*Setup!$J$28)+(AB717*Setup!$J$29)","v":0},"ERROR",1,{"$f":"IF(T717<>U716,1,0)","v":0},{"$f":"IF(V717<>V716,1,0)","v":0},1,{"$f":"IF(W717<>X716,1,0)","v":0},{"$f":"IF(Y717<>Y716,1,0)","v":0},1,{"$f":"IF(Z717<>AA716,1,0)","v":0},{"$f":"IF(AB717<>AB716,1,0)","v":0}]
[null,null,null,null,null,null,null,null,null,null,null,null,null,null,null,{"$error":"#N/A"},null,null,null,null,null,null,null,null,null,null,null,null,null,{"$f":"(T718*Setup!$J$17)+(U718*Setup!$J$18)+(V718*Setup!$J$19)+(W718*Setup!$J$22)+X718*(Setup!$J$23)+(Y718*Setup!$J$24)+(Z718*Setup!$J$27)+(AA718*Setup!$J$28)+(AB718*Setup!$J$29)","v":0},"ERROR",1,{"$f":"IF(T718<>U719,1,0)","v":0},{"$f":"IF(V718<>V719,1,0)","v":0},1,{"$f":"IF(W718<>X719,1,0)","v":0},{"$f":"IF(Y718<>Y719,1,0)","v":0},1,{"$f":"IF(Z718<>AA719,1,0)","v":0},{"$f":"IF(AB718<>AB719,1,0)","v":0}]
[null,null,null,null,null,null,null,null,null,null,null,null,null,null,null,{"$error":"#N/A"},null,null,null,null,null,null,null,null,null,null,null,null,null,{"$f":"(T719*Setup!$J$17)+(U719*Setup!$J$18)+(V719*Setup!$J$19)+(W719*Setup!$J$22)+X719*(Setup!$J$23)+(Y719*Setup!$J$24)+(Z719*Setup!$J$27)+(AA719*Setup!$J$28)+(AB719*Setup!$J$29)","v":0},"ERROR",1,{"$f":"IF(T719<>U718,1,0)","v":0},{"$f":"IF(V719<>V718,1,0)","v":0},1,{"$f":"IF(W719<>X718,1,0)","v":0},{"$f":"IF(Y719<>Y718,1,0)","v":0},1,{"$f":"IF(Z719<>AA718,1,0)","v":0},{"$f":"IF(AB719<>AB718,1,0)","v":0}]
[null,null,null,null,null,null,null,null,null,null,null,null,null,null,null,{"$error":"#N/A"},null,null,null,null,null,null,null,null,null,null,null,null,null,{"$f":"(T720*Setup!$J$17)+(U720*Setup!$J$18)+(V720*Setup!$J$19)+(W720*Setup!$J$22)+X720*(Setup!$J$23)+(Y720*Setup!$J$24)+(Z720*Setup!$J$27)+(AA720*Setup!$J$28)+(AB720*Setup!$J$29)","v":0},"ERROR",1,{"$f":"IF(T720<>U721,1,0)","v":0},{"$f":"IF(V720<>V721,1,0)","v":0},1,{"$f":"IF(W720<>X721,1,0)","v":0},{"$f":"IF(Y720<>Y721,1,0)","v":0},1,{"$f":"IF(Z720<>AA721,1,0)","v":0},{"$f":"IF(AB720<>AB721,1,0)","v":0}]
[null,null,null,null,null,null,null,null,null,null,null,null,null,null,null,{"$error":"#N/A"},null,null,null,null,null,null,null,null,null,null,null,null,null,{"$f":"(T721*Setup!$J$17)+(U721*Setup!$J$18)+(V721*Setup!$J$19)+(W721*Setup!$J$22)+X721*(Setup!$J$23)+(Y721*Setup!$J$24)+(Z721*Setup!$J$27)+(AA721*Setup!$J$28)+(AB721*Setup!$J$29)","v":0},"ERROR",1,{"$f":"IF(T721<>U720,1,0)","v":0},{"$f":"IF(V721<>V720,1,0)","v":0},1,{"$f":"IF(W721<>X720,1,0)","v":0},{"$f":"IF(Y721<>Y720,1,0)","v":0},1,{"$f":"IF(Z721<>AA720,1,0)","v":0},{"$f":"IF(AB721<>AB720,1,0)","v":0}]
[null,null,null,null,null,null,null,null,null,null,null,null,null,null,null,{"$error":"#N/A"},null,null,null,null,null,null,null,null,null,null,null,null,null,{"$f":"(T722*Setup!$J$17)+(U722*Setup!$J$18)+(V722*Setup!$J$19)+(W722*Setup!$J$22)+X722*(Setup!$J$23)+(Y722*Setup!$J$24)+(Z722*Setup!$J$27)+(AA722*Setup!$J$28)+(AB722*Setup!$J$29)","v":0},"ERROR",1,{"$f":"IF(T722<>U723,1,0)","v":0},{"$f":"IF(V722<>V723,1,0)","v":0},1,{"$f":"IF(W722<>X723,1,0)","v":0},{"$f":"IF(Y722<>Y723,1,0)","v":0},1,{"$f":"IF(Z722<>AA723,1,0)","v":0},{"$f":"IF(AB722<>AB723,1,0)","v":0}]
[null,null,null,null,null,null,null,null,null,null,null,null,null,null,null,{"$error":"#N/A"},null,null,null,null,null,null,null,null,null,null,null,null,null,{"$f":"(T723*Setup!$J$17)+(U723*Setup!$J$18)+(V723*Setup!$J$19)+(W723*Setup!$J$22)+X723*(Setup!$J$23)+(Y723*Setup!$J$24)+(Z723*Setup!$J$27)+(AA723*Setup!$J$28)+(AB723*Setup!$J$29)","v":0},"ERROR",1,{"$f":"IF(T723<>U722,1,0)","v":0},{"$f":"IF(V723<>V722,1,0)","v":0},1,{"$f":"IF(W723<>X722,1,0)","v":0},{"$f":"IF(Y723<>Y722,1,0)","v":0},1,{"$f":"IF(Z723<>AA722,1,0)","v":0},{"$f":"IF(AB723<>AB722,1,0)","v":0}]
[null,null,null,null,null,null,null,null,null,null,null,null,null,null,null,{"$error":"#N/A"},null,null,null,null,null,null,null,null,null,null,null,null,null,{"$f":"(T724*Setup!$J$17)+(U724*Setup!$J$18)+(V724*Setup!$J$19)+(W724*Setup!$J$22)+X724*(Setup!$J$23)+(Y724*Setup!$J$24)+(Z724*Setup!$J$27)+(AA724*Setup!$J$28)+(AB724*Setup!$J$29)","v":0},"ERROR",1,{"$f":"IF(T724<>U725,1,0)","v":0},{"$f":"IF(V724<>V725,1,0)","v":0},1,{"$f":"IF(W724<>X725,1,0)","v":0},{"$f":"IF(Y724<>Y725,1,0)","v":0},1,{"$f":"IF(Z724<>AA725,1,0)","v":0},{"$f":"IF(AB724<>AB725,1,0)","v":0}]
[null,null,null,null,null,null,null,null,null,null,null,null,null,null,null,{"$error":"#N/A"},null,null,null,null,null,null,null,null,null,null,null,null,null,{"$f":"(T725*Setup!$J$17)+(U725*Setup!$J$18)+(V725*Setup!$J$19)+(W725*Setup!$J$22)+X725*(Setup!$J$23)+(Y725*Setup!$J$24)+(Z725*Setup!$J$27)+(AA725*Setup!$J$28)+(AB725*Setup!$J$29)","v":0},"ERROR",1,{"$f":"IF(T725<>U724,1,0)","v":0},{"$f":"IF(V725<>V724,1,0)","v":0},1,{"$f":"IF(W725<>X724,1,0)","v":0},{"$f":"IF(Y725<>Y724,1,0)","v":0},1,{"$f":"IF(Z725<>AA724,1,0)","v":0},{"$f":"IF(AB725<>AB724,1,0)","v":0}]
[null,null,null,null,null,null,null,null,null,null,null,null,null,null,null,{"$error":"#N/A"},null,null,null,null,null,null,null,null,null,null,null,null,null,{"$f":"(T726*Setup!$J$17)+(U726*Setup!$J$18)+(V726*Setup!$J$19)+(W726*Setup!$J$22)+X726*(Setup!$J$23)+(Y726*Setup!$J$24)+(Z726*Setup!$J$27)+(AA726*Setup!$J$28)+(AB726*Setup!$J$29)","v":0},"ERROR",1,{"$f":"IF(T726<>U727,1,0)","v":0},{"$f":"IF(V726<>V727,1,0)","v":0},1,{"$f":"IF(W726<>X727,1,0)","v":0},{"$f":"IF(Y726<>Y727,1,0)","v":0},1,{"$f":"IF(Z726<>AA727,1,0)","v":0},{"$f":"IF(AB726<>AB727,1,0)","v":0}]
[null,null,null,null,null,null,null,null,null,null,null,null,null,null,null,{"$error":"#N/A"},null,null,null,null,null,null,null,null,null,null,null,null,null,{"$f":"(T727*Setup!$J$17)+(U727*Setup!$J$18)+(V727*Setup!$J$19)+(W727*Setup!$J$22)+X727*(Setup!$J$23)+(Y727*Setup!$J$24)+(Z727*Setup!$J$27)+(AA727*Setup!$J$28)+(AB727*Setup!$J$29)","v":0},"ERROR",1,{"$f":"IF(T727<>U726,1,0)","v":0},{"$f":"IF(V727<>V726,1,0)","v":0},1,{"$f":"IF(W727<>X726,1,0)","v":0},{"$f":"IF(Y727<>Y726,1,0)","v":0},1,{"$f":"IF(Z727<>AA726,1,0)","v":0},{"$f":"IF(AB727<>AB726,1,0)","v":0}]
[null,null,null,null,null,null,null,null,null,null,null,null,null,null,null,{"$error":"#N/A"},null,null,null,null,null,null,null,null,null,null,null,null,null,{"$f":"(T728*Setup!$J$17)+(U728*Setup!$J$18)+(V728*Setup!$J$19)+(W728*Setup!$J$22)+X728*(Setup!$J$23)+(Y728*Setup!$J$24)+(Z728*Setup!$J$27)+(AA728*Setup!$J$28)+(AB728*Setup!$J$29)","v":0},"ERROR",1,{"$f":"IF(T728<>U729,1,0)","v":0},{"$f":"IF(V728<>V729,1,0)","v":0},1,{"$f":"IF(W728<>X729,1,0)","v":0},{"$f":"IF(Y728<>Y729,1,0)","v":0},1,{"$f":"IF(Z728<>AA729,1,0)","v":0},{"$f":"IF(AB728<>AB729,1,0)","v":0}]
[null,null,null,null,null,null,null,null,null,null,null,null,null,null,null,{"$error":"#N/A"},null,null,null,null,null,null,null,null,null,null,null,null,null,{"$f":"(T729*Setup!$J$17)+(U729*Setup!$J$18)+(V729*Setup!$J$19)+(W729*Setup!$J$22)+X729*(Setup!$J$23)+(Y729*Setup!$J$24)+(Z729*Setup!$J$27)+(AA729*Setup!$J$28)+(AB729*Setup!$J$29)","v":0},"ERROR",1,{"$f":"IF(T729<>U728,1,0)","v":0},{"$f":"IF(V729<>V728,1,0)","v":0},1,{"$f":"IF(W729<>X728,1,0)","v":0},{"$f":"IF(Y729<>Y728,1,0)","v":0},1,{"$f":"IF(Z729<>AA728,1,0)","v":0},{"$f":"IF(AB729<>AB728,1,0)","v":0}]
[null,null,null,null,null,null,null,null,null,null,null,null,null,null,null,{"$error":"#N/A"},null,null,null,null,null,null,null,null,null,null,null,null,null,{"$f":"(T730*Setup!$J$17)+(U730*Setup!$J$18)+(V730*Setup!$J$19)+(W730*Setup!$J$22)+X730*(Setup!$J$23)+(Y730*Setup!$J$24)+(Z730*Setup!$J$27)+(AA730*Setup!$J$28)+(AB730*Setup!$J$29)","v":0},"ERROR",1,{"$f":"IF(T730<>U731,1,0)","v":0},{"$f":"IF(V730<>V731,1,0)","v":0},1,{"$f":"IF(W730<>X731,1,0)","v":0},{"$f":"IF(Y730<>Y731,1,0)","v":0},1,{"$f":"IF(Z730<>AA731,1,0)","v":0},{"$f":"IF(AB730<>AB731,1,0)","v":0}]
[null,null,null,null,null,null,null,null,null,null,null,null,null,null,null,{"$error":"#N/A"},null,null,null,null,null,null,null,null,null,null,null,null,null,{"$f":"(T731*Setup!$J$17)+(U731*Setup!$J$18)+(V731*Setup!$J$19)+(W731*Setup!$J$22)+X731*(Setup!$J$23)+(Y731*Setup!$J$24)+(Z731*Setup!$J$27)+(AA731*Setup!$J$28)+(AB731*Setup!$J$29)","v":0},"ERROR",1,{"$f":"IF(T731<>U730,1,0)","v":0},{"$f":"IF(V731<>V730,1,0)","v":0},1,{"$f":"IF(W731<>X730,1,0)","v":0},{"$f":"IF(Y731<>Y730,1,0)","v":0},1,{"$f":"IF(Z731<>AA730,1,0)","v":0},{"$f":"IF(AB731<>AB730,1,0)","v":0}]
[null,null,null,null,null,null,null,null,null,null,null,null,null,null,null,{"$error":"#N/A"},null,null,null,null,null,null,null,null,null,null,null,null,null,{"$f":"(T732*Setup!$J$17)+(U732*Setup!$J$18)+(V732*Setup!$J$19)+(W732*Setup!$J$22)+X732*(Setup!$J$23)+(Y732*Setup!$J$24)+(Z732*Setup!$J$27)+(AA732*Setup!$J$28)+(AB732*Setup!$J$29)","v":0},"ERROR",1,{"$f":"IF(T732<>U733,1,0)","v":0},{"$f":"IF(V732<>V733,1,0)","v":0},1,{"$f":"IF(W732<>X733,1,0)","v":0},{"$f":"IF(Y732<>Y733,1,0)","v":0},1,{"$f":"IF(Z732<>AA733,1,0)","v":0},{"$f":"IF(AB732<>AB733,1,0)","v":0}]
[null,null,null,null,null,null,null,null,null,null,null,null,null,null,null,{"$error":"#N/A"},null,null,null,null,null,null,null,null,null,null,null,null,null,{"$f":"(T733*Setup!$J$17)+(U733*Setup!$J$18)+(V733*Setup!$J$19)+(W733*Setup!$J$22)+X733*(Setup!$J$23)+(Y733*Setup!$J$24)+(Z733*Setup!$J$27)+(AA733*Setup!$J$28)+(AB733*Setup!$J$29)","v":0},"ERROR",1,{"$f":"IF(T733<>U732,1,0)","v":0},{"$f":"IF(V733<>V732,1,0)","v":0},1,{"$f":"IF(W733<>X732,1,0)","v":0},{"$f":"IF(Y733<>Y732,1,0)","v":0},1,{"$f":"IF(Z733<>AA732,1,0)","v":0},{"$f":"IF(AB733<>AB732,1,0)","v":0}]
[null,null,null,null,null,null,null,null,null,null,null,null,null,null,null,{"$f":"VLOOKUP(S734,GE_Teams_DBID,2,FALSE)","v":{"$error":"#N/A"}},null,null,null,null,null,null,null,null,null,null,null,null,null,{"$f":"(T734*Setup!$J$17)+(U734*Setup!$J$18)+(V734*Setup!$J$19)+(W734*Setup!$J$22)+X734*(Setup!$J$23)+(Y734*Setup!$J$24)+(Z734*Setup!$J$27)+(AA734*Setup!$J$28)+(AB734*Setup!$J$29)","v":0},"ERROR",{"$f":"IF((T734+U734+V734)<>18,1,0)","v":1},{"$f":"IF(T734<>U735,1,0)","v":0},{"$f":"IF(V734<>V735,1,0)","v":0},{"$f":"IF((W734+X734+Y734)<>2,1,0)","v":1},{"$f":"IF(W734<>X735,1,0)","v":0},{"$f":"IF(Y734<>Y735,1,0)","v":0},{"$f":"IF((Z734+AA734+AB734)<>1,1,0)","v":1},{"$f":"IF(Z734<>AA735,1,0)","v":0},{"$f":"IF(AB734<>AB735,1,0)","v":0}]
[null,null,null,null,null,null,null,null,null,null,null,null,null,null,null,{"$error":"#N/A"},null,null,null,null,null,null,null,null,null,null,null,null,null,{"$f":"(T735*Setup!$J$17)+(U735*Setup!$J$18)+(V735*Setup!$J$19)+(W735*Setup!$J$22)+X735*(Setup!$J$23)+(Y735*Setup!$J$24)+(Z735*Setup!$J$27)+(AA735*Setup!$J$28)+(AB735*Setup!$J$29)","v":0},{"$f":"IF(SUM(AF735:AN735)>0,\"ERROR\",\"\")","v":"ERROR"},1,{"$f":"IF(T735<>U734,1,0)","v":0},{"$f":"IF(V735<>V734,1,0)","v":0},1,{"$f":"IF(W735<>X734,1,0)","v":0},{"$f":"IF(Y735<>Y734,1,0)","v":0},1,{"$f":"IF(Z735<>AA734,1,0)","v":0},{"$f":"IF(AB735<>AB734,1,0)","v":0}]
[null,null,null,null,null,null,null,null,null,null,null,null,null,null,null,{"$error":"#N/A"},null,null,null,null,null,null,null,null,null,null,null,null,null,{"$f":"(T736*Setup!$J$17)+(U736*Setup!$J$18)+(V736*Setup!$J$19)+(W736*Setup!$J$22)+X736*(Setup!$J$23)+(Y736*Setup!$J$24)+(Z736*Setup!$J$27)+(AA736*Setup!$J$28)+(AB736*Setup!$J$29)","v":0},"ERROR",1,{"$f":"IF(T736<>U737,1,0)","v":0},{"$f":"IF(V736<>V737,1,0)","v":0},1,{"$f":"IF(W736<>X737,1,0)","v":0},{"$f":"IF(Y736<>Y737,1,0)","v":0},1,{"$f":"IF(Z736<>AA737,1,0)","v":0},{"$f":"IF(AB736<>AB737,1,0)","v":0}]
[null,null,null,null,null,null,null,null,null,null,null,null,null,null,null,{"$error":"#N/A"},null,null,null,null,null,null,null,null,null,null,null,null,null,{"$f":"(T737*Setup!$J$17)+(U737*Setup!$J$18)+(V737*Setup!$J$19)+(W737*Setup!$J$22)+X737*(Setup!$J$23)+(Y737*Setup!$J$24)+(Z737*Setup!$J$27)+(AA737*Setup!$J$28)+(AB737*Setup!$J$29)","v":0},"ERROR",1,{"$f":"IF(T737<>U736,1,0)","v":0},{"$f":"IF(V737<>V736,1,0)","v":0},1,{"$f":"IF(W737<>X736,1,0)","v":0},{"$f":"IF(Y737<>Y736,1,0)","v":0},1,{"$f":"IF(Z737<>AA736,1,0)","v":0},{"$f":"IF(AB737<>AB736,1,0)","v":0}]
[null,null,null,null,null,null,null,null,null,null,null,null,null,null,null,{"$error":"#N/A"},null,null,null,null,null,null,null,null,null,null,null,null,null,{"$f":"(T738*Setup!$J$17)+(U738*Setup!$J$18)+(V738*Setup!$J$19)+(W738*Setup!$J$22)+X738*(Setup!$J$23)+(Y738*Setup!$J$24)+(Z738*Setup!$J$27)+(AA738*Setup!$J$28)+(AB738*Setup!$J$29)","v":0},"ERROR",1,{"$f":"IF(T738<>U739,1,0)","v":0},{"$f":"IF(V738<>V739,1,0)","v":0},1,{"$f":"IF(W738<>X739,1,0)","v":0},{"$f":"IF(Y738<>Y739,1,0)","v":0},1,{"$f":"IF(Z738<>AA739,1,0)","v":0},{"$f":"IF(AB738<>AB739,1,0)","v":0}]
[null,null,null,null,null,null,null,null,null,null,null,null,null,null,null,{"$error":"#N/A"},null,null,null,null,null,null,null,null,null,null,null,null,null,{"$f":"(T739*Setup!$J$17)+(U739*Setup!$J$18)+(V739*Setup!$J$19)+(W739*Setup!$J$22)+X739*(Setup!$J$23)+(Y739*Setup!$J$24)+(Z739*Setup!$J$27)+(AA739*Setup!$J$28)+(AB739*Setup!$J$29)","v":0},"ERROR",1,{"$f":"IF(T739<>U738,1,0)","v":0},{"$f":"IF(V739<>V738,1,0)","v":0},1,{"$f":"IF(W739<>X738,1,0)","v":0},{"$f":"IF(Y739<>Y738,1,0)","v":0},1,{"$f":"IF(Z739<>AA738,1,0)","v":0},{"$f":"IF(AB739<>AB738,1,0)","v":0}]
[null,null,null,null,null,null,null,null,null,null,null,null,null,null,null,{"$error":"#N/A"},null,null,null,null,null,null,null,null,null,null,null,null,null,{"$f":"(T740*Setup!$J$17)+(U740*Setup!$J$18)+(V740*Setup!$J$19)+(W740*Setup!$J$22)+X740*(Setup!$J$23)+(Y740*Setup!$J$24)+(Z740*Setup!$J$27)+(AA740*Setup!$J$28)+(AB740*Setup!$J$29)","v":0},"ERROR",1,{"$f":"IF(T740<>U741,1,0)","v":0},{"$f":"IF(V740<>V741,1,0)","v":0},1,{"$f":"IF(W740<>X741,1,0)","v":0},{"$f":"IF(Y740<>Y741,1,0)","v":0},1,{"$f":"IF(Z740<>AA741,1,0)","v":0},{"$f":"IF(AB740<>AB741,1,0)","v":0}]
[null,null,null,null,null,null,null,null,null,null,null,null,null,null,null,{"$error":"#N/A"},null,null,null,null,null,null,null,null,null,null,null,null,null,{"$f":"(T741*Setup!$J$17)+(U741*Setup!$J$18)+(V741*Setup!$J$19)+(W741*Setup!$J$22)+X741*(Setup!$J$23)+(Y741*Setup!$J$24)+(Z741*Setup!$J$27)+(AA741*Setup!$J$28)+(AB741*Setup!$J$29)","v":0},"ERROR",1,{"$f":"IF(T741<>U740,1,0)","v":0},{"$f":"IF(V741<>V740,1,0)","v":0},1,{"$f":"IF(W741<>X740,1,0)","v":0},{"$f":"IF(Y741<>Y740,1,0)","v":0},1,{"$f":"IF(Z741<>AA740,1,0)","v":0},{"$f":"IF(AB741<>AB740,1,0)","v":0}]
[null,null,null,null,null,null,null,null,null,null,null,null,null,null,null,{"$error":"#N/A"},null,null,null,null,null,null,null,null,null,null,null,null,null,{"$f":"(T742*Setup!$J$17)+(U742*Setup!$J$18)+(V742*Setup!$J$19)+(W742*Setup!$J$22)+X742*(Setup!$J$23)+(Y742*Setup!$J$24)+(Z742*Setup!$J$27)+(AA742*Setup!$J$28)+(AB742*Setup!$J$29)","v":0},"ERROR",1,{"$f":"IF(T742<>U743,1,0)","v":0},{"$f":"IF(V742<>V743,1,0)","v":0},1,{"$f":"IF(W742<>X743,1,0)","v":0},{"$f":"IF(Y742<>Y743,1,0)","v":0},1,{"$f":"IF(Z742<>AA743,1,0)","v":0},{"$f":"IF(AB742<>AB743,1,0)","v":0}]
[null,null,null,null,null,null,null,null,null,null,null,null,null,null,null,{"$error":"#N/A"},null,null,null,null,null,null,null,null,null,null,null,null,null,{"$f":"(T743*Setup!$J$17)+(U743*Setup!$J$18)+(V743*Setup!$J$19)+(W743*Setup!$J$22)+X743*(Setup!$J$23)+(Y743*Setup!$J$24)+(Z743*Setup!$J$27)+(AA743*Setup!$J$28)+(AB743*Setup!$J$29)","v":0},"ERROR",1,{"$f":"IF(T743<>U742,1,0)","v":0},{"$f":"IF(V743<>V742,1,0)","v":0},1,{"$f":"IF(W743<>X742,1,0)","v":0},{"$f":"IF(Y743<>Y742,1,0)","v":0},1,{"$f":"IF(Z743<>AA742,1,0)","v":0},{"$f":"IF(AB743<>AB742,1,0)","v":0}]
[null,null,null,null,null,null,null,null,null,null,null,null,null,null,null,{"$error":"#N/A"},null,null,null,null,null,null,null,null,null,null,null,null,null,{"$f":"(T744*Setup!$J$17)+(U744*Setup!$J$18)+(V744*Setup!$J$19)+(W744*Setup!$J$22)+X744*(Setup!$J$23)+(Y744*Setup!$J$24)+(Z744*Setup!$J$27)+(AA744*Setup!$J$28)+(AB744*Setup!$J$29)","v":0},"ERROR",1,{"$f":"IF(T744<>U745,1,0)","v":0},{"$f":"IF(V744<>V745,1,0)","v":0},1,{"$f":"IF(W744<>X745,1,0)","v":0},{"$f":"IF(Y744<>Y745,1,0)","v":0},1,{"$f":"IF(Z744<>AA745,1,0)","v":0},{"$f":"IF(AB744<>AB745,1,0)","v":0}]
[null,null,null,null,null,null,null,null,null,null,null,null,null,null,null,{"$error":"#N/A"},null,null,null,null,null,null,null,null,null,null,null,null,null,{"$f":"(T745*Setup!$J$17)+(U745*Setup!$J$18)+(V745*Setup!$J$19)+(W745*Setup!$J$22)+X745*(Setup!$J$23)+(Y745*Setup!$J$24)+(Z745*Setup!$J$27)+(AA745*Setup!$J$28)+(AB745*Setup!$J$29)","v":0},"ERROR",1,{"$f":"IF(T745<>U744,1,0)","v":0},{"$f":"IF(V745<>V744,1,0)","v":0},1,{"$f":"IF(W745<>X744,1,0)","v":0},{"$f":"IF(Y745<>Y744,1,0)","v":0},1,{"$f":"IF(Z745<>AA744,1,0)","v":0},{"$f":"IF(AB745<>AB744,1,0)","v":0}]
[null,null,null,null,null,null,null,null,null,null,null,null,null,null,null,{"$error":"#N/A"},null,null,null,null,null,null,null,null,null,null,null,null,null,{"$f":"(T746*Setup!$J$17)+(U746*Setup!$J$18)+(V746*Setup!$J$19)+(W746*Setup!$J$22)+X746*(Setup!$J$23)+(Y746*Setup!$J$24)+(Z746*Setup!$J$27)+(AA746*Setup!$J$28)+(AB746*Setup!$J$29)","v":0},"ERROR",1,{"$f":"IF(T746<>U747,1,0)","v":0},{"$f":"IF(V746<>V747,1,0)","v":0},1,{"$f":"IF(W746<>X747,1,0)","v":0},{"$f":"IF(Y746<>Y747,1,0)","v":0},1,{"$f":"IF(Z746<>AA747,1,0)","v":0},{"$f":"IF(AB746<>AB747,1,0)","v":0}]
[null,null,null,null,null,null,null,null,null,null,null,null,null,null,null,{"$error":"#N/A"},null,null,null,null,null,null,null,null,null,null,null,null,null,{"$f":"(T747*Setup!$J$17)+(U747*Setup!$J$18)+(V747*Setup!$J$19)+(W747*Setup!$J$22)+X747*(Setup!$J$23)+(Y747*Setup!$J$24)+(Z747*Setup!$J$27)+(AA747*Setup!$J$28)+(AB747*Setup!$J$29)","v":0},"ERROR",1,{"$f":"IF(T747<>U746,1,0)","v":0},{"$f":"IF(V747<>V746,1,0)","v":0},1,{"$f":"IF(W747<>X746,1,0)","v":0},{"$f":"IF(Y747<>Y746,1,0)","v":0},1,{"$f":"IF(Z747<>AA746,1,0)","v":0},{"$f":"IF(AB747<>AB746,1,0)","v":0}]
[null,null,null,null,null,null,null,null,null,null,null,null,null,null,null,{"$error":"#N/A"},null,null,null,null,null,null,null,null,null,null,null,null,null,{"$f":"(T748*Setup!$J$17)+(U748*Setup!$J$18)+(V748*Setup!$J$19)+(W748*Setup!$J$22)+X748*(Setup!$J$23)+(Y748*Setup!$J$24)+(Z748*Setup!$J$27)+(AA748*Setup!$J$28)+(AB748*Setup!$J$29)","v":0},"ERROR",1,{"$f":"IF(T748<>U749,1,0)","v":0},{"$f":"IF(V748<>V749,1,0)","v":0},1,{"$f":"IF(W748<>X749,1,0)","v":0},{"$f":"IF(Y748<>Y749,1,0)","v":0},1,{"$f":"IF(Z748<>AA749,1,0)","v":0},{"$f":"IF(AB748<>AB749,1,0)","v":0}]
[null,null,null,null,null,null,null,null,null,null,null,null,null,null,null,{"$error":"#N/A"},null,null,null,null,null,null,null,null,null,null,null,null,null,{"$f":"(T749*Setup!$J$17)+(U749*Setup!$J$18)+(V749*Setup!$J$19)+(W749*Setup!$J$22)+X749*(Setup!$J$23)+(Y749*Setup!$J$24)+(Z749*Setup!$J$27)+(AA749*Setup!$J$28)+(AB749*Setup!$J$29)","v":0},"ERROR",1,{"$f":"IF(T749<>U748,1,0)","v":0},{"$f":"IF(V749<>V748,1,0)","v":0},1,{"$f":"IF(W749<>X748,1,0)","v":0},{"$f":"IF(Y749<>Y748,1,0)","v":0},1,{"$f":"IF(Z749<>AA748,1,0)","v":0},{"$f":"IF(AB749<>AB748,1,0)","v":0}]
[null,null,null,null,null,null,null,null,null,null,null,null,null,null,null,{"$error":"#N/A"},null,null,null,null,null,null,null,null,null,null,null,null,null,{"$f":"(T750*Setup!$J$17)+(U750*Setup!$J$18)+(V750*Setup!$J$19)+(W750*Setup!$J$22)+X750*(Setup!$J$23)+(Y750*Setup!$J$24)+(Z750*Setup!$J$27)+(AA750*Setup!$J$28)+(AB750*Setup!$J$29)","v":0},"ERROR",1,{"$f":"IF(T750<>U751,1,0)","v":0},{"$f":"IF(V750<>V751,1,0)","v":0},1,{"$f":"IF(W750<>X751,1,0)","v":0},{"$f":"IF(Y750<>Y751,1,0)","v":0},1,{"$f":"IF(Z750<>AA751,1,0)","v":0},{"$f":"IF(AB750<>AB751,1,0)","v":0}]
[null,null,null,null,null,null,null,null,null,null,null,null,null,null,null,{"$error":"#N/A"},null,null,null,null,null,null,null,null,null,null,null,null,null,{"$f":"(T751*Setup!$J$17)+(U751*Setup!$J$18)+(V751*Setup!$J$19)+(W751*Setup!$J$22)+X751*(Setup!$J$23)+(Y751*Setup!$J$24)+(Z751*Setup!$J$27)+(AA751*Setup!$J$28)+(AB751*Setup!$J$29)","v":0},"ERROR",1,{"$f":"IF(T751<>U750,1,0)","v":0},{"$f":"IF(V751<>V750,1,0)","v":0},1,{"$f":"IF(W751<>X750,1,0)","v":0},{"$f":"IF(Y751<>Y750,1,0)","v":0},1,{"$f":"IF(Z751<>AA750,1,0)","v":0},{"$f":"IF(AB751<>AB750,1,0)","v":0}]
[null,null,null,null,null,null,null,null,null,null,null,null,null,null,null,{"$error":"#N/A"},null,null,null,null,null,null,null,null,null,null,null,null,null,{"$f":"(T752*Setup!$J$17)+(U752*Setup!$J$18)+(V752*Setup!$J$19)+(W752*Setup!$J$22)+X752*(Setup!$J$23)+(Y752*Setup!$J$24)+(Z752*Setup!$J$27)+(AA752*Setup!$J$28)+(AB752*Setup!$J$29)","v":0},"ERROR",1,{"$f":"IF(T752<>U753,1,0)","v":0},{"$f":"IF(V752<>V753,1,0)","v":0},1,{"$f":"IF(W752<>X753,1,0)","v":0},{"$f":"IF(Y752<>Y753,1,0)","v":0},1,{"$f":"IF(Z752<>AA753,1,0)","v":0},{"$f":"IF(AB752<>AB753,1,0)","v":0}]
[null,null,null,null,null,null,null,null,null,null,null,null,null,null,null,{"$error":"#N/A"},null,null,null,null,null,null,null,null,null,null,null,null,null,{"$f":"(T753*Setup!$J$17)+(U753*Setup!$J$18)+(V753*Setup!$J$19)+(W753*Setup!$J$22)+X753*(Setup!$J$23)+(Y753*Setup!$J$24)+(Z753*Setup!$J$27)+(AA753*Setup!$J$28)+(AB753*Setup!$J$29)","v":0},"ERROR",1,{"$f":"IF(T753<>U752,1,0)","v":0},{"$f":"IF(V753<>V752,1,0)","v":0},1,{"$f":"IF(W753<>X752,1,0)","v":0},{"$f":"IF(Y753<>Y752,1,0)","v":0},1,{"$f":"IF(Z753<>AA752,1,0)","v":0},{"$f":"IF(AB753<>AB752,1,0)","v":0}]
[null,null,null,null,null,null,null,null,null,null,null,null,null,null,null,{"$error":"#N/A"},null,null,null,null,null,null,null,null,null,null,null,null,null,{"$f":"(T754*Setup!$J$17)+(U754*Setup!$J$18)+(V754*Setup!$J$19)+(W754*Setup!$J$22)+X754*(Setup!$J$23)+(Y754*Setup!$J$24)+(Z754*Setup!$J$27)+(AA754*Setup!$J$28)+(AB754*Setup!$J$29)","v":0},"ERROR",1,{"$f":"IF(T754<>U755,1,0)","v":0},{"$f":"IF(V754<>V755,1,0)","v":0},1,{"$f":"IF(W754<>X755,1,0)","v":0},{"$f":"IF(Y754<>Y755,1,0)","v":0},1,{"$f":"IF(Z754<>AA755,1,0)","v":0},{"$f":"IF(AB754<>AB755,1,0)","v":0}]
[null,null,null,null,null,null,null,null,null,null,null,null,null,null,null,{"$error":"#N/A"},null,null,null,null,null,null,null,null,null,null,null,null,null,{"$f":"(T755*Setup!$J$17)+(U755*Setup!$J$18)+(V755*Setup!$J$19)+(W755*Setup!$J$22)+X755*(Setup!$J$23)+(Y755*Setup!$J$24)+(Z755*Setup!$J$27)+(AA755*Setup!$J$28)+(AB755*Setup!$J$29)","v":0},"ERROR",1,{"$f":"IF(T755<>U754,1,0)","v":0},{"$f":"IF(V755<>V754,1,0)","v":0},1,{"$f":"IF(W755<>X754,1,0)","v":0},{"$f":"IF(Y755<>Y754,1,0)","v":0},1,{"$f":"IF(Z755<>AA754,1,0)","v":0},{"$f":"IF(AB755<>AB754,1,0)","v":0}]
[null,null,null,null,null,null,null,null,null,null,null,null,null,null,null,{"$error":"#N/A"},null,null,null,null,null,null,null,null,null,null,null,null,null,{"$f":"(T756*Setup!$J$17)+(U756*Setup!$J$18)+(V756*Setup!$J$19)+(W756*Setup!$J$22)+X756*(Setup!$J$23)+(Y756*Setup!$J$24)+(Z756*Setup!$J$27)+(AA756*Setup!$J$28)+(AB756*Setup!$J$29)","v":0},"ERROR",1,{"$f":"IF(T756<>U757,1,0)","v":0},{"$f":"IF(V756<>V757,1,0)","v":0},1,{"$f":"IF(W756<>X757,1,0)","v":0},{"$f":"IF(Y756<>Y757,1,0)","v":0},1,{"$f":"IF(Z756<>AA757,1,0)","v":0},{"$f":"IF(AB756<>AB757,1,0)","v":0}]
[null,null,null,null,null,null,null,null,null,null,null,null,null,null,null,{"$error":"#N/A"},null,null,null,null,null,null,null,null,null,null,null,null,null,{"$f":"(T757*Setup!$J$17)+(U757*Setup!$J$18)+(V757*Setup!$J$19)+(W757*Setup!$J$22)+X757*(Setup!$J$23)+(Y757*Setup!$J$24)+(Z757*Setup!$J$27)+(AA757*Setup!$J$28)+(AB757*Setup!$J$29)","v":0},"ERROR",1,{"$f":"IF(T757<>U756,1,0)","v":0},{"$f":"IF(V757<>V756,1,0)","v":0},1,{"$f":"IF(W757<>X756,1,0)","v":0},{"$f":"IF(Y757<>Y756,1,0)","v":0},1,{"$f":"IF(Z757<>AA756,1,0)","v":0},{"$f":"IF(AB757<>AB756,1,0)","v":0}]
[null,null,null,null,null,null,null,null,null,null,null,null,null,null,null,{"$error":"#N/A"},null,null,null,null,null,null,null,null,null,null,null,null,null,{"$f":"(T758*Setup!$J$17)+(U758*Setup!$J$18)+(V758*Setup!$J$19)+(W758*Setup!$J$22)+X758*(Setup!$J$23)+(Y758*Setup!$J$24)+(Z758*Setup!$J$27)+(AA758*Setup!$J$28)+(AB758*Setup!$J$29)","v":0},"ERROR",1,{"$f":"IF(T758<>U759,1,0)","v":0},{"$f":"IF(V758<>V759,1,0)","v":0},1,{"$f":"IF(W758<>X759,1,0)","v":0},{"$f":"IF(Y758<>Y759,1,0)","v":0},1,{"$f":"IF(Z758<>AA759,1,0)","v":0},{"$f":"IF(AB758<>AB759,1,0)","v":0}]
[null,null,null,null,null,null,null,null,null,null,null,null,null,null,null,{"$error":"#N/A"},null,null,null,null,null,null,null,null,null,null,null,null,null,{"$f":"(T759*Setup!$J$17)+(U759*Setup!$J$18)+(V759*Setup!$J$19)+(W759*Setup!$J$22)+X759*(Setup!$J$23)+(Y759*Setup!$J$24)+(Z759*Setup!$J$27)+(AA759*Setup!$J$28)+(AB759*Setup!$J$29)","v":0},"ERROR",1,{"$f":"IF(T759<>U758,1,0)","v":0},{"$f":"IF(V759<>V758,1,0)","v":0},1,{"$f":"IF(W759<>X758,1,0)","v":0},{"$f":"IF(Y759<>Y758,1,0)","v":0},1,{"$f":"IF(Z759<>AA758,1,0)","v":0},{"$f":"IF(AB759<>AB758,1,0)","v":0}]
[null,null,null,null,null,null,null,null,null,null,null,null,null,null,null,{"$error":"#N/A"},null,null,null,null,null,null,null,null,null,null,null,null,null,{"$f":"(T760*Setup!$J$17)+(U760*Setup!$J$18)+(V760*Setup!$J$19)+(W760*Setup!$J$22)+X760*(Setup!$J$23)+(Y760*Setup!$J$24)+(Z760*Setup!$J$27)+(AA760*Setup!$J$28)+(AB760*Setup!$J$29)","v":0},"ERROR",1,{"$f":"IF(T760<>U761,1,0)","v":0},{"$f":"IF(V760<>V761,1,0)","v":0},1,{"$f":"IF(W760<>X761,1,0)","v":0},{"$f":"IF(Y760<>Y761,1,0)","v":0},1,{"$f":"IF(Z760<>AA761,1,0)","v":0},{"$f":"IF(AB760<>AB761,1,0)","v":0}]
[null,null,null,null,null,null,null,null,null,null,null,null,null,null,null,{"$error":"#N/A"},null,null,null,null,null,null,null,null,null,null,null,null,null,{"$f":"(T761*Setup!$J$17)+(U761*Setup!$J$18)+(V761*Setup!$J$19)+(W761*Setup!$J$22)+X761*(Setup!$J$23)+(Y761*Setup!$J$24)+(Z761*Setup!$J$27)+(AA761*Setup!$J$28)+(AB761*Setup!$J$29)","v":0},"ERROR",1,{"$f":"IF(T761<>U760,1,0)","v":0},{"$f":"IF(V761<>V760,1,0)","v":0},1,{"$f":"IF(W761<>X760,1,0)","v":0},{"$f":"IF(Y761<>Y760,1,0)","v":0},1,{"$f":"IF(Z761<>AA760,1,0)","v":0},{"$f":"IF(AB761<>AB760,1,0)","v":0}]
[null,null,null,null,null,null,null,null,null,null,null,null,null,null,null,{"$error":"#N/A"},null,null,null,null,null,null,null,null,null,null,null,null,null,{"$f":"(T762*Setup!$J$17)+(U762*Setup!$J$18)+(V762*Setup!$J$19)+(W762*Setup!$J$22)+X762*(Setup!$J$23)+(Y762*Setup!$J$24)+(Z762*Setup!$J$27)+(AA762*Setup!$J$28)+(AB762*Setup!$J$29)","v":0},"ERROR",1,{"$f":"IF(T762<>U763,1,0)","v":0},{"$f":"IF(V762<>V763,1,0)","v":0},1,{"$f":"IF(W762<>X763,1,0)","v":0},{"$f":"IF(Y762<>Y763,1,0)","v":0},1,{"$f":"IF(Z762<>AA763,1,0)","v":0},{"$f":"IF(AB762<>AB763,1,0)","v":0}]
[null,null,null,null,null,null,null,null,null,null,null,null,null,null,null,{"$error":"#N/A"},null,null,null,null,null,null,null,null,null,null,null,null,null,{"$f":"(T763*Setup!$J$17)+(U763*Setup!$J$18)+(V763*Setup!$J$19)+(W763*Setup!$J$22)+X763*(Setup!$J$23)+(Y763*Setup!$J$24)+(Z763*Setup!$J$27)+(AA763*Setup!$J$28)+(AB763*Setup!$J$29)","v":0},"ERROR",1,{"$f":"IF(T763<>U762,1,0)","v":0},{"$f":"IF(V763<>V762,1,0)","v":0},1,{"$f":"IF(W763<>X762,1,0)","v":0},{"$f":"IF(Y763<>Y762,1,0)","v":0},1,{"$f":"IF(Z763<>AA762,1,0)","v":0},{"$f":"IF(AB763<>AB762,1,0)","v":0}]
[null,null,null,null,null,null,null,null,null,null,null,null,null,null,null,{"$error":"#N/A"},null,null,null,null,null,null,null,null,null,null,null,null,null,{"$f":"(T764*Setup!$J$17)+(U764*Setup!$J$18)+(V764*Setup!$J$19)+(W764*Setup!$J$22)+X764*(Setup!$J$23)+(Y764*Setup!$J$24)+(Z764*Setup!$J$27)+(AA764*Setup!$J$28)+(AB764*Setup!$J$29)","v":0},"ERROR",1,{"$f":"IF(T764<>U765,1,0)","v":0},{"$f":"IF(V764<>V765,1,0)","v":0},1,{"$f":"IF(W764<>X765,1,0)","v":0},{"$f":"IF(Y764<>Y765,1,0)","v":0},1,{"$f":"IF(Z764<>AA765,1,0)","v":0},{"$f":"IF(AB764<>AB765,1,0)","v":0}]
[null,null,null,null,null,null,null,null,null,null,null,null,null,null,null,{"$error":"#N/A"},null,null,null,null,null,null,null,null,null,null,null,null,null,{"$f":"(T765*Setup!$J$17)+(U765*Setup!$J$18)+(V765*Setup!$J$19)+(W765*Setup!$J$22)+X765*(Setup!$J$23)+(Y765*Setup!$J$24)+(Z765*Setup!$J$27)+(AA765*Setup!$J$28)+(AB765*Setup!$J$29)","v":0},"ERROR",1,{"$f":"IF(T765<>U764,1,0)","v":0},{"$f":"IF(V765<>V764,1,0)","v":0},1,{"$f":"IF(W765<>X764,1,0)","v":0},{"$f":"IF(Y765<>Y764,1,0)","v":0},1,{"$f":"IF(Z765<>AA764,1,0)","v":0},{"$f":"IF(AB765<>AB764,1,0)","v":0}]
[null,null,null,null,null,null,null,null,null,null,null,null,null,null,null,{"$error":"#N/A"},null,null,null,null,null,null,null,null,null,null,null,null,null,{"$f":"(T766*Setup!$J$17)+(U766*Setup!$J$18)+(V766*Setup!$J$19)+(W766*Setup!$J$22)+X766*(Setup!$J$23)+(Y766*Setup!$J$24)+(Z766*Setup!$J$27)+(AA766*Setup!$J$28)+(AB766*Setup!$J$29)","v":0},"ERROR",1,{"$f":"IF(T766<>U767,1,0)","v":0},{"$f":"IF(V766<>V767,1,0)","v":0},1,{"$f":"IF(W766<>X767,1,0)","v":0},{"$f":"IF(Y766<>Y767,1,0)","v":0},1,{"$f":"IF(Z766<>AA767,1,0)","v":0},{"$f":"IF(AB766<>AB767,1,0)","v":0}]
[null,null,null,null,null,null,null,null,null,null,null,null,null,null,null,{"$error":"#N/A"},null,null,null,null,null,null,null,null,null,null,null,null,null,{"$f":"(T767*Setup!$J$17)+(U767*Setup!$J$18)+(V767*Setup!$J$19)+(W767*Setup!$J$22)+X767*(Setup!$J$23)+(Y767*Setup!$J$24)+(Z767*Setup!$J$27)+(AA767*Setup!$J$28)+(AB767*Setup!$J$29)","v":0},"ERROR",1,{"$f":"IF(T767<>U766,1,0)","v":0},{"$f":"IF(V767<>V766,1,0)","v":0},1,{"$f":"IF(W767<>X766,1,0)","v":0},{"$f":"IF(Y767<>Y766,1,0)","v":0},1,{"$f":"IF(Z767<>AA766,1,0)","v":0},{"$f":"IF(AB767<>AB766,1,0)","v":0}]
[null,null,null,null,null,null,null,null,null,null,null,null,null,null,null,{"$error":"#N/A"},null,null,null,null,null,null,null,null,null,null,null,null,null,{"$f":"(T768*Setup!$J$17)+(U768*Setup!$J$18)+(V768*Setup!$J$19)+(W768*Setup!$J$22)+X768*(Setup!$J$23)+(Y768*Setup!$J$24)+(Z768*Setup!$J$27)+(AA768*Setup!$J$28)+(AB768*Setup!$J$29)","v":0},"ERROR",1,{"$f":"IF(T768<>U769,1,0)","v":0},{"$f":"IF(V768<>V769,1,0)","v":0},1,{"$f":"IF(W768<>X769,1,0)","v":0},{"$f":"IF(Y768<>Y769,1,0)","v":0},1,{"$f":"IF(Z768<>AA769,1,0)","v":0},{"$f":"IF(AB768<>AB769,1,0)","v":0}]
[null,null,null,null,null,null,null,null,null,null,null,null,null,null,null,{"$error":"#N/A"},null,null,null,null,null,null,null,null,null,null,null,null,null,{"$f":"(T769*Setup!$J$17)+(U769*Setup!$J$18)+(V769*Setup!$J$19)+(W769*Setup!$J$22)+X769*(Setup!$J$23)+(Y769*Setup!$J$24)+(Z769*Setup!$J$27)+(AA769*Setup!$J$28)+(AB769*Setup!$J$29)","v":0},"ERROR",1,{"$f":"IF(T769<>U768,1,0)","v":0},{"$f":"IF(V769<>V768,1,0)","v":0},1,{"$f":"IF(W769<>X768,1,0)","v":0},{"$f":"IF(Y769<>Y768,1,0)","v":0},1,{"$f":"IF(Z769<>AA768,1,0)","v":0},{"$f":"IF(AB769<>AB768,1,0)","v":0}]
[null,null,null,null,null,null,null,null,null,null,null,null,null,null,null,{"$error":"#N/A"},null,null,null,null,null,null,null,null,null,null,null,null,null,{"$f":"(T770*Setup!$J$17)+(U770*Setup!$J$18)+(V770*Setup!$J$19)+(W770*Setup!$J$22)+X770*(Setup!$J$23)+(Y770*Setup!$J$24)+(Z770*Setup!$J$27)+(AA770*Setup!$J$28)+(AB770*Setup!$J$29)","v":0},"ERROR",1,{"$f":"IF(T770<>U771,1,0)","v":0},{"$f":"IF(V770<>V771,1,0)","v":0},1,{"$f":"IF(W770<>X771,1,0)","v":0},{"$f":"IF(Y770<>Y771,1,0)","v":0},1,{"$f":"IF(Z770<>AA771,1,0)","v":0},{"$f":"IF(AB770<>AB771,1,0)","v":0}]
[null,null,null,null,null,null,null,null,null,null,null,null,null,null,null,{"$error":"#N/A"},null,null,null,null,null,null,null,null,null,null,null,null,null,{"$f":"(T771*Setup!$J$17)+(U771*Setup!$J$18)+(V771*Setup!$J$19)+(W771*Setup!$J$22)+X771*(Setup!$J$23)+(Y771*Setup!$J$24)+(Z771*Setup!$J$27)+(AA771*Setup!$J$28)+(AB771*Setup!$J$29)","v":0},"ERROR",1,{"$f":"IF(T771<>U770,1,0)","v":0},{"$f":"IF(V771<>V770,1,0)","v":0},1,{"$f":"IF(W771<>X770,1,0)","v":0},{"$f":"IF(Y771<>Y770,1,0)","v":0},1,{"$f":"IF(Z771<>AA770,1,0)","v":0},{"$f":"IF(AB771<>AB770,1,0)","v":0}]
[null,null,null,null,null,null,null,null,null,null,null,null,null,null,null,{"$error":"#N/A"},null,null,null,null,null,null,null,null,null,null,null,null,null,{"$f":"(T772*Setup!$J$17)+(U772*Setup!$J$18)+(V772*Setup!$J$19)+(W772*Setup!$J$22)+X772*(Setup!$J$23)+(Y772*Setup!$J$24)+(Z772*Setup!$J$27)+(AA772*Setup!$J$28)+(AB772*Setup!$J$29)","v":0},"ERROR",1,{"$f":"IF(T772<>U773,1,0)","v":0},{"$f":"IF(V772<>V773,1,0)","v":0},1,{"$f":"IF(W772<>X773,1,0)","v":0},{"$f":"IF(Y772<>Y773,1,0)","v":0},1,{"$f":"IF(Z772<>AA773,1,0)","v":0},{"$f":"IF(AB772<>AB773,1,0)","v":0}]
[null,null,null,null,null,null,null,null,null,null,null,null,null,null,null,{"$error":"#N/A"},null,null,null,null,null,null,null,null,null,null,null,null,null,{"$f":"(T773*Setup!$J$17)+(U773*Setup!$J$18)+(V773*Setup!$J$19)+(W773*Setup!$J$22)+X773*(Setup!$J$23)+(Y773*Setup!$J$24)+(Z773*Setup!$J$27)+(AA773*Setup!$J$28)+(AB773*Setup!$J$29)","v":0},"ERROR",1,{"$f":"IF(T773<>U772,1,0)","v":0},{"$f":"IF(V773<>V772,1,0)","v":0},1,{"$f":"IF(W773<>X772,1,0)","v":0},{"$f":"IF(Y773<>Y772,1,0)","v":0},1,{"$f":"IF(Z773<>AA772,1,0)","v":0},{"$f":"IF(AB773<>AB772,1,0)","v":0}]
[null,null,null,null,null,null,null,null,null,null,null,null,null,null,null,{"$error":"#N/A"},null,null,null,null,null,null,null,null,null,null,null,null,null,{"$f":"(T774*Setup!$J$17)+(U774*Setup!$J$18)+(V774*Setup!$J$19)+(W774*Setup!$J$22)+X774*(Setup!$J$23)+(Y774*Setup!$J$24)+(Z774*Setup!$J$27)+(AA774*Setup!$J$28)+(AB774*Setup!$J$29)","v":0},"ERROR",1,{"$f":"IF(T774<>U775,1,0)","v":0},{"$f":"IF(V774<>V775,1,0)","v":0},1,{"$f":"IF(W774<>X775,1,0)","v":0},{"$f":"IF(Y774<>Y775,1,0)","v":0},1,{"$f":"IF(Z774<>AA775,1,0)","v":0},{"$f":"IF(AB774<>AB775,1,0)","v":0}]
[null,null,null,null,null,null,null,null,null,null,null,null,null,null,null,{"$error":"#N/A"},null,null,null,null,null,null,null,null,null,null,null,null,null,{"$f":"(T775*Setup!$J$17)+(U775*Setup!$J$18)+(V775*Setup!$J$19)+(W775*Setup!$J$22)+X775*(Setup!$J$23)+(Y775*Setup!$J$24)+(Z775*Setup!$J$27)+(AA775*Setup!$J$28)+(AB775*Setup!$J$29)","v":0},"ERROR",1,{"$f":"IF(T775<>U774,1,0)","v":0},{"$f":"IF(V775<>V774,1,0)","v":0},1,{"$f":"IF(W775<>X774,1,0)","v":0},{"$f":"IF(Y775<>Y774,1,0)","v":0},1,{"$f":"IF(Z775<>AA774,1,0)","v":0},{"$f":"IF(AB775<>AB774,1,0)","v":0}]
[null,null,null,null,null,null,null,null,null,null,null,null,null,null,null,{"$error":"#N/A"},null,null,null,null,null,null,null,null,null,null,null,null,null,{"$f":"(T776*Setup!$J$17)+(U776*Setup!$J$18)+(V776*Setup!$J$19)+(W776*Setup!$J$22)+X776*(Setup!$J$23)+(Y776*Setup!$J$24)+(Z776*Setup!$J$27)+(AA776*Setup!$J$28)+(AB776*Setup!$J$29)","v":0},"ERROR",1,{"$f":"IF(T776<>U777,1,0)","v":0},{"$f":"IF(V776<>V777,1,0)","v":0},1,{"$f":"IF(W776<>X777,1,0)","v":0},{"$f":"IF(Y776<>Y777,1,0)","v":0},1,{"$f":"IF(Z776<>AA777,1,0)","v":0},{"$f":"IF(AB776<>AB777,1,0)","v":0}]
[null,null,null,null,null,null,null,null,null,null,null,null,null,null,null,{"$error":"#N/A"},null,null,null,null,null,null,null,null,null,null,null,null,null,{"$f":"(T777*Setup!$J$17)+(U777*Setup!$J$18)+(V777*Setup!$J$19)+(W777*Setup!$J$22)+X777*(Setup!$J$23)+(Y777*Setup!$J$24)+(Z777*Setup!$J$27)+(AA777*Setup!$J$28)+(AB777*Setup!$J$29)","v":0},"ERROR",1,{"$f":"IF(T777<>U776,1,0)","v":0},{"$f":"IF(V777<>V776,1,0)","v":0},1,{"$f":"IF(W777<>X776,1,0)","v":0},{"$f":"IF(Y777<>Y776,1,0)","v":0},1,{"$f":"IF(Z777<>AA776,1,0)","v":0},{"$f":"IF(AB777<>AB776,1,0)","v":0}]
[null,null,null,null,null,null,null,null,null,null,null,null,null,null,null,{"$error":"#N/A"},null,null,null,null,null,null,null,null,null,null,null,null,null,{"$f":"(T778*Setup!$J$17)+(U778*Setup!$J$18)+(V778*Setup!$J$19)+(W778*Setup!$J$22)+X778*(Setup!$J$23)+(Y778*Setup!$J$24)+(Z778*Setup!$J$27)+(AA778*Setup!$J$28)+(AB778*Setup!$J$29)","v":0},"ERROR",1,{"$f":"IF(T778<>U779,1,0)","v":0},{"$f":"IF(V778<>V779,1,0)","v":0},1,{"$f":"IF(W778<>X779,1,0)","v":0},{"$f":"IF(Y778<>Y779,1,0)","v":0},1,{"$f":"IF(Z778<>AA779,1,0)","v":0},{"$f":"IF(AB778<>AB779,1,0)","v":0}]
[null,null,null,null,null,null,null,null,null,null,null,null,null,null,null,{"$error":"#N/A"},null,null,null,null,null,null,null,null,null,null,null,null,null,{"$f":"(T779*Setup!$J$17)+(U779*Setup!$J$18)+(V779*Setup!$J$19)+(W779*Setup!$J$22)+X779*(Setup!$J$23)+(Y779*Setup!$J$24)+(Z779*Setup!$J$27)+(AA779*Setup!$J$28)+(AB779*Setup!$J$29)","v":0},"ERROR",1,{"$f":"IF(T779<>U778,1,0)","v":0},{"$f":"IF(V779<>V778,1,0)","v":0},1,{"$f":"IF(W779<>X778,1,0)","v":0},{"$f":"IF(Y779<>Y778,1,0)","v":0},1,{"$f":"IF(Z779<>AA778,1,0)","v":0},{"$f":"IF(AB779<>AB778,1,0)","v":0}]
[null,null,null,null,null,null,null,null,null,null,null,null,null,null,null,{"$error":"#N/A"},null,null,null,null,null,null,null,null,null,null,null,null,null,{"$f":"(T780*Setup!$J$17)+(U780*Setup!$J$18)+(V780*Setup!$J$19)+(W780*Setup!$J$22)+X780*(Setup!$J$23)+(Y780*Setup!$J$24)+(Z780*Setup!$J$27)+(AA780*Setup!$J$28)+(AB780*Setup!$J$29)","v":0},"ERROR",1,{"$f":"IF(T780<>U781,1,0)","v":0},{"$f":"IF(V780<>V781,1,0)","v":0},1,{"$f":"IF(W780<>X781,1,0)","v":0},{"$f":"IF(Y780<>Y781,1,0)","v":0},1,{"$f":"IF(Z780<>AA781,1,0)","v":0},{"$f":"IF(AB780<>AB781,1,0)","v":0}]
[null,null,null,null,null,null,null,null,null,null,null,null,null,null,null,{"$error":"#N/A"},null,null,null,null,null,null,null,null,null,null,null,null,null,{"$f":"(T781*Setup!$J$17)+(U781*Setup!$J$18)+(V781*Setup!$J$19)+(W781*Setup!$J$22)+X781*(Setup!$J$23)+(Y781*Setup!$J$24)+(Z781*Setup!$J$27)+(AA781*Setup!$J$28)+(AB781*Setup!$J$29)","v":0},"ERROR",1,{"$f":"IF(T781<>U780,1,0)","v":0},{"$f":"IF(V781<>V780,1,0)","v":0},1,{"$f":"IF(W781<>X780,1,0)","v":0},{"$f":"IF(Y781<>Y780,1,0)","v":0},1,{"$f":"IF(Z781<>AA780,1,0)","v":0},{"$f":"IF(AB781<>AB780,1,0)","v":0}]
[null,null,null,null,null,null,null,null,null,null,null,null,null,null,null,{"$error":"#N/A"},null,null,null,null,null,null,null,null,null,null,null,null,null,{"$f":"(T782*Setup!$J$17)+(U782*Setup!$J$18)+(V782*Setup!$J$19)+(W782*Setup!$J$22)+X782*(Setup!$J$23)+(Y782*Setup!$J$24)+(Z782*Setup!$J$27)+(AA782*Setup!$J$28)+(AB782*Setup!$J$29)","v":0},"ERROR",1,{"$f":"IF(T782<>U783,1,0)","v":0},{"$f":"IF(V782<>V783,1,0)","v":0},1,{"$f":"IF(W782<>X783,1,0)","v":0},{"$f":"IF(Y782<>Y783,1,0)","v":0},1,{"$f":"IF(Z782<>AA783,1,0)","v":0},{"$f":"IF(AB782<>AB783,1,0)","v":0}]
[null,null,null,null,null,null,null,null,null,null,null,null,null,null,null,{"$error":"#N/A"},null,null,null,null,null,null,null,null,null,null,null,null,null,{"$f":"(T783*Setup!$J$17)+(U783*Setup!$J$18)+(V783*Setup!$J$19)+(W783*Setup!$J$22)+X783*(Setup!$J$23)+(Y783*Setup!$J$24)+(Z783*Setup!$J$27)+(AA783*Setup!$J$28)+(AB783*Setup!$J$29)","v":0},"ERROR",1,{"$f":"IF(T783<>U782,1,0)","v":0},{"$f":"IF(V783<>V782,1,0)","v":0},1,{"$f":"IF(W783<>X782,1,0)","v":0},{"$f":"IF(Y783<>Y782,1,0)","v":0},1,{"$f":"IF(Z783<>AA782,1,0)","v":0},{"$f":"IF(AB783<>AB782,1,0)","v":0}]
[null,null,null,null,null,null,null,null,null,null,null,null,null,null,null,{"$error":"#N/A"},null,null,null,null,null,null,null,null,null,null,null,null,null,{"$f":"(T784*Setup!$J$17)+(U784*Setup!$J$18)+(V784*Setup!$J$19)+(W784*Setup!$J$22)+X784*(Setup!$J$23)+(Y784*Setup!$J$24)+(Z784*Setup!$J$27)+(AA784*Setup!$J$28)+(AB784*Setup!$J$29)","v":0},"ERROR",1,{"$f":"IF(T784<>U785,1,0)","v":0},{"$f":"IF(V784<>V785,1,0)","v":0},1,{"$f":"IF(W784<>X785,1,0)","v":0},{"$f":"IF(Y784<>Y785,1,0)","v":0},1,{"$f":"IF(Z784<>AA785,1,0)","v":0},{"$f":"IF(AB784<>AB785,1,0)","v":0}]
[null,null,null,null,null,null,null,null,null,null,null,null,null,null,null,{"$error":"#N/A"},null,null,null,null,null,null,null,null,null,null,null,null,null,{"$f":"(T785*Setup!$J$17)+(U785*Setup!$J$18)+(V785*Setup!$J$19)+(W785*Setup!$J$22)+X785*(Setup!$J$23)+(Y785*Setup!$J$24)+(Z785*Setup!$J$27)+(AA785*Setup!$J$28)+(AB785*Setup!$J$29)","v":0},"ERROR",1,{"$f":"IF(T785<>U784,1,0)","v":0},{"$f":"IF(V785<>V784,1,0)","v":0},1,{"$f":"IF(W785<>X784,1,0)","v":0},{"$f":"IF(Y785<>Y784,1,0)","v":0},1,{"$f":"IF(Z785<>AA784,1,0)","v":0},{"$f":"IF(AB785<>AB784,1,0)","v":0}]
[null,null,null,null,null,null,null,null,null,null,null,null,null,null,null,{"$error":"#N/A"},null,null,null,null,null,null,null,null,null,null,null,null,null,{"$f":"(T786*Setup!$J$17)+(U786*Setup!$J$18)+(V786*Setup!$J$19)+(W786*Setup!$J$22)+X786*(Setup!$J$23)+(Y786*Setup!$J$24)+(Z786*Setup!$J$27)+(AA786*Setup!$J$28)+(AB786*Setup!$J$29)","v":0},"ERROR",1,{"$f":"IF(T786<>U787,1,0)","v":0},{"$f":"IF(V786<>V787,1,0)","v":0},1,{"$f":"IF(W786<>X787,1,0)","v":0},{"$f":"IF(Y786<>Y787,1,0)","v":0},1,{"$f":"IF(Z786<>AA787,1,0)","v":0},{"$f":"IF(AB786<>AB787,1,0)","v":0}]
[null,null,null,null,null,null,null,null,null,null,null,null,null,null,null,{"$error":"#N/A"},null,null,null,null,null,null,null,null,null,null,null,null,null,{"$f":"(T787*Setup!$J$17)+(U787*Setup!$J$18)+(V787*Setup!$J$19)+(W787*Setup!$J$22)+X787*(Setup!$J$23)+(Y787*Setup!$J$24)+(Z787*Setup!$J$27)+(AA787*Setup!$J$28)+(AB787*Setup!$J$29)","v":0},"ERROR",1,{"$f":"IF(T787<>U786,1,0)","v":0},{"$f":"IF(V787<>V786,1,0)","v":0},1,{"$f":"IF(W787<>X786,1,0)","v":0},{"$f":"IF(Y787<>Y786,1,0)","v":0},1,{"$f":"IF(Z787<>AA786,1,0)","v":0},{"$f":"IF(AB787<>AB786,1,0)","v":0}]
[null,null,null,null,null,null,null,null,null,null,null,null,null,null,null,{"$error":"#N/A"},null,null,null,null,null,null,null,null,null,null,null,null,null,{"$f":"(T788*Setup!$J$17)+(U788*Setup!$J$18)+(V788*Setup!$J$19)+(W788*Setup!$J$22)+X788*(Setup!$J$23)+(Y788*Setup!$J$24)+(Z788*Setup!$J$27)+(AA788*Setup!$J$28)+(AB788*Setup!$J$29)","v":0},"ERROR",1,{"$f":"IF(T788<>U789,1,0)","v":0},{"$f":"IF(V788<>V789,1,0)","v":0},1,{"$f":"IF(W788<>X789,1,0)","v":0},{"$f":"IF(Y788<>Y789,1,0)","v":0},1,{"$f":"IF(Z788<>AA789,1,0)","v":0},{"$f":"IF(AB788<>AB789,1,0)","v":0}]
[null,null,null,null,null,null,null,null,null,null,null,null,null,null,null,{"$error":"#N/A"},null,null,null,null,null,null,null,null,null,null,null,null,null,{"$f":"(T789*Setup!$J$17)+(U789*Setup!$J$18)+(V789*Setup!$J$19)+(W789*Setup!$J$22)+X789*(Setup!$J$23)+(Y789*Setup!$J$24)+(Z789*Setup!$J$27)+(AA789*Setup!$J$28)+(AB789*Setup!$J$29)","v":0},"ERROR",1,{"$f":"IF(T789<>U788,1,0)","v":0},{"$f":"IF(V789<>V788,1,0)","v":0},1,{"$f":"IF(W789<>X788,1,0)","v":0},{"$f":"IF(Y789<>Y788,1,0)","v":0},1,{"$f":"IF(Z789<>AA788,1,0)","v":0},{"$f":"IF(AB789<>AB788,1,0)","v":0}]
[null,null,null,null,null,null,null,null,null,null,null,null,null,null,null,{"$error":"#N/A"},null,null,null,null,null,null,null,null,null,null,null,null,null,{"$f":"(T790*Setup!$J$17)+(U790*Setup!$J$18)+(V790*Setup!$J$19)+(W790*Setup!$J$22)+X790*(Setup!$J$23)+(Y790*Setup!$J$24)+(Z790*Setup!$J$27)+(AA790*Setup!$J$28)+(AB790*Setup!$J$29)","v":0},"ERROR",1,{"$f":"IF(T790<>U791,1,0)","v":0},{"$f":"IF(V790<>V791,1,0)","v":0},1,{"$f":"IF(W790<>X791,1,0)","v":0},{"$f":"IF(Y790<>Y791,1,0)","v":0},1,{"$f":"IF(Z790<>AA791,1,0)","v":0},{"$f":"IF(AB790<>AB791,1,0)","v":0}]
[null,null,null,null,null,null,null,null,null,null,null,null,null,null,null,{"$error":"#N/A"},null,null,null,null,null,null,null,null,null,null,null,null,null,{"$f":"(T791*Setup!$J$17)+(U791*Setup!$J$18)+(V791*Setup!$J$19)+(W791*Setup!$J$22)+X791*(Setup!$J$23)+(Y791*Setup!$J$24)+(Z791*Setup!$J$27)+(AA791*Setup!$J$28)+(AB791*Setup!$J$29)","v":0},"ERROR",1,{"$f":"IF(T791<>U790,1,0)","v":0},{"$f":"IF(V791<>V790,1,0)","v":0},1,{"$f":"IF(W791<>X790,1,0)","v":0},{"$f":"IF(Y791<>Y790,1,0)","v":0},1,{"$f":"IF(Z791<>AA790,1,0)","v":0},{"$f":"IF(AB791<>AB790,1,0)","v":0}]
[null,null,null,null,null,null,null,null,null,null,null,null,null,null,null,{"$error":"#N/A"},null,null,null,null,null,null,null,null,null,null,null,null,null,{"$f":"(T792*Setup!$J$17)+(U792*Setup!$J$18)+(V792*Setup!$J$19)+(W792*Setup!$J$22)+X792*(Setup!$J$23)+(Y792*Setup!$J$24)+(Z792*Setup!$J$27)+(AA792*Setup!$J$28)+(AB792*Setup!$J$29)","v":0},"ERROR",1,{"$f":"IF(T792<>U793,1,0)","v":0},{"$f":"IF(V792<>V793,1,0)","v":0},1,{"$f":"IF(W792<>X793,1,0)","v":0},{"$f":"IF(Y792<>Y793,1,0)","v":0},1,{"$f":"IF(Z792<>AA793,1,0)","v":0},{"$f":"IF(AB792<>AB793,1,0)","v":0}]
[null,null,null,null,null,null,null,null,null,null,null,null,null,null,null,{"$error":"#N/A"},null,null,null,null,null,null,null,null,null,null,null,null,null,{"$f":"(T793*Setup!$J$17)+(U793*Setup!$J$18)+(V793*Setup!$J$19)+(W793*Setup!$J$22)+X793*(Setup!$J$23)+(Y793*Setup!$J$24)+(Z793*Setup!$J$27)+(AA793*Setup!$J$28)+(AB793*Setup!$J$29)","v":0},"ERROR",1,{"$f":"IF(T793<>U792,1,0)","v":0},{"$f":"IF(V793<>V792,1,0)","v":0},1,{"$f":"IF(W793<>X792,1,0)","v":0},{"$f":"IF(Y793<>Y792,1,0)","v":0},1,{"$f":"IF(Z793<>AA792,1,0)","v":0},{"$f":"IF(AB793<>AB792,1,0)","v":0}]
[null,null,null,null,null,null,null,null,null,null,null,null,null,null,null,{"$error":"#N/A"},null,null,null,null,null,null,null,null,null,null,null,null,null,{"$f":"(T794*Setup!$J$17)+(U794*Setup!$J$18)+(V794*Setup!$J$19)+(W794*Setup!$J$22)+X794*(Setup!$J$23)+(Y794*Setup!$J$24)+(Z794*Setup!$J$27)+(AA794*Setup!$J$28)+(AB794*Setup!$J$29)","v":0},"ERROR",1,{"$f":"IF(T794<>U795,1,0)","v":0},{"$f":"IF(V794<>V795,1,0)","v":0},1,{"$f":"IF(W794<>X795,1,0)","v":0},{"$f":"IF(Y794<>Y795,1,0)","v":0},1,{"$f":"IF(Z794<>AA795,1,0)","v":0},{"$f":"IF(AB794<>AB795,1,0)","v":0}]
[null,null,null,null,null,null,null,null,null,null,null,null,null,null,null,{"$error":"#N/A"},null,null,null,null,null,null,null,null,null,null,null,null,null,{"$f":"(T795*Setup!$J$17)+(U795*Setup!$J$18)+(V795*Setup!$J$19)+(W795*Setup!$J$22)+X795*(Setup!$J$23)+(Y795*Setup!$J$24)+(Z795*Setup!$J$27)+(AA795*Setup!$J$28)+(AB795*Setup!$J$29)","v":0},"ERROR",1,{"$f":"IF(T795<>U794,1,0)","v":0},{"$f":"IF(V795<>V794,1,0)","v":0},1,{"$f":"IF(W795<>X794,1,0)","v":0},{"$f":"IF(Y795<>Y794,1,0)","v":0},1,{"$f":"IF(Z795<>AA794,1,0)","v":0},{"$f":"IF(AB795<>AB794,1,0)","v":0}]
[null,null,null,null,null,null,null,null,null,null,null,null,null,null,null,{"$error":"#N/A"},null,null,null,null,null,null,null,null,null,null,null,null,null,{"$f":"(T796*Setup!$J$17)+(U796*Setup!$J$18)+(V796*Setup!$J$19)+(W796*Setup!$J$22)+X796*(Setup!$J$23)+(Y796*Setup!$J$24)+(Z796*Setup!$J$27)+(AA796*Setup!$J$28)+(AB796*Setup!$J$29)","v":0},"ERROR",1,{"$f":"IF(T796<>U797,1,0)","v":0},{"$f":"IF(V796<>V797,1,0)","v":0},1,{"$f":"IF(W796<>X797,1,0)","v":0},{"$f":"IF(Y796<>Y797,1,0)","v":0},1,{"$f":"IF(Z796<>AA797,1,0)","v":0},{"$f":"IF(AB796<>AB797,1,0)","v":0}]
[null,null,null,null,null,null,null,null,null,null,null,null,null,null,null,{"$error":"#N/A"},null,null,null,null,null,null,null,null,null,null,null,null,null,{"$f":"(T797*Setup!$J$17)+(U797*Setup!$J$18)+(V797*Setup!$J$19)+(W797*Setup!$J$22)+X797*(Setup!$J$23)+(Y797*Setup!$J$24)+(Z797*Setup!$J$27)+(AA797*Setup!$J$28)+(AB797*Setup!$J$29)","v":0},"ERROR",1,{"$f":"IF(T797<>U796,1,0)","v":0},{"$f":"IF(V797<>V796,1,0)","v":0},1,{"$f":"IF(W797<>X796,1,0)","v":0},{"$f":"IF(Y797<>Y796,1,0)","v":0},1,{"$f":"IF(Z797<>AA796,1,0)","v":0},{"$f":"IF(AB797<>AB796,1,0)","v":0}]
[null,null,null,null,null,null,null,null,null,null,null,null,null,null,null,{"$f":"VLOOKUP(S798,GE_Teams_DBID,2,FALSE)","v":{"$error":"#N/A"}},null,null,null,null,null,null,null,null,null,null,null,null,null,{"$f":"(T798*Setup!$J$17)+(U798*Setup!$J$18)+(V798*Setup!$J$19)+(W798*Setup!$J$22)+X798*(Setup!$J$23)+(Y798*Setup!$J$24)+(Z798*Setup!$J$27)+(AA798*Setup!$J$28)+(AB798*Setup!$J$29)","v":0},"ERROR",{"$f":"IF((T798+U798+V798)<>18,1,0)","v":1},{"$f":"IF(T798<>U799,1,0)","v":0},{"$f":"IF(V798<>V799,1,0)","v":0},{"$f":"IF((W798+X798+Y798)<>2,1,0)","v":1},{"$f":"IF(W798<>X799,1,0)","v":0},{"$f":"IF(Y798<>Y799,1,0)","v":0},{"$f":"IF((Z798+AA798+AB798)<>1,1,0)","v":1},{"$f":"IF(Z798<>AA799,1,0)","v":0},{"$f":"IF(AB798<>AB799,1,0)","v":0}]
[null,null,null,null,null,null,null,null,null,null,null,null,null,null,null,{"$error":"#N/A"},null,null,null,null,null,null,null,null,null,null,null,null,null,{"$f":"(T799*Setup!$J$17)+(U799*Setup!$J$18)+(V799*Setup!$J$19)+(W799*Setup!$J$22)+X799*(Setup!$J$23)+(Y799*Setup!$J$24)+(Z799*Setup!$J$27)+(AA799*Setup!$J$28)+(AB799*Setup!$J$29)","v":0},{"$f":"IF(SUM(AF799:AN799)>0,\"ERROR\",\"\")","v":"ERROR"},1,{"$f":"IF(T799<>U798,1,0)","v":0},{"$f":"IF(V799<>V798,1,0)","v":0},1,{"$f":"IF(W799<>X798,1,0)","v":0},{"$f":"IF(Y799<>Y798,1,0)","v":0},1,{"$f":"IF(Z799<>AA798,1,0)","v":0},{"$f":"IF(AB799<>AB798,1,0)","v":0}]
[null,null,null,null,null,null,null,null,null,null,null,null,null,null,null,{"$error":"#N/A"},null,null,null,null,null,null,null,null,null,null,null,null,null,{"$f":"(T800*Setup!$J$17)+(U800*Setup!$J$18)+(V800*Setup!$J$19)+(W800*Setup!$J$22)+X800*(Setup!$J$23)+(Y800*Setup!$J$24)+(Z800*Setup!$J$27)+(AA800*Setup!$J$28)+(AB800*Setup!$J$29)","v":0},"ERROR",1,{"$f":"IF(T800<>U801,1,0)","v":0},{"$f":"IF(V800<>V801,1,0)","v":0},1,{"$f":"IF(W800<>X801,1,0)","v":0},{"$f":"IF(Y800<>Y801,1,0)","v":0},1,{"$f":"IF(Z800<>AA801,1,0)","v":0},{"$f":"IF(AB800<>AB801,1,0)","v":0}]
[null,null,null,null,null,null,null,null,null,null,null,null,null,null,null,{"$error":"#N/A"},null,null,null,null,null,null,null,null,null,null,null,null,null,{"$f":"(T801*Setup!$J$17)+(U801*Setup!$J$18)+(V801*Setup!$J$19)+(W801*Setup!$J$22)+X801*(Setup!$J$23)+(Y801*Setup!$J$24)+(Z801*Setup!$J$27)+(AA801*Setup!$J$28)+(AB801*Setup!$J$29)","v":0},"ERROR",1,{"$f":"IF(T801<>U800,1,0)","v":0},{"$f":"IF(V801<>V800,1,0)","v":0},1,{"$f":"IF(W801<>X800,1,0)","v":0},{"$f":"IF(Y801<>Y800,1,0)","v":0},1,{"$f":"IF(Z801<>AA800,1,0)","v":0},{"$f":"IF(AB801<>AB800,1,0)","v":0}]
[null,null,null,null,null,null,null,null,null,null,null,null,null,null,null,{"$error":"#N/A"},null,null,null,null,null,null,null,null,null,null,null,null,null,{"$f":"(T802*Setup!$J$17)+(U802*Setup!$J$18)+(V802*Setup!$J$19)+(W802*Setup!$J$22)+X802*(Setup!$J$23)+(Y802*Setup!$J$24)+(Z802*Setup!$J$27)+(AA802*Setup!$J$28)+(AB802*Setup!$J$29)","v":0},"ERROR",1,{"$f":"IF(T802<>U803,1,0)","v":0},{"$f":"IF(V802<>V803,1,0)","v":0},1,{"$f":"IF(W802<>X803,1,0)","v":0},{"$f":"IF(Y802<>Y803,1,0)","v":0},1,{"$f":"IF(Z802<>AA803,1,0)","v":0},{"$f":"IF(AB802<>AB803,1,0)","v":0}]
[null,null,null,null,null,null,null,null,null,null,null,null,null,null,null,{"$error":"#N/A"},null,null,null,null,null,null,null,null,null,null,null,null,null,{"$f":"(T803*Setup!$J$17)+(U803*Setup!$J$18)+(V803*Setup!$J$19)+(W803*Setup!$J$22)+X803*(Setup!$J$23)+(Y803*Setup!$J$24)+(Z803*Setup!$J$27)+(AA803*Setup!$J$28)+(AB803*Setup!$J$29)","v":0},"ERROR",1,{"$f":"IF(T803<>U802,1,0)","v":0},{"$f":"IF(V803<>V802,1,0)","v":0},1,{"$f":"IF(W803<>X802,1,0)","v":0},{"$f":"IF(Y803<>Y802,1,0)","v":0},1,{"$f":"IF(Z803<>AA802,1,0)","v":0},{"$f":"IF(AB803<>AB802,1,0)","v":0}]
[null,null,null,null,null,null,null,null,null,null,null,null,null,null,null,{"$error":"#N/A"},null,null,null,null,null,null,null,null,null,null,null,null,null,{"$f":"(T804*Setup!$J$17)+(U804*Setup!$J$18)+(V804*Setup!$J$19)+(W804*Setup!$J$22)+X804*(Setup!$J$23)+(Y804*Setup!$J$24)+(Z804*Setup!$J$27)+(AA804*Setup!$J$28)+(AB804*Setup!$J$29)","v":0},"ERROR",1,{"$f":"IF(T804<>U805,1,0)","v":0},{"$f":"IF(V804<>V805,1,0)","v":0},1,{"$f":"IF(W804<>X805,1,0)","v":0},{"$f":"IF(Y804<>Y805,1,0)","v":0},1,{"$f":"IF(Z804<>AA805,1,0)","v":0},{"$f":"IF(AB804<>AB805,1,0)","v":0}]
[null,null,null,null,null,null,null,null,null,null,null,null,null,null,null,{"$error":"#N/A"},null,null,null,null,null,null,null,null,null,null,null,null,null,{"$f":"(T805*Setup!$J$17)+(U805*Setup!$J$18)+(V805*Setup!$J$19)+(W805*Setup!$J$22)+X805*(Setup!$J$23)+(Y805*Setup!$J$24)+(Z805*Setup!$J$27)+(AA805*Setup!$J$28)+(AB805*Setup!$J$29)","v":0},"ERROR",1,{"$f":"IF(T805<>U804,1,0)","v":0},{"$f":"IF(V805<>V804,1,0)","v":0},1,{"$f":"IF(W805<>X804,1,0)","v":0},{"$f":"IF(Y805<>Y804,1,0)","v":0},1,{"$f":"IF(Z805<>AA804,1,0)","v":0},{"$f":"IF(AB805<>AB804,1,0)","v":0}]
[null,null,null,null,null,null,null,null,null,null,null,null,null,null,null,{"$error":"#N/A"},null,null,null,null,null,null,null,null,null,null,null,null,null,{"$f":"(T806*Setup!$J$17)+(U806*Setup!$J$18)+(V806*Setup!$J$19)+(W806*Setup!$J$22)+X806*(Setup!$J$23)+(Y806*Setup!$J$24)+(Z806*Setup!$J$27)+(AA806*Setup!$J$28)+(AB806*Setup!$J$29)","v":0},"ERROR",1,{"$f":"IF(T806<>U807,1,0)","v":0},{"$f":"IF(V806<>V807,1,0)","v":0},1,{"$f":"IF(W806<>X807,1,0)","v":0},{"$f":"IF(Y806<>Y807,1,0)","v":0},1,{"$f":"IF(Z806<>AA807,1,0)","v":0},{"$f":"IF(AB806<>AB807,1,0)","v":0}]
[null,null,null,null,null,null,null,null,null,null,null,null,null,null,null,{"$error":"#N/A"},null,null,null,null,null,null,null,null,null,null,null,null,null,{"$f":"(T807*Setup!$J$17)+(U807*Setup!$J$18)+(V807*Setup!$J$19)+(W807*Setup!$J$22)+X807*(Setup!$J$23)+(Y807*Setup!$J$24)+(Z807*Setup!$J$27)+(AA807*Setup!$J$28)+(AB807*Setup!$J$29)","v":0},"ERROR",1,{"$f":"IF(T807<>U806,1,0)","v":0},{"$f":"IF(V807<>V806,1,0)","v":0},1,{"$f":"IF(W807<>X806,1,0)","v":0},{"$f":"IF(Y807<>Y806,1,0)","v":0},1,{"$f":"IF(Z807<>AA806,1,0)","v":0},{"$f":"IF(AB807<>AB806,1,0)","v":0}]
[null,null,null,null,null,null,null,null,null,null,null,null,null,null,null,{"$error":"#N/A"},null,null,null,null,null,null,null,null,null,null,null,null,null,{"$f":"(T808*Setup!$J$17)+(U808*Setup!$J$18)+(V808*Setup!$J$19)+(W808*Setup!$J$22)+X808*(Setup!$J$23)+(Y808*Setup!$J$24)+(Z808*Setup!$J$27)+(AA808*Setup!$J$28)+(AB808*Setup!$J$29)","v":0},"ERROR",1,{"$f":"IF(T808<>U809,1,0)","v":0},{"$f":"IF(V808<>V809,1,0)","v":0},1,{"$f":"IF(W808<>X809,1,0)","v":0},{"$f":"IF(Y808<>Y809,1,0)","v":0},1,{"$f":"IF(Z808<>AA809,1,0)","v":0},{"$f":"IF(AB808<>AB809,1,0)","v":0}]
[null,null,null,null,null,null,null,null,null,null,null,null,null,null,null,{"$error":"#N/A"},null,null,null,null,null,null,null,null,null,null,null,null,null,{"$f":"(T809*Setup!$J$17)+(U809*Setup!$J$18)+(V809*Setup!$J$19)+(W809*Setup!$J$22)+X809*(Setup!$J$23)+(Y809*Setup!$J$24)+(Z809*Setup!$J$27)+(AA809*Setup!$J$28)+(AB809*Setup!$J$29)","v":0},"ERROR",1,{"$f":"IF(T809<>U808,1,0)","v":0},{"$f":"IF(V809<>V808,1,0)","v":0},1,{"$f":"IF(W809<>X808,1,0)","v":0},{"$f":"IF(Y809<>Y808,1,0)","v":0},1,{"$f":"IF(Z809<>AA808,1,0)","v":0},{"$f":"IF(AB809<>AB808,1,0)","v":0}]
[null,null,null,null,null,null,null,null,null,null,null,null,null,null,null,{"$error":"#N/A"},null,null,null,null,null,null,null,null,null,null,null,null,null,{"$f":"(T810*Setup!$J$17)+(U810*Setup!$J$18)+(V810*Setup!$J$19)+(W810*Setup!$J$22)+X810*(Setup!$J$23)+(Y810*Setup!$J$24)+(Z810*Setup!$J$27)+(AA810*Setup!$J$28)+(AB810*Setup!$J$29)","v":0},"ERROR",1,{"$f":"IF(T810<>U811,1,0)","v":0},{"$f":"IF(V810<>V811,1,0)","v":0},1,{"$f":"IF(W810<>X811,1,0)","v":0},{"$f":"IF(Y810<>Y811,1,0)","v":0},1,{"$f":"IF(Z810<>AA811,1,0)","v":0},{"$f":"IF(AB810<>AB811,1,0)","v":0}]
[null,null,null,null,null,null,null,null,null,null,null,null,null,null,null,{"$error":"#N/A"},null,null,null,null,null,null,null,null,null,null,null,null,null,{"$f":"(T811*Setup!$J$17)+(U811*Setup!$J$18)+(V811*Setup!$J$19)+(W811*Setup!$J$22)+X811*(Setup!$J$23)+(Y811*Setup!$J$24)+(Z811*Setup!$J$27)+(AA811*Setup!$J$28)+(AB811*Setup!$J$29)","v":0},"ERROR",1,{"$f":"IF(T811<>U810,1,0)","v":0},{"$f":"IF(V811<>V810,1,0)","v":0},1,{"$f":"IF(W811<>X810,1,0)","v":0},{"$f":"IF(Y811<>Y810,1,0)","v":0},1,{"$f":"IF(Z811<>AA810,1,0)","v":0},{"$f":"IF(AB811<>AB810,1,0)","v":0}]
[null,null,null,null,null,null,null,null,null,null,null,null,null,null,null,{"$error":"#N/A"},null,null,null,null,null,null,null,null,null,null,null,null,null,{"$f":"(T812*Setup!$J$17)+(U812*Setup!$J$18)+(V812*Setup!$J$19)+(W812*Setup!$J$22)+X812*(Setup!$J$23)+(Y812*Setup!$J$24)+(Z812*Setup!$J$27)+(AA812*Setup!$J$28)+(AB812*Setup!$J$29)","v":0},"ERROR",1,{"$f":"IF(T812<>U813,1,0)","v":0},{"$f":"IF(V812<>V813,1,0)","v":0},1,{"$f":"IF(W812<>X813,1,0)","v":0},{"$f":"IF(Y812<>Y813,1,0)","v":0},1,{"$f":"IF(Z812<>AA813,1,0)","v":0},{"$f":"IF(AB812<>AB813,1,0)","v":0}]
[null,null,null,null,null,null,null,null,null,null,null,null,null,null,null,{"$error":"#N/A"},null,null,null,null,null,null,null,null,null,null,null,null,null,{"$f":"(T813*Setup!$J$17)+(U813*Setup!$J$18)+(V813*Setup!$J$19)+(W813*Setup!$J$22)+X813*(Setup!$J$23)+(Y813*Setup!$J$24)+(Z813*Setup!$J$27)+(AA813*Setup!$J$28)+(AB813*Setup!$J$29)","v":0},"ERROR",1,{"$f":"IF(T813<>U812,1,0)","v":0},{"$f":"IF(V813<>V812,1,0)","v":0},1,{"$f":"IF(W813<>X812,1,0)","v":0},{"$f":"IF(Y813<>Y812,1,0)","v":0},1,{"$f":"IF(Z813<>AA812,1,0)","v":0},{"$f":"IF(AB813<>AB812,1,0)","v":0}]
[null,null,null,null,null,null,null,null,null,null,null,null,null,null,null,{"$error":"#N/A"},null,null,null,null,null,null,null,null,null,null,null,null,null,{"$f":"(T814*Setup!$J$17)+(U814*Setup!$J$18)+(V814*Setup!$J$19)+(W814*Setup!$J$22)+X814*(Setup!$J$23)+(Y814*Setup!$J$24)+(Z814*Setup!$J$27)+(AA814*Setup!$J$28)+(AB814*Setup!$J$29)","v":0},"ERROR",1,{"$f":"IF(T814<>U815,1,0)","v":0},{"$f":"IF(V814<>V815,1,0)","v":0},1,{"$f":"IF(W814<>X815,1,0)","v":0},{"$f":"IF(Y814<>Y815,1,0)","v":0},1,{"$f":"IF(Z814<>AA815,1,0)","v":0},{"$f":"IF(AB814<>AB815,1,0)","v":0}]
[null,null,null,null,null,null,null,null,null,null,null,null,null,null,null,{"$error":"#N/A"},null,null,null,null,null,null,null,null,null,null,null,null,null,{"$f":"(T815*Setup!$J$17)+(U815*Setup!$J$18)+(V815*Setup!$J$19)+(W815*Setup!$J$22)+X815*(Setup!$J$23)+(Y815*Setup!$J$24)+(Z815*Setup!$J$27)+(AA815*Setup!$J$28)+(AB815*Setup!$J$29)","v":0},"ERROR",1,{"$f":"IF(T815<>U814,1,0)","v":0},{"$f":"IF(V815<>V814,1,0)","v":0},1,{"$f":"IF(W815<>X814,1,0)","v":0},{"$f":"IF(Y815<>Y814,1,0)","v":0},1,{"$f":"IF(Z815<>AA814,1,0)","v":0},{"$f":"IF(AB815<>AB814,1,0)","v":0}]
[null,null,null,null,null,null,null,null,null,null,null,null,null,null,null,{"$error":"#N/A"},null,null,null,null,null,null,null,null,null,null,null,null,null,{"$f":"(T816*Setup!$J$17)+(U816*Setup!$J$18)+(V816*Setup!$J$19)+(W816*Setup!$J$22)+X816*(Setup!$J$23)+(Y816*Setup!$J$24)+(Z816*Setup!$J$27)+(AA816*Setup!$J$28)+(AB816*Setup!$J$29)","v":0},"ERROR",1,{"$f":"IF(T816<>U817,1,0)","v":0},{"$f":"IF(V816<>V817,1,0)","v":0},1,{"$f":"IF(W816<>X817,1,0)","v":0},{"$f":"IF(Y816<>Y817,1,0)","v":0},1,{"$f":"IF(Z816<>AA817,1,0)","v":0},{"$f":"IF(AB816<>AB817,1,0)","v":0}]
[null,null,null,null,null,null,null,null,null,null,null,null,null,null,null,{"$error":"#N/A"},null,null,null,null,null,null,null,null,null,null,null,null,null,{"$f":"(T817*Setup!$J$17)+(U817*Setup!$J$18)+(V817*Setup!$J$19)+(W817*Setup!$J$22)+X817*(Setup!$J$23)+(Y817*Setup!$J$24)+(Z817*Setup!$J$27)+(AA817*Setup!$J$28)+(AB817*Setup!$J$29)","v":0},"ERROR",1,{"$f":"IF(T817<>U816,1,0)","v":0},{"$f":"IF(V817<>V816,1,0)","v":0},1,{"$f":"IF(W817<>X816,1,0)","v":0},{"$f":"IF(Y817<>Y816,1,0)","v":0},1,{"$f":"IF(Z817<>AA816,1,0)","v":0},{"$f":"IF(AB817<>AB816,1,0)","v":0}]
[null,null,null,null,null,null,null,null,null,null,null,null,null,null,null,{"$error":"#N/A"},null,null,null,null,null,null,null,null,null,null,null,null,null,{"$f":"(T818*Setup!$J$17)+(U818*Setup!$J$18)+(V818*Setup!$J$19)+(W818*Setup!$J$22)+X818*(Setup!$J$23)+(Y818*Setup!$J$24)+(Z818*Setup!$J$27)+(AA818*Setup!$J$28)+(AB818*Setup!$J$29)","v":0},"ERROR",1,{"$f":"IF(T818<>U819,1,0)","v":0},{"$f":"IF(V818<>V819,1,0)","v":0},1,{"$f":"IF(W818<>X819,1,0)","v":0},{"$f":"IF(Y818<>Y819,1,0)","v":0},1,{"$f":"IF(Z818<>AA819,1,0)","v":0},{"$f":"IF(AB818<>AB819,1,0)","v":0}]
[null,null,null,null,null,null,null,null,null,null,null,null,null,null,null,{"$error":"#N/A"},null,null,null,null,null,null,null,null,null,null,null,null,null,{"$f":"(T819*Setup!$J$17)+(U819*Setup!$J$18)+(V819*Setup!$J$19)+(W819*Setup!$J$22)+X819*(Setup!$J$23)+(Y819*Setup!$J$24)+(Z819*Setup!$J$27)+(AA819*Setup!$J$28)+(AB819*Setup!$J$29)","v":0},"ERROR",1,{"$f":"IF(T819<>U818,1,0)","v":0},{"$f":"IF(V819<>V818,1,0)","v":0},1,{"$f":"IF(W819<>X818,1,0)","v":0},{"$f":"IF(Y819<>Y818,1,0)","v":0},1,{"$f":"IF(Z819<>AA818,1,0)","v":0},{"$f":"IF(AB819<>AB818,1,0)","v":0}]
[null,null,null,null,null,null,null,null,null,null,null,null,null,null,null,{"$error":"#N/A"},null,null,null,null,null,null,null,null,null,null,null,null,null,{"$f":"(T820*Setup!$J$17)+(U820*Setup!$J$18)+(V820*Setup!$J$19)+(W820*Setup!$J$22)+X820*(Setup!$J$23)+(Y820*Setup!$J$24)+(Z820*Setup!$J$27)+(AA820*Setup!$J$28)+(AB820*Setup!$J$29)","v":0},"ERROR",1,{"$f":"IF(T820<>U821,1,0)","v":0},{"$f":"IF(V820<>V821,1,0)","v":0},1,{"$f":"IF(W820<>X821,1,0)","v":0},{"$f":"IF(Y820<>Y821,1,0)","v":0},1,{"$f":"IF(Z820<>AA821,1,0)","v":0},{"$f":"IF(AB820<>AB821,1,0)","v":0}]
[null,null,null,null,null,null,null,null,null,null,null,null,null,null,null,{"$error":"#N/A"},null,null,null,null,null,null,null,null,null,null,null,null,null,{"$f":"(T821*Setup!$J$17)+(U821*Setup!$J$18)+(V821*Setup!$J$19)+(W821*Setup!$J$22)+X821*(Setup!$J$23)+(Y821*Setup!$J$24)+(Z821*Setup!$J$27)+(AA821*Setup!$J$28)+(AB821*Setup!$J$29)","v":0},"ERROR",1,{"$f":"IF(T821<>U820,1,0)","v":0},{"$f":"IF(V821<>V820,1,0)","v":0},1,{"$f":"IF(W821<>X820,1,0)","v":0},{"$f":"IF(Y821<>Y820,1,0)","v":0},1,{"$f":"IF(Z821<>AA820,1,0)","v":0},{"$f":"IF(AB821<>AB820,1,0)","v":0}]
[null,null,null,null,null,null,null,null,null,null,null,null,null,null,null,{"$error":"#N/A"},null,null,null,null,null,null,null,null,null,null,null,null,null,{"$f":"(T822*Setup!$J$17)+(U822*Setup!$J$18)+(V822*Setup!$J$19)+(W822*Setup!$J$22)+X822*(Setup!$J$23)+(Y822*Setup!$J$24)+(Z822*Setup!$J$27)+(AA822*Setup!$J$28)+(AB822*Setup!$J$29)","v":0},"ERROR",1,{"$f":"IF(T822<>U823,1,0)","v":0},{"$f":"IF(V822<>V823,1,0)","v":0},1,{"$f":"IF(W822<>X823,1,0)","v":0},{"$f":"IF(Y822<>Y823,1,0)","v":0},1,{"$f":"IF(Z822<>AA823,1,0)","v":0},{"$f":"IF(AB822<>AB823,1,0)","v":0}]
[null,null,null,null,null,null,null,null,null,null,null,null,null,null,null,{"$error":"#N/A"},null,null,null,null,null,null,null,null,null,null,null,null,null,{"$f":"(T823*Setup!$J$17)+(U823*Setup!$J$18)+(V823*Setup!$J$19)+(W823*Setup!$J$22)+X823*(Setup!$J$23)+(Y823*Setup!$J$24)+(Z823*Setup!$J$27)+(AA823*Setup!$J$28)+(AB823*Setup!$J$29)","v":0},"ERROR",1,{"$f":"IF(T823<>U822,1,0)","v":0},{"$f":"IF(V823<>V822,1,0)","v":0},1,{"$f":"IF(W823<>X822,1,0)","v":0},{"$f":"IF(Y823<>Y822,1,0)","v":0},1,{"$f":"IF(Z823<>AA822,1,0)","v":0},{"$f":"IF(AB823<>AB822,1,0)","v":0}]
[null,null,null,null,null,null,null,null,null,null,null,null,null,null,null,{"$error":"#N/A"},null,null,null,null,null,null,null,null,null,null,null,null,null,{"$f":"(T824*Setup!$J$17)+(U824*Setup!$J$18)+(V824*Setup!$J$19)+(W824*Setup!$J$22)+X824*(Setup!$J$23)+(Y824*Setup!$J$24)+(Z824*Setup!$J$27)+(AA824*Setup!$J$28)+(AB824*Setup!$J$29)","v":0},"ERROR",1,{"$f":"IF(T824<>U825,1,0)","v":0},{"$f":"IF(V824<>V825,1,0)","v":0},1,{"$f":"IF(W824<>X825,1,0)","v":0},{"$f":"IF(Y824<>Y825,1,0)","v":0},1,{"$f":"IF(Z824<>AA825,1,0)","v":0},{"$f":"IF(AB824<>AB825,1,0)","v":0}]
[null,null,null,null,null,null,null,null,null,null,null,null,null,null,null,{"$error":"#N/A"},null,null,null,null,null,null,null,null,null,null,null,null,null,{"$f":"(T825*Setup!$J$17)+(U825*Setup!$J$18)+(V825*Setup!$J$19)+(W825*Setup!$J$22)+X825*(Setup!$J$23)+(Y825*Setup!$J$24)+(Z825*Setup!$J$27)+(AA825*Setup!$J$28)+(AB825*Setup!$J$29)","v":0},"ERROR",1,{"$f":"IF(T825<>U824,1,0)","v":0},{"$f":"IF(V825<>V824,1,0)","v":0},1,{"$f":"IF(W825<>X824,1,0)","v":0},{"$f":"IF(Y825<>Y824,1,0)","v":0},1,{"$f":"IF(Z825<>AA824,1,0)","v":0},{"$f":"IF(AB825<>AB824,1,0)","v":0}]
[null,null,null,null,null,null,null,null,null,null,null,null,null,null,null,{"$error":"#N/A"},null,null,null,null,null,null,null,null,null,null,null,null,null,{"$f":"(T826*Setup!$J$17)+(U826*Setup!$J$18)+(V826*Setup!$J$19)+(W826*Setup!$J$22)+X826*(Setup!$J$23)+(Y826*Setup!$J$24)+(Z826*Setup!$J$27)+(AA826*Setup!$J$28)+(AB826*Setup!$J$29)","v":0},"ERROR",1,{"$f":"IF(T826<>U827,1,0)","v":0},{"$f":"IF(V826<>V827,1,0)","v":0},1,{"$f":"IF(W826<>X827,1,0)","v":0},{"$f":"IF(Y826<>Y827,1,0)","v":0},1,{"$f":"IF(Z826<>AA827,1,0)","v":0},{"$f":"IF(AB826<>AB827,1,0)","v":0}]
[null,null,null,null,null,null,null,null,null,null,null,null,null,null,null,{"$error":"#N/A"},null,null,null,null,null,null,null,null,null,null,null,null,null,{"$f":"(T827*Setup!$J$17)+(U827*Setup!$J$18)+(V827*Setup!$J$19)+(W827*Setup!$J$22)+X827*(Setup!$J$23)+(Y827*Setup!$J$24)+(Z827*Setup!$J$27)+(AA827*Setup!$J$28)+(AB827*Setup!$J$29)","v":0},"ERROR",1,{"$f":"IF(T827<>U826,1,0)","v":0},{"$f":"IF(V827<>V826,1,0)","v":0},1,{"$f":"IF(W827<>X826,1,0)","v":0},{"$f":"IF(Y827<>Y826,1,0)","v":0},1,{"$f":"IF(Z827<>AA826,1,0)","v":0},{"$f":"IF(AB827<>AB826,1,0)","v":0}]
[null,null,null,null,null,null,null,null,null,null,null,null,null,null,null,{"$error":"#N/A"},null,null,null,null,null,null,null,null,null,null,null,null,null,{"$f":"(T828*Setup!$J$17)+(U828*Setup!$J$18)+(V828*Setup!$J$19)+(W828*Setup!$J$22)+X828*(Setup!$J$23)+(Y828*Setup!$J$24)+(Z828*Setup!$J$27)+(AA828*Setup!$J$28)+(AB828*Setup!$J$29)","v":0},"ERROR",1,{"$f":"IF(T828<>U829,1,0)","v":0},{"$f":"IF(V828<>V829,1,0)","v":0},1,{"$f":"IF(W828<>X829,1,0)","v":0},{"$f":"IF(Y828<>Y829,1,0)","v":0},1,{"$f":"IF(Z828<>AA829,1,0)","v":0},{"$f":"IF(AB828<>AB829,1,0)","v":0}]
[null,null,null,null,null,null,null,null,null,null,null,null,null,null,null,{"$error":"#N/A"},null,null,null,null,null,null,null,null,null,null,null,null,null,{"$f":"(T829*Setup!$J$17)+(U829*Setup!$J$18)+(V829*Setup!$J$19)+(W829*Setup!$J$22)+X829*(Setup!$J$23)+(Y829*Setup!$J$24)+(Z829*Setup!$J$27)+(AA829*Setup!$J$28)+(AB829*Setup!$J$29)","v":0},"ERROR",1,{"$f":"IF(T829<>U828,1,0)","v":0},{"$f":"IF(V829<>V828,1,0)","v":0},1,{"$f":"IF(W829<>X828,1,0)","v":0},{"$f":"IF(Y829<>Y828,1,0)","v":0},1,{"$f":"IF(Z829<>AA828,1,0)","v":0},{"$f":"IF(AB829<>AB828,1,0)","v":0}]
[null,null,null,null,null,null,null,null,null,null,null,null,null,null,null,{"$error":"#N/A"},null,null,null,null,null,null,null,null,null,null,null,null,null,{"$f":"(T830*Setup!$J$17)+(U830*Setup!$J$18)+(V830*Setup!$J$19)+(W830*Setup!$J$22)+X830*(Setup!$J$23)+(Y830*Setup!$J$24)+(Z830*Setup!$J$27)+(AA830*Setup!$J$28)+(AB830*Setup!$J$29)","v":0},"ERROR",1,{"$f":"IF(T830<>U831,1,0)","v":0},{"$f":"IF(V830<>V831,1,0)","v":0},1,{"$f":"IF(W830<>X831,1,0)","v":0},{"$f":"IF(Y830<>Y831,1,0)","v":0},1,{"$f":"IF(Z830<>AA831,1,0)","v":0},{"$f":"IF(AB830<>AB831,1,0)","v":0}]
[null,null,null,null,null,null,null,null,null,null,null,null,null,null,null,{"$error":"#N/A"},null,null,null,null,null,null,null,null,null,null,null,null,null,{"$f":"(T831*Setup!$J$17)+(U831*Setup!$J$18)+(V831*Setup!$J$19)+(W831*Setup!$J$22)+X831*(Setup!$J$23)+(Y831*Setup!$J$24)+(Z831*Setup!$J$27)+(AA831*Setup!$J$28)+(AB831*Setup!$J$29)","v":0},"ERROR",1,{"$f":"IF(T831<>U830,1,0)","v":0},{"$f":"IF(V831<>V830,1,0)","v":0},1,{"$f":"IF(W831<>X830,1,0)","v":0},{"$f":"IF(Y831<>Y830,1,0)","v":0},1,{"$f":"IF(Z831<>AA830,1,0)","v":0},{"$f":"IF(AB831<>AB830,1,0)","v":0}]
[null,null,null,null,null,null,null,null,null,null,null,null,null,null,null,{"$error":"#N/A"},null,null,null,null,null,null,null,null,null,null,null,null,null,{"$f":"(T832*Setup!$J$17)+(U832*Setup!$J$18)+(V832*Setup!$J$19)+(W832*Setup!$J$22)+X832*(Setup!$J$23)+(Y832*Setup!$J$24)+(Z832*Setup!$J$27)+(AA832*Setup!$J$28)+(AB832*Setup!$J$29)","v":0},"ERROR",1,{"$f":"IF(T832<>U833,1,0)","v":0},{"$f":"IF(V832<>V833,1,0)","v":0},1,{"$f":"IF(W832<>X833,1,0)","v":0},{"$f":"IF(Y832<>Y833,1,0)","v":0},1,{"$f":"IF(Z832<>AA833,1,0)","v":0},{"$f":"IF(AB832<>AB833,1,0)","v":0}]
[null,null,null,null,null,null,null,null,null,null,null,null,null,null,null,{"$error":"#N/A"},null,null,null,null,null,null,null,null,null,null,null,null,null,{"$f":"(T833*Setup!$J$17)+(U833*Setup!$J$18)+(V833*Setup!$J$19)+(W833*Setup!$J$22)+X833*(Setup!$J$23)+(Y833*Setup!$J$24)+(Z833*Setup!$J$27)+(AA833*Setup!$J$28)+(AB833*Setup!$J$29)","v":0},"ERROR",1,{"$f":"IF(T833<>U832,1,0)","v":0},{"$f":"IF(V833<>V832,1,0)","v":0},1,{"$f":"IF(W833<>X832,1,0)","v":0},{"$f":"IF(Y833<>Y832,1,0)","v":0},1,{"$f":"IF(Z833<>AA832,1,0)","v":0},{"$f":"IF(AB833<>AB832,1,0)","v":0}]
[null,null,null,null,null,null,null,null,null,null,null,null,null,null,null,{"$error":"#N/A"},null,null,null,null,null,null,null,null,null,null,null,null,null,{"$f":"(T834*Setup!$J$17)+(U834*Setup!$J$18)+(V834*Setup!$J$19)+(W834*Setup!$J$22)+X834*(Setup!$J$23)+(Y834*Setup!$J$24)+(Z834*Setup!$J$27)+(AA834*Setup!$J$28)+(AB834*Setup!$J$29)","v":0},"ERROR",1,{"$f":"IF(T834<>U835,1,0)","v":0},{"$f":"IF(V834<>V835,1,0)","v":0},1,{"$f":"IF(W834<>X835,1,0)","v":0},{"$f":"IF(Y834<>Y835,1,0)","v":0},1,{"$f":"IF(Z834<>AA835,1,0)","v":0},{"$f":"IF(AB834<>AB835,1,0)","v":0}]
[null,null,null,null,null,null,null,null,null,null,null,null,null,null,null,{"$error":"#N/A"},null,null,null,null,null,null,null,null,null,null,null,null,null,{"$f":"(T835*Setup!$J$17)+(U835*Setup!$J$18)+(V835*Setup!$J$19)+(W835*Setup!$J$22)+X835*(Setup!$J$23)+(Y835*Setup!$J$24)+(Z835*Setup!$J$27)+(AA835*Setup!$J$28)+(AB835*Setup!$J$29)","v":0},"ERROR",1,{"$f":"IF(T835<>U834,1,0)","v":0},{"$f":"IF(V835<>V834,1,0)","v":0},1,{"$f":"IF(W835<>X834,1,0)","v":0},{"$f":"IF(Y835<>Y834,1,0)","v":0},1,{"$f":"IF(Z835<>AA834,1,0)","v":0},{"$f":"IF(AB835<>AB834,1,0)","v":0}]
[null,null,null,null,null,null,null,null,null,null,null,null,null,null,null,{"$error":"#N/A"},null,null,null,null,null,null,null,null,null,null,null,null,null,{"$f":"(T836*Setup!$J$17)+(U836*Setup!$J$18)+(V836*Setup!$J$19)+(W836*Setup!$J$22)+X836*(Setup!$J$23)+(Y836*Setup!$J$24)+(Z836*Setup!$J$27)+(AA836*Setup!$J$28)+(AB836*Setup!$J$29)","v":0},"ERROR",1,{"$f":"IF(T836<>U837,1,0)","v":0},{"$f":"IF(V836<>V837,1,0)","v":0},1,{"$f":"IF(W836<>X837,1,0)","v":0},{"$f":"IF(Y836<>Y837,1,0)","v":0},1,{"$f":"IF(Z836<>AA837,1,0)","v":0},{"$f":"IF(AB836<>AB837,1,0)","v":0}]
[null,null,null,null,null,null,null,null,null,null,null,null,null,null,null,{"$error":"#N/A"},null,null,null,null,null,null,null,null,null,null,null,null,null,{"$f":"(T837*Setup!$J$17)+(U837*Setup!$J$18)+(V837*Setup!$J$19)+(W837*Setup!$J$22)+X837*(Setup!$J$23)+(Y837*Setup!$J$24)+(Z837*Setup!$J$27)+(AA837*Setup!$J$28)+(AB837*Setup!$J$29)","v":0},"ERROR",1,{"$f":"IF(T837<>U836,1,0)","v":0},{"$f":"IF(V837<>V836,1,0)","v":0},1,{"$f":"IF(W837<>X836,1,0)","v":0},{"$f":"IF(Y837<>Y836,1,0)","v":0},1,{"$f":"IF(Z837<>AA836,1,0)","v":0},{"$f":"IF(AB837<>AB836,1,0)","v":0}]
[null,null,null,null,null,null,null,null,null,null,null,null,null,null,null,{"$error":"#N/A"},null,null,null,null,null,null,null,null,null,null,null,null,null,{"$f":"(T838*Setup!$J$17)+(U838*Setup!$J$18)+(V838*Setup!$J$19)+(W838*Setup!$J$22)+X838*(Setup!$J$23)+(Y838*Setup!$J$24)+(Z838*Setup!$J$27)+(AA838*Setup!$J$28)+(AB838*Setup!$J$29)","v":0},"ERROR",1,{"$f":"IF(T838<>U839,1,0)","v":0},{"$f":"IF(V838<>V839,1,0)","v":0},1,{"$f":"IF(W838<>X839,1,0)","v":0},{"$f":"IF(Y838<>Y839,1,0)","v":0},1,{"$f":"IF(Z838<>AA839,1,0)","v":0},{"$f":"IF(AB838<>AB839,1,0)","v":0}]
[null,null,null,null,null,null,null,null,null,null,null,null,null,null,null,{"$error":"#N/A"},null,null,null,null,null,null,null,null,null,null,null,null,null,{"$f":"(T839*Setup!$J$17)+(U839*Setup!$J$18)+(V839*Setup!$J$19)+(W839*Setup!$J$22)+X839*(Setup!$J$23)+(Y839*Setup!$J$24)+(Z839*Setup!$J$27)+(AA839*Setup!$J$28)+(AB839*Setup!$J$29)","v":0},"ERROR",1,{"$f":"IF(T839<>U838,1,0)","v":0},{"$f":"IF(V839<>V838,1,0)","v":0},1,{"$f":"IF(W839<>X838,1,0)","v":0},{"$f":"IF(Y839<>Y838,1,0)","v":0},1,{"$f":"IF(Z839<>AA838,1,0)","v":0},{"$f":"IF(AB839<>AB838,1,0)","v":0}]
[null,null,null,null,null,null,null,null,null,null,null,null,null,null,null,{"$error":"#N/A"},null,null,null,null,null,null,null,null,null,null,null,null,null,{"$f":"(T840*Setup!$J$17)+(U840*Setup!$J$18)+(V840*Setup!$J$19)+(W840*Setup!$J$22)+X840*(Setup!$J$23)+(Y840*Setup!$J$24)+(Z840*Setup!$J$27)+(AA840*Setup!$J$28)+(AB840*Setup!$J$29)","v":0},"ERROR",1,{"$f":"IF(T840<>U841,1,0)","v":0},{"$f":"IF(V840<>V841,1,0)","v":0},1,{"$f":"IF(W840<>X841,1,0)","v":0},{"$f":"IF(Y840<>Y841,1,0)","v":0},1,{"$f":"IF(Z840<>AA841,1,0)","v":0},{"$f":"IF(AB840<>AB841,1,0)","v":0}]
[null,null,null,null,null,null,null,null,null,null,null,null,null,null,null,{"$error":"#N/A"},null,null,null,null,null,null,null,null,null,null,null,null,null,{"$f":"(T841*Setup!$J$17)+(U841*Setup!$J$18)+(V841*Setup!$J$19)+(W841*Setup!$J$22)+X841*(Setup!$J$23)+(Y841*Setup!$J$24)+(Z841*Setup!$J$27)+(AA841*Setup!$J$28)+(AB841*Setup!$J$29)","v":0},"ERROR",1,{"$f":"IF(T841<>U840,1,0)","v":0},{"$f":"IF(V841<>V840,1,0)","v":0},1,{"$f":"IF(W841<>X840,1,0)","v":0},{"$f":"IF(Y841<>Y840,1,0)","v":0},1,{"$f":"IF(Z841<>AA840,1,0)","v":0},{"$f":"IF(AB841<>AB840,1,0)","v":0}]
[null,null,null,null,null,null,null,null,null,null,null,null,null,null,null,{"$error":"#N/A"},null,null,null,null,null,null,null,null,null,null,null,null,null,{"$f":"(T842*Setup!$J$17)+(U842*Setup!$J$18)+(V842*Setup!$J$19)+(W842*Setup!$J$22)+X842*(Setup!$J$23)+(Y842*Setup!$J$24)+(Z842*Setup!$J$27)+(AA842*Setup!$J$28)+(AB842*Setup!$J$29)","v":0},"ERROR",1,{"$f":"IF(T842<>U843,1,0)","v":0},{"$f":"IF(V842<>V843,1,0)","v":0},1,{"$f":"IF(W842<>X843,1,0)","v":0},{"$f":"IF(Y842<>Y843,1,0)","v":0},1,{"$f":"IF(Z842<>AA843,1,0)","v":0},{"$f":"IF(AB842<>AB843,1,0)","v":0}]
[null,null,null,null,null,null,null,null,null,null,null,null,null,null,null,{"$error":"#N/A"},null,null,null,null,null,null,null,null,null,null,null,null,null,{"$f":"(T843*Setup!$J$17)+(U843*Setup!$J$18)+(V843*Setup!$J$19)+(W843*Setup!$J$22)+X843*(Setup!$J$23)+(Y843*Setup!$J$24)+(Z843*Setup!$J$27)+(AA843*Setup!$J$28)+(AB843*Setup!$J$29)","v":0},"ERROR",1,{"$f":"IF(T843<>U842,1,0)","v":0},{"$f":"IF(V843<>V842,1,0)","v":0},1,{"$f":"IF(W843<>X842,1,0)","v":0},{"$f":"IF(Y843<>Y842,1,0)","v":0},1,{"$f":"IF(Z843<>AA842,1,0)","v":0},{"$f":"IF(AB843<>AB842,1,0)","v":0}]
[null,null,null,null,null,null,null,null,null,null,null,null,null,null,null,{"$error":"#N/A"},null,null,null,null,null,null,null,null,null,null,null,null,null,{"$f":"(T844*Setup!$J$17)+(U844*Setup!$J$18)+(V844*Setup!$J$19)+(W844*Setup!$J$22)+X844*(Setup!$J$23)+(Y844*Setup!$J$24)+(Z844*Setup!$J$27)+(AA844*Setup!$J$28)+(AB844*Setup!$J$29)","v":0},"ERROR",1,{"$f":"IF(T844<>U845,1,0)","v":0},{"$f":"IF(V844<>V845,1,0)","v":0},1,{"$f":"IF(W844<>X845,1,0)","v":0},{"$f":"IF(Y844<>Y845,1,0)","v":0},1,{"$f":"IF(Z844<>AA845,1,0)","v":0},{"$f":"IF(AB844<>AB845,1,0)","v":0}]
[null,null,null,null,null,null,null,null,null,null,null,null,null,null,null,{"$error":"#N/A"},null,null,null,null,null,null,null,null,null,null,null,null,null,{"$f":"(T845*Setup!$J$17)+(U845*Setup!$J$18)+(V845*Setup!$J$19)+(W845*Setup!$J$22)+X845*(Setup!$J$23)+(Y845*Setup!$J$24)+(Z845*Setup!$J$27)+(AA845*Setup!$J$28)+(AB845*Setup!$J$29)","v":0},"ERROR",1,{"$f":"IF(T845<>U844,1,0)","v":0},{"$f":"IF(V845<>V844,1,0)","v":0},1,{"$f":"IF(W845<>X844,1,0)","v":0},{"$f":"IF(Y845<>Y844,1,0)","v":0},1,{"$f":"IF(Z845<>AA844,1,0)","v":0},{"$f":"IF(AB845<>AB844,1,0)","v":0}]
[null,null,null,null,null,null,null,null,null,null,null,null,null,null,null,{"$error":"#N/A"},null,null,null,null,null,null,null,null,null,null,null,null,null,{"$f":"(T846*Setup!$J$17)+(U846*Setup!$J$18)+(V846*Setup!$J$19)+(W846*Setup!$J$22)+X846*(Setup!$J$23)+(Y846*Setup!$J$24)+(Z846*Setup!$J$27)+(AA846*Setup!$J$28)+(AB846*Setup!$J$29)","v":0},"ERROR",1,{"$f":"IF(T846<>U847,1,0)","v":0},{"$f":"IF(V846<>V847,1,0)","v":0},1,{"$f":"IF(W846<>X847,1,0)","v":0},{"$f":"IF(Y846<>Y847,1,0)","v":0},1,{"$f":"IF(Z846<>AA847,1,0)","v":0},{"$f":"IF(AB846<>AB847,1,0)","v":0}]
[null,null,null,null,null,null,null,null,null,null,null,null,null,null,null,{"$error":"#N/A"},null,null,null,null,null,null,null,null,null,null,null,null,null,{"$f":"(T847*Setup!$J$17)+(U847*Setup!$J$18)+(V847*Setup!$J$19)+(W847*Setup!$J$22)+X847*(Setup!$J$23)+(Y847*Setup!$J$24)+(Z847*Setup!$J$27)+(AA847*Setup!$J$28)+(AB847*Setup!$J$29)","v":0},"ERROR",1,{"$f":"IF(T847<>U846,1,0)","v":0},{"$f":"IF(V847<>V846,1,0)","v":0},1,{"$f":"IF(W847<>X846,1,0)","v":0},{"$f":"IF(Y847<>Y846,1,0)","v":0},1,{"$f":"IF(Z847<>AA846,1,0)","v":0},{"$f":"IF(AB847<>AB846,1,0)","v":0}]
[null,null,null,null,null,null,null,null,null,null,null,null,null,null,null,{"$error":"#N/A"},null,null,null,null,null,null,null,null,null,null,null,null,null,{"$f":"(T848*Setup!$J$17)+(U848*Setup!$J$18)+(V848*Setup!$J$19)+(W848*Setup!$J$22)+X848*(Setup!$J$23)+(Y848*Setup!$J$24)+(Z848*Setup!$J$27)+(AA848*Setup!$J$28)+(AB848*Setup!$J$29)","v":0},"ERROR",1,{"$f":"IF(T848<>U849,1,0)","v":0},{"$f":"IF(V848<>V849,1,0)","v":0},1,{"$f":"IF(W848<>X849,1,0)","v":0},{"$f":"IF(Y848<>Y849,1,0)","v":0},1,{"$f":"IF(Z848<>AA849,1,0)","v":0},{"$f":"IF(AB848<>AB849,1,0)","v":0}]
[null,null,null,null,null,null,null,null,null,null,null,null,null,null,null,{"$error":"#N/A"},null,null,null,null,null,null,null,null,null,null,null,null,null,{"$f":"(T849*Setup!$J$17)+(U849*Setup!$J$18)+(V849*Setup!$J$19)+(W849*Setup!$J$22)+X849*(Setup!$J$23)+(Y849*Setup!$J$24)+(Z849*Setup!$J$27)+(AA849*Setup!$J$28)+(AB849*Setup!$J$29)","v":0},"ERROR",1,{"$f":"IF(T849<>U848,1,0)","v":0},{"$f":"IF(V849<>V848,1,0)","v":0},1,{"$f":"IF(W849<>X848,1,0)","v":0},{"$f":"IF(Y849<>Y848,1,0)","v":0},1,{"$f":"IF(Z849<>AA848,1,0)","v":0},{"$f":"IF(AB849<>AB848,1,0)","v":0}]
[null,null,null,null,null,null,null,null,null,null,null,null,null,null,null,{"$error":"#N/A"},null,null,null,null,null,null,null,null,null,null,null,null,null,{"$f":"(T850*Setup!$J$17)+(U850*Setup!$J$18)+(V850*Setup!$J$19)+(W850*Setup!$J$22)+X850*(Setup!$J$23)+(Y850*Setup!$J$24)+(Z850*Setup!$J$27)+(AA850*Setup!$J$28)+(AB850*Setup!$J$29)","v":0},"ERROR",1,{"$f":"IF(T850<>U851,1,0)","v":0},{"$f":"IF(V850<>V851,1,0)","v":0},1,{"$f":"IF(W850<>X851,1,0)","v":0},{"$f":"IF(Y850<>Y851,1,0)","v":0},1,{"$f":"IF(Z850<>AA851,1,0)","v":0},{"$f":"IF(AB850<>AB851,1,0)","v":0}]
[null,null,null,null,null,null,null,null,null,null,null,null,null,null,null,{"$error":"#N/A"},null,null,null,null,null,null,null,null,null,null,null,null,null,{"$f":"(T851*Setup!$J$17)+(U851*Setup!$J$18)+(V851*Setup!$J$19)+(W851*Setup!$J$22)+X851*(Setup!$J$23)+(Y851*Setup!$J$24)+(Z851*Setup!$J$27)+(AA851*Setup!$J$28)+(AB851*Setup!$J$29)","v":0},"ERROR",1,{"$f":"IF(T851<>U850,1,0)","v":0},{"$f":"IF(V851<>V850,1,0)","v":0},1,{"$f":"IF(W851<>X850,1,0)","v":0},{"$f":"IF(Y851<>Y850,1,0)","v":0},1,{"$f":"IF(Z851<>AA850,1,0)","v":0},{"$f":"IF(AB851<>AB850,1,0)","v":0}]
[null,null,null,null,null,null,null,null,null,null,null,null,null,null,null,{"$error":"#N/A"},null,null,null,null,null,null,null,null,null,null,null,null,null,{"$f":"(T852*Setup!$J$17)+(U852*Setup!$J$18)+(V852*Setup!$J$19)+(W852*Setup!$J$22)+X852*(Setup!$J$23)+(Y852*Setup!$J$24)+(Z852*Setup!$J$27)+(AA852*Setup!$J$28)+(AB852*Setup!$J$29)","v":0},"ERROR",1,{"$f":"IF(T852<>U853,1,0)","v":0},{"$f":"IF(V852<>V853,1,0)","v":0},1,{"$f":"IF(W852<>X853,1,0)","v":0},{"$f":"IF(Y852<>Y853,1,0)","v":0},1,{"$f":"IF(Z852<>AA853,1,0)","v":0},{"$f":"IF(AB852<>AB853,1,0)","v":0}]
[null,null,null,null,null,null,null,null,null,null,null,null,null,null,null,{"$error":"#N/A"},null,null,null,null,null,null,null,null,null,null,null,null,null,{"$f":"(T853*Setup!$J$17)+(U853*Setup!$J$18)+(V853*Setup!$J$19)+(W853*Setup!$J$22)+X853*(Setup!$J$23)+(Y853*Setup!$J$24)+(Z853*Setup!$J$27)+(AA853*Setup!$J$28)+(AB853*Setup!$J$29)","v":0},"ERROR",1,{"$f":"IF(T853<>U852,1,0)","v":0},{"$f":"IF(V853<>V852,1,0)","v":0},1,{"$f":"IF(W853<>X852,1,0)","v":0},{"$f":"IF(Y853<>Y852,1,0)","v":0},1,{"$f":"IF(Z853<>AA852,1,0)","v":0},{"$f":"IF(AB853<>AB852,1,0)","v":0}]
[null,null,null,null,null,null,null,null,null,null,null,null,null,null,null,{"$error":"#N/A"},null,null,null,null,null,null,null,null,null,null,null,null,null,{"$f":"(T854*Setup!$J$17)+(U854*Setup!$J$18)+(V854*Setup!$J$19)+(W854*Setup!$J$22)+X854*(Setup!$J$23)+(Y854*Setup!$J$24)+(Z854*Setup!$J$27)+(AA854*Setup!$J$28)+(AB854*Setup!$J$29)","v":0},"ERROR",1,{"$f":"IF(T854<>U855,1,0)","v":0},{"$f":"IF(V854<>V855,1,0)","v":0},1,{"$f":"IF(W854<>X855,1,0)","v":0},{"$f":"IF(Y854<>Y855,1,0)","v":0},1,{"$f":"IF(Z854<>AA855,1,0)","v":0},{"$f":"IF(AB854<>AB855,1,0)","v":0}]
[null,null,null,null,null,null,null,null,null,null,null,null,null,null,null,{"$error":"#N/A"},null,null,null,null,null,null,null,null,null,null,null,null,null,{"$f":"(T855*Setup!$J$17)+(U855*Setup!$J$18)+(V855*Setup!$J$19)+(W855*Setup!$J$22)+X855*(Setup!$J$23)+(Y855*Setup!$J$24)+(Z855*Setup!$J$27)+(AA855*Setup!$J$28)+(AB855*Setup!$J$29)","v":0},"ERROR",1,{"$f":"IF(T855<>U854,1,0)","v":0},{"$f":"IF(V855<>V854,1,0)","v":0},1,{"$f":"IF(W855<>X854,1,0)","v":0},{"$f":"IF(Y855<>Y854,1,0)","v":0},1,{"$f":"IF(Z855<>AA854,1,0)","v":0},{"$f":"IF(AB855<>AB854,1,0)","v":0}]
[null,null,null,null,null,null,null,null,null,null,null,null,null,null,null,{"$error":"#N/A"},null,null,null,null,null,null,null,null,null,null,null,null,null,{"$f":"(T856*Setup!$J$17)+(U856*Setup!$J$18)+(V856*Setup!$J$19)+(W856*Setup!$J$22)+X856*(Setup!$J$23)+(Y856*Setup!$J$24)+(Z856*Setup!$J$27)+(AA856*Setup!$J$28)+(AB856*Setup!$J$29)","v":0},"ERROR",1,{"$f":"IF(T856<>U857,1,0)","v":0},{"$f":"IF(V856<>V857,1,0)","v":0},1,{"$f":"IF(W856<>X857,1,0)","v":0},{"$f":"IF(Y856<>Y857,1,0)","v":0},1,{"$f":"IF(Z856<>AA857,1,0)","v":0},{"$f":"IF(AB856<>AB857,1,0)","v":0}]
[null,null,null,null,null,null,null,null,null,null,null,null,null,null,null,{"$error":"#N/A"},null,null,null,null,null,null,null,null,null,null,null,null,null,{"$f":"(T857*Setup!$J$17)+(U857*Setup!$J$18)+(V857*Setup!$J$19)+(W857*Setup!$J$22)+X857*(Setup!$J$23)+(Y857*Setup!$J$24)+(Z857*Setup!$J$27)+(AA857*Setup!$J$28)+(AB857*Setup!$J$29)","v":0},"ERROR",1,{"$f":"IF(T857<>U856,1,0)","v":0},{"$f":"IF(V857<>V856,1,0)","v":0},1,{"$f":"IF(W857<>X856,1,0)","v":0},{"$f":"IF(Y857<>Y856,1,0)","v":0},1,{"$f":"IF(Z857<>AA856,1,0)","v":0},{"$f":"IF(AB857<>AB856,1,0)","v":0}]
[null,null,null,null,null,null,null,null,null,null,null,null,null,null,null,{"$error":"#N/A"},null,null,null,null,null,null,null,null,null,null,null,null,null,{"$f":"(T858*Setup!$J$17)+(U858*Setup!$J$18)+(V858*Setup!$J$19)+(W858*Setup!$J$22)+X858*(Setup!$J$23)+(Y858*Setup!$J$24)+(Z858*Setup!$J$27)+(AA858*Setup!$J$28)+(AB858*Setup!$J$29)","v":0},"ERROR",1,{"$f":"IF(T858<>U859,1,0)","v":0},{"$f":"IF(V858<>V859,1,0)","v":0},1,{"$f":"IF(W858<>X859,1,0)","v":0},{"$f":"IF(Y858<>Y859,1,0)","v":0},1,{"$f":"IF(Z858<>AA859,1,0)","v":0},{"$f":"IF(AB858<>AB859,1,0)","v":0}]
[null,null,null,null,null,null,null,null,null,null,null,null,null,null,null,{"$error":"#N/A"},null,null,null,null,null,null,null,null,null,null,null,null,null,{"$f":"(T859*Setup!$J$17)+(U859*Setup!$J$18)+(V859*Setup!$J$19)+(W859*Setup!$J$22)+X859*(Setup!$J$23)+(Y859*Setup!$J$24)+(Z859*Setup!$J$27)+(AA859*Setup!$J$28)+(AB859*Setup!$J$29)","v":0},"ERROR",1,{"$f":"IF(T859<>U858,1,0)","v":0},{"$f":"IF(V859<>V858,1,0)","v":0},1,{"$f":"IF(W859<>X858,1,0)","v":0},{"$f":"IF(Y859<>Y858,1,0)","v":0},1,{"$f":"IF(Z859<>AA858,1,0)","v":0},{"$f":"IF(AB859<>AB858,1,0)","v":0}]
[null,null,null,null,null,null,null,null,null,null,null,null,null,null,null,{"$error":"#N/A"},null,null,null,null,null,null,null,null,null,null,null,null,null,{"$f":"(T860*Setup!$J$17)+(U860*Setup!$J$18)+(V860*Setup!$J$19)+(W860*Setup!$J$22)+X860*(Setup!$J$23)+(Y860*Setup!$J$24)+(Z860*Setup!$J$27)+(AA860*Setup!$J$28)+(AB860*Setup!$J$29)","v":0},"ERROR",1,{"$f":"IF(T860<>U861,1,0)","v":0},{"$f":"IF(V860<>V861,1,0)","v":0},1,{"$f":"IF(W860<>X861,1,0)","v":0},{"$f":"IF(Y860<>Y861,1,0)","v":0},1,{"$f":"IF(Z860<>AA861,1,0)","v":0},{"$f":"IF(AB860<>AB861,1,0)","v":0}]
[null,null,null,null,null,null,null,null,null,null,null,null,null,null,null,{"$error":"#N/A"},null,null,null,null,null,null,null,null,null,null,null,null,null,{"$f":"(T861*Setup!$J$17)+(U861*Setup!$J$18)+(V861*Setup!$J$19)+(W861*Setup!$J$22)+X861*(Setup!$J$23)+(Y861*Setup!$J$24)+(Z861*Setup!$J$27)+(AA861*Setup!$J$28)+(AB861*Setup!$J$29)","v":0},"ERROR",1,{"$f":"IF(T861<>U860,1,0)","v":0},{"$f":"IF(V861<>V860,1,0)","v":0},1,{"$f":"IF(W861<>X860,1,0)","v":0},{"$f":"IF(Y861<>Y860,1,0)","v":0},1,{"$f":"IF(Z861<>AA860,1,0)","v":0},{"$f":"IF(AB861<>AB860,1,0)","v":0}]
[null,null,null,null,null,null,null,null,null,null,null,null,null,null,null,{"$f":"VLOOKUP(S862,GE_Teams_DBID,2,FALSE)","v":{"$error":"#N/A"}},null,null,null,null,null,null,null,null,null,null,null,null,null,{"$f":"(T862*Setup!$J$17)+(U862*Setup!$J$18)+(V862*Setup!$J$19)+(W862*Setup!$J$22)+X862*(Setup!$J$23)+(Y862*Setup!$J$24)+(Z862*Setup!$J$27)+(AA862*Setup!$J$28)+(AB862*Setup!$J$29)","v":0},"ERROR",{"$f":"IF((T862+U862+V862)<>18,1,0)","v":1},{"$f":"IF(T862<>U863,1,0)","v":0},{"$f":"IF(V862<>V863,1,0)","v":0},{"$f":"IF((W862+X862+Y862)<>2,1,0)","v":1},{"$f":"IF(W862<>X863,1,0)","v":0},{"$f":"IF(Y862<>Y863,1,0)","v":0},{"$f":"IF((Z862+AA862+AB862)<>1,1,0)","v":1},{"$f":"IF(Z862<>AA863,1,0)","v":0},{"$f":"IF(AB862<>AB863,1,0)","v":0}]
[null,null,null,null,null,null,null,null,null,null,null,null,null,null,null,{"$error":"#N/A"},null,null,null,null,null,null,null,null,null,null,null,null,null,{"$f":"(T863*Setup!$J$17)+(U863*Setup!$J$18)+(V863*Setup!$J$19)+(W863*Setup!$J$22)+X863*(Setup!$J$23)+(Y863*Setup!$J$24)+(Z863*Setup!$J$27)+(AA863*Setup!$J$28)+(AB863*Setup!$J$29)","v":0},{"$f":"IF(SUM(AF863:AN863)>0,\"ERROR\",\"\")","v":"ERROR"},1,{"$f":"IF(T863<>U862,1,0)","v":0},{"$f":"IF(V863<>V862,1,0)","v":0},1,{"$f":"IF(W863<>X862,1,0)","v":0},{"$f":"IF(Y863<>Y862,1,0)","v":0},1,{"$f":"IF(Z863<>AA862,1,0)","v":0},{"$f":"IF(AB863<>AB862,1,0)","v":0}]
[null,null,null,null,null,null,null,null,null,null,null,null,null,null,null,{"$error":"#N/A"},null,null,null,null,null,null,null,null,null,null,null,null,null,{"$f":"(T864*Setup!$J$17)+(U864*Setup!$J$18)+(V864*Setup!$J$19)+(W864*Setup!$J$22)+X864*(Setup!$J$23)+(Y864*Setup!$J$24)+(Z864*Setup!$J$27)+(AA864*Setup!$J$28)+(AB864*Setup!$J$29)","v":0},"ERROR",1,{"$f":"IF(T864<>U865,1,0)","v":0},{"$f":"IF(V864<>V865,1,0)","v":0},1,{"$f":"IF(W864<>X865,1,0)","v":0},{"$f":"IF(Y864<>Y865,1,0)","v":0},1,{"$f":"IF(Z864<>AA865,1,0)","v":0},{"$f":"IF(AB864<>AB865,1,0)","v":0}]
[null,null,null,null,null,null,null,null,null,null,null,null,null,null,null,{"$error":"#N/A"},null,null,null,null,null,null,null,null,null,null,null,null,null,{"$f":"(T865*Setup!$J$17)+(U865*Setup!$J$18)+(V865*Setup!$J$19)+(W865*Setup!$J$22)+X865*(Setup!$J$23)+(Y865*Setup!$J$24)+(Z865*Setup!$J$27)+(AA865*Setup!$J$28)+(AB865*Setup!$J$29)","v":0},"ERROR",1,{"$f":"IF(T865<>U864,1,0)","v":0},{"$f":"IF(V865<>V864,1,0)","v":0},1,{"$f":"IF(W865<>X864,1,0)","v":0},{"$f":"IF(Y865<>Y864,1,0)","v":0},1,{"$f":"IF(Z865<>AA864,1,0)","v":0},{"$f":"IF(AB865<>AB864,1,0)","v":0}]
[null,null,null,null,null,null,null,null,null,null,null,null,null,null,null,{"$error":"#N/A"},null,null,null,null,null,null,null,null,null,null,null,null,null,{"$f":"(T866*Setup!$J$17)+(U866*Setup!$J$18)+(V866*Setup!$J$19)+(W866*Setup!$J$22)+X866*(Setup!$J$23)+(Y866*Setup!$J$24)+(Z866*Setup!$J$27)+(AA866*Setup!$J$28)+(AB866*Setup!$J$29)","v":0},"ERROR",1,{"$f":"IF(T866<>U867,1,0)","v":0},{"$f":"IF(V866<>V867,1,0)","v":0},1,{"$f":"IF(W866<>X867,1,0)","v":0},{"$f":"IF(Y866<>Y867,1,0)","v":0},1,{"$f":"IF(Z866<>AA867,1,0)","v":0},{"$f":"IF(AB866<>AB867,1,0)","v":0}]
[null,null,null,null,null,null,null,null,null,null,null,null,null,null,null,{"$error":"#N/A"},null,null,null,null,null,null,null,null,null,null,null,null,null,{"$f":"(T867*Setup!$J$17)+(U867*Setup!$J$18)+(V867*Setup!$J$19)+(W867*Setup!$J$22)+X867*(Setup!$J$23)+(Y867*Setup!$J$24)+(Z867*Setup!$J$27)+(AA867*Setup!$J$28)+(AB867*Setup!$J$29)","v":0},"ERROR",1,{"$f":"IF(T867<>U866,1,0)","v":0},{"$f":"IF(V867<>V866,1,0)","v":0},1,{"$f":"IF(W867<>X866,1,0)","v":0},{"$f":"IF(Y867<>Y866,1,0)","v":0},1,{"$f":"IF(Z867<>AA866,1,0)","v":0},{"$f":"IF(AB867<>AB866,1,0)","v":0}]
[null,null,null,null,null,null,null,null,null,null,null,null,null,null,null,{"$error":"#N/A"},null,null,null,null,null,null,null,null,null,null,null,null,null,{"$f":"(T868*Setup!$J$17)+(U868*Setup!$J$18)+(V868*Setup!$J$19)+(W868*Setup!$J$22)+X868*(Setup!$J$23)+(Y868*Setup!$J$24)+(Z868*Setup!$J$27)+(AA868*Setup!$J$28)+(AB868*Setup!$J$29)","v":0},"ERROR",1,{"$f":"IF(T868<>U869,1,0)","v":0},{"$f":"IF(V868<>V869,1,0)","v":0},1,{"$f":"IF(W868<>X869,1,0)","v":0},{"$f":"IF(Y868<>Y869,1,0)","v":0},1,{"$f":"IF(Z868<>AA869,1,0)","v":0},{"$f":"IF(AB868<>AB869,1,0)","v":0}]
[null,null,null,null,null,null,null,null,null,null,null,null,null,null,null,{"$error":"#N/A"},null,null,null,null,null,null,null,null,null,null,null,null,null,{"$f":"(T869*Setup!$J$17)+(U869*Setup!$J$18)+(V869*Setup!$J$19)+(W869*Setup!$J$22)+X869*(Setup!$J$23)+(Y869*Setup!$J$24)+(Z869*Setup!$J$27)+(AA869*Setup!$J$28)+(AB869*Setup!$J$29)","v":0},"ERROR",1,{"$f":"IF(T869<>U868,1,0)","v":0},{"$f":"IF(V869<>V868,1,0)","v":0},1,{"$f":"IF(W869<>X868,1,0)","v":0},{"$f":"IF(Y869<>Y868,1,0)","v":0},1,{"$f":"IF(Z869<>AA868,1,0)","v":0},{"$f":"IF(AB869<>AB868,1,0)","v":0}]
[null,null,null,null,null,null,null,null,null,null,null,null,null,null,null,{"$error":"#N/A"},null,null,null,null,null,null,null,null,null,null,null,null,null,{"$f":"(T870*Setup!$J$17)+(U870*Setup!$J$18)+(V870*Setup!$J$19)+(W870*Setup!$J$22)+X870*(Setup!$J$23)+(Y870*Setup!$J$24)+(Z870*Setup!$J$27)+(AA870*Setup!$J$28)+(AB870*Setup!$J$29)","v":0},"ERROR",1,{"$f":"IF(T870<>U871,1,0)","v":0},{"$f":"IF(V870<>V871,1,0)","v":0},1,{"$f":"IF(W870<>X871,1,0)","v":0},{"$f":"IF(Y870<>Y871,1,0)","v":0},1,{"$f":"IF(Z870<>AA871,1,0)","v":0},{"$f":"IF(AB870<>AB871,1,0)","v":0}]
[null,null,null,null,null,null,null,null,null,null,null,null,null,null,null,{"$error":"#N/A"},null,null,null,null,null,null,null,null,null,null,null,null,null,{"$f":"(T871*Setup!$J$17)+(U871*Setup!$J$18)+(V871*Setup!$J$19)+(W871*Setup!$J$22)+X871*(Setup!$J$23)+(Y871*Setup!$J$24)+(Z871*Setup!$J$27)+(AA871*Setup!$J$28)+(AB871*Setup!$J$29)","v":0},"ERROR",1,{"$f":"IF(T871<>U870,1,0)","v":0},{"$f":"IF(V871<>V870,1,0)","v":0},1,{"$f":"IF(W871<>X870,1,0)","v":0},{"$f":"IF(Y871<>Y870,1,0)","v":0},1,{"$f":"IF(Z871<>AA870,1,0)","v":0},{"$f":"IF(AB871<>AB870,1,0)","v":0}]
[null,null,null,null,null,null,null,null,null,null,null,null,null,null,null,{"$error":"#N/A"},null,null,null,null,null,null,null,null,null,null,null,null,null,{"$f":"(T872*Setup!$J$17)+(U872*Setup!$J$18)+(V872*Setup!$J$19)+(W872*Setup!$J$22)+X872*(Setup!$J$23)+(Y872*Setup!$J$24)+(Z872*Setup!$J$27)+(AA872*Setup!$J$28)+(AB872*Setup!$J$29)","v":0},"ERROR",1,{"$f":"IF(T872<>U873,1,0)","v":0},{"$f":"IF(V872<>V873,1,0)","v":0},1,{"$f":"IF(W872<>X873,1,0)","v":0},{"$f":"IF(Y872<>Y873,1,0)","v":0},1,{"$f":"IF(Z872<>AA873,1,0)","v":0},{"$f":"IF(AB872<>AB873,1,0)","v":0}]
[null,null,null,null,null,null,null,null,null,null,null,null,null,null,null,{"$error":"#N/A"},null,null,null,null,null,null,null,null,null,null,null,null,null,{"$f":"(T873*Setup!$J$17)+(U873*Setup!$J$18)+(V873*Setup!$J$19)+(W873*Setup!$J$22)+X873*(Setup!$J$23)+(Y873*Setup!$J$24)+(Z873*Setup!$J$27)+(AA873*Setup!$J$28)+(AB873*Setup!$J$29)","v":0},"ERROR",1,{"$f":"IF(T873<>U872,1,0)","v":0},{"$f":"IF(V873<>V872,1,0)","v":0},1,{"$f":"IF(W873<>X872,1,0)","v":0},{"$f":"IF(Y873<>Y872,1,0)","v":0},1,{"$f":"IF(Z873<>AA872,1,0)","v":0},{"$f":"IF(AB873<>AB872,1,0)","v":0}]
[null,null,null,null,null,null,null,null,null,null,null,null,null,null,null,{"$error":"#N/A"},null,null,null,null,null,null,null,null,null,null,null,null,null,{"$f":"(T874*Setup!$J$17)+(U874*Setup!$J$18)+(V874*Setup!$J$19)+(W874*Setup!$J$22)+X874*(Setup!$J$23)+(Y874*Setup!$J$24)+(Z874*Setup!$J$27)+(AA874*Setup!$J$28)+(AB874*Setup!$J$29)","v":0},"ERROR",1,{"$f":"IF(T874<>U875,1,0)","v":0},{"$f":"IF(V874<>V875,1,0)","v":0},1,{"$f":"IF(W874<>X875,1,0)","v":0},{"$f":"IF(Y874<>Y875,1,0)","v":0},1,{"$f":"IF(Z874<>AA875,1,0)","v":0},{"$f":"IF(AB874<>AB875,1,0)","v":0}]
[null,null,null,null,null,null,null,null,null,null,null,null,null,null,null,{"$error":"#N/A"},null,null,null,null,null,null,null,null,null,null,null,null,null,{"$f":"(T875*Setup!$J$17)+(U875*Setup!$J$18)+(V875*Setup!$J$19)+(W875*Setup!$J$22)+X875*(Setup!$J$23)+(Y875*Setup!$J$24)+(Z875*Setup!$J$27)+(AA875*Setup!$J$28)+(AB875*Setup!$J$29)","v":0},"ERROR",1,{"$f":"IF(T875<>U874,1,0)","v":0},{"$f":"IF(V875<>V874,1,0)","v":0},1,{"$f":"IF(W875<>X874,1,0)","v":0},{"$f":"IF(Y875<>Y874,1,0)","v":0},1,{"$f":"IF(Z875<>AA874,1,0)","v":0},{"$f":"IF(AB875<>AB874,1,0)","v":0}]
[null,null,null,null,null,null,null,null,null,null,null,null,null,null,null,{"$error":"#N/A"},null,null,null,null,null,null,null,null,null,null,null,null,null,{"$f":"(T876*Setup!$J$17)+(U876*Setup!$J$18)+(V876*Setup!$J$19)+(W876*Setup!$J$22)+X876*(Setup!$J$23)+(Y876*Setup!$J$24)+(Z876*Setup!$J$27)+(AA876*Setup!$J$28)+(AB876*Setup!$J$29)","v":0},"ERROR",1,{"$f":"IF(T876<>U877,1,0)","v":0},{"$f":"IF(V876<>V877,1,0)","v":0},1,{"$f":"IF(W876<>X877,1,0)","v":0},{"$f":"IF(Y876<>Y877,1,0)","v":0},1,{"$f":"IF(Z876<>AA877,1,0)","v":0},{"$f":"IF(AB876<>AB877,1,0)","v":0}]
[null,null,null,null,null,null,null,null,null,null,null,null,null,null,null,{"$error":"#N/A"},null,null,null,null,null,null,null,null,null,null,null,null,null,{"$f":"(T877*Setup!$J$17)+(U877*Setup!$J$18)+(V877*Setup!$J$19)+(W877*Setup!$J$22)+X877*(Setup!$J$23)+(Y877*Setup!$J$24)+(Z877*Setup!$J$27)+(AA877*Setup!$J$28)+(AB877*Setup!$J$29)","v":0},"ERROR",1,{"$f":"IF(T877<>U876,1,0)","v":0},{"$f":"IF(V877<>V876,1,0)","v":0},1,{"$f":"IF(W877<>X876,1,0)","v":0},{"$f":"IF(Y877<>Y876,1,0)","v":0},1,{"$f":"IF(Z877<>AA876,1,0)","v":0},{"$f":"IF(AB877<>AB876,1,0)","v":0}]
[null,null,null,null,null,null,null,null,null,null,null,null,null,null,null,{"$error":"#N/A"},null,null,null,null,null,null,null,null,null,null,null,null,null,{"$f":"(T878*Setup!$J$17)+(U878*Setup!$J$18)+(V878*Setup!$J$19)+(W878*Setup!$J$22)+X878*(Setup!$J$23)+(Y878*Setup!$J$24)+(Z878*Setup!$J$27)+(AA878*Setup!$J$28)+(AB878*Setup!$J$29)","v":0},"ERROR",1,{"$f":"IF(T878<>U879,1,0)","v":0},{"$f":"IF(V878<>V879,1,0)","v":0},1,{"$f":"IF(W878<>X879,1,0)","v":0},{"$f":"IF(Y878<>Y879,1,0)","v":0},1,{"$f":"IF(Z878<>AA879,1,0)","v":0},{"$f":"IF(AB878<>AB879,1,0)","v":0}]
[null,null,null,null,null,null,null,null,null,null,null,null,null,null,null,{"$error":"#N/A"},null,null,null,null,null,null,null,null,null,null,null,null,null,{"$f":"(T879*Setup!$J$17)+(U879*Setup!$J$18)+(V879*Setup!$J$19)+(W879*Setup!$J$22)+X879*(Setup!$J$23)+(Y879*Setup!$J$24)+(Z879*Setup!$J$27)+(AA879*Setup!$J$28)+(AB879*Setup!$J$29)","v":0},"ERROR",1,{"$f":"IF(T879<>U878,1,0)","v":0},{"$f":"IF(V879<>V878,1,0)","v":0},1,{"$f":"IF(W879<>X878,1,0)","v":0},{"$f":"IF(Y879<>Y878,1,0)","v":0},1,{"$f":"IF(Z879<>AA878,1,0)","v":0},{"$f":"IF(AB879<>AB878,1,0)","v":0}]
[null,null,null,null,null,null,null,null,null,null,null,null,null,null,null,{"$error":"#N/A"},null,null,null,null,null,null,null,null,null,null,null,null,null,{"$f":"(T880*Setup!$J$17)+(U880*Setup!$J$18)+(V880*Setup!$J$19)+(W880*Setup!$J$22)+X880*(Setup!$J$23)+(Y880*Setup!$J$24)+(Z880*Setup!$J$27)+(AA880*Setup!$J$28)+(AB880*Setup!$J$29)","v":0},"ERROR",1,{"$f":"IF(T880<>U881,1,0)","v":0},{"$f":"IF(V880<>V881,1,0)","v":0},1,{"$f":"IF(W880<>X881,1,0)","v":0},{"$f":"IF(Y880<>Y881,1,0)","v":0},1,{"$f":"IF(Z880<>AA881,1,0)","v":0},{"$f":"IF(AB880<>AB881,1,0)","v":0}]
[null,null,null,null,null,null,null,null,null,null,null,null,null,null,null,{"$error":"#N/A"},null,null,null,null,null,null,null,null,null,null,null,null,null,{"$f":"(T881*Setup!$J$17)+(U881*Setup!$J$18)+(V881*Setup!$J$19)+(W881*Setup!$J$22)+X881*(Setup!$J$23)+(Y881*Setup!$J$24)+(Z881*Setup!$J$27)+(AA881*Setup!$J$28)+(AB881*Setup!$J$29)","v":0},"ERROR",1,{"$f":"IF(T881<>U880,1,0)","v":0},{"$f":"IF(V881<>V880,1,0)","v":0},1,{"$f":"IF(W881<>X880,1,0)","v":0},{"$f":"IF(Y881<>Y880,1,0)","v":0},1,{"$f":"IF(Z881<>AA880,1,0)","v":0},{"$f":"IF(AB881<>AB880,1,0)","v":0}]
[null,null,null,null,null,null,null,null,null,null,null,null,null,null,null,{"$error":"#N/A"},null,null,null,null,null,null,null,null,null,null,null,null,null,{"$f":"(T882*Setup!$J$17)+(U882*Setup!$J$18)+(V882*Setup!$J$19)+(W882*Setup!$J$22)+X882*(Setup!$J$23)+(Y882*Setup!$J$24)+(Z882*Setup!$J$27)+(AA882*Setup!$J$28)+(AB882*Setup!$J$29)","v":0},"ERROR",1,{"$f":"IF(T882<>U883,1,0)","v":0},{"$f":"IF(V882<>V883,1,0)","v":0},1,{"$f":"IF(W882<>X883,1,0)","v":0},{"$f":"IF(Y882<>Y883,1,0)","v":0},1,{"$f":"IF(Z882<>AA883,1,0)","v":0},{"$f":"IF(AB882<>AB883,1,0)","v":0}]
[null,null,null,null,null,null,null,null,null,null,null,null,null,null,null,{"$error":"#N/A"},null,null,null,null,null,null,null,null,null,null,null,null,null,{"$f":"(T883*Setup!$J$17)+(U883*Setup!$J$18)+(V883*Setup!$J$19)+(W883*Setup!$J$22)+X883*(Setup!$J$23)+(Y883*Setup!$J$24)+(Z883*Setup!$J$27)+(AA883*Setup!$J$28)+(AB883*Setup!$J$29)","v":0},"ERROR",1,{"$f":"IF(T883<>U882,1,0)","v":0},{"$f":"IF(V883<>V882,1,0)","v":0},1,{"$f":"IF(W883<>X882,1,0)","v":0},{"$f":"IF(Y883<>Y882,1,0)","v":0},1,{"$f":"IF(Z883<>AA882,1,0)","v":0},{"$f":"IF(AB883<>AB882,1,0)","v":0}]
[null,null,null,null,null,null,null,null,null,null,null,null,null,null,null,{"$error":"#N/A"},null,null,null,null,null,null,null,null,null,null,null,null,null,{"$f":"(T884*Setup!$J$17)+(U884*Setup!$J$18)+(V884*Setup!$J$19)+(W884*Setup!$J$22)+X884*(Setup!$J$23)+(Y884*Setup!$J$24)+(Z884*Setup!$J$27)+(AA884*Setup!$J$28)+(AB884*Setup!$J$29)","v":0},"ERROR",1,{"$f":"IF(T884<>U885,1,0)","v":0},{"$f":"IF(V884<>V885,1,0)","v":0},1,{"$f":"IF(W884<>X885,1,0)","v":0},{"$f":"IF(Y884<>Y885,1,0)","v":0},1,{"$f":"IF(Z884<>AA885,1,0)","v":0},{"$f":"IF(AB884<>AB885,1,0)","v":0}]
[null,null,null,null,null,null,null,null,null,null,null,null,null,null,null,{"$error":"#N/A"},null,null,null,null,null,null,null,null,null,null,null,null,null,{"$f":"(T885*Setup!$J$17)+(U885*Setup!$J$18)+(V885*Setup!$J$19)+(W885*Setup!$J$22)+X885*(Setup!$J$23)+(Y885*Setup!$J$24)+(Z885*Setup!$J$27)+(AA885*Setup!$J$28)+(AB885*Setup!$J$29)","v":0},"ERROR",1,{"$f":"IF(T885<>U884,1,0)","v":0},{"$f":"IF(V885<>V884,1,0)","v":0},1,{"$f":"IF(W885<>X884,1,0)","v":0},{"$f":"IF(Y885<>Y884,1,0)","v":0},1,{"$f":"IF(Z885<>AA884,1,0)","v":0},{"$f":"IF(AB885<>AB884,1,0)","v":0}]
[null,null,null,null,null,null,null,null,null,null,null,null,null,null,null,{"$error":"#N/A"},null,null,null,null,null,null,null,null,null,null,null,null,null,{"$f":"(T886*Setup!$J$17)+(U886*Setup!$J$18)+(V886*Setup!$J$19)+(W886*Setup!$J$22)+X886*(Setup!$J$23)+(Y886*Setup!$J$24)+(Z886*Setup!$J$27)+(AA886*Setup!$J$28)+(AB886*Setup!$J$29)","v":0},"ERROR",1,{"$f":"IF(T886<>U887,1,0)","v":0},{"$f":"IF(V886<>V887,1,0)","v":0},1,{"$f":"IF(W886<>X887,1,0)","v":0},{"$f":"IF(Y886<>Y887,1,0)","v":0},1,{"$f":"IF(Z886<>AA887,1,0)","v":0},{"$f":"IF(AB886<>AB887,1,0)","v":0}]
[null,null,null,null,null,null,null,null,null,null,null,null,null,null,null,{"$error":"#N/A"},null,null,null,null,null,null,null,null,null,null,null,null,null,{"$f":"(T887*Setup!$J$17)+(U887*Setup!$J$18)+(V887*Setup!$J$19)+(W887*Setup!$J$22)+X887*(Setup!$J$23)+(Y887*Setup!$J$24)+(Z887*Setup!$J$27)+(AA887*Setup!$J$28)+(AB887*Setup!$J$29)","v":0},"ERROR",1,{"$f":"IF(T887<>U886,1,0)","v":0},{"$f":"IF(V887<>V886,1,0)","v":0},1,{"$f":"IF(W887<>X886,1,0)","v":0},{"$f":"IF(Y887<>Y886,1,0)","v":0},1,{"$f":"IF(Z887<>AA886,1,0)","v":0},{"$f":"IF(AB887<>AB886,1,0)","v":0}]
[null,null,null,null,null,null,null,null,null,null,null,null,null,null,null,{"$error":"#N/A"},null,null,null,null,null,null,null,null,null,null,null,null,null,{"$f":"(T888*Setup!$J$17)+(U888*Setup!$J$18)+(V888*Setup!$J$19)+(W888*Setup!$J$22)+X888*(Setup!$J$23)+(Y888*Setup!$J$24)+(Z888*Setup!$J$27)+(AA888*Setup!$J$28)+(AB888*Setup!$J$29)","v":0},"ERROR",1,{"$f":"IF(T888<>U889,1,0)","v":0},{"$f":"IF(V888<>V889,1,0)","v":0},1,{"$f":"IF(W888<>X889,1,0)","v":0},{"$f":"IF(Y888<>Y889,1,0)","v":0},1,{"$f":"IF(Z888<>AA889,1,0)","v":0},{"$f":"IF(AB888<>AB889,1,0)","v":0}]
[null,null,null,null,null,null,null,null,null,null,null,null,null,null,null,{"$error":"#N/A"},null,null,null,null,null,null,null,null,null,null,null,null,null,{"$f":"(T889*Setup!$J$17)+(U889*Setup!$J$18)+(V889*Setup!$J$19)+(W889*Setup!$J$22)+X889*(Setup!$J$23)+(Y889*Setup!$J$24)+(Z889*Setup!$J$27)+(AA889*Setup!$J$28)+(AB889*Setup!$J$29)","v":0},"ERROR",1,{"$f":"IF(T889<>U888,1,0)","v":0},{"$f":"IF(V889<>V888,1,0)","v":0},1,{"$f":"IF(W889<>X888,1,0)","v":0},{"$f":"IF(Y889<>Y888,1,0)","v":0},1,{"$f":"IF(Z889<>AA888,1,0)","v":0},{"$f":"IF(AB889<>AB888,1,0)","v":0}]
[null,null,null,null,null,null,null,null,null,null,null,null,null,null,null,{"$error":"#N/A"},null,null,null,null,null,null,null,null,null,null,null,null,null,{"$f":"(T890*Setup!$J$17)+(U890*Setup!$J$18)+(V890*Setup!$J$19)+(W890*Setup!$J$22)+X890*(Setup!$J$23)+(Y890*Setup!$J$24)+(Z890*Setup!$J$27)+(AA890*Setup!$J$28)+(AB890*Setup!$J$29)","v":0},"ERROR",1,{"$f":"IF(T890<>U891,1,0)","v":0},{"$f":"IF(V890<>V891,1,0)","v":0},1,{"$f":"IF(W890<>X891,1,0)","v":0},{"$f":"IF(Y890<>Y891,1,0)","v":0},1,{"$f":"IF(Z890<>AA891,1,0)","v":0},{"$f":"IF(AB890<>AB891,1,0)","v":0}]
[null,null,null,null,null,null,null,null,null,null,null,null,null,null,null,{"$error":"#N/A"},null,null,null,null,null,null,null,null,null,null,null,null,null,{"$f":"(T891*Setup!$J$17)+(U891*Setup!$J$18)+(V891*Setup!$J$19)+(W891*Setup!$J$22)+X891*(Setup!$J$23)+(Y891*Setup!$J$24)+(Z891*Setup!$J$27)+(AA891*Setup!$J$28)+(AB891*Setup!$J$29)","v":0},"ERROR",1,{"$f":"IF(T891<>U890,1,0)","v":0},{"$f":"IF(V891<>V890,1,0)","v":0},1,{"$f":"IF(W891<>X890,1,0)","v":0},{"$f":"IF(Y891<>Y890,1,0)","v":0},1,{"$f":"IF(Z891<>AA890,1,0)","v":0},{"$f":"IF(AB891<>AB890,1,0)","v":0}]
[null,null,null,null,null,null,null,null,null,null,null,null,null,null,null,{"$error":"#N/A"},null,null,null,null,null,null,null,null,null,null,null,null,null,{"$f":"(T892*Setup!$J$17)+(U892*Setup!$J$18)+(V892*Setup!$J$19)+(W892*Setup!$J$22)+X892*(Setup!$J$23)+(Y892*Setup!$J$24)+(Z892*Setup!$J$27)+(AA892*Setup!$J$28)+(AB892*Setup!$J$29)","v":0},"ERROR",1,{"$f":"IF(T892<>U893,1,0)","v":0},{"$f":"IF(V892<>V893,1,0)","v":0},1,{"$f":"IF(W892<>X893,1,0)","v":0},{"$f":"IF(Y892<>Y893,1,0)","v":0},1,{"$f":"IF(Z892<>AA893,1,0)","v":0},{"$f":"IF(AB892<>AB893,1,0)","v":0}]
[null,null,null,null,null,null,null,null,null,null,null,null,null,null,null,{"$error":"#N/A"},null,null,null,null,null,null,null,null,null,null,null,null,null,{"$f":"(T893*Setup!$J$17)+(U893*Setup!$J$18)+(V893*Setup!$J$19)+(W893*Setup!$J$22)+X893*(Setup!$J$23)+(Y893*Setup!$J$24)+(Z893*Setup!$J$27)+(AA893*Setup!$J$28)+(AB893*Setup!$J$29)","v":0},"ERROR",1,{"$f":"IF(T893<>U892,1,0)","v":0},{"$f":"IF(V893<>V892,1,0)","v":0},1,{"$f":"IF(W893<>X892,1,0)","v":0},{"$f":"IF(Y893<>Y892,1,0)","v":0},1,{"$f":"IF(Z893<>AA892,1,0)","v":0},{"$f":"IF(AB893<>AB892,1,0)","v":0}]
[null,null,null,null,null,null,null,null,null,null,null,null,null,null,null,{"$error":"#N/A"},null,null,null,null,null,null,null,null,null,null,null,null,null,{"$f":"(T894*Setup!$J$17)+(U894*Setup!$J$18)+(V894*Setup!$J$19)+(W894*Setup!$J$22)+X894*(Setup!$J$23)+(Y894*Setup!$J$24)+(Z894*Setup!$J$27)+(AA894*Setup!$J$28)+(AB894*Setup!$J$29)","v":0},"ERROR",1,{"$f":"IF(T894<>U895,1,0)","v":0},{"$f":"IF(V894<>V895,1,0)","v":0},1,{"$f":"IF(W894<>X895,1,0)","v":0},{"$f":"IF(Y894<>Y895,1,0)","v":0},1,{"$f":"IF(Z894<>AA895,1,0)","v":0},{"$f":"IF(AB894<>AB895,1,0)","v":0}]
[null,null,null,null,null,null,null,null,null,null,null,null,null,null,null,{"$error":"#N/A"},null,null,null,null,null,null,null,null,null,null,null,null,null,{"$f":"(T895*Setup!$J$17)+(U895*Setup!$J$18)+(V895*Setup!$J$19)+(W895*Setup!$J$22)+X895*(Setup!$J$23)+(Y895*Setup!$J$24)+(Z895*Setup!$J$27)+(AA895*Setup!$J$28)+(AB895*Setup!$J$29)","v":0},"ERROR",1,{"$f":"IF(T895<>U894,1,0)","v":0},{"$f":"IF(V895<>V894,1,0)","v":0},1,{"$f":"IF(W895<>X894,1,0)","v":0},{"$f":"IF(Y895<>Y894,1,0)","v":0},1,{"$f":"IF(Z895<>AA894,1,0)","v":0},{"$f":"IF(AB895<>AB894,1,0)","v":0}]
[null,null,null,null,null,null,null,null,null,null,null,null,null,null,null,{"$error":"#N/A"},null,null,null,null,null,null,null,null,null,null,null,null,null,{"$f":"(T896*Setup!$J$17)+(U896*Setup!$J$18)+(V896*Setup!$J$19)+(W896*Setup!$J$22)+X896*(Setup!$J$23)+(Y896*Setup!$J$24)+(Z896*Setup!$J$27)+(AA896*Setup!$J$28)+(AB896*Setup!$J$29)","v":0},"ERROR",1,{"$f":"IF(T896<>U897,1,0)","v":0},{"$f":"IF(V896<>V897,1,0)","v":0},1,{"$f":"IF(W896<>X897,1,0)","v":0},{"$f":"IF(Y896<>Y897,1,0)","v":0},1,{"$f":"IF(Z896<>AA897,1,0)","v":0},{"$f":"IF(AB896<>AB897,1,0)","v":0}]
[null,null,null,null,null,null,null,null,null,null,null,null,null,null,null,{"$error":"#N/A"},null,null,null,null,null,null,null,null,null,null,null,null,null,{"$f":"(T897*Setup!$J$17)+(U897*Setup!$J$18)+(V897*Setup!$J$19)+(W897*Setup!$J$22)+X897*(Setup!$J$23)+(Y897*Setup!$J$24)+(Z897*Setup!$J$27)+(AA897*Setup!$J$28)+(AB897*Setup!$J$29)","v":0},"ERROR",1,{"$f":"IF(T897<>U896,1,0)","v":0},{"$f":"IF(V897<>V896,1,0)","v":0},1,{"$f":"IF(W897<>X896,1,0)","v":0},{"$f":"IF(Y897<>Y896,1,0)","v":0},1,{"$f":"IF(Z897<>AA896,1,0)","v":0},{"$f":"IF(AB897<>AB896,1,0)","v":0}]
[null,null,null,null,null,null,null,null,null,null,null,null,null,null,null,{"$error":"#N/A"},null,null,null,null,null,null,null,null,null,null,null,null,null,{"$f":"(T898*Setup!$J$17)+(U898*Setup!$J$18)+(V898*Setup!$J$19)+(W898*Setup!$J$22)+X898*(Setup!$J$23)+(Y898*Setup!$J$24)+(Z898*Setup!$J$27)+(AA898*Setup!$J$28)+(AB898*Setup!$J$29)","v":0},"ERROR",1,{"$f":"IF(T898<>U899,1,0)","v":0},{"$f":"IF(V898<>V899,1,0)","v":0},1,{"$f":"IF(W898<>X899,1,0)","v":0},{"$f":"IF(Y898<>Y899,1,0)","v":0},1,{"$f":"IF(Z898<>AA899,1,0)","v":0},{"$f":"IF(AB898<>AB899,1,0)","v":0}]
[null,null,null,null,null,null,null,null,null,null,null,null,null,null,null,{"$error":"#N/A"},null,null,null,null,null,null,null,null,null,null,null,null,null,{"$f":"(T899*Setup!$J$17)+(U899*Setup!$J$18)+(V899*Setup!$J$19)+(W899*Setup!$J$22)+X899*(Setup!$J$23)+(Y899*Setup!$J$24)+(Z899*Setup!$J$27)+(AA899*Setup!$J$28)+(AB899*Setup!$J$29)","v":0},"ERROR",1,{"$f":"IF(T899<>U898,1,0)","v":0},{"$f":"IF(V899<>V898,1,0)","v":0},1,{"$f":"IF(W899<>X898,1,0)","v":0},{"$f":"IF(Y899<>Y898,1,0)","v":0},1,{"$f":"IF(Z899<>AA898,1,0)","v":0},{"$f":"IF(AB899<>AB898,1,0)","v":0}]
[null,null,null,null,null,null,null,null,null,null,null,null,null,null,null,{"$error":"#N/A"},null,null,null,null,null,null,null,null,null,null,null,null,null,{"$f":"(T900*Setup!$J$17)+(U900*Setup!$J$18)+(V900*Setup!$J$19)+(W900*Setup!$J$22)+X900*(Setup!$J$23)+(Y900*Setup!$J$24)+(Z900*Setup!$J$27)+(AA900*Setup!$J$28)+(AB900*Setup!$J$29)","v":0},"ERROR",1,{"$f":"IF(T900<>U901,1,0)","v":0},{"$f":"IF(V900<>V901,1,0)","v":0},1,{"$f":"IF(W900<>X901,1,0)","v":0},{"$f":"IF(Y900<>Y901,1,0)","v":0},1,{"$f":"IF(Z900<>AA901,1,0)","v":0},{"$f":"IF(AB900<>AB901,1,0)","v":0}]
[null,null,null,null,null,null,null,null,null,null,null,null,null,null,null,{"$error":"#N/A"},null,null,null,null,null,null,null,null,null,null,null,null,null,{"$f":"(T901*Setup!$J$17)+(U901*Setup!$J$18)+(V901*Setup!$J$19)+(W901*Setup!$J$22)+X901*(Setup!$J$23)+(Y901*Setup!$J$24)+(Z901*Setup!$J$27)+(AA901*Setup!$J$28)+(AB901*Setup!$J$29)","v":0},"ERROR",1,{"$f":"IF(T901<>U900,1,0)","v":0},{"$f":"IF(V901<>V900,1,0)","v":0},1,{"$f":"IF(W901<>X900,1,0)","v":0},{"$f":"IF(Y901<>Y900,1,0)","v":0},1,{"$f":"IF(Z901<>AA900,1,0)","v":0},{"$f":"IF(AB901<>AB900,1,0)","v":0}]
[null,null,null,null,null,null,null,null,null,null,null,null,null,null,null,{"$error":"#N/A"},null,null,null,null,null,null,null,null,null,null,null,null,null,{"$f":"(T902*Setup!$J$17)+(U902*Setup!$J$18)+(V902*Setup!$J$19)+(W902*Setup!$J$22)+X902*(Setup!$J$23)+(Y902*Setup!$J$24)+(Z902*Setup!$J$27)+(AA902*Setup!$J$28)+(AB902*Setup!$J$29)","v":0},"ERROR",1,{"$f":"IF(T902<>U903,1,0)","v":0},{"$f":"IF(V902<>V903,1,0)","v":0},1,{"$f":"IF(W902<>X903,1,0)","v":0},{"$f":"IF(Y902<>Y903,1,0)","v":0},1,{"$f":"IF(Z902<>AA903,1,0)","v":0},{"$f":"IF(AB902<>AB903,1,0)","v":0}]
[null,null,null,null,null,null,null,null,null,null,null,null,null,null,null,{"$error":"#N/A"},null,null,null,null,null,null,null,null,null,null,null,null,null,{"$f":"(T903*Setup!$J$17)+(U903*Setup!$J$18)+(V903*Setup!$J$19)+(W903*Setup!$J$22)+X903*(Setup!$J$23)+(Y903*Setup!$J$24)+(Z903*Setup!$J$27)+(AA903*Setup!$J$28)+(AB903*Setup!$J$29)","v":0},"ERROR",1,{"$f":"IF(T903<>U902,1,0)","v":0},{"$f":"IF(V903<>V902,1,0)","v":0},1,{"$f":"IF(W903<>X902,1,0)","v":0},{"$f":"IF(Y903<>Y902,1,0)","v":0},1,{"$f":"IF(Z903<>AA902,1,0)","v":0},{"$f":"IF(AB903<>AB902,1,0)","v":0}]
[null,null,null,null,null,null,null,null,null,null,null,null,null,null,null,{"$error":"#N/A"},null,null,null,null,null,null,null,null,null,null,null,null,null,{"$f":"(T904*Setup!$J$17)+(U904*Setup!$J$18)+(V904*Setup!$J$19)+(W904*Setup!$J$22)+X904*(Setup!$J$23)+(Y904*Setup!$J$24)+(Z904*Setup!$J$27)+(AA904*Setup!$J$28)+(AB904*Setup!$J$29)","v":0},"ERROR",1,{"$f":"IF(T904<>U905,1,0)","v":0},{"$f":"IF(V904<>V905,1,0)","v":0},1,{"$f":"IF(W904<>X905,1,0)","v":0},{"$f":"IF(Y904<>Y905,1,0)","v":0},1,{"$f":"IF(Z904<>AA905,1,0)","v":0},{"$f":"IF(AB904<>AB905,1,0)","v":0}]
[null,null,null,null,null,null,null,null,null,null,null,null,null,null,null,{"$error":"#N/A"},null,null,null,null,null,null,null,null,null,null,null,null,null,{"$f":"(T905*Setup!$J$17)+(U905*Setup!$J$18)+(V905*Setup!$J$19)+(W905*Setup!$J$22)+X905*(Setup!$J$23)+(Y905*Setup!$J$24)+(Z905*Setup!$J$27)+(AA905*Setup!$J$28)+(AB905*Setup!$J$29)","v":0},"ERROR",1,{"$f":"IF(T905<>U904,1,0)","v":0},{"$f":"IF(V905<>V904,1,0)","v":0},1,{"$f":"IF(W905<>X904,1,0)","v":0},{"$f":"IF(Y905<>Y904,1,0)","v":0},1,{"$f":"IF(Z905<>AA904,1,0)","v":0},{"$f":"IF(AB905<>AB904,1,0)","v":0}]
[null,null,null,null,null,null,null,null,null,null,null,null,null,null,null,{"$error":"#N/A"},null,null,null,null,null,null,null,null,null,null,null,null,null,{"$f":"(T906*Setup!$J$17)+(U906*Setup!$J$18)+(V906*Setup!$J$19)+(W906*Setup!$J$22)+X906*(Setup!$J$23)+(Y906*Setup!$J$24)+(Z906*Setup!$J$27)+(AA906*Setup!$J$28)+(AB906*Setup!$J$29)","v":0},"ERROR",1,{"$f":"IF(T906<>U907,1,0)","v":0},{"$f":"IF(V906<>V907,1,0)","v":0},1,{"$f":"IF(W906<>X907,1,0)","v":0},{"$f":"IF(Y906<>Y907,1,0)","v":0},1,{"$f":"IF(Z906<>AA907,1,0)","v":0},{"$f":"IF(AB906<>AB907,1,0)","v":0}]
[null,null,null,null,null,null,null,null,null,null,null,null,null,null,null,{"$error":"#N/A"},null,null,null,null,null,null,null,null,null,null,null,null,null,{"$f":"(T907*Setup!$J$17)+(U907*Setup!$J$18)+(V907*Setup!$J$19)+(W907*Setup!$J$22)+X907*(Setup!$J$23)+(Y907*Setup!$J$24)+(Z907*Setup!$J$27)+(AA907*Setup!$J$28)+(AB907*Setup!$J$29)","v":0},"ERROR",1,{"$f":"IF(T907<>U906,1,0)","v":0},{"$f":"IF(V907<>V906,1,0)","v":0},1,{"$f":"IF(W907<>X906,1,0)","v":0},{"$f":"IF(Y907<>Y906,1,0)","v":0},1,{"$f":"IF(Z907<>AA906,1,0)","v":0},{"$f":"IF(AB907<>AB906,1,0)","v":0}]
[null,null,null,null,null,null,null,null,null,null,null,null,null,null,null,{"$error":"#N/A"},null,null,null,null,null,null,null,null,null,null,null,null,null,{"$f":"(T908*Setup!$J$17)+(U908*Setup!$J$18)+(V908*Setup!$J$19)+(W908*Setup!$J$22)+X908*(Setup!$J$23)+(Y908*Setup!$J$24)+(Z908*Setup!$J$27)+(AA908*Setup!$J$28)+(AB908*Setup!$J$29)","v":0},"ERROR",1,{"$f":"IF(T908<>U909,1,0)","v":0},{"$f":"IF(V908<>V909,1,0)","v":0},1,{"$f":"IF(W908<>X909,1,0)","v":0},{"$f":"IF(Y908<>Y909,1,0)","v":0},1,{"$f":"IF(Z908<>AA909,1,0)","v":0},{"$f":"IF(AB908<>AB909,1,0)","v":0}]
[null,null,null,null,null,null,null,null,null,null,null,null,null,null,null,{"$error":"#N/A"},null,null,null,null,null,null,null,null,null,null,null,null,null,{"$f":"(T909*Setup!$J$17)+(U909*Setup!$J$18)+(V909*Setup!$J$19)+(W909*Setup!$J$22)+X909*(Setup!$J$23)+(Y909*Setup!$J$24)+(Z909*Setup!$J$27)+(AA909*Setup!$J$28)+(AB909*Setup!$J$29)","v":0},"ERROR",1,{"$f":"IF(T909<>U908,1,0)","v":0},{"$f":"IF(V909<>V908,1,0)","v":0},1,{"$f":"IF(W909<>X908,1,0)","v":0},{"$f":"IF(Y909<>Y908,1,0)","v":0},1,{"$f":"IF(Z909<>AA908,1,0)","v":0},{"$f":"IF(AB909<>AB908,1,0)","v":0}]
[null,null,null,null,null,null,null,null,null,null,null,null,null,null,null,{"$error":"#N/A"},null,null,null,null,null,null,null,null,null,null,null,null,null,{"$f":"(T910*Setup!$J$17)+(U910*Setup!$J$18)+(V910*Setup!$J$19)+(W910*Setup!$J$22)+X910*(Setup!$J$23)+(Y910*Setup!$J$24)+(Z910*Setup!$J$27)+(AA910*Setup!$J$28)+(AB910*Setup!$J$29)","v":0},"ERROR",1,{"$f":"IF(T910<>U911,1,0)","v":0},{"$f":"IF(V910<>V911,1,0)","v":0},1,{"$f":"IF(W910<>X911,1,0)","v":0},{"$f":"IF(Y910<>Y911,1,0)","v":0},1,{"$f":"IF(Z910<>AA911,1,0)","v":0},{"$f":"IF(AB910<>AB911,1,0)","v":0}]
[null,null,null,null,null,null,null,null,null,null,null,null,null,null,null,{"$error":"#N/A"},null,null,null,null,null,null,null,null,null,null,null,null,null,{"$f":"(T911*Setup!$J$17)+(U911*Setup!$J$18)+(V911*Setup!$J$19)+(W911*Setup!$J$22)+X911*(Setup!$J$23)+(Y911*Setup!$J$24)+(Z911*Setup!$J$27)+(AA911*Setup!$J$28)+(AB911*Setup!$J$29)","v":0},"ERROR",1,{"$f":"IF(T911<>U910,1,0)","v":0},{"$f":"IF(V911<>V910,1,0)","v":0},1,{"$f":"IF(W911<>X910,1,0)","v":0},{"$f":"IF(Y911<>Y910,1,0)","v":0},1,{"$f":"IF(Z911<>AA910,1,0)","v":0},{"$f":"IF(AB911<>AB910,1,0)","v":0}]
[null,null,null,null,null,null,null,null,null,null,null,null,null,null,null,{"$error":"#N/A"},null,null,null,null,null,null,null,null,null,null,null,null,null,{"$f":"(T912*Setup!$J$17)+(U912*Setup!$J$18)+(V912*Setup!$J$19)+(W912*Setup!$J$22)+X912*(Setup!$J$23)+(Y912*Setup!$J$24)+(Z912*Setup!$J$27)+(AA912*Setup!$J$28)+(AB912*Setup!$J$29)","v":0},"ERROR",1,{"$f":"IF(T912<>U913,1,0)","v":0},{"$f":"IF(V912<>V913,1,0)","v":0},1,{"$f":"IF(W912<>X913,1,0)","v":0},{"$f":"IF(Y912<>Y913,1,0)","v":0},1,{"$f":"IF(Z912<>AA913,1,0)","v":0},{"$f":"IF(AB912<>AB913,1,0)","v":0}]
[null,null,null,null,null,null,null,null,null,null,null,null,null,null,null,{"$error":"#N/A"},null,null,null,null,null,null,null,null,null,null,null,null,null,{"$f":"(T913*Setup!$J$17)+(U913*Setup!$J$18)+(V913*Setup!$J$19)+(W913*Setup!$J$22)+X913*(Setup!$J$23)+(Y913*Setup!$J$24)+(Z913*Setup!$J$27)+(AA913*Setup!$J$28)+(AB913*Setup!$J$29)","v":0},"ERROR",1,{"$f":"IF(T913<>U912,1,0)","v":0},{"$f":"IF(V913<>V912,1,0)","v":0},1,{"$f":"IF(W913<>X912,1,0)","v":0},{"$f":"IF(Y913<>Y912,1,0)","v":0},1,{"$f":"IF(Z913<>AA912,1,0)","v":0},{"$f":"IF(AB913<>AB912,1,0)","v":0}]
[null,null,null,null,null,null,null,null,null,null,null,null,null,null,null,{"$error":"#N/A"},null,null,null,null,null,null,null,null,null,null,null,null,null,{"$f":"(T914*Setup!$J$17)+(U914*Setup!$J$18)+(V914*Setup!$J$19)+(W914*Setup!$J$22)+X914*(Setup!$J$23)+(Y914*Setup!$J$24)+(Z914*Setup!$J$27)+(AA914*Setup!$J$28)+(AB914*Setup!$J$29)","v":0},"ERROR",1,{"$f":"IF(T914<>U915,1,0)","v":0},{"$f":"IF(V914<>V915,1,0)","v":0},1,{"$f":"IF(W914<>X915,1,0)","v":0},{"$f":"IF(Y914<>Y915,1,0)","v":0},1,{"$f":"IF(Z914<>AA915,1,0)","v":0},{"$f":"IF(AB914<>AB915,1,0)","v":0}]
[null,null,null,null,null,null,null,null,null,null,null,null,null,null,null,{"$error":"#N/A"},null,null,null,null,null,null,null,null,null,null,null,null,null,{"$f":"(T915*Setup!$J$17)+(U915*Setup!$J$18)+(V915*Setup!$J$19)+(W915*Setup!$J$22)+X915*(Setup!$J$23)+(Y915*Setup!$J$24)+(Z915*Setup!$J$27)+(AA915*Setup!$J$28)+(AB915*Setup!$J$29)","v":0},"ERROR",1,{"$f":"IF(T915<>U914,1,0)","v":0},{"$f":"IF(V915<>V914,1,0)","v":0},1,{"$f":"IF(W915<>X914,1,0)","v":0},{"$f":"IF(Y915<>Y914,1,0)","v":0},1,{"$f":"IF(Z915<>AA914,1,0)","v":0},{"$f":"IF(AB915<>AB914,1,0)","v":0}]
[null,null,null,null,null,null,null,null,null,null,null,null,null,null,null,{"$error":"#N/A"},null,null,null,null,null,null,null,null,null,null,null,null,null,{"$f":"(T916*Setup!$J$17)+(U916*Setup!$J$18)+(V916*Setup!$J$19)+(W916*Setup!$J$22)+X916*(Setup!$J$23)+(Y916*Setup!$J$24)+(Z916*Setup!$J$27)+(AA916*Setup!$J$28)+(AB916*Setup!$J$29)","v":0},"ERROR",1,{"$f":"IF(T916<>U917,1,0)","v":0},{"$f":"IF(V916<>V917,1,0)","v":0},1,{"$f":"IF(W916<>X917,1,0)","v":0},{"$f":"IF(Y916<>Y917,1,0)","v":0},1,{"$f":"IF(Z916<>AA917,1,0)","v":0},{"$f":"IF(AB916<>AB917,1,0)","v":0}]
[null,null,null,null,null,null,null,null,null,null,null,null,null,null,null,{"$error":"#N/A"},null,null,null,null,null,null,null,null,null,null,null,null,null,{"$f":"(T917*Setup!$J$17)+(U917*Setup!$J$18)+(V917*Setup!$J$19)+(W917*Setup!$J$22)+X917*(Setup!$J$23)+(Y917*Setup!$J$24)+(Z917*Setup!$J$27)+(AA917*Setup!$J$28)+(AB917*Setup!$J$29)","v":0},"ERROR",1,{"$f":"IF(T917<>U916,1,0)","v":0},{"$f":"IF(V917<>V916,1,0)","v":0},1,{"$f":"IF(W917<>X916,1,0)","v":0},{"$f":"IF(Y917<>Y916,1,0)","v":0},1,{"$f":"IF(Z917<>AA916,1,0)","v":0},{"$f":"IF(AB917<>AB916,1,0)","v":0}]
[null,null,null,null,null,null,null,null,null,null,null,null,null,null,null,{"$error":"#N/A"},null,null,null,null,null,null,null,null,null,null,null,null,null,{"$f":"(T918*Setup!$J$17)+(U918*Setup!$J$18)+(V918*Setup!$J$19)+(W918*Setup!$J$22)+X918*(Setup!$J$23)+(Y918*Setup!$J$24)+(Z918*Setup!$J$27)+(AA918*Setup!$J$28)+(AB918*Setup!$J$29)","v":0},"ERROR",1,{"$f":"IF(T918<>U919,1,0)","v":0},{"$f":"IF(V918<>V919,1,0)","v":0},1,{"$f":"IF(W918<>X919,1,0)","v":0},{"$f":"IF(Y918<>Y919,1,0)","v":0},1,{"$f":"IF(Z918<>AA919,1,0)","v":0},{"$f":"IF(AB918<>AB919,1,0)","v":0}]
[null,null,null,null,null,null,null,null,null,null,null,null,null,null,null,{"$error":"#N/A"},null,null,null,null,null,null,null,null,null,null,null,null,null,{"$f":"(T919*Setup!$J$17)+(U919*Setup!$J$18)+(V919*Setup!$J$19)+(W919*Setup!$J$22)+X919*(Setup!$J$23)+(Y919*Setup!$J$24)+(Z919*Setup!$J$27)+(AA919*Setup!$J$28)+(AB919*Setup!$J$29)","v":0},"ERROR",1,{"$f":"IF(T919<>U918,1,0)","v":0},{"$f":"IF(V919<>V918,1,0)","v":0},1,{"$f":"IF(W919<>X918,1,0)","v":0},{"$f":"IF(Y919<>Y918,1,0)","v":0},1,{"$f":"IF(Z919<>AA918,1,0)","v":0},{"$f":"IF(AB919<>AB918,1,0)","v":0}]
[null,null,null,null,null,null,null,null,null,null,null,null,null,null,null,{"$error":"#N/A"},null,null,null,null,null,null,null,null,null,null,null,null,null,{"$f":"(T920*Setup!$J$17)+(U920*Setup!$J$18)+(V920*Setup!$J$19)+(W920*Setup!$J$22)+X920*(Setup!$J$23)+(Y920*Setup!$J$24)+(Z920*Setup!$J$27)+(AA920*Setup!$J$28)+(AB920*Setup!$J$29)","v":0},"ERROR",1,{"$f":"IF(T920<>U921,1,0)","v":0},{"$f":"IF(V920<>V921,1,0)","v":0},1,{"$f":"IF(W920<>X921,1,0)","v":0},{"$f":"IF(Y920<>Y921,1,0)","v":0},1,{"$f":"IF(Z920<>AA921,1,0)","v":0},{"$f":"IF(AB920<>AB921,1,0)","v":0}]
[null,null,null,null,null,null,null,null,null,null,null,null,null,null,null,{"$error":"#N/A"},null,null,null,null,null,null,null,null,null,null,null,null,null,{"$f":"(T921*Setup!$J$17)+(U921*Setup!$J$18)+(V921*Setup!$J$19)+(W921*Setup!$J$22)+X921*(Setup!$J$23)+(Y921*Setup!$J$24)+(Z921*Setup!$J$27)+(AA921*Setup!$J$28)+(AB921*Setup!$J$29)","v":0},"ERROR",1,{"$f":"IF(T921<>U920,1,0)","v":0},{"$f":"IF(V921<>V920,1,0)","v":0},1,{"$f":"IF(W921<>X920,1,0)","v":0},{"$f":"IF(Y921<>Y920,1,0)","v":0},1,{"$f":"IF(Z921<>AA920,1,0)","v":0},{"$f":"IF(AB921<>AB920,1,0)","v":0}]
[null,null,null,null,null,null,null,null,null,null,null,null,null,null,null,{"$error":"#N/A"},null,null,null,null,null,null,null,null,null,null,null,null,null,{"$f":"(T922*Setup!$J$17)+(U922*Setup!$J$18)+(V922*Setup!$J$19)+(W922*Setup!$J$22)+X922*(Setup!$J$23)+(Y922*Setup!$J$24)+(Z922*Setup!$J$27)+(AA922*Setup!$J$28)+(AB922*Setup!$J$29)","v":0},"ERROR",1,{"$f":"IF(T922<>U923,1,0)","v":0},{"$f":"IF(V922<>V923,1,0)","v":0},1,{"$f":"IF(W922<>X923,1,0)","v":0},{"$f":"IF(Y922<>Y923,1,0)","v":0},1,{"$f":"IF(Z922<>AA923,1,0)","v":0},{"$f":"IF(AB922<>AB923,1,0)","v":0}]
[null,null,null,null,null,null,null,null,null,null,null,null,null,null,null,{"$error":"#N/A"},null,null,null,null,null,null,null,null,null,null,null,null,null,{"$f":"(T923*Setup!$J$17)+(U923*Setup!$J$18)+(V923*Setup!$J$19)+(W923*Setup!$J$22)+X923*(Setup!$J$23)+(Y923*Setup!$J$24)+(Z923*Setup!$J$27)+(AA923*Setup!$J$28)+(AB923*Setup!$J$29)","v":0},"ERROR",1,{"$f":"IF(T923<>U922,1,0)","v":0},{"$f":"IF(V923<>V922,1,0)","v":0},1,{"$f":"IF(W923<>X922,1,0)","v":0},{"$f":"IF(Y923<>Y922,1,0)","v":0},1,{"$f":"IF(Z923<>AA922,1,0)","v":0},{"$f":"IF(AB923<>AB922,1,0)","v":0}]
[null,null,null,null,null,null,null,null,null,null,null,null,null,null,null,{"$error":"#N/A"},null,null,null,null,null,null,null,null,null,null,null,null,null,{"$f":"(T924*Setup!$J$17)+(U924*Setup!$J$18)+(V924*Setup!$J$19)+(W924*Setup!$J$22)+X924*(Setup!$J$23)+(Y924*Setup!$J$24)+(Z924*Setup!$J$27)+(AA924*Setup!$J$28)+(AB924*Setup!$J$29)","v":0},"ERROR",1,{"$f":"IF(T924<>U925,1,0)","v":0},{"$f":"IF(V924<>V925,1,0)","v":0},1,{"$f":"IF(W924<>X925,1,0)","v":0},{"$f":"IF(Y924<>Y925,1,0)","v":0},1,{"$f":"IF(Z924<>AA925,1,0)","v":0},{"$f":"IF(AB924<>AB925,1,0)","v":0}]
[null,null,null,null,null,null,null,null,null,null,null,null,null,null,null,{"$error":"#N/A"},null,null,null,null,null,null,null,null,null,null,null,null,null,{"$f":"(T925*Setup!$J$17)+(U925*Setup!$J$18)+(V925*Setup!$J$19)+(W925*Setup!$J$22)+X925*(Setup!$J$23)+(Y925*Setup!$J$24)+(Z925*Setup!$J$27)+(AA925*Setup!$J$28)+(AB925*Setup!$J$29)","v":0},"ERROR",1,{"$f":"IF(T925<>U924,1,0)","v":0},{"$f":"IF(V925<>V924,1,0)","v":0},1,{"$f":"IF(W925<>X924,1,0)","v":0},{"$f":"IF(Y925<>Y924,1,0)","v":0},1,{"$f":"IF(Z925<>AA924,1,0)","v":0},{"$f":"IF(AB925<>AB924,1,0)","v":0}]
[null,null,null,null,null,null,null,null,null,null,null,null,null,null,null,{"$f":"VLOOKUP(S926,GE_Teams_DBID,2,FALSE)","v":{"$error":"#N/A"}},null,null,null,null,null,null,null,null,null,null,null,null,null,{"$f":"(T926*Setup!$J$17)+(U926*Setup!$J$18)+(V926*Setup!$J$19)+(W926*Setup!$J$22)+X926*(Setup!$J$23)+(Y926*Setup!$J$24)+(Z926*Setup!$J$27)+(AA926*Setup!$J$28)+(AB926*Setup!$J$29)","v":0},"ERROR",{"$f":"IF((T926+U926+V926)<>18,1,0)","v":1},{"$f":"IF(T926<>U927,1,0)","v":0},{"$f":"IF(V926<>V927,1,0)","v":0},{"$f":"IF((W926+X926+Y926)<>2,1,0)","v":1},{"$f":"IF(W926<>X927,1,0)","v":0},{"$f":"IF(Y926<>Y927,1,0)","v":0},{"$f":"IF((Z926+AA926+AB926)<>1,1,0)","v":1},{"$f":"IF(Z926<>AA927,1,0)","v":0},{"$f":"IF(AB926<>AB927,1,0)","v":0}]
[null,null,null,null,null,null,null,null,null,null,null,null,null,null,null,{"$error":"#N/A"},null,null,null,null,null,null,null,null,null,null,null,null,null,{"$f":"(T927*Setup!$J$17)+(U927*Setup!$J$18)+(V927*Setup!$J$19)+(W927*Setup!$J$22)+X927*(Setup!$J$23)+(Y927*Setup!$J$24)+(Z927*Setup!$J$27)+(AA927*Setup!$J$28)+(AB927*Setup!$J$29)","v":0},{"$f":"IF(SUM(AF927:AN927)>0,\"ERROR\",\"\")","v":"ERROR"},1,{"$f":"IF(T927<>U926,1,0)","v":0},{"$f":"IF(V927<>V926,1,0)","v":0},1,{"$f":"IF(W927<>X926,1,0)","v":0},{"$f":"IF(Y927<>Y926,1,0)","v":0},1,{"$f":"IF(Z927<>AA926,1,0)","v":0},{"$f":"IF(AB927<>AB926,1,0)","v":0}]
[null,null,null,null,null,null,null,null,null,null,null,null,null,null,null,{"$error":"#N/A"},null,null,null,null,null,null,null,null,null,null,null,null,null,{"$f":"(T928*Setup!$J$17)+(U928*Setup!$J$18)+(V928*Setup!$J$19)+(W928*Setup!$J$22)+X928*(Setup!$J$23)+(Y928*Setup!$J$24)+(Z928*Setup!$J$27)+(AA928*Setup!$J$28)+(AB928*Setup!$J$29)","v":0},"ERROR",1,{"$f":"IF(T928<>U929,1,0)","v":0},{"$f":"IF(V928<>V929,1,0)","v":0},1,{"$f":"IF(W928<>X929,1,0)","v":0},{"$f":"IF(Y928<>Y929,1,0)","v":0},1,{"$f":"IF(Z928<>AA929,1,0)","v":0},{"$f":"IF(AB928<>AB929,1,0)","v":0}]
[null,null,null,null,null,null,null,null,null,null,null,null,null,null,null,{"$error":"#N/A"},null,null,null,null,null,null,null,null,null,null,null,null,null,{"$f":"(T929*Setup!$J$17)+(U929*Setup!$J$18)+(V929*Setup!$J$19)+(W929*Setup!$J$22)+X929*(Setup!$J$23)+(Y929*Setup!$J$24)+(Z929*Setup!$J$27)+(AA929*Setup!$J$28)+(AB929*Setup!$J$29)","v":0},"ERROR",1,{"$f":"IF(T929<>U928,1,0)","v":0},{"$f":"IF(V929<>V928,1,0)","v":0},1,{"$f":"IF(W929<>X928,1,0)","v":0},{"$f":"IF(Y929<>Y928,1,0)","v":0},1,{"$f":"IF(Z929<>AA928,1,0)","v":0},{"$f":"IF(AB929<>AB928,1,0)","v":0}]
[null,null,null,null,null,null,null,null,null,null,null,null,null,null,null,{"$error":"#N/A"},null,null,null,null,null,null,null,null,null,null,null,null,null,{"$f":"(T930*Setup!$J$17)+(U930*Setup!$J$18)+(V930*Setup!$J$19)+(W930*Setup!$J$22)+X930*(Setup!$J$23)+(Y930*Setup!$J$24)+(Z930*Setup!$J$27)+(AA930*Setup!$J$28)+(AB930*Setup!$J$29)","v":0},"ERROR",1,{"$f":"IF(T930<>U931,1,0)","v":0},{"$f":"IF(V930<>V931,1,0)","v":0},1,{"$f":"IF(W930<>X931,1,0)","v":0},{"$f":"IF(Y930<>Y931,1,0)","v":0},1,{"$f":"IF(Z930<>AA931,1,0)","v":0},{"$f":"IF(AB930<>AB931,1,0)","v":0}]
[null,null,null,null,null,null,null,null,null,null,null,null,null,null,null,{"$error":"#N/A"},null,null,null,null,null,null,null,null,null,null,null,null,null,{"$f":"(T931*Setup!$J$17)+(U931*Setup!$J$18)+(V931*Setup!$J$19)+(W931*Setup!$J$22)+X931*(Setup!$J$23)+(Y931*Setup!$J$24)+(Z931*Setup!$J$27)+(AA931*Setup!$J$28)+(AB931*Setup!$J$29)","v":0},"ERROR",1,{"$f":"IF(T931<>U930,1,0)","v":0},{"$f":"IF(V931<>V930,1,0)","v":0},1,{"$f":"IF(W931<>X930,1,0)","v":0},{"$f":"IF(Y931<>Y930,1,0)","v":0},1,{"$f":"IF(Z931<>AA930,1,0)","v":0},{"$f":"IF(AB931<>AB930,1,0)","v":0}]
[null,null,null,null,null,null,null,null,null,null,null,null,null,null,null,{"$error":"#N/A"},null,null,null,null,null,null,null,null,null,null,null,null,null,{"$f":"(T932*Setup!$J$17)+(U932*Setup!$J$18)+(V932*Setup!$J$19)+(W932*Setup!$J$22)+X932*(Setup!$J$23)+(Y932*Setup!$J$24)+(Z932*Setup!$J$27)+(AA932*Setup!$J$28)+(AB932*Setup!$J$29)","v":0},"ERROR",1,{"$f":"IF(T932<>U933,1,0)","v":0},{"$f":"IF(V932<>V933,1,0)","v":0},1,{"$f":"IF(W932<>X933,1,0)","v":0},{"$f":"IF(Y932<>Y933,1,0)","v":0},1,{"$f":"IF(Z932<>AA933,1,0)","v":0},{"$f":"IF(AB932<>AB933,1,0)","v":0}]
[null,null,null,null,null,null,null,null,null,null,null,null,null,null,null,{"$error":"#N/A"},null,null,null,null,null,null,null,null,null,null,null,null,null,{"$f":"(T933*Setup!$J$17)+(U933*Setup!$J$18)+(V933*Setup!$J$19)+(W933*Setup!$J$22)+X933*(Setup!$J$23)+(Y933*Setup!$J$24)+(Z933*Setup!$J$27)+(AA933*Setup!$J$28)+(AB933*Setup!$J$29)","v":0},"ERROR",1,{"$f":"IF(T933<>U932,1,0)","v":0},{"$f":"IF(V933<>V932,1,0)","v":0},1,{"$f":"IF(W933<>X932,1,0)","v":0},{"$f":"IF(Y933<>Y932,1,0)","v":0},1,{"$f":"IF(Z933<>AA932,1,0)","v":0},{"$f":"IF(AB933<>AB932,1,0)","v":0}]
[null,null,null,null,null,null,null,null,null,null,null,null,null,null,null,{"$error":"#N/A"},null,null,null,null,null,null,null,null,null,null,null,null,null,{"$f":"(T934*Setup!$J$17)+(U934*Setup!$J$18)+(V934*Setup!$J$19)+(W934*Setup!$J$22)+X934*(Setup!$J$23)+(Y934*Setup!$J$24)+(Z934*Setup!$J$27)+(AA934*Setup!$J$28)+(AB934*Setup!$J$29)","v":0},"ERROR",1,{"$f":"IF(T934<>U935,1,0)","v":0},{"$f":"IF(V934<>V935,1,0)","v":0},1,{"$f":"IF(W934<>X935,1,0)","v":0},{"$f":"IF(Y934<>Y935,1,0)","v":0},1,{"$f":"IF(Z934<>AA935,1,0)","v":0},{"$f":"IF(AB934<>AB935,1,0)","v":0}]
[null,null,null,null,null,null,null,null,null,null,null,null,null,null,null,{"$error":"#N/A"},null,null,null,null,null,null,null,null,null,null,null,null,null,{"$f":"(T935*Setup!$J$17)+(U935*Setup!$J$18)+(V935*Setup!$J$19)+(W935*Setup!$J$22)+X935*(Setup!$J$23)+(Y935*Setup!$J$24)+(Z935*Setup!$J$27)+(AA935*Setup!$J$28)+(AB935*Setup!$J$29)","v":0},"ERROR",1,{"$f":"IF(T935<>U934,1,0)","v":0},{"$f":"IF(V935<>V934,1,0)","v":0},1,{"$f":"IF(W935<>X934,1,0)","v":0},{"$f":"IF(Y935<>Y934,1,0)","v":0},1,{"$f":"IF(Z935<>AA934,1,0)","v":0},{"$f":"IF(AB935<>AB934,1,0)","v":0}]
[null,null,null,null,null,null,null,null,null,null,null,null,null,null,null,{"$error":"#N/A"},null,null,null,null,null,null,null,null,null,null,null,null,null,{"$f":"(T936*Setup!$J$17)+(U936*Setup!$J$18)+(V936*Setup!$J$19)+(W936*Setup!$J$22)+X936*(Setup!$J$23)+(Y936*Setup!$J$24)+(Z936*Setup!$J$27)+(AA936*Setup!$J$28)+(AB936*Setup!$J$29)","v":0},"ERROR",1,{"$f":"IF(T936<>U937,1,0)","v":0},{"$f":"IF(V936<>V937,1,0)","v":0},1,{"$f":"IF(W936<>X937,1,0)","v":0},{"$f":"IF(Y936<>Y937,1,0)","v":0},1,{"$f":"IF(Z936<>AA937,1,0)","v":0},{"$f":"IF(AB936<>AB937,1,0)","v":0}]
[null,null,null,null,null,null,null,null,null,null,null,null,null,null,null,{"$error":"#N/A"},null,null,null,null,null,null,null,null,null,null,null,null,null,{"$f":"(T937*Setup!$J$17)+(U937*Setup!$J$18)+(V937*Setup!$J$19)+(W937*Setup!$J$22)+X937*(Setup!$J$23)+(Y937*Setup!$J$24)+(Z937*Setup!$J$27)+(AA937*Setup!$J$28)+(AB937*Setup!$J$29)","v":0},"ERROR",1,{"$f":"IF(T937<>U936,1,0)","v":0},{"$f":"IF(V937<>V936,1,0)","v":0},1,{"$f":"IF(W937<>X936,1,0)","v":0},{"$f":"IF(Y937<>Y936,1,0)","v":0},1,{"$f":"IF(Z937<>AA936,1,0)","v":0},{"$f":"IF(AB937<>AB936,1,0)","v":0}]
[null,null,null,null,null,null,null,null,null,null,null,null,null,null,null,{"$error":"#N/A"},null,null,null,null,null,null,null,null,null,null,null,null,null,{"$f":"(T938*Setup!$J$17)+(U938*Setup!$J$18)+(V938*Setup!$J$19)+(W938*Setup!$J$22)+X938*(Setup!$J$23)+(Y938*Setup!$J$24)+(Z938*Setup!$J$27)+(AA938*Setup!$J$28)+(AB938*Setup!$J$29)","v":0},"ERROR",1,{"$f":"IF(T938<>U939,1,0)","v":0},{"$f":"IF(V938<>V939,1,0)","v":0},1,{"$f":"IF(W938<>X939,1,0)","v":0},{"$f":"IF(Y938<>Y939,1,0)","v":0},1,{"$f":"IF(Z938<>AA939,1,0)","v":0},{"$f":"IF(AB938<>AB939,1,0)","v":0}]
[null,null,null,null,null,null,null,null,null,null,null,null,null,null,null,{"$error":"#N/A"},null,null,null,null,null,null,null,null,null,null,null,null,null,{"$f":"(T939*Setup!$J$17)+(U939*Setup!$J$18)+(V939*Setup!$J$19)+(W939*Setup!$J$22)+X939*(Setup!$J$23)+(Y939*Setup!$J$24)+(Z939*Setup!$J$27)+(AA939*Setup!$J$28)+(AB939*Setup!$J$29)","v":0},"ERROR",1,{"$f":"IF(T939<>U938,1,0)","v":0},{"$f":"IF(V939<>V938,1,0)","v":0},1,{"$f":"IF(W939<>X938,1,0)","v":0},{"$f":"IF(Y939<>Y938,1,0)","v":0},1,{"$f":"IF(Z939<>AA938,1,0)","v":0},{"$f":"IF(AB939<>AB938,1,0)","v":0}]
[null,null,null,null,null,null,null,null,null,null,null,null,null,null,null,{"$error":"#N/A"},null,null,null,null,null,null,null,null,null,null,null,null,null,{"$f":"(T940*Setup!$J$17)+(U940*Setup!$J$18)+(V940*Setup!$J$19)+(W940*Setup!$J$22)+X940*(Setup!$J$23)+(Y940*Setup!$J$24)+(Z940*Setup!$J$27)+(AA940*Setup!$J$28)+(AB940*Setup!$J$29)","v":0},"ERROR",1,{"$f":"IF(T940<>U941,1,0)","v":0},{"$f":"IF(V940<>V941,1,0)","v":0},1,{"$f":"IF(W940<>X941,1,0)","v":0},{"$f":"IF(Y940<>Y941,1,0)","v":0},1,{"$f":"IF(Z940<>AA941,1,0)","v":0},{"$f":"IF(AB940<>AB941,1,0)","v":0}]
[null,null,null,null,null,null,null,null,null,null,null,null,null,null,null,{"$error":"#N/A"},null,null,null,null,null,null,null,null,null,null,null,null,null,{"$f":"(T941*Setup!$J$17)+(U941*Setup!$J$18)+(V941*Setup!$J$19)+(W941*Setup!$J$22)+X941*(Setup!$J$23)+(Y941*Setup!$J$24)+(Z941*Setup!$J$27)+(AA941*Setup!$J$28)+(AB941*Setup!$J$29)","v":0},"ERROR",1,{"$f":"IF(T941<>U940,1,0)","v":0},{"$f":"IF(V941<>V940,1,0)","v":0},1,{"$f":"IF(W941<>X940,1,0)","v":0},{"$f":"IF(Y941<>Y940,1,0)","v":0},1,{"$f":"IF(Z941<>AA940,1,0)","v":0},{"$f":"IF(AB941<>AB940,1,0)","v":0}]
[null,null,null,null,null,null,null,null,null,null,null,null,null,null,null,{"$error":"#N/A"},null,null,null,null,null,null,null,null,null,null,null,null,null,{"$f":"(T942*Setup!$J$17)+(U942*Setup!$J$18)+(V942*Setup!$J$19)+(W942*Setup!$J$22)+X942*(Setup!$J$23)+(Y942*Setup!$J$24)+(Z942*Setup!$J$27)+(AA942*Setup!$J$28)+(AB942*Setup!$J$29)","v":0},"ERROR",1,{"$f":"IF(T942<>U943,1,0)","v":0},{"$f":"IF(V942<>V943,1,0)","v":0},1,{"$f":"IF(W942<>X943,1,0)","v":0},{"$f":"IF(Y942<>Y943,1,0)","v":0},1,{"$f":"IF(Z942<>AA943,1,0)","v":0},{"$f":"IF(AB942<>AB943,1,0)","v":0}]
[null,null,null,null,null,null,null,null,null,null,null,null,null,null,null,{"$error":"#N/A"},null,null,null,null,null,null,null,null,null,null,null,null,null,{"$f":"(T943*Setup!$J$17)+(U943*Setup!$J$18)+(V943*Setup!$J$19)+(W943*Setup!$J$22)+X943*(Setup!$J$23)+(Y943*Setup!$J$24)+(Z943*Setup!$J$27)+(AA943*Setup!$J$28)+(AB943*Setup!$J$29)","v":0},"ERROR",1,{"$f":"IF(T943<>U942,1,0)","v":0},{"$f":"IF(V943<>V942,1,0)","v":0},1,{"$f":"IF(W943<>X942,1,0)","v":0},{"$f":"IF(Y943<>Y942,1,0)","v":0},1,{"$f":"IF(Z943<>AA942,1,0)","v":0},{"$f":"IF(AB943<>AB942,1,0)","v":0}]
[null,null,null,null,null,null,null,null,null,null,null,null,null,null,null,{"$error":"#N/A"},null,null,null,null,null,null,null,null,null,null,null,null,null,{"$f":"(T944*Setup!$J$17)+(U944*Setup!$J$18)+(V944*Setup!$J$19)+(W944*Setup!$J$22)+X944*(Setup!$J$23)+(Y944*Setup!$J$24)+(Z944*Setup!$J$27)+(AA944*Setup!$J$28)+(AB944*Setup!$J$29)","v":0},"ERROR",1,{"$f":"IF(T944<>U945,1,0)","v":0},{"$f":"IF(V944<>V945,1,0)","v":0},1,{"$f":"IF(W944<>X945,1,0)","v":0},{"$f":"IF(Y944<>Y945,1,0)","v":0},1,{"$f":"IF(Z944<>AA945,1,0)","v":0},{"$f":"IF(AB944<>AB945,1,0)","v":0}]
[null,null,null,null,null,null,null,null,null,null,null,null,null,null,null,{"$error":"#N/A"},null,null,null,null,null,null,null,null,null,null,null,null,null,{"$f":"(T945*Setup!$J$17)+(U945*Setup!$J$18)+(V945*Setup!$J$19)+(W945*Setup!$J$22)+X945*(Setup!$J$23)+(Y945*Setup!$J$24)+(Z945*Setup!$J$27)+(AA945*Setup!$J$28)+(AB945*Setup!$J$29)","v":0},"ERROR",1,{"$f":"IF(T945<>U944,1,0)","v":0},{"$f":"IF(V945<>V944,1,0)","v":0},1,{"$f":"IF(W945<>X944,1,0)","v":0},{"$f":"IF(Y945<>Y944,1,0)","v":0},1,{"$f":"IF(Z945<>AA944,1,0)","v":0},{"$f":"IF(AB945<>AB944,1,0)","v":0}]
[null,null,null,null,null,null,null,null,null,null,null,null,null,null,null,{"$error":"#N/A"},null,null,null,null,null,null,null,null,null,null,null,null,null,{"$f":"(T946*Setup!$J$17)+(U946*Setup!$J$18)+(V946*Setup!$J$19)+(W946*Setup!$J$22)+X946*(Setup!$J$23)+(Y946*Setup!$J$24)+(Z946*Setup!$J$27)+(AA946*Setup!$J$28)+(AB946*Setup!$J$29)","v":0},"ERROR",1,{"$f":"IF(T946<>U947,1,0)","v":0},{"$f":"IF(V946<>V947,1,0)","v":0},1,{"$f":"IF(W946<>X947,1,0)","v":0},{"$f":"IF(Y946<>Y947,1,0)","v":0},1,{"$f":"IF(Z946<>AA947,1,0)","v":0},{"$f":"IF(AB946<>AB947,1,0)","v":0}]
[null,null,null,null,null,null,null,null,null,null,null,null,null,null,null,{"$error":"#N/A"},null,null,null,null,null,null,null,null,null,null,null,null,null,{"$f":"(T947*Setup!$J$17)+(U947*Setup!$J$18)+(V947*Setup!$J$19)+(W947*Setup!$J$22)+X947*(Setup!$J$23)+(Y947*Setup!$J$24)+(Z947*Setup!$J$27)+(AA947*Setup!$J$28)+(AB947*Setup!$J$29)","v":0},"ERROR",1,{"$f":"IF(T947<>U946,1,0)","v":0},{"$f":"IF(V947<>V946,1,0)","v":0},1,{"$f":"IF(W947<>X946,1,0)","v":0},{"$f":"IF(Y947<>Y946,1,0)","v":0},1,{"$f":"IF(Z947<>AA946,1,0)","v":0},{"$f":"IF(AB947<>AB946,1,0)","v":0}]
[null,null,null,null,null,null,null,null,null,null,null,null,null,null,null,{"$error":"#N/A"},null,null,null,null,null,null,null,null,null,null,null,null,null,{"$f":"(T948*Setup!$J$17)+(U948*Setup!$J$18)+(V948*Setup!$J$19)+(W948*Setup!$J$22)+X948*(Setup!$J$23)+(Y948*Setup!$J$24)+(Z948*Setup!$J$27)+(AA948*Setup!$J$28)+(AB948*Setup!$J$29)","v":0},"ERROR",1,{"$f":"IF(T948<>U949,1,0)","v":0},{"$f":"IF(V948<>V949,1,0)","v":0},1,{"$f":"IF(W948<>X949,1,0)","v":0},{"$f":"IF(Y948<>Y949,1,0)","v":0},1,{"$f":"IF(Z948<>AA949,1,0)","v":0},{"$f":"IF(AB948<>AB949,1,0)","v":0}]
[null,null,null,null,null,null,null,null,null,null,null,null,null,null,null,{"$error":"#N/A"},null,null,null,null,null,null,null,null,null,null,null,null,null,{"$f":"(T949*Setup!$J$17)+(U949*Setup!$J$18)+(V949*Setup!$J$19)+(W949*Setup!$J$22)+X949*(Setup!$J$23)+(Y949*Setup!$J$24)+(Z949*Setup!$J$27)+(AA949*Setup!$J$28)+(AB949*Setup!$J$29)","v":0},"ERROR",1,{"$f":"IF(T949<>U948,1,0)","v":0},{"$f":"IF(V949<>V948,1,0)","v":0},1,{"$f":"IF(W949<>X948,1,0)","v":0},{"$f":"IF(Y949<>Y948,1,0)","v":0},1,{"$f":"IF(Z949<>AA948,1,0)","v":0},{"$f":"IF(AB949<>AB948,1,0)","v":0}]
[null,null,null,null,null,null,null,null,null,null,null,null,null,null,null,{"$error":"#N/A"},null,null,null,null,null,null,null,null,null,null,null,null,null,{"$f":"(T950*Setup!$J$17)+(U950*Setup!$J$18)+(V950*Setup!$J$19)+(W950*Setup!$J$22)+X950*(Setup!$J$23)+(Y950*Setup!$J$24)+(Z950*Setup!$J$27)+(AA950*Setup!$J$28)+(AB950*Setup!$J$29)","v":0},"ERROR",1,{"$f":"IF(T950<>U951,1,0)","v":0},{"$f":"IF(V950<>V951,1,0)","v":0},1,{"$f":"IF(W950<>X951,1,0)","v":0},{"$f":"IF(Y950<>Y951,1,0)","v":0},1,{"$f":"IF(Z950<>AA951,1,0)","v":0},{"$f":"IF(AB950<>AB951,1,0)","v":0}]
[null,null,null,null,null,null,null,null,null,null,null,null,null,null,null,{"$error":"#N/A"},null,null,null,null,null,null,null,null,null,null,null,null,null,{"$f":"(T951*Setup!$J$17)+(U951*Setup!$J$18)+(V951*Setup!$J$19)+(W951*Setup!$J$22)+X951*(Setup!$J$23)+(Y951*Setup!$J$24)+(Z951*Setup!$J$27)+(AA951*Setup!$J$28)+(AB951*Setup!$J$29)","v":0},"ERROR",1,{"$f":"IF(T951<>U950,1,0)","v":0},{"$f":"IF(V951<>V950,1,0)","v":0},1,{"$f":"IF(W951<>X950,1,0)","v":0},{"$f":"IF(Y951<>Y950,1,0)","v":0},1,{"$f":"IF(Z951<>AA950,1,0)","v":0},{"$f":"IF(AB951<>AB950,1,0)","v":0}]
[null,null,null,null,null,null,null,null,null,null,null,null,null,null,null,{"$error":"#N/A"},null,null,null,null,null,null,null,null,null,null,null,null,null,{"$f":"(T952*Setup!$J$17)+(U952*Setup!$J$18)+(V952*Setup!$J$19)+(W952*Setup!$J$22)+X952*(Setup!$J$23)+(Y952*Setup!$J$24)+(Z952*Setup!$J$27)+(AA952*Setup!$J$28)+(AB952*Setup!$J$29)","v":0},"ERROR",1,{"$f":"IF(T952<>U953,1,0)","v":0},{"$f":"IF(V952<>V953,1,0)","v":0},1,{"$f":"IF(W952<>X953,1,0)","v":0},{"$f":"IF(Y952<>Y953,1,0)","v":0},1,{"$f":"IF(Z952<>AA953,1,0)","v":0},{"$f":"IF(AB952<>AB953,1,0)","v":0}]
[null,null,null,null,null,null,null,null,null,null,null,null,null,null,null,{"$error":"#N/A"},null,null,null,null,null,null,null,null,null,null,null,null,null,{"$f":"(T953*Setup!$J$17)+(U953*Setup!$J$18)+(V953*Setup!$J$19)+(W953*Setup!$J$22)+X953*(Setup!$J$23)+(Y953*Setup!$J$24)+(Z953*Setup!$J$27)+(AA953*Setup!$J$28)+(AB953*Setup!$J$29)","v":0},"ERROR",1,{"$f":"IF(T953<>U952,1,0)","v":0},{"$f":"IF(V953<>V952,1,0)","v":0},1,{"$f":"IF(W953<>X952,1,0)","v":0},{"$f":"IF(Y953<>Y952,1,0)","v":0},1,{"$f":"IF(Z953<>AA952,1,0)","v":0},{"$f":"IF(AB953<>AB952,1,0)","v":0}]
[null,null,null,null,null,null,null,null,null,null,null,null,null,null,null,{"$error":"#N/A"},null,null,null,null,null,null,null,null,null,null,null,null,null,{"$f":"(T954*Setup!$J$17)+(U954*Setup!$J$18)+(V954*Setup!$J$19)+(W954*Setup!$J$22)+X954*(Setup!$J$23)+(Y954*Setup!$J$24)+(Z954*Setup!$J$27)+(AA954*Setup!$J$28)+(AB954*Setup!$J$29)","v":0},"ERROR",1,{"$f":"IF(T954<>U955,1,0)","v":0},{"$f":"IF(V954<>V955,1,0)","v":0},1,{"$f":"IF(W954<>X955,1,0)","v":0},{"$f":"IF(Y954<>Y955,1,0)","v":0},1,{"$f":"IF(Z954<>AA955,1,0)","v":0},{"$f":"IF(AB954<>AB955,1,0)","v":0}]
[null,null,null,null,null,null,null,null,null,null,null,null,null,null,null,{"$error":"#N/A"},null,null,null,null,null,null,null,null,null,null,null,null,null,{"$f":"(T955*Setup!$J$17)+(U955*Setup!$J$18)+(V955*Setup!$J$19)+(W955*Setup!$J$22)+X955*(Setup!$J$23)+(Y955*Setup!$J$24)+(Z955*Setup!$J$27)+(AA955*Setup!$J$28)+(AB955*Setup!$J$29)","v":0},"ERROR",1,{"$f":"IF(T955<>U954,1,0)","v":0},{"$f":"IF(V955<>V954,1,0)","v":0},1,{"$f":"IF(W955<>X954,1,0)","v":0},{"$f":"IF(Y955<>Y954,1,0)","v":0},1,{"$f":"IF(Z955<>AA954,1,0)","v":0},{"$f":"IF(AB955<>AB954,1,0)","v":0}]
[null,null,null,null,null,null,null,null,null,null,null,null,null,null,null,{"$error":"#N/A"},null,null,null,null,null,null,null,null,null,null,null,null,null,{"$f":"(T956*Setup!$J$17)+(U956*Setup!$J$18)+(V956*Setup!$J$19)+(W956*Setup!$J$22)+X956*(Setup!$J$23)+(Y956*Setup!$J$24)+(Z956*Setup!$J$27)+(AA956*Setup!$J$28)+(AB956*Setup!$J$29)","v":0},"ERROR",1,{"$f":"IF(T956<>U957,1,0)","v":0},{"$f":"IF(V956<>V957,1,0)","v":0},1,{"$f":"IF(W956<>X957,1,0)","v":0},{"$f":"IF(Y956<>Y957,1,0)","v":0},1,{"$f":"IF(Z956<>AA957,1,0)","v":0},{"$f":"IF(AB956<>AB957,1,0)","v":0}]
[null,null,null,null,null,null,null,null,null,null,null,null,null,null,null,{"$error":"#N/A"},null,null,null,null,null,null,null,null,null,null,null,null,null,{"$f":"(T957*Setup!$J$17)+(U957*Setup!$J$18)+(V957*Setup!$J$19)+(W957*Setup!$J$22)+X957*(Setup!$J$23)+(Y957*Setup!$J$24)+(Z957*Setup!$J$27)+(AA957*Setup!$J$28)+(AB957*Setup!$J$29)","v":0},"ERROR",1,{"$f":"IF(T957<>U956,1,0)","v":0},{"$f":"IF(V957<>V956,1,0)","v":0},1,{"$f":"IF(W957<>X956,1,0)","v":0},{"$f":"IF(Y957<>Y956,1,0)","v":0},1,{"$f":"IF(Z957<>AA956,1,0)","v":0},{"$f":"IF(AB957<>AB956,1,0)","v":0}]
[null,null,null,null,null,null,null,null,null,null,null,null,null,null,null,{"$error":"#N/A"},null,null,null,null,null,null,null,null,null,null,null,null,null,{"$f":"(T958*Setup!$J$17)+(U958*Setup!$J$18)+(V958*Setup!$J$19)+(W958*Setup!$J$22)+X958*(Setup!$J$23)+(Y958*Setup!$J$24)+(Z958*Setup!$J$27)+(AA958*Setup!$J$28)+(AB958*Setup!$J$29)","v":0},"ERROR",1,{"$f":"IF(T958<>U959,1,0)","v":0},{"$f":"IF(V958<>V959,1,0)","v":0},1,{"$f":"IF(W958<>X959,1,0)","v":0},{"$f":"IF(Y958<>Y959,1,0)","v":0},1,{"$f":"IF(Z958<>AA959,1,0)","v":0},{"$f":"IF(AB958<>AB959,1,0)","v":0}]
[null,null,null,null,null,null,null,null,null,null,null,null,null,null,null,{"$error":"#N/A"},null,null,null,null,null,null,null,null,null,null,null,null,null,{"$f":"(T959*Setup!$J$17)+(U959*Setup!$J$18)+(V959*Setup!$J$19)+(W959*Setup!$J$22)+X959*(Setup!$J$23)+(Y959*Setup!$J$24)+(Z959*Setup!$J$27)+(AA959*Setup!$J$28)+(AB959*Setup!$J$29)","v":0},"ERROR",1,{"$f":"IF(T959<>U958,1,0)","v":0},{"$f":"IF(V959<>V958,1,0)","v":0},1,{"$f":"IF(W959<>X958,1,0)","v":0},{"$f":"IF(Y959<>Y958,1,0)","v":0},1,{"$f":"IF(Z959<>AA958,1,0)","v":0},{"$f":"IF(AB959<>AB958,1,0)","v":0}]
[null,null,null,null,null,null,null,null,null,null,null,null,null,null,null,{"$error":"#N/A"},null,null,null,null,null,null,null,null,null,null,null,null,null,{"$f":"(T960*Setup!$J$17)+(U960*Setup!$J$18)+(V960*Setup!$J$19)+(W960*Setup!$J$22)+X960*(Setup!$J$23)+(Y960*Setup!$J$24)+(Z960*Setup!$J$27)+(AA960*Setup!$J$28)+(AB960*Setup!$J$29)","v":0},"ERROR",1,{"$f":"IF(T960<>U961,1,0)","v":0},{"$f":"IF(V960<>V961,1,0)","v":0},1,{"$f":"IF(W960<>X961,1,0)","v":0},{"$f":"IF(Y960<>Y961,1,0)","v":0},1,{"$f":"IF(Z960<>AA961,1,0)","v":0},{"$f":"IF(AB960<>AB961,1,0)","v":0}]
[null,null,null,null,null,null,null,null,null,null,null,null,null,null,null,{"$error":"#N/A"},null,null,null,null,null,null,null,null,null,null,null,null,null,{"$f":"(T961*Setup!$J$17)+(U961*Setup!$J$18)+(V961*Setup!$J$19)+(W961*Setup!$J$22)+X961*(Setup!$J$23)+(Y961*Setup!$J$24)+(Z961*Setup!$J$27)+(AA961*Setup!$J$28)+(AB961*Setup!$J$29)","v":0},"ERROR",1,{"$f":"IF(T961<>U960,1,0)","v":0},{"$f":"IF(V961<>V960,1,0)","v":0},1,{"$f":"IF(W961<>X960,1,0)","v":0},{"$f":"IF(Y961<>Y960,1,0)","v":0},1,{"$f":"IF(Z961<>AA960,1,0)","v":0},{"$f":"IF(AB961<>AB960,1,0)","v":0}]
[null,null,null,null,null,null,null,null,null,null,null,null,null,null,null,{"$error":"#N/A"},null,null,null,null,null,null,null,null,null,null,null,null,null,{"$f":"(T962*Setup!$J$17)+(U962*Setup!$J$18)+(V962*Setup!$J$19)+(W962*Setup!$J$22)+X962*(Setup!$J$23)+(Y962*Setup!$J$24)+(Z962*Setup!$J$27)+(AA962*Setup!$J$28)+(AB962*Setup!$J$29)","v":0},"ERROR",1,{"$f":"IF(T962<>U963,1,0)","v":0},{"$f":"IF(V962<>V963,1,0)","v":0},1,{"$f":"IF(W962<>X963,1,0)","v":0},{"$f":"IF(Y962<>Y963,1,0)","v":0},1,{"$f":"IF(Z962<>AA963,1,0)","v":0},{"$f":"IF(AB962<>AB963,1,0)","v":0}]
[null,null,null,null,null,null,null,null,null,null,null,null,null,null,null,{"$error":"#N/A"},null,null,null,null,null,null,null,null,null,null,null,null,null,{"$f":"(T963*Setup!$J$17)+(U963*Setup!$J$18)+(V963*Setup!$J$19)+(W963*Setup!$J$22)+X963*(Setup!$J$23)+(Y963*Setup!$J$24)+(Z963*Setup!$J$27)+(AA963*Setup!$J$28)+(AB963*Setup!$J$29)","v":0},"ERROR",1,{"$f":"IF(T963<>U962,1,0)","v":0},{"$f":"IF(V963<>V962,1,0)","v":0},1,{"$f":"IF(W963<>X962,1,0)","v":0},{"$f":"IF(Y963<>Y962,1,0)","v":0},1,{"$f":"IF(Z963<>AA962,1,0)","v":0},{"$f":"IF(AB963<>AB962,1,0)","v":0}]
[null,null,null,null,null,null,null,null,null,null,null,null,null,null,null,{"$error":"#N/A"},null,null,null,null,null,null,null,null,null,null,null,null,null,{"$f":"(T964*Setup!$J$17)+(U964*Setup!$J$18)+(V964*Setup!$J$19)+(W964*Setup!$J$22)+X964*(Setup!$J$23)+(Y964*Setup!$J$24)+(Z964*Setup!$J$27)+(AA964*Setup!$J$28)+(AB964*Setup!$J$29)","v":0},"ERROR",1,{"$f":"IF(T964<>U965,1,0)","v":0},{"$f":"IF(V964<>V965,1,0)","v":0},1,{"$f":"IF(W964<>X965,1,0)","v":0},{"$f":"IF(Y964<>Y965,1,0)","v":0},1,{"$f":"IF(Z964<>AA965,1,0)","v":0},{"$f":"IF(AB964<>AB965,1,0)","v":0}]
[null,null,null,null,null,null,null,null,null,null,null,null,null,null,null,{"$error":"#N/A"},null,null,null,null,null,null,null,null,null,null,null,null,null,{"$f":"(T965*Setup!$J$17)+(U965*Setup!$J$18)+(V965*Setup!$J$19)+(W965*Setup!$J$22)+X965*(Setup!$J$23)+(Y965*Setup!$J$24)+(Z965*Setup!$J$27)+(AA965*Setup!$J$28)+(AB965*Setup!$J$29)","v":0},"ERROR",1,{"$f":"IF(T965<>U964,1,0)","v":0},{"$f":"IF(V965<>V964,1,0)","v":0},1,{"$f":"IF(W965<>X964,1,0)","v":0},{"$f":"IF(Y965<>Y964,1,0)","v":0},1,{"$f":"IF(Z965<>AA964,1,0)","v":0},{"$f":"IF(AB965<>AB964,1,0)","v":0}]
[null,null,null,null,null,null,null,null,null,null,null,null,null,null,null,{"$error":"#N/A"},null,null,null,null,null,null,null,null,null,null,null,null,null,{"$f":"(T966*Setup!$J$17)+(U966*Setup!$J$18)+(V966*Setup!$J$19)+(W966*Setup!$J$22)+X966*(Setup!$J$23)+(Y966*Setup!$J$24)+(Z966*Setup!$J$27)+(AA966*Setup!$J$28)+(AB966*Setup!$J$29)","v":0},"ERROR",1,{"$f":"IF(T966<>U967,1,0)","v":0},{"$f":"IF(V966<>V967,1,0)","v":0},1,{"$f":"IF(W966<>X967,1,0)","v":0},{"$f":"IF(Y966<>Y967,1,0)","v":0},1,{"$f":"IF(Z966<>AA967,1,0)","v":0},{"$f":"IF(AB966<>AB967,1,0)","v":0}]
[null,null,null,null,null,null,null,null,null,null,null,null,null,null,null,{"$error":"#N/A"},null,null,null,null,null,null,null,null,null,null,null,null,null,{"$f":"(T967*Setup!$J$17)+(U967*Setup!$J$18)+(V967*Setup!$J$19)+(W967*Setup!$J$22)+X967*(Setup!$J$23)+(Y967*Setup!$J$24)+(Z967*Setup!$J$27)+(AA967*Setup!$J$28)+(AB967*Setup!$J$29)","v":0},"ERROR",1,{"$f":"IF(T967<>U966,1,0)","v":0},{"$f":"IF(V967<>V966,1,0)","v":0},1,{"$f":"IF(W967<>X966,1,0)","v":0},{"$f":"IF(Y967<>Y966,1,0)","v":0},1,{"$f":"IF(Z967<>AA966,1,0)","v":0},{"$f":"IF(AB967<>AB966,1,0)","v":0}]
[null,null,null,null,null,null,null,null,null,null,null,null,null,null,null,{"$error":"#N/A"},null,null,null,null,null,null,null,null,null,null,null,null,null,{"$f":"(T968*Setup!$J$17)+(U968*Setup!$J$18)+(V968*Setup!$J$19)+(W968*Setup!$J$22)+X968*(Setup!$J$23)+(Y968*Setup!$J$24)+(Z968*Setup!$J$27)+(AA968*Setup!$J$28)+(AB968*Setup!$J$29)","v":0},"ERROR",1,{"$f":"IF(T968<>U969,1,0)","v":0},{"$f":"IF(V968<>V969,1,0)","v":0},1,{"$f":"IF(W968<>X969,1,0)","v":0},{"$f":"IF(Y968<>Y969,1,0)","v":0},1,{"$f":"IF(Z968<>AA969,1,0)","v":0},{"$f":"IF(AB968<>AB969,1,0)","v":0}]
[null,null,null,null,null,null,null,null,null,null,null,null,null,null,null,{"$error":"#N/A"},null,null,null,null,null,null,null,null,null,null,null,null,null,{"$f":"(T969*Setup!$J$17)+(U969*Setup!$J$18)+(V969*Setup!$J$19)+(W969*Setup!$J$22)+X969*(Setup!$J$23)+(Y969*Setup!$J$24)+(Z969*Setup!$J$27)+(AA969*Setup!$J$28)+(AB969*Setup!$J$29)","v":0},"ERROR",1,{"$f":"IF(T969<>U968,1,0)","v":0},{"$f":"IF(V969<>V968,1,0)","v":0},1,{"$f":"IF(W969<>X968,1,0)","v":0},{"$f":"IF(Y969<>Y968,1,0)","v":0},1,{"$f":"IF(Z969<>AA968,1,0)","v":0},{"$f":"IF(AB969<>AB968,1,0)","v":0}]
[null,null,null,null,null,null,null,null,null,null,null,null,null,null,null,{"$error":"#N/A"},null,null,null,null,null,null,null,null,null,null,null,null,null,{"$f":"(T970*Setup!$J$17)+(U970*Setup!$J$18)+(V970*Setup!$J$19)+(W970*Setup!$J$22)+X970*(Setup!$J$23)+(Y970*Setup!$J$24)+(Z970*Setup!$J$27)+(AA970*Setup!$J$28)+(AB970*Setup!$J$29)","v":0},"ERROR",1,{"$f":"IF(T970<>U971,1,0)","v":0},{"$f":"IF(V970<>V971,1,0)","v":0},1,{"$f":"IF(W970<>X971,1,0)","v":0},{"$f":"IF(Y970<>Y971,1,0)","v":0},1,{"$f":"IF(Z970<>AA971,1,0)","v":0},{"$f":"IF(AB970<>AB971,1,0)","v":0}]
[null,null,null,null,null,null,null,null,null,null,null,null,null,null,null,{"$error":"#N/A"},null,null,null,null,null,null,null,null,null,null,null,null,null,{"$f":"(T971*Setup!$J$17)+(U971*Setup!$J$18)+(V971*Setup!$J$19)+(W971*Setup!$J$22)+X971*(Setup!$J$23)+(Y971*Setup!$J$24)+(Z971*Setup!$J$27)+(AA971*Setup!$J$28)+(AB971*Setup!$J$29)","v":0},"ERROR",1,{"$f":"IF(T971<>U970,1,0)","v":0},{"$f":"IF(V971<>V970,1,0)","v":0},1,{"$f":"IF(W971<>X970,1,0)","v":0},{"$f":"IF(Y971<>Y970,1,0)","v":0},1,{"$f":"IF(Z971<>AA970,1,0)","v":0},{"$f":"IF(AB971<>AB970,1,0)","v":0}]
[null,null,null,null,null,null,null,null,null,null,null,null,null,null,null,{"$error":"#N/A"},null,null,null,null,null,null,null,null,null,null,null,null,null,{"$f":"(T972*Setup!$J$17)+(U972*Setup!$J$18)+(V972*Setup!$J$19)+(W972*Setup!$J$22)+X972*(Setup!$J$23)+(Y972*Setup!$J$24)+(Z972*Setup!$J$27)+(AA972*Setup!$J$28)+(AB972*Setup!$J$29)","v":0},"ERROR",1,{"$f":"IF(T972<>U973,1,0)","v":0},{"$f":"IF(V972<>V973,1,0)","v":0},1,{"$f":"IF(W972<>X973,1,0)","v":0},{"$f":"IF(Y972<>Y973,1,0)","v":0},1,{"$f":"IF(Z972<>AA973,1,0)","v":0},{"$f":"IF(AB972<>AB973,1,0)","v":0}]
[null,null,null,null,null,null,null,null,null,null,null,null,null,null,null,{"$error":"#N/A"},null,null,null,null,null,null,null,null,null,null,null,null,null,{"$f":"(T973*Setup!$J$17)+(U973*Setup!$J$18)+(V973*Setup!$J$19)+(W973*Setup!$J$22)+X973*(Setup!$J$23)+(Y973*Setup!$J$24)+(Z973*Setup!$J$27)+(AA973*Setup!$J$28)+(AB973*Setup!$J$29)","v":0},"ERROR",1,{"$f":"IF(T973<>U972,1,0)","v":0},{"$f":"IF(V973<>V972,1,0)","v":0},1,{"$f":"IF(W973<>X972,1,0)","v":0},{"$f":"IF(Y973<>Y972,1,0)","v":0},1,{"$f":"IF(Z973<>AA972,1,0)","v":0},{"$f":"IF(AB973<>AB972,1,0)","v":0}]
[null,null,null,null,null,null,null,null,null,null,null,null,null,null,null,{"$error":"#N/A"},null,null,null,null,null,null,null,null,null,null,null,null,null,{"$f":"(T974*Setup!$J$17)+(U974*Setup!$J$18)+(V974*Setup!$J$19)+(W974*Setup!$J$22)+X974*(Setup!$J$23)+(Y974*Setup!$J$24)+(Z974*Setup!$J$27)+(AA974*Setup!$J$28)+(AB974*Setup!$J$29)","v":0},"ERROR",1,{"$f":"IF(T974<>U975,1,0)","v":0},{"$f":"IF(V974<>V975,1,0)","v":0},1,{"$f":"IF(W974<>X975,1,0)","v":0},{"$f":"IF(Y974<>Y975,1,0)","v":0},1,{"$f":"IF(Z974<>AA975,1,0)","v":0},{"$f":"IF(AB974<>AB975,1,0)","v":0}]
[null,null,null,null,null,null,null,null,null,null,null,null,null,null,null,{"$error":"#N/A"},null,null,null,null,null,null,null,null,null,null,null,null,null,{"$f":"(T975*Setup!$J$17)+(U975*Setup!$J$18)+(V975*Setup!$J$19)+(W975*Setup!$J$22)+X975*(Setup!$J$23)+(Y975*Setup!$J$24)+(Z975*Setup!$J$27)+(AA975*Setup!$J$28)+(AB975*Setup!$J$29)","v":0},"ERROR",1,{"$f":"IF(T975<>U974,1,0)","v":0},{"$f":"IF(V975<>V974,1,0)","v":0},1,{"$f":"IF(W975<>X974,1,0)","v":0},{"$f":"IF(Y975<>Y974,1,0)","v":0},1,{"$f":"IF(Z975<>AA974,1,0)","v":0},{"$f":"IF(AB975<>AB974,1,0)","v":0}]
[null,null,null,null,null,null,null,null,null,null,null,null,null,null,null,{"$error":"#N/A"},null,null,null,null,null,null,null,null,null,null,null,null,null,{"$f":"(T976*Setup!$J$17)+(U976*Setup!$J$18)+(V976*Setup!$J$19)+(W976*Setup!$J$22)+X976*(Setup!$J$23)+(Y976*Setup!$J$24)+(Z976*Setup!$J$27)+(AA976*Setup!$J$28)+(AB976*Setup!$J$29)","v":0},"ERROR",1,{"$f":"IF(T976<>U977,1,0)","v":0},{"$f":"IF(V976<>V977,1,0)","v":0},1,{"$f":"IF(W976<>X977,1,0)","v":0},{"$f":"IF(Y976<>Y977,1,0)","v":0},1,{"$f":"IF(Z976<>AA977,1,0)","v":0},{"$f":"IF(AB976<>AB977,1,0)","v":0}]
[null,null,null,null,null,null,null,null,null,null,null,null,null,null,null,{"$error":"#N/A"},null,null,null,null,null,null,null,null,null,null,null,null,null,{"$f":"(T977*Setup!$J$17)+(U977*Setup!$J$18)+(V977*Setup!$J$19)+(W977*Setup!$J$22)+X977*(Setup!$J$23)+(Y977*Setup!$J$24)+(Z977*Setup!$J$27)+(AA977*Setup!$J$28)+(AB977*Setup!$J$29)","v":0},"ERROR",1,{"$f":"IF(T977<>U976,1,0)","v":0},{"$f":"IF(V977<>V976,1,0)","v":0},1,{"$f":"IF(W977<>X976,1,0)","v":0},{"$f":"IF(Y977<>Y976,1,0)","v":0},1,{"$f":"IF(Z977<>AA976,1,0)","v":0},{"$f":"IF(AB977<>AB976,1,0)","v":0}]
[null,null,null,null,null,null,null,null,null,null,null,null,null,null,null,{"$error":"#N/A"},null,null,null,null,null,null,null,null,null,null,null,null,null,{"$f":"(T978*Setup!$J$17)+(U978*Setup!$J$18)+(V978*Setup!$J$19)+(W978*Setup!$J$22)+X978*(Setup!$J$23)+(Y978*Setup!$J$24)+(Z978*Setup!$J$27)+(AA978*Setup!$J$28)+(AB978*Setup!$J$29)","v":0},"ERROR",1,{"$f":"IF(T978<>U979,1,0)","v":0},{"$f":"IF(V978<>V979,1,0)","v":0},1,{"$f":"IF(W978<>X979,1,0)","v":0},{"$f":"IF(Y978<>Y979,1,0)","v":0},1,{"$f":"IF(Z978<>AA979,1,0)","v":0},{"$f":"IF(AB978<>AB979,1,0)","v":0}]
[null,null,null,null,null,null,null,null,null,null,null,null,null,null,null,{"$error":"#N/A"},null,null,null,null,null,null,null,null,null,null,null,null,null,{"$f":"(T979*Setup!$J$17)+(U979*Setup!$J$18)+(V979*Setup!$J$19)+(W979*Setup!$J$22)+X979*(Setup!$J$23)+(Y979*Setup!$J$24)+(Z979*Setup!$J$27)+(AA979*Setup!$J$28)+(AB979*Setup!$J$29)","v":0},"ERROR",1,{"$f":"IF(T979<>U978,1,0)","v":0},{"$f":"IF(V979<>V978,1,0)","v":0},1,{"$f":"IF(W979<>X978,1,0)","v":0},{"$f":"IF(Y979<>Y978,1,0)","v":0},1,{"$f":"IF(Z979<>AA978,1,0)","v":0},{"$f":"IF(AB979<>AB978,1,0)","v":0}]
[null,null,null,null,null,null,null,null,null,null,null,null,null,null,null,{"$error":"#N/A"},null,null,null,null,null,null,null,null,null,null,null,null,null,{"$f":"(T980*Setup!$J$17)+(U980*Setup!$J$18)+(V980*Setup!$J$19)+(W980*Setup!$J$22)+X980*(Setup!$J$23)+(Y980*Setup!$J$24)+(Z980*Setup!$J$27)+(AA980*Setup!$J$28)+(AB980*Setup!$J$29)","v":0},"ERROR",1,{"$f":"IF(T980<>U981,1,0)","v":0},{"$f":"IF(V980<>V981,1,0)","v":0},1,{"$f":"IF(W980<>X981,1,0)","v":0},{"$f":"IF(Y980<>Y981,1,0)","v":0},1,{"$f":"IF(Z980<>AA981,1,0)","v":0},{"$f":"IF(AB980<>AB981,1,0)","v":0}]
[null,null,null,null,null,null,null,null,null,null,null,null,null,null,null,{"$error":"#N/A"},null,null,null,null,null,null,null,null,null,null,null,null,null,{"$f":"(T981*Setup!$J$17)+(U981*Setup!$J$18)+(V981*Setup!$J$19)+(W981*Setup!$J$22)+X981*(Setup!$J$23)+(Y981*Setup!$J$24)+(Z981*Setup!$J$27)+(AA981*Setup!$J$28)+(AB981*Setup!$J$29)","v":0},"ERROR",1,{"$f":"IF(T981<>U980,1,0)","v":0},{"$f":"IF(V981<>V980,1,0)","v":0},1,{"$f":"IF(W981<>X980,1,0)","v":0},{"$f":"IF(Y981<>Y980,1,0)","v":0},1,{"$f":"IF(Z981<>AA980,1,0)","v":0},{"$f":"IF(AB981<>AB980,1,0)","v":0}]
[null,null,null,null,null,null,null,null,null,null,null,null,null,null,null,{"$error":"#N/A"},null,null,null,null,null,null,null,null,null,null,null,null,null,{"$f":"(T982*Setup!$J$17)+(U982*Setup!$J$18)+(V982*Setup!$J$19)+(W982*Setup!$J$22)+X982*(Setup!$J$23)+(Y982*Setup!$J$24)+(Z982*Setup!$J$27)+(AA982*Setup!$J$28)+(AB982*Setup!$J$29)","v":0},"ERROR",1,{"$f":"IF(T982<>U983,1,0)","v":0},{"$f":"IF(V982<>V983,1,0)","v":0},1,{"$f":"IF(W982<>X983,1,0)","v":0},{"$f":"IF(Y982<>Y983,1,0)","v":0},1,{"$f":"IF(Z982<>AA983,1,0)","v":0},{"$f":"IF(AB982<>AB983,1,0)","v":0}]
[null,null,null,null,null,null,null,null,null,null,null,null,null,null,null,{"$error":"#N/A"},null,null,null,null,null,null,null,null,null,null,null,null,null,{"$f":"(T983*Setup!$J$17)+(U983*Setup!$J$18)+(V983*Setup!$J$19)+(W983*Setup!$J$22)+X983*(Setup!$J$23)+(Y983*Setup!$J$24)+(Z983*Setup!$J$27)+(AA983*Setup!$J$28)+(AB983*Setup!$J$29)","v":0},"ERROR",1,{"$f":"IF(T983<>U982,1,0)","v":0},{"$f":"IF(V983<>V982,1,0)","v":0},1,{"$f":"IF(W983<>X982,1,0)","v":0},{"$f":"IF(Y983<>Y982,1,0)","v":0},1,{"$f":"IF(Z983<>AA982,1,0)","v":0},{"$f":"IF(AB983<>AB982,1,0)","v":0}]
[null,null,null,null,null,null,null,null,null,null,null,null,null,null,null,{"$error":"#N/A"},null,null,null,null,null,null,null,null,null,null,null,null,null,{"$f":"(T984*Setup!$J$17)+(U984*Setup!$J$18)+(V984*Setup!$J$19)+(W984*Setup!$J$22)+X984*(Setup!$J$23)+(Y984*Setup!$J$24)+(Z984*Setup!$J$27)+(AA984*Setup!$J$28)+(AB984*Setup!$J$29)","v":0},"ERROR",1,{"$f":"IF(T984<>U985,1,0)","v":0},{"$f":"IF(V984<>V985,1,0)","v":0},1,{"$f":"IF(W984<>X985,1,0)","v":0},{"$f":"IF(Y984<>Y985,1,0)","v":0},1,{"$f":"IF(Z984<>AA985,1,0)","v":0},{"$f":"IF(AB984<>AB985,1,0)","v":0}]
[null,null,null,null,null,null,null,null,null,null,null,null,null,null,null,{"$error":"#N/A"},null,null,null,null,null,null,null,null,null,null,null,null,null,{"$f":"(T985*Setup!$J$17)+(U985*Setup!$J$18)+(V985*Setup!$J$19)+(W985*Setup!$J$22)+X985*(Setup!$J$23)+(Y985*Setup!$J$24)+(Z985*Setup!$J$27)+(AA985*Setup!$J$28)+(AB985*Setup!$J$29)","v":0},"ERROR",1,{"$f":"IF(T985<>U984,1,0)","v":0},{"$f":"IF(V985<>V984,1,0)","v":0},1,{"$f":"IF(W985<>X984,1,0)","v":0},{"$f":"IF(Y985<>Y984,1,0)","v":0},1,{"$f":"IF(Z985<>AA984,1,0)","v":0},{"$f":"IF(AB985<>AB984,1,0)","v":0}]
[null,null,null,null,null,null,null,null,null,null,null,null,null,null,null,{"$error":"#N/A"},null,null,null,null,null,null,null,null,null,null,null,null,null,{"$f":"(T986*Setup!$J$17)+(U986*Setup!$J$18)+(V986*Setup!$J$19)+(W986*Setup!$J$22)+X986*(Setup!$J$23)+(Y986*Setup!$J$24)+(Z986*Setup!$J$27)+(AA986*Setup!$J$28)+(AB986*Setup!$J$29)","v":0},"ERROR",1,{"$f":"IF(T986<>U987,1,0)","v":0},{"$f":"IF(V986<>V987,1,0)","v":0},1,{"$f":"IF(W986<>X987,1,0)","v":0},{"$f":"IF(Y986<>Y987,1,0)","v":0},1,{"$f":"IF(Z986<>AA987,1,0)","v":0},{"$f":"IF(AB986<>AB987,1,0)","v":0}]
[null,null,null,null,null,null,null,null,null,null,null,null,null,null,null,{"$error":"#N/A"},null,null,null,null,null,null,null,null,null,null,null,null,null,{"$f":"(T987*Setup!$J$17)+(U987*Setup!$J$18)+(V987*Setup!$J$19)+(W987*Setup!$J$22)+X987*(Setup!$J$23)+(Y987*Setup!$J$24)+(Z987*Setup!$J$27)+(AA987*Setup!$J$28)+(AB987*Setup!$J$29)","v":0},"ERROR",1,{"$f":"IF(T987<>U986,1,0)","v":0},{"$f":"IF(V987<>V986,1,0)","v":0},1,{"$f":"IF(W987<>X986,1,0)","v":0},{"$f":"IF(Y987<>Y986,1,0)","v":0},1,{"$f":"IF(Z987<>AA986,1,0)","v":0},{"$f":"IF(AB987<>AB986,1,0)","v":0}]
[null,null,null,null,null,null,null,null,null,null,null,null,null,null,null,{"$error":"#N/A"},null,null,null,null,null,null,null,null,null,null,null,null,null,{"$f":"(T988*Setup!$J$17)+(U988*Setup!$J$18)+(V988*Setup!$J$19)+(W988*Setup!$J$22)+X988*(Setup!$J$23)+(Y988*Setup!$J$24)+(Z988*Setup!$J$27)+(AA988*Setup!$J$28)+(AB988*Setup!$J$29)","v":0},"ERROR",1,{"$f":"IF(T988<>U989,1,0)","v":0},{"$f":"IF(V988<>V989,1,0)","v":0},1,{"$f":"IF(W988<>X989,1,0)","v":0},{"$f":"IF(Y988<>Y989,1,0)","v":0},1,{"$f":"IF(Z988<>AA989,1,0)","v":0},{"$f":"IF(AB988<>AB989,1,0)","v":0}]
[null,null,null,null,null,null,null,null,null,null,null,null,null,null,null,{"$error":"#N/A"},null,null,null,null,null,null,null,null,null,null,null,null,null,{"$f":"(T989*Setup!$J$17)+(U989*Setup!$J$18)+(V989*Setup!$J$19)+(W989*Setup!$J$22)+X989*(Setup!$J$23)+(Y989*Setup!$J$24)+(Z989*Setup!$J$27)+(AA989*Setup!$J$28)+(AB989*Setup!$J$29)","v":0},"ERROR",1,{"$f":"IF(T989<>U988,1,0)","v":0},{"$f":"IF(V989<>V988,1,0)","v":0},1,{"$f":"IF(W989<>X988,1,0)","v":0},{"$f":"IF(Y989<>Y988,1,0)","v":0},1,{"$f":"IF(Z989<>AA988,1,0)","v":0},{"$f":"IF(AB989<>AB988,1,0)","v":0}]
[null,null,null,null,null,null,null,null,null,null,null,null,null,null,null,{"$f":"VLOOKUP(S990,GE_Teams_DBID,2,FALSE)","v":{"$error":"#N/A"}},null,null,null,null,null,null,null,null,null,null,null,null,null,{"$f":"(T990*Setup!$J$17)+(U990*Setup!$J$18)+(V990*Setup!$J$19)+(W990*Setup!$J$22)+X990*(Setup!$J$23)+(Y990*Setup!$J$24)+(Z990*Setup!$J$27)+(AA990*Setup!$J$28)+(AB990*Setup!$J$29)","v":0},"ERROR",{"$f":"IF((T990+U990+V990)<>18,1,0)","v":1},{"$f":"IF(T990<>U991,1,0)","v":0},{"$f":"IF(V990<>V991,1,0)","v":0},{"$f":"IF((W990+X990+Y990)<>2,1,0)","v":1},{"$f":"IF(W990<>X991,1,0)","v":0},{"$f":"IF(Y990<>Y991,1,0)","v":0},{"$f":"IF((Z990+AA990+AB990)<>1,1,0)","v":1},{"$f":"IF(Z990<>AA991,1,0)","v":0},{"$f":"IF(AB990<>AB991,1,0)","v":0}]
[null,null,null,null,null,null,null,null,null,null,null,null,null,null,null,{"$error":"#N/A"},null,null,null,null,null,null,null,null,null,null,null,null,null,{"$f":"(T991*Setup!$J$17)+(U991*Setup!$J$18)+(V991*Setup!$J$19)+(W991*Setup!$J$22)+X991*(Setup!$J$23)+(Y991*Setup!$J$24)+(Z991*Setup!$J$27)+(AA991*Setup!$J$28)+(AB991*Setup!$J$29)","v":0},{"$f":"IF(SUM(AF991:AN991)>0,\"ERROR\",\"\")","v":"ERROR"},1,{"$f":"IF(T991<>U990,1,0)","v":0},{"$f":"IF(V991<>V990,1,0)","v":0},1,{"$f":"IF(W991<>X990,1,0)","v":0},{"$f":"IF(Y991<>Y990,1,0)","v":0},1,{"$f":"IF(Z991<>AA990,1,0)","v":0},{"$f":"IF(AB991<>AB990,1,0)","v":0}]
[null,null,null,null,null,null,null,null,null,null,null,null,null,null,null,{"$error":"#N/A"},null,null,null,null,null,null,null,null,null,null,null,null,null,{"$f":"(T992*Setup!$J$17)+(U992*Setup!$J$18)+(V992*Setup!$J$19)+(W992*Setup!$J$22)+X992*(Setup!$J$23)+(Y992*Setup!$J$24)+(Z992*Setup!$J$27)+(AA992*Setup!$J$28)+(AB992*Setup!$J$29)","v":0},"ERROR",1,{"$f":"IF(T992<>U993,1,0)","v":0},{"$f":"IF(V992<>V993,1,0)","v":0},1,{"$f":"IF(W992<>X993,1,0)","v":0},{"$f":"IF(Y992<>Y993,1,0)","v":0},1,{"$f":"IF(Z992<>AA993,1,0)","v":0},{"$f":"IF(AB992<>AB993,1,0)","v":0}]
[null,null,null,null,null,null,null,null,null,null,null,null,null,null,null,{"$error":"#N/A"},null,null,null,null,null,null,null,null,null,null,null,null,null,{"$f":"(T993*Setup!$J$17)+(U993*Setup!$J$18)+(V993*Setup!$J$19)+(W993*Setup!$J$22)+X993*(Setup!$J$23)+(Y993*Setup!$J$24)+(Z993*Setup!$J$27)+(AA993*Setup!$J$28)+(AB993*Setup!$J$29)","v":0},"ERROR",1,{"$f":"IF(T993<>U992,1,0)","v":0},{"$f":"IF(V993<>V992,1,0)","v":0},1,{"$f":"IF(W993<>X992,1,0)","v":0},{"$f":"IF(Y993<>Y992,1,0)","v":0},1,{"$f":"IF(Z993<>AA992,1,0)","v":0},{"$f":"IF(AB993<>AB992,1,0)","v":0}]
[null,null,null,null,null,null,null,null,null,null,null,null,null,null,null,{"$error":"#N/A"},null,null,null,null,null,null,null,null,null,null,null,null,null,{"$f":"(T994*Setup!$J$17)+(U994*Setup!$J$18)+(V994*Setup!$J$19)+(W994*Setup!$J$22)+X994*(Setup!$J$23)+(Y994*Setup!$J$24)+(Z994*Setup!$J$27)+(AA994*Setup!$J$28)+(AB994*Setup!$J$29)","v":0},"ERROR",1,{"$f":"IF(T994<>U995,1,0)","v":0},{"$f":"IF(V994<>V995,1,0)","v":0},1,{"$f":"IF(W994<>X995,1,0)","v":0},{"$f":"IF(Y994<>Y995,1,0)","v":0},1,{"$f":"IF(Z994<>AA995,1,0)","v":0},{"$f":"IF(AB994<>AB995,1,0)","v":0}]
[null,null,null,null,null,null,null,null,null,null,null,null,null,null,null,{"$error":"#N/A"},null,null,null,null,null,null,null,null,null,null,null,null,null,{"$f":"(T995*Setup!$J$17)+(U995*Setup!$J$18)+(V995*Setup!$J$19)+(W995*Setup!$J$22)+X995*(Setup!$J$23)+(Y995*Setup!$J$24)+(Z995*Setup!$J$27)+(AA995*Setup!$J$28)+(AB995*Setup!$J$29)","v":0},"ERROR",1,{"$f":"IF(T995<>U994,1,0)","v":0},{"$f":"IF(V995<>V994,1,0)","v":0},1,{"$f":"IF(W995<>X994,1,0)","v":0},{"$f":"IF(Y995<>Y994,1,0)","v":0},1,{"$f":"IF(Z995<>AA994,1,0)","v":0},{"$f":"IF(AB995<>AB994,1,0)","v":0}]
[null,null,null,null,null,null,null,null,null,null,null,null,null,null,null,{"$error":"#N/A"},null,null,null,null,null,null,null,null,null,null,null,null,null,{"$f":"(T996*Setup!$J$17)+(U996*Setup!$J$18)+(V996*Setup!$J$19)+(W996*Setup!$J$22)+X996*(Setup!$J$23)+(Y996*Setup!$J$24)+(Z996*Setup!$J$27)+(AA996*Setup!$J$28)+(AB996*Setup!$J$29)","v":0},"ERROR",1,{"$f":"IF(T996<>U997,1,0)","v":0},{"$f":"IF(V996<>V997,1,0)","v":0},1,{"$f":"IF(W996<>X997,1,0)","v":0},{"$f":"IF(Y996<>Y997,1,0)","v":0},1,{"$f":"IF(Z996<>AA997,1,0)","v":0},{"$f":"IF(AB996<>AB997,1,0)","v":0}]
[null,null,null,null,null,null,null,null,null,null,null,null,null,null,null,{"$error":"#N/A"},null,null,null,null,null,null,null,null,null,null,null,null,null,{"$f":"(T997*Setup!$J$17)+(U997*Setup!$J$18)+(V997*Setup!$J$19)+(W997*Setup!$J$22)+X997*(Setup!$J$23)+(Y997*Setup!$J$24)+(Z997*Setup!$J$27)+(AA997*Setup!$J$28)+(AB997*Setup!$J$29)","v":0},"ERROR",1,{"$f":"IF(T997<>U996,1,0)","v":0},{"$f":"IF(V997<>V996,1,0)","v":0},1,{"$f":"IF(W997<>X996,1,0)","v":0},{"$f":"IF(Y997<>Y996,1,0)","v":0},1,{"$f":"IF(Z997<>AA996,1,0)","v":0},{"$f":"IF(AB997<>AB996,1,0)","v":0}]
[null,null,null,null,null,null,null,null,null,null,null,null,null,null,null,{"$error":"#N/A"},null,null,null,null,null,null,null,null,null,null,null,null,null,{"$f":"(T998*Setup!$J$17)+(U998*Setup!$J$18)+(V998*Setup!$J$19)+(W998*Setup!$J$22)+X998*(Setup!$J$23)+(Y998*Setup!$J$24)+(Z998*Setup!$J$27)+(AA998*Setup!$J$28)+(AB998*Setup!$J$29)","v":0},"ERROR",1,{"$f":"IF(T998<>U999,1,0)","v":0},{"$f":"IF(V998<>V999,1,0)","v":0},1,{"$f":"IF(W998<>X999,1,0)","v":0},{"$f":"IF(Y998<>Y999,1,0)","v":0},1,{"$f":"IF(Z998<>AA999,1,0)","v":0},{"$f":"IF(AB998<>AB999,1,0)","v":0}]
[null,null,null,null,null,null,null,null,null,null,null,null,null,null,null,{"$error":"#N/A"},null,null,null,null,null,null,null,null,null,null,null,null,null,{"$f":"(T999*Setup!$J$17)+(U999*Setup!$J$18)+(V999*Setup!$J$19)+(W999*Setup!$J$22)+X999*(Setup!$J$23)+(Y999*Setup!$J$24)+(Z999*Setup!$J$27)+(AA999*Setup!$J$28)+(AB999*Setup!$J$29)","v":0},"ERROR",1,{"$f":"IF(T999<>U998,1,0)","v":0},{"$f":"IF(V999<>V998,1,0)","v":0},1,{"$f":"IF(W999<>X998,1,0)","v":0},{"$f":"IF(Y999<>Y998,1,0)","v":0},1,{"$f":"IF(Z999<>AA998,1,0)","v":0},{"$f":"IF(AB999<>AB998,1,0)","v":0}]
[null,null,null,null,null,null,null,null,null,null,null,null,null,null,null,{"$error":"#N/A"},null,null,null,null,null,null,null,null,null,null,null,null,null,{"$f":"(T1000*Setup!$J$17)+(U1000*Setup!$J$18)+(V1000*Setup!$J$19)+(W1000*Setup!$J$22)+X1000*(Setup!$J$23)+(Y1000*Setup!$J$24)+(Z1000*Setup!$J$27)+(AA1000*Setup!$J$28)+(AB1000*Setup!$J$29)","v":0},"ERROR",1,{"$f":"IF(T1000<>U1001,1,0)","v":0},{"$f":"IF(V1000<>V1001,1,0)","v":0},1,{"$f":"IF(W1000<>X1001,1,0)","v":0},{"$f":"IF(Y1000<>Y1001,1,0)","v":0},1,{"$f":"IF(Z1000<>AA1001,1,0)","v":0},{"$f":"IF(AB1000<>AB1001,1,0)","v":0}]
[null,null,null,null,null,null,null,null,null,null,null,null,null,null,null,{"$error":"#N/A"},null,null,null,null,null,null,null,null,null,null,null,null,null,{"$f":"(T1001*Setup!$J$17)+(U1001*Setup!$J$18)+(V1001*Setup!$J$19)+(W1001*Setup!$J$22)+X1001*(Setup!$J$23)+(Y1001*Setup!$J$24)+(Z1001*Setup!$J$27)+(AA1001*Setup!$J$28)+(AB1001*Setup!$J$29)","v":0},"ERROR",1,{"$f":"IF(T1001<>U1000,1,0)","v":0},{"$f":"IF(V1001<>V1000,1,0)","v":0},1,{"$f":"IF(W1001<>X1000,1,0)","v":0},{"$f":"IF(Y1001<>Y1000,1,0)","v":0},1,{"$f":"IF(Z1001<>AA1000,1,0)","v":0},{"$f":"IF(AB1001<>AB1000,1,0)","v":0}]
[null,null,null,null,null,null,null,null,null,null,null,null,null,null,null,{"$error":"#N/A"},null,null,null,null,null,null,null,null,null,null,null,null,null,{"$f":"(T1002*Setup!$J$17)+(U1002*Setup!$J$18)+(V1002*Setup!$J$19)+(W1002*Setup!$J$22)+X1002*(Setup!$J$23)+(Y1002*Setup!$J$24)+(Z1002*Setup!$J$27)+(AA1002*Setup!$J$28)+(AB1002*Setup!$J$29)","v":0},"ERROR",1,{"$f":"IF(T1002<>U1003,1,0)","v":0},{"$f":"IF(V1002<>V1003,1,0)","v":0},1,{"$f":"IF(W1002<>X1003,1,0)","v":0},{"$f":"IF(Y1002<>Y1003,1,0)","v":0},1,{"$f":"IF(Z1002<>AA1003,1,0)","v":0},{"$f":"IF(AB1002<>AB1003,1,0)","v":0}]
[null,null,null,null,null,null,null,null,null,null,null,null,null,null,null,{"$error":"#N/A"},null,null,null,null,null,null,null,null,null,null,null,null,null,{"$f":"(T1003*Setup!$J$17)+(U1003*Setup!$J$18)+(V1003*Setup!$J$19)+(W1003*Setup!$J$22)+X1003*(Setup!$J$23)+(Y1003*Setup!$J$24)+(Z1003*Setup!$J$27)+(AA1003*Setup!$J$28)+(AB1003*Setup!$J$29)","v":0},"ERROR",1,{"$f":"IF(T1003<>U1002,1,0)","v":0},{"$f":"IF(V1003<>V1002,1,0)","v":0},1,{"$f":"IF(W1003<>X1002,1,0)","v":0},{"$f":"IF(Y1003<>Y1002,1,0)","v":0},1,{"$f":"IF(Z1003<>AA1002,1,0)","v":0},{"$f":"IF(AB1003<>AB1002,1,0)","v":0}]
[null,null,null,null,null,null,null,null,null,null,null,null,null,null,null,{"$error":"#N/A"},null,null,null,null,null,null,null,null,null,null,null,null,null,{"$f":"(T1004*Setup!$J$17)+(U1004*Setup!$J$18)+(V1004*Setup!$J$19)+(W1004*Setup!$J$22)+X1004*(Setup!$J$23)+(Y1004*Setup!$J$24)+(Z1004*Setup!$J$27)+(AA1004*Setup!$J$28)+(AB1004*Setup!$J$29)","v":0},"ERROR",1,{"$f":"IF(T1004<>U1005,1,0)","v":0},{"$f":"IF(V1004<>V1005,1,0)","v":0},1,{"$f":"IF(W1004<>X1005,1,0)","v":0},{"$f":"IF(Y1004<>Y1005,1,0)","v":0},1,{"$f":"IF(Z1004<>AA1005,1,0)","v":0},{"$f":"IF(AB1004<>AB1005,1,0)","v":0}]
[null,null,null,null,null,null,null,null,null,null,null,null,null,null,null,{"$error":"#N/A"},null,null,null,null,null,null,null,null,null,null,null,null,null,{"$f":"(T1005*Setup!$J$17)+(U1005*Setup!$J$18)+(V1005*Setup!$J$19)+(W1005*Setup!$J$22)+X1005*(Setup!$J$23)+(Y1005*Setup!$J$24)+(Z1005*Setup!$J$27)+(AA1005*Setup!$J$28)+(AB1005*Setup!$J$29)","v":0},"ERROR",1,{"$f":"IF(T1005<>U1004,1,0)","v":0},{"$f":"IF(V1005<>V1004,1,0)","v":0},1,{"$f":"IF(W1005<>X1004,1,0)","v":0},{"$f":"IF(Y1005<>Y1004,1,0)","v":0},1,{"$f":"IF(Z1005<>AA1004,1,0)","v":0},{"$f":"IF(AB1005<>AB1004,1,0)","v":0}]
[null,null,null,null,null,null,null,null,null,null,null,null,null,null,null,{"$error":"#N/A"},null,null,null,null,null,null,null,null,null,null,null,null,null,{"$f":"(T1006*Setup!$J$17)+(U1006*Setup!$J$18)+(V1006*Setup!$J$19)+(W1006*Setup!$J$22)+X1006*(Setup!$J$23)+(Y1006*Setup!$J$24)+(Z1006*Setup!$J$27)+(AA1006*Setup!$J$28)+(AB1006*Setup!$J$29)","v":0},"ERROR",1,{"$f":"IF(T1006<>U1007,1,0)","v":0},{"$f":"IF(V1006<>V1007,1,0)","v":0},1,{"$f":"IF(W1006<>X1007,1,0)","v":0},{"$f":"IF(Y1006<>Y1007,1,0)","v":0},1,{"$f":"IF(Z1006<>AA1007,1,0)","v":0},{"$f":"IF(AB1006<>AB1007,1,0)","v":0}]
[null,null,null,null,null,null,null,null,null,null,null,null,null,null,null,{"$error":"#N/A"},null,null,null,null,null,null,null,null,null,null,null,null,null,{"$f":"(T1007*Setup!$J$17)+(U1007*Setup!$J$18)+(V1007*Setup!$J$19)+(W1007*Setup!$J$22)+X1007*(Setup!$J$23)+(Y1007*Setup!$J$24)+(Z1007*Setup!$J$27)+(AA1007*Setup!$J$28)+(AB1007*Setup!$J$29)","v":0},"ERROR",1,{"$f":"IF(T1007<>U1006,1,0)","v":0},{"$f":"IF(V1007<>V1006,1,0)","v":0},1,{"$f":"IF(W1007<>X1006,1,0)","v":0},{"$f":"IF(Y1007<>Y1006,1,0)","v":0},1,{"$f":"IF(Z1007<>AA1006,1,0)","v":0},{"$f":"IF(AB1007<>AB1006,1,0)","v":0}]
[null,null,null,null,null,null,null,null,null,null,null,null,null,null,null,{"$error":"#N/A"},null,null,null,null,null,null,null,null,null,null,null,null,null,{"$f":"(T1008*Setup!$J$17)+(U1008*Setup!$J$18)+(V1008*Setup!$J$19)+(W1008*Setup!$J$22)+X1008*(Setup!$J$23)+(Y1008*Setup!$J$24)+(Z1008*Setup!$J$27)+(AA1008*Setup!$J$28)+(AB1008*Setup!$J$29)","v":0},"ERROR",1,{"$f":"IF(T1008<>U1009,1,0)","v":0},{"$f":"IF(V1008<>V1009,1,0)","v":0},1,{"$f":"IF(W1008<>X1009,1,0)","v":0},{"$f":"IF(Y1008<>Y1009,1,0)","v":0},1,{"$f":"IF(Z1008<>AA1009,1,0)","v":0},{"$f":"IF(AB1008<>AB1009,1,0)","v":0}]
[null,null,null,null,null,null,null,null,null,null,null,null,null,null,null,{"$error":"#N/A"},null,null,null,null,null,null,null,null,null,null,null,null,null,{"$f":"(T1009*Setup!$J$17)+(U1009*Setup!$J$18)+(V1009*Setup!$J$19)+(W1009*Setup!$J$22)+X1009*(Setup!$J$23)+(Y1009*Setup!$J$24)+(Z1009*Setup!$J$27)+(AA1009*Setup!$J$28)+(AB1009*Setup!$J$29)","v":0},"ERROR",1,{"$f":"IF(T1009<>U1008,1,0)","v":0},{"$f":"IF(V1009<>V1008,1,0)","v":0},1,{"$f":"IF(W1009<>X1008,1,0)","v":0},{"$f":"IF(Y1009<>Y1008,1,0)","v":0},1,{"$f":"IF(Z1009<>AA1008,1,0)","v":0},{"$f":"IF(AB1009<>AB1008,1,0)","v":0}]
[null,null,null,null,null,null,null,null,null,null,null,null,null,null,null,{"$error":"#N/A"},null,null,null,null,null,null,null,null,null,null,null,null,null,{"$f":"(T1010*Setup!$J$17)+(U1010*Setup!$J$18)+(V1010*Setup!$J$19)+(W1010*Setup!$J$22)+X1010*(Setup!$J$23)+(Y1010*Setup!$J$24)+(Z1010*Setup!$J$27)+(AA1010*Setup!$J$28)+(AB1010*Setup!$J$29)","v":0},"ERROR",1,{"$f":"IF(T1010<>U1011,1,0)","v":0},{"$f":"IF(V1010<>V1011,1,0)","v":0},1,{"$f":"IF(W1010<>X1011,1,0)","v":0},{"$f":"IF(Y1010<>Y1011,1,0)","v":0},1,{"$f":"IF(Z1010<>AA1011,1,0)","v":0},{"$f":"IF(AB1010<>AB1011,1,0)","v":0}]
[null,null,null,null,null,null,null,null,null,null,null,null,null,null,null,{"$error":"#N/A"},null,null,null,null,null,null,null,null,null,null,null,null,null,{"$f":"(T1011*Setup!$J$17)+(U1011*Setup!$J$18)+(V1011*Setup!$J$19)+(W1011*Setup!$J$22)+X1011*(Setup!$J$23)+(Y1011*Setup!$J$24)+(Z1011*Setup!$J$27)+(AA1011*Setup!$J$28)+(AB1011*Setup!$J$29)","v":0},"ERROR",1,{"$f":"IF(T1011<>U1010,1,0)","v":0},{"$f":"IF(V1011<>V1010,1,0)","v":0},1,{"$f":"IF(W1011<>X1010,1,0)","v":0},{"$f":"IF(Y1011<>Y1010,1,0)","v":0},1,{"$f":"IF(Z1011<>AA1010,1,0)","v":0},{"$f":"IF(AB1011<>AB1010,1,0)","v":0}]
[null,null,null,null,null,null,null,null,null,null,null,null,null,null,null,{"$error":"#N/A"},null,null,null,null,null,null,null,null,null,null,null,null,null,{"$f":"(T1012*Setup!$J$17)+(U1012*Setup!$J$18)+(V1012*Setup!$J$19)+(W1012*Setup!$J$22)+X1012*(Setup!$J$23)+(Y1012*Setup!$J$24)+(Z1012*Setup!$J$27)+(AA1012*Setup!$J$28)+(AB1012*Setup!$J$29)","v":0},"ERROR",1,{"$f":"IF(T1012<>U1013,1,0)","v":0},{"$f":"IF(V1012<>V1013,1,0)","v":0},1,{"$f":"IF(W1012<>X1013,1,0)","v":0},{"$f":"IF(Y1012<>Y1013,1,0)","v":0},1,{"$f":"IF(Z1012<>AA1013,1,0)","v":0},{"$f":"IF(AB1012<>AB1013,1,0)","v":0}]
[null,null,null,null,null,null,null,null,null,null,null,null,null,null,null,{"$error":"#N/A"},null,null,null,null,null,null,null,null,null,null,null,null,null,{"$f":"(T1013*Setup!$J$17)+(U1013*Setup!$J$18)+(V1013*Setup!$J$19)+(W1013*Setup!$J$22)+X1013*(Setup!$J$23)+(Y1013*Setup!$J$24)+(Z1013*Setup!$J$27)+(AA1013*Setup!$J$28)+(AB1013*Setup!$J$29)","v":0},"ERROR",1,{"$f":"IF(T1013<>U1012,1,0)","v":0},{"$f":"IF(V1013<>V1012,1,0)","v":0},1,{"$f":"IF(W1013<>X1012,1,0)","v":0},{"$f":"IF(Y1013<>Y1012,1,0)","v":0},1,{"$f":"IF(Z1013<>AA1012,1,0)","v":0},{"$f":"IF(AB1013<>AB1012,1,0)","v":0}]
[null,null,null,null,null,null,null,null,null,null,null,null,null,null,null,{"$error":"#N/A"},null,null,null,null,null,null,null,null,null,null,null,null,null,{"$f":"(T1014*Setup!$J$17)+(U1014*Setup!$J$18)+(V1014*Setup!$J$19)+(W1014*Setup!$J$22)+X1014*(Setup!$J$23)+(Y1014*Setup!$J$24)+(Z1014*Setup!$J$27)+(AA1014*Setup!$J$28)+(AB1014*Setup!$J$29)","v":0},"ERROR",1,{"$f":"IF(T1014<>U1015,1,0)","v":0},{"$f":"IF(V1014<>V1015,1,0)","v":0},1,{"$f":"IF(W1014<>X1015,1,0)","v":0},{"$f":"IF(Y1014<>Y1015,1,0)","v":0},1,{"$f":"IF(Z1014<>AA1015,1,0)","v":0},{"$f":"IF(AB1014<>AB1015,1,0)","v":0}]
[null,null,null,null,null,null,null,null,null,null,null,null,null,null,null,{"$error":"#N/A"},null,null,null,null,null,null,null,null,null,null,null,null,null,{"$f":"(T1015*Setup!$J$17)+(U1015*Setup!$J$18)+(V1015*Setup!$J$19)+(W1015*Setup!$J$22)+X1015*(Setup!$J$23)+(Y1015*Setup!$J$24)+(Z1015*Setup!$J$27)+(AA1015*Setup!$J$28)+(AB1015*Setup!$J$29)","v":0},"ERROR",1,{"$f":"IF(T1015<>U1014,1,0)","v":0},{"$f":"IF(V1015<>V1014,1,0)","v":0},1,{"$f":"IF(W1015<>X1014,1,0)","v":0},{"$f":"IF(Y1015<>Y1014,1,0)","v":0},1,{"$f":"IF(Z1015<>AA1014,1,0)","v":0},{"$f":"IF(AB1015<>AB1014,1,0)","v":0}]
[null,null,null,null,null,null,null,null,null,null,null,null,null,null,null,{"$error":"#N/A"},null,null,null,null,null,null,null,null,null,null,null,null,null,{"$f":"(T1016*Setup!$J$17)+(U1016*Setup!$J$18)+(V1016*Setup!$J$19)+(W1016*Setup!$J$22)+X1016*(Setup!$J$23)+(Y1016*Setup!$J$24)+(Z1016*Setup!$J$27)+(AA1016*Setup!$J$28)+(AB1016*Setup!$J$29)","v":0},"ERROR",1,{"$f":"IF(T1016<>U1017,1,0)","v":0},{"$f":"IF(V1016<>V1017,1,0)","v":0},1,{"$f":"IF(W1016<>X1017,1,0)","v":0},{"$f":"IF(Y1016<>Y1017,1,0)","v":0},1,{"$f":"IF(Z1016<>AA1017,1,0)","v":0},{"$f":"IF(AB1016<>AB1017,1,0)","v":0}]
[null,null,null,null,null,null,null,null,null,null,null,null,null,null,null,{"$error":"#N/A"},null,null,null,null,null,null,null,null,null,null,null,null,null,{"$f":"(T1017*Setup!$J$17)+(U1017*Setup!$J$18)+(V1017*Setup!$J$19)+(W1017*Setup!$J$22)+X1017*(Setup!$J$23)+(Y1017*Setup!$J$24)+(Z1017*Setup!$J$27)+(AA1017*Setup!$J$28)+(AB1017*Setup!$J$29)","v":0},"ERROR",1,{"$f":"IF(T1017<>U1016,1,0)","v":0},{"$f":"IF(V1017<>V1016,1,0)","v":0},1,{"$f":"IF(W1017<>X1016,1,0)","v":0},{"$f":"IF(Y1017<>Y1016,1,0)","v":0},1,{"$f":"IF(Z1017<>AA1016,1,0)","v":0},{"$f":"IF(AB1017<>AB1016,1,0)","v":0}]
[null,null,null,null,null,null,null,null,null,null,null,null,null,null,null,{"$error":"#N/A"},null,null,null,null,null,null,null,null,null,null,null,null,null,{"$f":"(T1018*Setup!$J$17)+(U1018*Setup!$J$18)+(V1018*Setup!$J$19)+(W1018*Setup!$J$22)+X1018*(Setup!$J$23)+(Y1018*Setup!$J$24)+(Z1018*Setup!$J$27)+(AA1018*Setup!$J$28)+(AB1018*Setup!$J$29)","v":0},"ERROR",1,{"$f":"IF(T1018<>U1019,1,0)","v":0},{"$f":"IF(V1018<>V1019,1,0)","v":0},1,{"$f":"IF(W1018<>X1019,1,0)","v":0},{"$f":"IF(Y1018<>Y1019,1,0)","v":0},1,{"$f":"IF(Z1018<>AA1019,1,0)","v":0},{"$f":"IF(AB1018<>AB1019,1,0)","v":0}]
[null,null,null,null,null,null,null,null,null,null,null,null,null,null,null,{"$error":"#N/A"},null,null,null,null,null,null,null,null,null,null,null,null,null,{"$f":"(T1019*Setup!$J$17)+(U1019*Setup!$J$18)+(V1019*Setup!$J$19)+(W1019*Setup!$J$22)+X1019*(Setup!$J$23)+(Y1019*Setup!$J$24)+(Z1019*Setup!$J$27)+(AA1019*Setup!$J$28)+(AB1019*Setup!$J$29)","v":0},"ERROR",1,{"$f":"IF(T1019<>U1018,1,0)","v":0},{"$f":"IF(V1019<>V1018,1,0)","v":0},1,{"$f":"IF(W1019<>X1018,1,0)","v":0},{"$f":"IF(Y1019<>Y1018,1,0)","v":0},1,{"$f":"IF(Z1019<>AA1018,1,0)","v":0},{"$f":"IF(AB1019<>AB1018,1,0)","v":0}]
[null,null,null,null,null,null,null,null,null,null,null,null,null,null,null,{"$error":"#N/A"},null,null,null,null,null,null,null,null,null,null,null,null,null,{"$f":"(T1020*Setup!$J$17)+(U1020*Setup!$J$18)+(V1020*Setup!$J$19)+(W1020*Setup!$J$22)+X1020*(Setup!$J$23)+(Y1020*Setup!$J$24)+(Z1020*Setup!$J$27)+(AA1020*Setup!$J$28)+(AB1020*Setup!$J$29)","v":0},"ERROR",1,{"$f":"IF(T1020<>U1021,1,0)","v":0},{"$f":"IF(V1020<>V1021,1,0)","v":0},1,{"$f":"IF(W1020<>X1021,1,0)","v":0},{"$f":"IF(Y1020<>Y1021,1,0)","v":0},1,{"$f":"IF(Z1020<>AA1021,1,0)","v":0},{"$f":"IF(AB1020<>AB1021,1,0)","v":0}]
[null,null,null,null,null,null,null,null,null,null,null,null,null,null,null,{"$error":"#N/A"},null,null,null,null,null,null,null,null,null,null,null,null,null,{"$f":"(T1021*Setup!$J$17)+(U1021*Setup!$J$18)+(V1021*Setup!$J$19)+(W1021*Setup!$J$22)+X1021*(Setup!$J$23)+(Y1021*Setup!$J$24)+(Z1021*Setup!$J$27)+(AA1021*Setup!$J$28)+(AB1021*Setup!$J$29)","v":0},"ERROR",1,{"$f":"IF(T1021<>U1020,1,0)","v":0},{"$f":"IF(V1021<>V1020,1,0)","v":0},1,{"$f":"IF(W1021<>X1020,1,0)","v":0},{"$f":"IF(Y1021<>Y1020,1,0)","v":0},1,{"$f":"IF(Z1021<>AA1020,1,0)","v":0},{"$f":"IF(AB1021<>AB1020,1,0)","v":0}]
[null,null,null,null,null,null,null,null,null,null,null,null,null,null,null,{"$error":"#N/A"},null,null,null,null,null,null,null,null,null,null,null,null,null,{"$f":"(T1022*Setup!$J$17)+(U1022*Setup!$J$18)+(V1022*Setup!$J$19)+(W1022*Setup!$J$22)+X1022*(Setup!$J$23)+(Y1022*Setup!$J$24)+(Z1022*Setup!$J$27)+(AA1022*Setup!$J$28)+(AB1022*Setup!$J$29)","v":0},"ERROR",1,{"$f":"IF(T1022<>U1023,1,0)","v":0},{"$f":"IF(V1022<>V1023,1,0)","v":0},1,{"$f":"IF(W1022<>X1023,1,0)","v":0},{"$f":"IF(Y1022<>Y1023,1,0)","v":0},1,{"$f":"IF(Z1022<>AA1023,1,0)","v":0},{"$f":"IF(AB1022<>AB1023,1,0)","v":0}]
[null,null,null,null,null,null,null,null,null,null,null,null,null,null,null,{"$error":"#N/A"},null,null,null,null,null,null,null,null,null,null,null,null,null,{"$f":"(T1023*Setup!$J$17)+(U1023*Setup!$J$18)+(V1023*Setup!$J$19)+(W1023*Setup!$J$22)+X1023*(Setup!$J$23)+(Y1023*Setup!$J$24)+(Z1023*Setup!$J$27)+(AA1023*Setup!$J$28)+(AB1023*Setup!$J$29)","v":0},"ERROR",1,{"$f":"IF(T1023<>U1022,1,0)","v":0},{"$f":"IF(V1023<>V1022,1,0)","v":0},1,{"$f":"IF(W1023<>X1022,1,0)","v":0},{"$f":"IF(Y1023<>Y1022,1,0)","v":0},1,{"$f":"IF(Z1023<>AA1022,1,0)","v":0},{"$f":"IF(AB1023<>AB1022,1,0)","v":0}]
[null,null,null,null,null,null,null,null,null,null,null,null,null,null,null,{"$error":"#N/A"},null,null,null,null,null,null,null,null,null,null,null,null,null,{"$f":"(T1024*Setup!$J$17)+(U1024*Setup!$J$18)+(V1024*Setup!$J$19)+(W1024*Setup!$J$22)+X1024*(Setup!$J$23)+(Y1024*Setup!$J$24)+(Z1024*Setup!$J$27)+(AA1024*Setup!$J$28)+(AB1024*Setup!$J$29)","v":0},"ERROR",1,{"$f":"IF(T1024<>U1025,1,0)","v":0},{"$f":"IF(V1024<>V1025,1,0)","v":0},1,{"$f":"IF(W1024<>X1025,1,0)","v":0},{"$f":"IF(Y1024<>Y1025,1,0)","v":0},1,{"$f":"IF(Z1024<>AA1025,1,0)","v":0},{"$f":"IF(AB1024<>AB1025,1,0)","v":0}]
[null,null,null,null,null,null,null,null,null,null,null,null,null,null,null,{"$error":"#N/A"},null,null,null,null,null,null,null,null,null,null,null,null,null,{"$f":"(T1025*Setup!$J$17)+(U1025*Setup!$J$18)+(V1025*Setup!$J$19)+(W1025*Setup!$J$22)+X1025*(Setup!$J$23)+(Y1025*Setup!$J$24)+(Z1025*Setup!$J$27)+(AA1025*Setup!$J$28)+(AB1025*Setup!$J$29)","v":0},"ERROR",1,{"$f":"IF(T1025<>U1024,1,0)","v":0},{"$f":"IF(V1025<>V1024,1,0)","v":0},1,{"$f":"IF(W1025<>X1024,1,0)","v":0},{"$f":"IF(Y1025<>Y1024,1,0)","v":0},1,{"$f":"IF(Z1025<>AA1024,1,0)","v":0},{"$f":"IF(AB1025<>AB1024,1,0)","v":0}]
[null,null,null,null,null,null,null,null,null,null,null,null,null,null,null,{"$error":"#N/A"},null,null,null,null,null,null,null,null,null,null,null,null,null,{"$f":"(T1026*Setup!$J$17)+(U1026*Setup!$J$18)+(V1026*Setup!$J$19)+(W1026*Setup!$J$22)+X1026*(Setup!$J$23)+(Y1026*Setup!$J$24)+(Z1026*Setup!$J$27)+(AA1026*Setup!$J$28)+(AB1026*Setup!$J$29)","v":0},"ERROR",1,{"$f":"IF(T1026<>U1027,1,0)","v":0},{"$f":"IF(V1026<>V1027,1,0)","v":0},1,{"$f":"IF(W1026<>X1027,1,0)","v":0},{"$f":"IF(Y1026<>Y1027,1,0)","v":0},1,{"$f":"IF(Z1026<>AA1027,1,0)","v":0},{"$f":"IF(AB1026<>AB1027,1,0)","v":0}]
[null,null,null,null,null,null,null,null,null,null,null,null,null,null,null,{"$error":"#N/A"},null,null,null,null,null,null,null,null,null,null,null,null,null,{"$f":"(T1027*Setup!$J$17)+(U1027*Setup!$J$18)+(V1027*Setup!$J$19)+(W1027*Setup!$J$22)+X1027*(Setup!$J$23)+(Y1027*Setup!$J$24)+(Z1027*Setup!$J$27)+(AA1027*Setup!$J$28)+(AB1027*Setup!$J$29)","v":0},"ERROR",1,{"$f":"IF(T1027<>U1026,1,0)","v":0},{"$f":"IF(V1027<>V1026,1,0)","v":0},1,{"$f":"IF(W1027<>X1026,1,0)","v":0},{"$f":"IF(Y1027<>Y1026,1,0)","v":0},1,{"$f":"IF(Z1027<>AA1026,1,0)","v":0},{"$f":"IF(AB1027<>AB1026,1,0)","v":0}]
[null,null,null,null,null,null,null,null,null,null,null,null,null,null,null,{"$error":"#N/A"},null,null,null,null,null,null,null,null,null,null,null,null,null,{"$f":"(T1028*Setup!$J$17)+(U1028*Setup!$J$18)+(V1028*Setup!$J$19)+(W1028*Setup!$J$22)+X1028*(Setup!$J$23)+(Y1028*Setup!$J$24)+(Z1028*Setup!$J$27)+(AA1028*Setup!$J$28)+(AB1028*Setup!$J$29)","v":0},"ERROR",1,{"$f":"IF(T1028<>U1029,1,0)","v":0},{"$f":"IF(V1028<>V1029,1,0)","v":0},1,{"$f":"IF(W1028<>X1029,1,0)","v":0},{"$f":"IF(Y1028<>Y1029,1,0)","v":0},1,{"$f":"IF(Z1028<>AA1029,1,0)","v":0},{"$f":"IF(AB1028<>AB1029,1,0)","v":0}]
[null,null,null,null,null,null,null,null,null,null,null,null,null,null,null,{"$error":"#N/A"},null,null,null,null,null,null,null,null,null,null,null,null,null,{"$f":"(T1029*Setup!$J$17)+(U1029*Setup!$J$18)+(V1029*Setup!$J$19)+(W1029*Setup!$J$22)+X1029*(Setup!$J$23)+(Y1029*Setup!$J$24)+(Z1029*Setup!$J$27)+(AA1029*Setup!$J$28)+(AB1029*Setup!$J$29)","v":0},"ERROR",1,{"$f":"IF(T1029<>U1028,1,0)","v":0},{"$f":"IF(V1029<>V1028,1,0)","v":0},1,{"$f":"IF(W1029<>X1028,1,0)","v":0},{"$f":"IF(Y1029<>Y1028,1,0)","v":0},1,{"$f":"IF(Z1029<>AA1028,1,0)","v":0},{"$f":"IF(AB1029<>AB1028,1,0)","v":0}]
[null,null,null,null,null,null,null,null,null,null,null,null,null,null,null,{"$error":"#N/A"},null,null,null,null,null,null,null,null,null,null,null,null,null,{"$f":"(T1030*Setup!$J$17)+(U1030*Setup!$J$18)+(V1030*Setup!$J$19)+(W1030*Setup!$J$22)+X1030*(Setup!$J$23)+(Y1030*Setup!$J$24)+(Z1030*Setup!$J$27)+(AA1030*Setup!$J$28)+(AB1030*Setup!$J$29)","v":0},"ERROR",1,{"$f":"IF(T1030<>U1031,1,0)","v":0},{"$f":"IF(V1030<>V1031,1,0)","v":0},1,{"$f":"IF(W1030<>X1031,1,0)","v":0},{"$f":"IF(Y1030<>Y1031,1,0)","v":0},1,{"$f":"IF(Z1030<>AA1031,1,0)","v":0},{"$f":"IF(AB1030<>AB1031,1,0)","v":0}]
[null,null,null,null,null,null,null,null,null,null,null,null,null,null,null,{"$error":"#N/A"},null,null,null,null,null,null,null,null,null,null,null,null,null,{"$f":"(T1031*Setup!$J$17)+(U1031*Setup!$J$18)+(V1031*Setup!$J$19)+(W1031*Setup!$J$22)+X1031*(Setup!$J$23)+(Y1031*Setup!$J$24)+(Z1031*Setup!$J$27)+(AA1031*Setup!$J$28)+(AB1031*Setup!$J$29)","v":0},"ERROR",1,{"$f":"IF(T1031<>U1030,1,0)","v":0},{"$f":"IF(V1031<>V1030,1,0)","v":0},1,{"$f":"IF(W1031<>X1030,1,0)","v":0},{"$f":"IF(Y1031<>Y1030,1,0)","v":0},1,{"$f":"IF(Z1031<>AA1030,1,0)","v":0},{"$f":"IF(AB1031<>AB1030,1,0)","v":0}]
[null,null,null,null,null,null,null,null,null,null,null,null,null,null,null,{"$error":"#N/A"},null,null,null,null,null,null,null,null,null,null,null,null,null,{"$f":"(T1032*Setup!$J$17)+(U1032*Setup!$J$18)+(V1032*Setup!$J$19)+(W1032*Setup!$J$22)+X1032*(Setup!$J$23)+(Y1032*Setup!$J$24)+(Z1032*Setup!$J$27)+(AA1032*Setup!$J$28)+(AB1032*Setup!$J$29)","v":0},"ERROR",1,{"$f":"IF(T1032<>U1033,1,0)","v":0},{"$f":"IF(V1032<>V1033,1,0)","v":0},1,{"$f":"IF(W1032<>X1033,1,0)","v":0},{"$f":"IF(Y1032<>Y1033,1,0)","v":0},1,{"$f":"IF(Z1032<>AA1033,1,0)","v":0},{"$f":"IF(AB1032<>AB1033,1,0)","v":0}]
[null,null,null,null,null,null,null,null,null,null,null,null,null,null,null,{"$error":"#N/A"},null,null,null,null,null,null,null,null,null,null,null,null,null,{"$f":"(T1033*Setup!$J$17)+(U1033*Setup!$J$18)+(V1033*Setup!$J$19)+(W1033*Setup!$J$22)+X1033*(Setup!$J$23)+(Y1033*Setup!$J$24)+(Z1033*Setup!$J$27)+(AA1033*Setup!$J$28)+(AB1033*Setup!$J$29)","v":0},"ERROR",1,{"$f":"IF(T1033<>U1032,1,0)","v":0},{"$f":"IF(V1033<>V1032,1,0)","v":0},1,{"$f":"IF(W1033<>X1032,1,0)","v":0},{"$f":"IF(Y1033<>Y1032,1,0)","v":0},1,{"$f":"IF(Z1033<>AA1032,1,0)","v":0},{"$f":"IF(AB1033<>AB1032,1,0)","v":0}]
[null,null,null,null,null,null,null,null,null,null,null,null,null,null,null,{"$error":"#N/A"},null,null,null,null,null,null,null,null,null,null,null,null,null,{"$f":"(T1034*Setup!$J$17)+(U1034*Setup!$J$18)+(V1034*Setup!$J$19)+(W1034*Setup!$J$22)+X1034*(Setup!$J$23)+(Y1034*Setup!$J$24)+(Z1034*Setup!$J$27)+(AA1034*Setup!$J$28)+(AB1034*Setup!$J$29)","v":0},"ERROR",1,{"$f":"IF(T1034<>U1035,1,0)","v":0},{"$f":"IF(V1034<>V1035,1,0)","v":0},1,{"$f":"IF(W1034<>X1035,1,0)","v":0},{"$f":"IF(Y1034<>Y1035,1,0)","v":0},1,{"$f":"IF(Z1034<>AA1035,1,0)","v":0},{"$f":"IF(AB1034<>AB1035,1,0)","v":0}]
[null,null,null,null,null,null,null,null,null,null,null,null,null,null,null,{"$error":"#N/A"},null,null,null,null,null,null,null,null,null,null,null,null,null,{"$f":"(T1035*Setup!$J$17)+(U1035*Setup!$J$18)+(V1035*Setup!$J$19)+(W1035*Setup!$J$22)+X1035*(Setup!$J$23)+(Y1035*Setup!$J$24)+(Z1035*Setup!$J$27)+(AA1035*Setup!$J$28)+(AB1035*Setup!$J$29)","v":0},"ERROR",1,{"$f":"IF(T1035<>U1034,1,0)","v":0},{"$f":"IF(V1035<>V1034,1,0)","v":0},1,{"$f":"IF(W1035<>X1034,1,0)","v":0},{"$f":"IF(Y1035<>Y1034,1,0)","v":0},1,{"$f":"IF(Z1035<>AA1034,1,0)","v":0},{"$f":"IF(AB1035<>AB1034,1,0)","v":0}]
[null,null,null,null,null,null,null,null,null,null,null,null,null,null,null,{"$error":"#N/A"},null,null,null,null,null,null,null,null,null,null,null,null,null,{"$f":"(T1036*Setup!$J$17)+(U1036*Setup!$J$18)+(V1036*Setup!$J$19)+(W1036*Setup!$J$22)+X1036*(Setup!$J$23)+(Y1036*Setup!$J$24)+(Z1036*Setup!$J$27)+(AA1036*Setup!$J$28)+(AB1036*Setup!$J$29)","v":0},"ERROR",1,{"$f":"IF(T1036<>U1037,1,0)","v":0},{"$f":"IF(V1036<>V1037,1,0)","v":0},1,{"$f":"IF(W1036<>X1037,1,0)","v":0},{"$f":"IF(Y1036<>Y1037,1,0)","v":0},1,{"$f":"IF(Z1036<>AA1037,1,0)","v":0},{"$f":"IF(AB1036<>AB1037,1,0)","v":0}]
[null,null,null,null,null,null,null,null,null,null,null,null,null,null,null,{"$error":"#N/A"},null,null,null,null,null,null,null,null,null,null,null,null,null,{"$f":"(T1037*Setup!$J$17)+(U1037*Setup!$J$18)+(V1037*Setup!$J$19)+(W1037*Setup!$J$22)+X1037*(Setup!$J$23)+(Y1037*Setup!$J$24)+(Z1037*Setup!$J$27)+(AA1037*Setup!$J$28)+(AB1037*Setup!$J$29)","v":0},"ERROR",1,{"$f":"IF(T1037<>U1036,1,0)","v":0},{"$f":"IF(V1037<>V1036,1,0)","v":0},1,{"$f":"IF(W1037<>X1036,1,0)","v":0},{"$f":"IF(Y1037<>Y1036,1,0)","v":0},1,{"$f":"IF(Z1037<>AA1036,1,0)","v":0},{"$f":"IF(AB1037<>AB1036,1,0)","v":0}]
[null,null,null,null,null,null,null,null,null,null,null,null,null,null,null,{"$error":"#N/A"},null,null,null,null,null,null,null,null,null,null,null,null,null,{"$f":"(T1038*Setup!$J$17)+(U1038*Setup!$J$18)+(V1038*Setup!$J$19)+(W1038*Setup!$J$22)+X1038*(Setup!$J$23)+(Y1038*Setup!$J$24)+(Z1038*Setup!$J$27)+(AA1038*Setup!$J$28)+(AB1038*Setup!$J$29)","v":0},"ERROR",1,{"$f":"IF(T1038<>U1039,1,0)","v":0},{"$f":"IF(V1038<>V1039,1,0)","v":0},1,{"$f":"IF(W1038<>X1039,1,0)","v":0},{"$f":"IF(Y1038<>Y1039,1,0)","v":0},1,{"$f":"IF(Z1038<>AA1039,1,0)","v":0},{"$f":"IF(AB1038<>AB1039,1,0)","v":0}]
[null,null,null,null,null,null,null,null,null,null,null,null,null,null,null,{"$error":"#N/A"},null,null,null,null,null,null,null,null,null,null,null,null,null,{"$f":"(T1039*Setup!$J$17)+(U1039*Setup!$J$18)+(V1039*Setup!$J$19)+(W1039*Setup!$J$22)+X1039*(Setup!$J$23)+(Y1039*Setup!$J$24)+(Z1039*Setup!$J$27)+(AA1039*Setup!$J$28)+(AB1039*Setup!$J$29)","v":0},"ERROR",1,{"$f":"IF(T1039<>U1038,1,0)","v":0},{"$f":"IF(V1039<>V1038,1,0)","v":0},1,{"$f":"IF(W1039<>X1038,1,0)","v":0},{"$f":"IF(Y1039<>Y1038,1,0)","v":0},1,{"$f":"IF(Z1039<>AA1038,1,0)","v":0},{"$f":"IF(AB1039<>AB1038,1,0)","v":0}]
[null,null,null,null,null,null,null,null,null,null,null,null,null,null,null,{"$error":"#N/A"},null,null,null,null,null,null,null,null,null,null,null,null,null,{"$f":"(T1040*Setup!$J$17)+(U1040*Setup!$J$18)+(V1040*Setup!$J$19)+(W1040*Setup!$J$22)+X1040*(Setup!$J$23)+(Y1040*Setup!$J$24)+(Z1040*Setup!$J$27)+(AA1040*Setup!$J$28)+(AB1040*Setup!$J$29)","v":0},"ERROR",1,{"$f":"IF(T1040<>U1041,1,0)","v":0},{"$f":"IF(V1040<>V1041,1,0)","v":0},1,{"$f":"IF(W1040<>X1041,1,0)","v":0},{"$f":"IF(Y1040<>Y1041,1,0)","v":0},1,{"$f":"IF(Z1040<>AA1041,1,0)","v":0},{"$f":"IF(AB1040<>AB1041,1,0)","v":0}]
[null,null,null,null,null,null,null,null,null,null,null,null,null,null,null,{"$error":"#N/A"},null,null,null,null,null,null,null,null,null,null,null,null,null,{"$f":"(T1041*Setup!$J$17)+(U1041*Setup!$J$18)+(V1041*Setup!$J$19)+(W1041*Setup!$J$22)+X1041*(Setup!$J$23)+(Y1041*Setup!$J$24)+(Z1041*Setup!$J$27)+(AA1041*Setup!$J$28)+(AB1041*Setup!$J$29)","v":0},"ERROR",1,{"$f":"IF(T1041<>U1040,1,0)","v":0},{"$f":"IF(V1041<>V1040,1,0)","v":0},1,{"$f":"IF(W1041<>X1040,1,0)","v":0},{"$f":"IF(Y1041<>Y1040,1,0)","v":0},1,{"$f":"IF(Z1041<>AA1040,1,0)","v":0},{"$f":"IF(AB1041<>AB1040,1,0)","v":0}]
[null,null,null,null,null,null,null,null,null,null,null,null,null,null,null,{"$error":"#N/A"},null,null,null,null,null,null,null,null,null,null,null,null,null,{"$f":"(T1042*Setup!$J$17)+(U1042*Setup!$J$18)+(V1042*Setup!$J$19)+(W1042*Setup!$J$22)+X1042*(Setup!$J$23)+(Y1042*Setup!$J$24)+(Z1042*Setup!$J$27)+(AA1042*Setup!$J$28)+(AB1042*Setup!$J$29)","v":0},"ERROR",1,{"$f":"IF(T1042<>U1043,1,0)","v":0},{"$f":"IF(V1042<>V1043,1,0)","v":0},1,{"$f":"IF(W1042<>X1043,1,0)","v":0},{"$f":"IF(Y1042<>Y1043,1,0)","v":0},1,{"$f":"IF(Z1042<>AA1043,1,0)","v":0},{"$f":"IF(AB1042<>AB1043,1,0)","v":0}]
[null,null,null,null,null,null,null,null,null,null,null,null,null,null,null,{"$f":"VLOOKUP(S1042,GE_Teams_DBID,2,FALSE)","v":{"$error":"#N/A"}},null,null,null,null,null,null,null,null,null,null,null,null,null,{"$f":"(T1043*Setup!$J$17)+(U1043*Setup!$J$18)+(V1043*Setup!$J$19)+(W1043*Setup!$J$22)+X1043*(Setup!$J$23)+(Y1043*Setup!$J$24)+(Z1043*Setup!$J$27)+(AA1043*Setup!$J$28)+(AB1043*Setup!$J$29)","v":0},"ERROR",1,{"$f":"IF(T1043<>U1042,1,0)","v":0},{"$f":"IF(V1043<>V1042,1,0)","v":0},1,{"$f":"IF(W1043<>X1042,1,0)","v":0},{"$f":"IF(Y1043<>Y1042,1,0)","v":0},1,{"$f":"IF(Z1043<>AA1042,1,0)","v":0},{"$f":"IF(AB1043<>AB1042,1,0)","v":0}]
[null,null,null,null,null,null,null,null,null,null,null,null,null,null,null,null,null,null,null,null,null,null,null,null,null,null,null,null,null,null,"ERROR",1,{"$f":"IF(T1044<>U1045,1,0)","v":0},{"$f":"IF(V1044<>V1045,1,0)","v":0},1,{"$f":"IF(W1044<>X1045,1,0)","v":0},{"$f":"IF(Y1044<>Y1045,1,0)","v":0},1,{"$f":"IF(Z1044<>AA1045,1,0)","v":0},{"$f":"IF(AB1044<>AB1045,1,0)","v":0}]
[null,null,null,null,null,null,null,null,null,null,null,null,null,null,null,null,null,null,null,null,null,null,null,null,null,null,null,null,null,null,"ERROR",1,{"$f":"IF(T1045<>U1044,1,0)","v":0},{"$f":"IF(V1045<>V1044,1,0)","v":0},1,{"$f":"IF(W1045<>X1044,1,0)","v":0},{"$f":"IF(Y1045<>Y1044,1,0)","v":0},1,{"$f":"IF(Z1045<>AA1044,1,0)","v":0},{"$f":"IF(AB1045<>AB1044,1,0)","v":0}]
[null,null,null,null,null,null,null,null,null,null,null,null,null,null,null,null,null,null,null,null,null,null,null,null,null,null,null,null,null,null,"ERROR",1,{"$f":"IF(T1046<>U1047,1,0)","v":0},{"$f":"IF(V1046<>V1047,1,0)","v":0},1,{"$f":"IF(W1046<>X1047,1,0)","v":0},{"$f":"IF(Y1046<>Y1047,1,0)","v":0},1,{"$f":"IF(Z1046<>AA1047,1,0)","v":0},{"$f":"IF(AB1046<>AB1047,1,0)","v":0}]
[null,null,null,null,null,null,null,null,null,null,null,null,null,null,null,null,null,null,null,null,null,null,null,null,null,null,null,null,null,null,"ERROR",1,{"$f":"IF(T1047<>U1046,1,0)","v":0},{"$f":"IF(V1047<>V1046,1,0)","v":0},1,{"$f":"IF(W1047<>X1046,1,0)","v":0},{"$f":"IF(Y1047<>Y1046,1,0)","v":0},1,{"$f":"IF(Z1047<>AA1046,1,0)","v":0},{"$f":"IF(AB1047<>AB1046,1,0)","v":0}]
[null,null,null,null,null,null,null,null,null,null,null,null,null,null,null,null,null,null,null,null,null,null,null,null,null,null,null,null,null,null,"ERROR",1,{"$f":"IF(T1048<>U1049,1,0)","v":0},{"$f":"IF(V1048<>V1049,1,0)","v":0},1,{"$f":"IF(W1048<>X1049,1,0)","v":0},{"$f":"IF(Y1048<>Y1049,1,0)","v":0},1,{"$f":"IF(Z1048<>AA1049,1,0)","v":0},{"$f":"IF(AB1048<>AB1049,1,0)","v":0}]
[null,null,null,null,null,null,null,null,null,null,null,null,null,null,null,null,null,null,null,null,null,null,null,null,null,null,null,null,null,null,"ERROR",1,{"$f":"IF(T1049<>U1048,1,0)","v":0},{"$f":"IF(V1049<>V1048,1,0)","v":0},1,{"$f":"IF(W1049<>X1048,1,0)","v":0},{"$f":"IF(Y1049<>Y1048,1,0)","v":0},1,{"$f":"IF(Z1049<>AA1048,1,0)","v":0},{"$f":"IF(AB1049<>AB1048,1,0)","v":0}]
[null,null,null,null,null,null,null,null,null,null,null,null,null,null,null,null,null,null,null,null,null,null,null,null,null,null,null,null,null,null,"ERROR",1,{"$f":"IF(T1050<>U1051,1,0)","v":0},{"$f":"IF(V1050<>V1051,1,0)","v":0},1,{"$f":"IF(W1050<>X1051,1,0)","v":0},{"$f":"IF(Y1050<>Y1051,1,0)","v":0},1,{"$f":"IF(Z1050<>AA1051,1,0)","v":0},{"$f":"IF(AB1050<>AB1051,1,0)","v":0}]
[null,null,null,null,null,null,null,null,null,null,null,null,null,null,null,null,null,null,null,null,null,null,null,null,null,null,null,null,null,null,"ERROR",1,{"$f":"IF(T1051<>U1050,1,0)","v":0},{"$f":"IF(V1051<>V1050,1,0)","v":0},1,{"$f":"IF(W1051<>X1050,1,0)","v":0},{"$f":"IF(Y1051<>Y1050,1,0)","v":0},1,{"$f":"IF(Z1051<>AA1050,1,0)","v":0},{"$f":"IF(AB1051<>AB1050,1,0)","v":0}]
[null,null,null,null,null,null,null,null,null,null,null,null,null,null,null,null,null,null,null,null,null,null,null,null,null,null,null,null,null,null,"ERROR",1,{"$f":"IF(T1052<>U1053,1,0)","v":0},{"$f":"IF(V1052<>V1053,1,0)","v":0},1,{"$f":"IF(W1052<>X1053,1,0)","v":0},{"$f":"IF(Y1052<>Y1053,1,0)","v":0},1,{"$f":"IF(Z1052<>AA1053,1,0)","v":0},{"$f":"IF(AB1052<>AB1053,1,0)","v":0}]
[null,null,null,null,null,null,null,null,null,null,null,null,null,null,null,null,null,null,null,null,null,null,null,null,null,null,null,null,null,null,"ERROR",1,{"$f":"IF(T1053<>U1052,1,0)","v":0},{"$f":"IF(V1053<>V1052,1,0)","v":0},1,{"$f":"IF(W1053<>X1052,1,0)","v":0},{"$f":"IF(Y1053<>Y1052,1,0)","v":0},1,{"$f":"IF(Z1053<>AA1052,1,0)","v":0},{"$f":"IF(AB1053<>AB1052,1,0)","v":0}]

{"sheet":"LN1","index":1,"n_rows":105,"n_cols":109,"rows_kept":105,"cut":false,"hidden":false,"merged":[[110,20,110,23]]}
["Date: ",{"$f":"LOOKUP(B3,Date_Numbers,LeagueDates)","v":"2025-05-20"},null,null,null,null,null,null,null,null,null,null,null,null,null,null,null,null,null,null,null,null,null,null,null,null,null,null,null,null,null,null,null,null,"ROUND UP ALL DECIMALS"]
["Couse: "]
["Week: ",7]
[]
[null,"Regular Player","Avg","Hdcp",null,"Sub ID","Sub Player","Avg","Hdcp",null,null,null,{"$f":"$B$1","v":"2025-05-20"},null,"Hole",1,2,3,4,5,6,7,8,9,null,null,null,null,null,null,null,null,null,null,{"$f":"$B$1","v":"2025-05-20"},null,"Hole",1,2,3,4,5,6,7,8,9]
[null,null,null,null,null,null,null,null,null,null,null,null,null,null,"Par",{"$f":"VLOOKUP($L12,GE_Course_Pars,3,FALSE)","v":4},{"$f":"VLOOKUP($L12,GE_Course_Pars,4,FALSE)","v":3},{"$f":"VLOOKUP($L12,GE_Course_Pars,5,FALSE)","v":4},{"$f":"VLOOKUP($L12,GE_Course_Pars,6,FALSE)","v":4},{"$f":"VLOOKUP($L12,GE_Course_Pars,7,FALSE)","v":4},{"$f":"VLOOKUP($L12,GE_Course_Pars,8,FALSE)","v":4},{"$f":"VLOOKUP($L12,GE_Course_Pars,9,FALSE)","v":4},{"$f":"VLOOKUP($L12,GE_Course_Pars,10,FALSE)","v":3},{"$f":"VLOOKUP($L12,GE_Course_Pars,11,FALSE)","v":5},null,null,null,null,null,null,null,null,null,null,null,null,"Par",{"$f":"VLOOKUP($L12,GE_Course_Pars,3,FALSE)","v":4},{"$f":"VLOOKUP($L12,GE_Course_Pars,4,FALSE)","v":3},{"$f":"VLOOKUP($L12,GE_Course_Pars,5,FALSE)","v":4},{"$f":"VLOOKUP($L12,GE_Course_Pars,6,FALSE)","v":4},{"$f":"VLOOKUP($L12,GE_Course_Pars,7,FALSE)","v":4},{"$f":"VLOOKUP($L12,GE_Course_Pars,8,FALSE)","v":4},{"$f":"VLOOKUP($L12,GE_Course_Pars,9,FALSE)","v":4},{"$f":"VLOOKUP($L12,GE_Course_Pars,10,FALSE)","v":3},{"$f":"VLOOKUP($L12,GE_Course_Pars,11,FALSE)","v":5}]
[{"$f":"Setup!B17","v":"4:30"},{"$f":"VLOOKUP(Setup!Q41,GE_Teams_DBID,2,FALSE)","v":"Putt Buddies"},null,{"$f":"Setup!Q41","v":48},"vs.",{"$f":"Setup!R41","v":47},{"$f":"VLOOKUP(Setup!R41,GE_Teams_DBID,2,FALSE)","v":"Hole N 8"},null,null,null,null,"ID","Name","Team","Hdcp",{"$f":"LOOKUP(L12,Setup!$A$5:$A$7,Setup!$C$5:$C$7)","v":8},{"$f":"LOOKUP(L12,Setup!$A$5:$A$7,Setup!$D$5:$D$7)","v":6},{"$f":"LOOKUP(L12,Setup!$A$5:$A$7,Setup!$E$5:$E$7)","v":1},{"$f":"LOOKUP(L12,Setup!$A$5:$A$7,Setup!$F$5:$F$7)","v":2},{"$f":"LOOKUP(L12,Setup!$A$5:$A$7,Setup!$G$5:$G$7)","v":9},{"$f":"LOOKUP(L12,Setup!$A$5:$A$7,Setup!$H$5:$H$7)","v":5},{"$f":"LOOKUP(L12,Setup!$A$5:$A$7,Setup!$I$5:$I$7)","v":4},{"$f":"LOOKUP(L12,Setup!$A$5:$A$7,Setup!$J$5:$J$7)","v":7},{"$f":"LOOKUP(L12,Setup!$A$5:$A$7,Setup!$K$5:$K$7)","v":3},"TOT","Net","Results","W","L","T","All 9","Partial",null,"ID","Name","Team","Hdcp",{"$f":"LOOKUP(AH12,Setup!$A$5:$A$7,Setup!$C$5:$C$7)","v":8},{"$f":"LOOKUP(AH12,Setup!$A$5:$A$7,Setup!$D$5:$D$7)","v":6},{"$f":"LOOKUP(AH12,Setup!$A$5:$A$7,Setup!$E$5:$E$7)","v":1},{"$f":"LOOKUP(AH12,Setup!$A$5:$A$7,Setup!$F$5:$F$7)","v":2},{"$f":"LOOKUP(AH12,Setup!$A$5:$A$7,Setup!$G$5:$G$7)","v":9},{"$f":"LOOKUP(AH12,Setup!$A$5:$A$7,Setup!$H$5:$H$7)","v":5},{"$f":"LOOKUP(AH12,Setup!$A$5:$A$7,Setup!$I$5:$I$7)","v":4},{"$f":"LOOKUP(AH12,Setup!$A$5:$A$7,Setup!$J$5:$J$7)","v":7},{"$f":"LOOKUP(AH12,Setup!$A$5:$A$7,Setup!$K$5:$K$7)","v":3},"TOT","Net","Results","W","L","T","All 9","Partial"]
[{"$f":"VLOOKUP(Setup!Q41,GE_Team_PlayerIDs_1, 2,FALSE)","v":115},{"$f":"VLOOKUP(A8,GE_Player_ID_Name,2,FALSE)","v":"Kohler, Evan"},{"$f":"ROUND(VLOOKUP(A8,GE_Player_ID_Stats,10,FALSE),1)","v":46.7},{"$f":"VLOOKUP(A8,GE_Player_ID_Stats,11,FALSE)","v":9.3333333333333321},null,{"$f":"IF(G8<>\"\",VLOOKUP(G8,GE_SubList,2,FALSE),\"\")","v":157},"Kimmet, Ben",{"$f":"IF(F8=\"\",\"\",ROUND(VLOOKUP(F8,GE_Player_ID_Stats,10,FALSE),1))","v":41},{"$f":"IF(F8=\"\",\"\",VLOOKUP(F8,GE_Player_ID_Stats,11,FALSE))","v":4.8000000000000007},null,null,116,{"$f":"VLOOKUP(L8,GE_Player_ID_Name,2,FALSE)","v":"Kohler, Jeff"},{"$f":"D7","v":48},{"$f":"ROUND(VLOOKUP(L8,GE_Player_ID_Stats,11,FALSE),0)","v":4},6,3,5,6,4,4,6,5,5,{"$f":"SUM(P8:X8)","v":44},{"$f":"Y8-O8","v":40},"Holes",{"$f":"IF(AB11=\"D\",0,COUNTIF(P11:X11,Setup!$J$17))","v":2},{"$f":"IF(AB11=\"D\",0,COUNTIF(P11:X11,Setup!$J$18))","v":4},{"$f":"IF(AB11=\"D\",0,COUNTIF(P11:X11,Setup!$J$19))","v":3},null,null,null,157,{"$f":"VLOOKUP(AH8,GE_Player_ID_Name,2,FALSE)","v":"Kimmet, Ben"},{"$f":"D7","v":48},{"$f":"ROUND(VLOOKUP(AH8,GE_Player_ID_Stats,11,FALSE),0)","v":5},4,3,5,6,6,4,5,4,4,{"$f":"SUM(AL8:AT8)","v":41},{"$f":"AU8-AK8","v":36},"Holes",{"$f":"IF(AX11=\"D\",0,COUNTIF(AL11:AT11,Setup!$J$17))","v":5},{"$f":"IF(AX11=\"D\",0,COUNTIF(AL11:AT11,Setup!$J$18))","v":2},{"$f":"IF(AX11=\"D\",0,COUNTIF(AL11:AT11,Setup!$J$19))","v":2}]
[{"$f":"VLOOKUP(Setup!Q41,GE_Team_PlayerIDs_1, 4,FALSE)","v":116},"Kohler, Jeff",{"$f":"ROUND(VLOOKUP(A9,GE_Player_ID_Stats,10,FALSE),1)","v":40.5},{"$f":"VLOOKUP(A9,GE_Player_ID_Stats,11,FALSE)","v":4.4000000000000004},null,"",null,{"$f":"IF(F9=\"\",\"\",ROUND(VLOOKUP(F9,GE_Player_ID_Stats,10,FALSE),1))","v":""},{"$f":"IF(F9=\"\",\"\",VLOOKUP(F9,GE_Player_ID_Stats,11,FALSE))","v":""},null,null,null,{"$f":"\"FT: \"&VLOOKUP(L9,GE_Player_ID_Name,2,FALSE)","v":{"$error":"#N/A"}},"Strokes",{"$f":"IF(O8>O15,O8-O15,0)","v":0},{"$f":"IF(O9>0,AE9+IF(AF9>=$P7,1,0),0)","v":0},{"$f":"IF(O9>0,AE9+IF(AF9>=$Q7,1,0),0)","v":0},{"$f":"IF(O9>0,AE9+IF(AF9>=$R7,1,0),0)","v":0},{"$f":"IF(O9>0,AE9+IF(AF9>=$S7,1,0),0)","v":0},{"$f":"IF(O9>0,AE9+IF(AF9>=$T7,1,0),0)","v":0},{"$f":"IF(O9>0,AE9+IF(AF9>=$U7,1,0),0)","v":0},{"$f":"IF(O9>0,AE9+IF(AF9>=$V7,1,0),0)","v":0},{"$f":"IF(O9>0,AE9+IF(AF9>=$W7,1,0),0)","v":0},{"$f":"IF(O9>0,AE9+IF(AF9>=$X7,1,0),0)","v":0},null,null,"Match",{"$f":"IF(AB11=\"D\",0,COUNTIF(Z11:Z11,Setup!$J$22))","v":0},{"$f":"IF(AB11=\"D\",0,COUNTIF(Z11:Z11,Setup!$J$23))","v":1},{"$f":"IF(AB11=\"D\",0,COUNTIF(Z11:Z11,Setup!$J$24))","v":0},{"$f":"IF(O9<9,0,IF(O9<18,1,IF(O9<27,2,3)))","v":0},{"$f":"IF(O9<9,O9,IF(O9<18,O9-9,IF(O9<27,O9-18,IF(O9<36,O9-27,0))))","v":0},null,115,{"$f":"\"FT: \"&VLOOKUP(AH9,GE_Player_ID_Name,2,FALSE)","v":"FT: Kohler, Evan"},"Strokes",{"$f":"IF(AK8>AK15,AK8-AK15,0)","v":0},{"$f":"IF(AK9>0,BA9+IF(BB9>=$AL7,1,0),0)","v":0},{"$f":"IF(AK9>0,BA9+IF(BB9>=$AM7,1,0),0)","v":0},{"$f":"IF(AK9>0,BA9+IF(BB9>=$AN7,1,0),0)","v":0},{"$f":"IF(AK9>0,BA9+IF(BB9>=$AO7,1,0),0)","v":0},{"$f":"IF(AK9>0,BA9+IF(BB9>=$AP7,1,0),0)","v":0},{"$f":"IF(AK9>0,BA9+IF(BB9>=$AQ7,1,0),0)","v":0},{"$f":"IF(AK9>0,BA9+IF(BB9>=$AR7,1,0),0)","v":0},{"$f":"IF(AK9>0,BA9+IF(BB9>=$AS7,1,0),0)","v":0},{"$f":"IF(AK9>0,BA9+IF(BB9>=$AT7,1,0),0)","v":0},null,null,"Match",{"$f":"IF(AX11=\"D\",0,COUNTIF(AV11:AV11,Setup!$J$22))","v":1},{"$f":"IF(AX11=\"D\",0,COUNTIF(AV11:AV11,Setup!$J$23))","v":0},{"$f":"IF(AX11=\"D\",0,COUNTIF(AV11:AV11,Setup!$J$24))","v":0},{"$f":"IF(AK9<9,0,IF(AK9<18,1,IF(AK9<27,2,3)))","v":0},{"$f":"IF(AK9<9,AK9,IF(AK9<18,AK9-9,IF(AK9<27,8-18,IF(AK9<36,AK9-27,0))))","v":0}]
[{"$f":"VLOOKUP(Setup!R41,GE_Team_PlayerIDs_1, 2,FALSE)","v":113},"Boswell, Clyde",{"$f":"ROUND(VLOOKUP(A10,GE_Player_ID_Stats,10,FALSE),1)","v":56.5},{"$f":"VLOOKUP(A10,GE_Player_ID_Stats,11,FALSE)","v":17.2},null,"",null,{"$f":"IF(F10=\"\",\"\",ROUND(VLOOKUP(F10,GE_Player_ID_Stats,10,FALSE),1))","v":""},{"$f":"IF(F10=\"\",\"\",VLOOKUP(F10,GE_Player_ID_Stats,11,FALSE))","v":""},null,null,null,null,"Net",null,{"$f":"P8-P9","v":6},{"$f":"Q8-Q9","v":3},5,6,4,4,6,5,5,null,null,{"$f":"(AB8*Setup!$J$17)+(AC8*Setup!$J$18)+(AD8*Setup!$J$19)+(AB9*Setup!$J$22)+(AC9*Setup!$J$23)+(AD9*Setup!$J$24)","v":7},{"$f":"IF(AB11=\"D\",0,IF(D15=Setup!$J$27,1,0))","v":1},{"$f":"IF(AB11=\"D\",0,IF(D15=Setup!$J$28,1,0))","v":0},{"$f":"IF(AB11=\"D\",0,IF(D15=Setup!$J$29,1,0))","v":0},null,null,null,null,null,"Net",null,{"$f":"AL8-AL9","v":4},{"$f":"AM8-AM9","v":3},{"$f":"AN8-AN9","v":5},{"$f":"AO8-AO9","v":6},{"$f":"AP8-AP9","v":6},{"$f":"AQ8-AQ9","v":4},{"$f":"AR8-AR9","v":5},{"$f":"AS8-AS9","v":4},{"$f":"AT8-AT9","v":4},null,null,{"$f":"(AX8*Setup!$J$17)+(AY8*Setup!$J$18)+(AZ8*Setup!$J$19)+(AX9*Setup!$J$22)+(AY9*Setup!$J$23)+(AZ9*Setup!$J$24)","v":16}]
[{"$f":"VLOOKUP(Setup!R41,GE_Team_PlayerIDs_1, 4,FALSE)","v":114},"Brook, DeeDee",{"$f":"ROUND(VLOOKUP(A11,GE_Player_ID_Stats,10,FALSE),1)","v":54.3},{"$f":"VLOOKUP(A11,GE_Player_ID_Stats,11,FALSE)","v":15.4},null,"",null,{"$f":"IF(F11=\"\",\"\",ROUND(VLOOKUP(F11,GE_Player_ID_Stats,10,FALSE),1))","v":""},{"$f":"IF(F11=\"\",\"\",VLOOKUP(F11,GE_Player_ID_Stats,11,FALSE))","v":""},null,null,"A",null,"Points",null,{"$f":"IF(P10<P13,Setup!$J$17,IF(P10=P13,Setup!$J$19,Setup!$J$18))","v":1},{"$f":"IF(Q10<Q13,Setup!$J$17,IF(Q10=Q13,Setup!$J$19,Setup!$J$18))","v":2},{"$f":"IF(R10<R13,Setup!$J$17,IF(R10=R13,Setup!$J$19,Setup!$J$18))","v":1},{"$f":"IF(S10<S13,Setup!$J$17,IF(S10=S13,Setup!$J$19,Setup!$J$18))","v":0},{"$f":"IF(T10<T13,Setup!$J$17,IF(T10=T13,Setup!$J$19,Setup!$J$18))","v":0},{"$f":"IF(U10<U13,Setup!$J$17,IF(U10=U13,Setup!$J$19,Setup!$J$18))","v":2},{"$f":"IF(V10<V13,Setup!$J$17,IF(V10=V13,Setup!$J$19,Setup!$J$18))","v":0},{"$f":"IF(W10<W13,Setup!$J$17,IF(W10=W13,Setup!$J$19,Setup!$J$18))","v":0},{"$f":"IF(X10<X13,Setup!$J$17,IF(X10=X13,Setup!$J$19,Setup!$J$18))","v":1},null,{"$f":"IF(Z8<Z15,Setup!$J$22,IF(Z8=Z15,Setup!$J$24,Setup!$J$23))","v":0},{"$f":"IF(AB11=\"P\",\"\",\"DNP\")","v":""},"P",null,null,null,null,null,"B",null,"Points",null,{"$f":"IF(AL10<AL13,Setup!$J$17,IF(AL10=AL13,Setup!$J$19,Setup!$J$18))","v":2},{"$f":"IF(AM10<AM13,Setup!$J$17,IF(AM10=AM13,Setup!$J$19,Setup!$J$18))","v":2},{"$f":"IF(AN10<AN13,Setup!$J$17,IF(AN10=AN13,Setup!$J$19,Setup!$J$18))","v":1},{"$f":"IF(AO10<AO13,Setup!$J$17,IF(AO10=AO13,Setup!$J$19,Setup!$J$18))","v":0},{"$f":"IF(AP10<AP13,Setup!$J$17,IF(AP10=AP13,Setup!$J$19,Setup!$J$18))","v":0},{"$f":"IF(AQ10<AQ13,Setup!$J$17,IF(AQ10=AQ13,Setup!$J$19,Setup!$J$18))","v":2},{"$f":"IF(AR10<AR13,Setup!$J$17,IF(AR10=AR13,Setup!$J$19,Setup!$J$18))","v":2},{"$f":"IF(AS10<AS13,Setup!$J$17,IF(AS10=AS13,Setup!$J$19,Setup!$J$18))","v":1},{"$f":"IF(AT10<AT13,Setup!$J$17,IF(AT10=AT13,Setup!$J$19,Setup!$J$18))","v":2},null,{"$f":"IF(AV8<AV15,Setup!$J$22,IF(AV8=AV15,Setup!$J$24,Setup!$J$23))","v":4},{"$f":"IF(AX11=\"P\",\"\",\"DNP\")","v":""},"P"]
["H",{"$f":"(AB8+AX8)&\"-\"&(AC8+AY8)&\"-\"&(AD8+AZ8)","v":"7-6-5"},null,{"$f":"Z8","v":40},"A Net",{"$f":"Z15","v":38},{"$f":"(AB15+AX15)&\"-\"&(AC15+AY15)&\"-\"&(AD15+AZ15)","v":"4-2-3"},"H",null,null,null,1,{"$f":"VLOOKUP(L12,GE_SideNames,2,FALSE)","v":"Front 9"},"Points",null,{"$f":"IF(P13<P10,Setup!$J$17,IF(P13=P10,Setup!$J$19,Setup!$J$18))","v":1},{"$f":"IF(Q13<Q10,Setup!$J$17,IF(Q13=Q10,Setup!$J$19,Setup!$J$18))","v":0},{"$f":"IF(R13<R10,Setup!$J$17,IF(R13=R10,Setup!$J$19,Setup!$J$18))","v":1},{"$f":"IF(S13<S10,Setup!$J$17,IF(S13=S10,Setup!$J$19,Setup!$J$18))","v":2},{"$f":"IF(T13<T10,Setup!$J$17,IF(T13=T10,Setup!$J$19,Setup!$J$18))","v":2},{"$f":"IF(U13<U10,Setup!$J$17,IF(U13=U10,Setup!$J$19,Setup!$J$18))","v":0},{"$f":"IF(V13<V10,Setup!$J$17,IF(V13=V10,Setup!$J$19,Setup!$J$18))","v":2},{"$f":"IF(W13<W10,Setup!$J$17,IF(W13=W10,Setup!$J$19,Setup!$J$18))","v":2},{"$f":"IF(X13<X10,Setup!$J$17,IF(X13=X10,Setup!$J$19,Setup!$J$18))","v":1},null,{"$f":"IF(Z15<Z8,Setup!$J$22,IF(Z15=Z8,Setup!$J$24,Setup!$J$23))","v":4},{"$f":"IF(AB12=\"P\",\"\",\"DNP\")","v":""},"P",null,null,null,null,null,1,{"$f":"VLOOKUP(AH12,GE_SideNames,2,FALSE)","v":"Front 9"},"Points",null,{"$f":"IF(AL13<AL10,Setup!$J$17,IF(AL13=AL10,Setup!$J$19,Setup!$J$18))","v":0},{"$f":"IF(AM13<AM10,Setup!$J$17,IF(AM13=AM10,Setup!$J$19,Setup!$J$18))","v":0},{"$f":"IF(AN13<AN10,Setup!$J$17,IF(AN13=AN10,Setup!$J$19,Setup!$J$18))","v":1},{"$f":"IF(AO13<AO10,Setup!$J$17,IF(AO13=AO10,Setup!$J$19,Setup!$J$18))","v":2},{"$f":"IF(AP13<AP10,Setup!$J$17,IF(AP13=AP10,Setup!$J$19,Setup!$J$18))","v":2},{"$f":"IF(AQ13<AQ10,Setup!$J$17,IF(AQ13=AQ10,Setup!$J$19,Setup!$J$18))","v":0},{"$f":"IF(AR13<AR10,Setup!$J$17,IF(AR13=AR10,Setup!$J$19,Setup!$J$18))","v":0},{"$f":"IF(AS13<AS10,Setup!$J$17,IF(AS13=AS10,Setup!$J$19,Setup!$J$18))","v":1},{"$f":"IF(AT13<AT10,Setup!$J$17,IF(AT13=AT10,Setup!$J$19,Setup!$J$18))","v":0},null,{"$f":"IF(AV15<AV8,Setup!$J$22,IF(AV15=AV8,Setup!$J$24,Setup!$J$23))","v":0},{"$f":"IF(AX12=\"P\",\"\",\"DNP\")","v":"DNP"},"D"]
["M",{"$f":"(AB9+AX9)&\"-\"&(AC9+AY9)&\"-\"&(AD9+AZ9)","v":"1-1-0"},null,{"$f":"AV8","v":36},"B Net",{"$f":"AV15","v":40},{"$f":"(AB14+AX14)&\"-\"&(AC14+AY14)&\"-\"&(AD14+AZ14)","v":"1-0-0"},"M",null,null,null,null,null,"Net",null,{"$f":"P15-P14","v":6},{"$f":"Q15-Q14","v":4},5,5,3,5,5,4,5,null,null,{"$f":"(AB15*Setup!$J$17)+(AC15*Setup!$J$18)+(AD15*Setup!$J$19)+(AB14*Setup!$J$22)+(AC14*Setup!$J$23)+(AD14*Setup!$J$24)","v":15},{"$f":"IF(AB12=\"D\",0,IF(F15=Setup!$J$27,1,0))","v":0},{"$f":"IF(AB12=\"D\",0,IF(F15=Setup!$J$28,1,0))","v":1},{"$f":"IF(AB12=\"D\",0,IF(F15=Setup!$J$29,1,0))","v":0},null,null,null,null,null,"Net",null,{"$f":"AL15-AL14","v":5},{"$f":"AM15-AM14","v":4},{"$f":"AN15-AN14","v":5},{"$f":"AO15-AO14","v":5},{"$f":"AP15-AP14","v":5},{"$f":"AQ15-AQ14","v":5},{"$f":"AR15-AR14","v":6},{"$f":"AS15-AS14","v":4},{"$f":"AT15-AT14","v":6},null,null,{"$f":"(AX15*Setup!$J$17)+(AY15*Setup!$J$18)+(AZ15*Setup!$J$19)+(AX14*Setup!$J$22)+(AY14*Setup!$J$23)+(AZ14*Setup!$J$24)","v":0}]
["T",{"$f":"(AB10)&\"-\"&(AC10)&\"-\"&(AD10)","v":"1-0-0"},null,{"$f":"D12+D13","v":76},"Total",{"$f":"F12+F13","v":78},{"$f":"(AB13)&\"-\"&(AC13)&\"-\"&(AD13)","v":"0-1-0"},"T",null,null,null,null,{"$f":"\"FT: \"&VLOOKUP(L14,GE_Player_ID_Name,2,FALSE)","v":{"$error":"#N/A"}},"Strokes",{"$f":"IF(O15>O8,O15-O8,0)","v":11},{"$f":"IF(O14>0,AE14+IF(AF14>=$P7,1,0),0)","v":1},{"$f":"IF(O14>0,AE14+IF(AF14>=$Q7,1,0),0)","v":1},{"$f":"IF(O14>0,AE14+IF(AF14>=$R7,1,0),0)","v":2},{"$f":"IF(O14>0,AE14+IF(AF14>=$S7,1,0),0)","v":2},{"$f":"IF(O14>0,AE14+IF(AF14>=$T7,1,0),0)","v":1},{"$f":"IF(O14>0,AE14+IF(AF14>=$U7,1,0),0)","v":1},{"$f":"IF(O14>0,AE14+IF(AF14>=$V7,1,0),0)","v":1},{"$f":"IF(O14>0,AE14+IF(AF14>=$W7,1,0),0)","v":1},{"$f":"IF(O14>0,AE14+IF(AF14>=$X7,1,0),0)","v":1},null,null,"Match",{"$f":"IF(AB12=\"D\",0,COUNTIF(Z12:Z12,Setup!$J$22))","v":1},{"$f":"IF(AB12=\"D\",0,COUNTIF(Z12:Z12,Setup!$J$23))","v":0},{"$f":"IF(AB12=\"D\",0,COUNTIF(Z12:Z12,Setup!$J$24))","v":0},{"$f":"IF(O14<9,0,IF(O14<18,1,IF(O14<27,2,3)))","v":1},{"$f":"IF(O14<9,O14,IF(O14<18,O14-9,IF(O14<27,8-18,IF(O14<36,O14-27,0))))","v":2},null,null,{"$f":"\"FT: \"&VLOOKUP(AH14,GE_Player_ID_Name,2,FALSE)","v":{"$error":"#N/A"}},"Strokes",{"$f":"IF(AK15>AK8,AK15-AK8,0)","v":12},{"$f":"IF(AK14>0,BA14+IF(BB14>=$AL7,1,0),0)","v":1},{"$f":"IF(AK14>0,BA14+IF(BB14>=$AM7,1,0),0)","v":1},{"$f":"IF(AK14>0,BA14+IF(BB14>=$AN7,1,0),0)","v":2},{"$f":"IF(AK14>0,BA14+IF(BB14>=$AO7,1,0),0)","v":2},{"$f":"IF(AK14>0,BA14+IF(BB14>=$AP7,1,0),0)","v":1},{"$f":"IF(AK14>0,BA14+IF(BB14>=$AQ7,1,0),0)","v":1},{"$f":"IF(AK14>0,BA14+IF(BB14>=$AR7,1,0),0)","v":1},{"$f":"IF(AK14>0,BA14+IF(BB14>=$AS7,1,0),0)","v":1},{"$f":"IF(AK14>0,BA14+IF(BB14>=$AT7,1,0),0)","v":2},null,null,"Match",{"$f":"IF(AX12=\"D\",0,COUNTIF(AV12:AV12,Setup!$J$22))","v":0},{"$f":"IF(AX12=\"D\",0,COUNTIF(AV12:AV12,Setup!$J$23))","v":0},{"$f":"IF(AX12=\"D\",0,COUNTIF(AV12:AV12,Setup!$J$24))","v":0},{"$f":"IF(AK14<9,0,IF(AK14<18,1,IF(AK14<27,2,3)))","v":1},{"$f":"IF(AK14<9,AK14,IF(AK14<18,AK14-9,IF(AK14<27,8-18,IF(AK14<36,AK14-27,0))))","v":3}]
[null,{"$f":"\"Match ID - \"&Setup!S41","v":"Match ID - 310"},null,{"$f":"IF(D14<F14,Setup!$J$27,IF(D14=F14,Setup!$J$29,Setup!$J$28))","v":6},"Points",{"$f":"IF(F14<D14,Setup!$J$27,IF(F14=D14,Setup!$J$29,Setup!$J$28))","v":0},null,null,null,null,null,114,{"$f":"VLOOKUP(L15,GE_Player_ID_Name,2,FALSE)","v":"Brook, DeeDee"},{"$f":"F7","v":47},{"$f":"ROUND(VLOOKUP(L15,GE_Player_ID_Stats,11,FALSE),0)","v":15},7,5,7,7,4,6,6,5,6,{"$f":"SUM(P15:X15)","v":53},{"$f":"Y15-O15","v":38},"Holes",{"$f":"IF(AB12=\"D\",0,COUNTIF(P12:X12,Setup!$J$17))","v":4},{"$f":"IF(AB12=\"D\",0,COUNTIF(P12:X12,Setup!$J$18))","v":2},{"$f":"IF(AB12=\"D\",0,COUNTIF(P12:X12,Setup!$J$19))","v":3},null,null,null,113,{"$f":"VLOOKUP(AH15,GE_Player_ID_Name,2,FALSE)","v":"Boswell, Clyde"},{"$f":"F7","v":47},{"$f":"ROUND(VLOOKUP(AH15,GE_Player_ID_Stats,11,FALSE),0)","v":17},6,5,7,7,6,6,7,5,8,{"$f":"SUM(AL15:AT15)","v":57},{"$f":"AU15-AK15","v":40},"Holes",{"$f":"IF(AX12=\"D\",0,COUNTIF(AL12:AT12,Setup!$J$17))","v":0},{"$f":"IF(AX12=\"D\",0,COUNTIF(AL12:AT12,Setup!$J$18))","v":0},{"$f":"IF(AX12=\"D\",0,COUNTIF(AL12:AT12,Setup!$J$19))","v":0}]
[null,null,null,null,null,null,null,null,null,null,null,null,null,null,"Par",{"$f":"VLOOKUP($L22,GE_Course_Pars,3,FALSE)","v":4},{"$f":"VLOOKUP($L22,GE_Course_Pars,4,FALSE)","v":3},{"$f":"VLOOKUP($L22,GE_Course_Pars,5,FALSE)","v":4},{"$f":"VLOOKUP($L22,GE_Course_Pars,6,FALSE)","v":3},{"$f":"VLOOKUP($L22,GE_Course_Pars,7,FALSE)","v":4},{"$f":"VLOOKUP($L22,GE_Course_Pars,8,FALSE)","v":4},{"$f":"VLOOKUP($L22,GE_Course_Pars,9,FALSE)","v":5},{"$f":"VLOOKUP($L22,GE_Course_Pars,10,FALSE)","v":4},{"$f":"VLOOKUP($L22,GE_Course_Pars,11,FALSE)","v":4},null,null,null,null,null,null,null,null,null,null,null,null,"Par",{"$f":"VLOOKUP($L22,GE_Course_Pars,3,FALSE)","v":4},{"$f":"VLOOKUP($L22,GE_Course_Pars,4,FALSE)","v":3},{"$f":"VLOOKUP($L22,GE_Course_Pars,5,FALSE)","v":4},{"$f":"VLOOKUP($L22,GE_Course_Pars,6,FALSE)","v":3},{"$f":"VLOOKUP($L22,GE_Course_Pars,7,FALSE)","v":4},{"$f":"VLOOKUP($L22,GE_Course_Pars,8,FALSE)","v":4},{"$f":"VLOOKUP($L22,GE_Course_Pars,9,FALSE)","v":5},{"$f":"VLOOKUP($L22,GE_Course_Pars,10,FALSE)","v":4},{"$f":"VLOOKUP($L22,GE_Course_Pars,11,FALSE)","v":4}]
[{"$f":"Setup!B18","v":"4:40"},{"$f":"VLOOKUP(Setup!Q42,GE_Teams_DBID,2,FALSE)","v":"Checkin Test Cells"},null,{"$f":"Setup!Q42","v":38},"vs.",{"$f":"Setup!R42","v":37},{"$f":"VLOOKUP(Setup!R42,GE_Teams_DBID,2,FALSE)","v":"Charles and Rob"},null,null,null,null,null,null,null,"Hdcp",{"$f":"LOOKUP(L22,Setup!$A$5:$A$7,Setup!$C$5:$C$7)","v":4},{"$f":"LOOKUP(L22,Setup!$A$5:$A$7,Setup!$D$5:$D$7)","v":6},{"$f":"LOOKUP(L22,Setup!$A$5:$A$7,Setup!$E$5:$E$7)","v":7},{"$f":"LOOKUP(L22,Setup!$A$5:$A$7,Setup!$F$5:$F$7)","v":8},{"$f":"LOOKUP(L22,Setup!$A$5:$A$7,Setup!$G$5:$G$7)","v":9},{"$f":"LOOKUP(L22,Setup!$A$5:$A$7,Setup!$H$5:$H$7)","v":1},{"$f":"LOOKUP(L22,Setup!$A$5:$A$7,Setup!$I$5:$I$7)","v":3},{"$f":"LOOKUP(L22,Setup!$A$5:$A$7,Setup!$J$5:$J$7)","v":5},{"$f":"LOOKUP(L22,Setup!$A$5:$A$7,Setup!$K$5:$K$7)","v":2},null,null,null,null,null,null,null,null,null,null,null,null,"Hdcp",{"$f":"LOOKUP(AH22,Setup!$A$5:$A$7,Setup!$C$5:$C$7)","v":4},{"$f":"LOOKUP(AH22,Setup!$A$5:$A$7,Setup!$D$5:$D$7)","v":6},{"$f":"LOOKUP(AH22,Setup!$A$5:$A$7,Setup!$E$5:$E$7)","v":7},{"$f":"LOOKUP(AH22,Setup!$A$5:$A$7,Setup!$F$5:$F$7)","v":8},{"$f":"LOOKUP(AH22,Setup!$A$5:$A$7,Setup!$G$5:$G$7)","v":9},{"$f":"LOOKUP(AH22,Setup!$A$5:$A$7,Setup!$H$5:$H$7)","v":1},{"$f":"LOOKUP(AH22,Setup!$A$5:$A$7,Setup!$I$5:$I$7)","v":3},{"$f":"LOOKUP(AH22,Setup!$A$5:$A$7,Setup!$J$5:$J$7)","v":5},{"$f":"LOOKUP(AH22,Setup!$A$5:$A$7,Setup!$K$5:$K$7)","v":2}]
[{"$f":"VLOOKUP(Setup!Q42,GE_Team_PlayerIDs_1, 2,FALSE)","v":88},{"$f":"VLOOKUP(A18,GE_Player_ID_Name,2,FALSE)","v":"Bridwell, Glen"},{"$f":"ROUND(VLOOKUP(A18,GE_Player_ID_Stats,10,FALSE),1)","v":45},{"$f":"VLOOKUP(A18,GE_Player_ID_Stats,11,FALSE)","v":8},null,"",null,{"$f":"IF(F18=\"\",\"\",ROUND(VLOOKUP(F18,GE_Player_ID_Stats,10,FALSE),1))","v":""},{"$f":"IF(F18=\"\",\"\",VLOOKUP(F18,GE_Player_ID_Stats,11,FALSE))","v":""},null,null,88,{"$f":"VLOOKUP(L18,GE_Player_ID_Name,2,FALSE)","v":"Bridwell, Glen"},{"$f":"D17","v":38},{"$f":"ROUND(VLOOKUP(L18,GE_Player_ID_Stats,11,FALSE),0)","v":8},7,3,5,5,5,4,7,5,5,{"$f":"SUM(P18:X18)","v":46},{"$f":"Y18-O18","v":38},"Holes",{"$f":"IF(AB21=\"D\",0,COUNTIF(P21:X21,Setup!$J$17))","v":4},{"$f":"IF(AB21=\"D\",0,COUNTIF(P21:X21,Setup!$J$18))","v":3},{"$f":"IF(AB21=\"D\",0,COUNTIF(P21:X21,Setup!$J$19))","v":2},null,null,null,89,{"$f":"VLOOKUP(AH18,GE_Player_ID_Name,2,FALSE)","v":"Jonovski, Mendo"},{"$f":"D17","v":38},{"$f":"ROUND(VLOOKUP(AH18,GE_Player_ID_Stats,11,FALSE),0)","v":18},6,6,5,6,7,8,6,7,8,{"$f":"SUM(AL18:AT18)","v":59},{"$f":"AU18-AK18","v":41},"Holes",{"$f":"IF(AX21=\"D\",0,COUNTIF(AL21:AT21,Setup!$J$17))","v":2},{"$f":"IF(AX21=\"D\",0,COUNTIF(AL21:AT21,Setup!$J$18))","v":3},{"$f":"IF(AX21=\"D\",0,COUNTIF(AL21:AT21,Setup!$J$19))","v":4}]
[{"$f":"VLOOKUP(Setup!Q42,GE_Team_PlayerIDs_1, 4,FALSE)","v":89},"Jonovski, Mendo",{"$f":"ROUND(VLOOKUP(A19,GE_Player_ID_Stats,10,FALSE),1)","v":57},{"$f":"VLOOKUP(A19,GE_Player_ID_Stats,11,FALSE)","v":17.600000000000001},null,"",null,{"$f":"IF(F19=\"\",\"\",ROUND(VLOOKUP(F19,GE_Player_ID_Stats,10,FALSE),1))","v":""},{"$f":"IF(F19=\"\",\"\",VLOOKUP(F19,GE_Player_ID_Stats,11,FALSE))","v":""},null,null,null,{"$f":"\"FT: \"&VLOOKUP(L19,GE_Player_ID_Name,2,FALSE)","v":{"$error":"#N/A"}},"Strokes",{"$f":"IF(O18>O25,O18-O25,0)","v":0},{"$f":"IF(O19>0,AE19+IF(AF19>=$P17,1,0),0)","v":0},{"$f":"IF(O19>0,AE19+IF(AF19>=$Q17,1,0),0)","v":0},{"$f":"IF(O19>0,AE19+IF(AF19>=$R17,1,0),0)","v":0},{"$f":"IF(O19>0,AE19+IF(AF19>=$S17,1,0),0)","v":0},{"$f":"IF(O19>0,AE19+IF(AF19>=$T17,1,0),0)","v":0},{"$f":"IF(O19>0,AE19+IF(AF19>=$U17,1,0),0)","v":0},{"$f":"IF(O19>0,AE19+IF(AF19>=$V17,1,0),0)","v":0},{"$f":"IF(O19>0,AE19+IF(AF19>=$W17,1,0),0)","v":0},{"$f":"IF(O19>0,AE19+IF(AF19>=$X17,1,0),0)","v":0},null,null,"Match",{"$f":"IF(AB21=\"D\",0,COUNTIF(Z21:Z21,Setup!$J$22))","v":1},{"$f":"IF(AB21=\"D\",0,COUNTIF(Z21:Z21,Setup!$J$23))","v":0},{"$f":"IF(AB21=\"D\",0,COUNTIF(Z21:Z21,Setup!$J$24))","v":0},{"$f":"IF(O19<9,0,IF(O19<18,1,IF(O19<27,2,3)))","v":0},{"$f":"IF(O19<9,O19,IF(O19<18,O19-9,IF(O19<27,8-18,IF(O19<36,O19-27,0))))","v":0},null,null,{"$f":"\"FT: \"&VLOOKUP(AH19,GE_Player_ID_Name,2,FALSE)","v":{"$error":"#N/A"}},"Strokes",{"$f":"IF(AK18>AK25,AK18-AK25,0)","v":0},{"$f":"IF(AK19>0,BA19+IF(BB19>=$AL17,1,0),0)","v":0},{"$f":"IF(AK19>0,BA19+IF(BB19>=$AM17,1,0),0)","v":0},{"$f":"IF(AK19>0,BA19+IF(BB19>=$AN17,1,0),0)","v":0},{"$f":"IF(AK19>0,BA19+IF(BB19>=$AO17,1,0),0)","v":0},{"$f":"IF(AK19>0,BA19+IF(BB19>=$AP17,1,0),0)","v":0},{"$f":"IF(AK19>0,BA19+IF(BB19>=$AQ17,1,0),0)","v":0},{"$f":"IF(AK19>0,BA19+IF(BB19>=$AR17,1,0),0)","v":0},{"$f":"IF(AK19>0,BA19+IF(BB19>=$AS17,1,0),0)","v":0},{"$f":"IF(AK19>0,BA19+IF(BB19>=$AT17,1,0),0)","v":0},null,null,"Match",{"$f":"IF(AX21=\"D\",0,COUNTIF(AV21:AV21,Setup!$J$22))","v":0},{"$f":"IF(AX21=\"D\",0,COUNTIF(AV21:AV21,Setup!$J$23))","v":0},{"$f":"IF(AX21=\"D\",0,COUNTIF(AV21:AV21,Setup!$J$24))","v":1},{"$f":"IF(AK19<9,0,IF(AK19<18,1,IF(AK19<27,2,3)))","v":0},{"$f":"IF(AK19<9,AK19,IF(AK19<18,AK19-9,IF(AK19<27,8-18,IF(AK19<36,AK19-27,0))))","v":0}]
[{"$f":"VLOOKUP(Setup!R42,GE_Team_PlayerIDs_1, 2,FALSE)","v":85},"Fry, Charles",{"$f":"ROUND(VLOOKUP(A20,GE_Player_ID_Stats,10,FALSE),1)","v":63.7},{"$f":"VLOOKUP(A20,GE_Player_ID_Stats,11,FALSE)","v":22.933333333333334},null,"",null,{"$f":"IF(F20=\"\",\"\",ROUND(VLOOKUP(F20,GE_Player_ID_Stats,10,FALSE),1))","v":""},{"$f":"IF(F20=\"\",\"\",VLOOKUP(F20,GE_Player_ID_Stats,11,FALSE))","v":""},null,null,null,null,"Net",null,{"$f":"P18-P19","v":7},{"$f":"Q18-Q19","v":3},5,5,5,4,7,5,5,null,null,{"$f":"(AB18*Setup!$J$17)+(AC18*Setup!$J$18)+(AD18*Setup!$J$19)+(AB19*Setup!$J$22)+(AC19*Setup!$J$23)+(AD19*Setup!$J$24)","v":14},{"$f":"IF(AB21=\"D\",0,IF(D25=Setup!$J$27,1,0))","v":1},{"$f":"IF(AB21=\"D\",0,IF(D25=Setup!$J$28,1,0))","v":0},{"$f":"IF(AB21=\"D\",0,IF(D25=Setup!$J$29,1,0))","v":0},null,null,null,null,null,"Net",null,{"$f":"AL18-AL19","v":6},{"$f":"AM18-AM19","v":6},5,6,7,8,6,7,8,null,null,{"$f":"(AX18*Setup!$J$17)+(AY18*Setup!$J$18)+(AZ18*Setup!$J$19)+(AX19*Setup!$J$22)+(AY19*Setup!$J$23)+(AZ19*Setup!$J$24)","v":10}]
[{"$f":"VLOOKUP(Setup!R42,GE_Team_PlayerIDs_1, 4,FALSE)","v":86},"Goetz, Rob",{"$f":"ROUND(VLOOKUP(A21,GE_Player_ID_Stats,10,FALSE),1)","v":61},{"$f":"VLOOKUP(A21,GE_Player_ID_Stats,11,FALSE)","v":20.8},null,87,"Goetz, Matt",{"$f":"IF(F21=\"\",\"\",ROUND(VLOOKUP(F21,GE_Player_ID_Stats,10,FALSE),1))","v":54},{"$f":"IF(F21=\"\",\"\",VLOOKUP(F21,GE_Player_ID_Stats,11,FALSE))","v":15.200000000000001},null,null,"A",null,"Points",null,{"$f":"IF(P20<P23,Setup!$J$17,IF(P20=P23,Setup!$J$19,Setup!$J$18))","v":1},{"$f":"IF(Q20<Q23,Setup!$J$17,IF(Q20=Q23,Setup!$J$19,Setup!$J$18))","v":2},{"$f":"IF(R20<R23,Setup!$J$17,IF(R20=R23,Setup!$J$19,Setup!$J$18))","v":0},{"$f":"IF(S20<S23,Setup!$J$17,IF(S20=S23,Setup!$J$19,Setup!$J$18))","v":0},{"$f":"IF(T20<T23,Setup!$J$17,IF(T20=T23,Setup!$J$19,Setup!$J$18))","v":2},{"$f":"IF(U20<U23,Setup!$J$17,IF(U20=U23,Setup!$J$19,Setup!$J$18))","v":2},{"$f":"IF(V20<V23,Setup!$J$17,IF(V20=V23,Setup!$J$19,Setup!$J$18))","v":0},{"$f":"IF(W20<W23,Setup!$J$17,IF(W20=W23,Setup!$J$19,Setup!$J$18))","v":1},{"$f":"IF(X20<X23,Setup!$J$17,IF(X20=X23,Setup!$J$19,Setup!$J$18))","v":2},null,{"$f":"IF(Z18<Z25,Setup!$J$22,IF(Z18=Z25,Setup!$J$24,Setup!$J$23))","v":4},{"$f":"IF(AB21=\"P\",\"\",\"DNP\")","v":""},"P",null,null,null,null,null,"B",null,"Points",null,{"$f":"IF(AL20<AL23,Setup!$J$17,IF(AL20=AL23,Setup!$J$19,Setup!$J$18))","v":1},{"$f":"IF(AM20<AM23,Setup!$J$17,IF(AM20=AM23,Setup!$J$19,Setup!$J$18))","v":1},{"$f":"IF(AN20<AN23,Setup!$J$17,IF(AN20=AN23,Setup!$J$19,Setup!$J$18))","v":2},{"$f":"IF(AO20<AO23,Setup!$J$17,IF(AO20=AO23,Setup!$J$19,Setup!$J$18))","v":1},{"$f":"IF(AP20<AP23,Setup!$J$17,IF(AP20=AP23,Setup!$J$19,Setup!$J$18))","v":1},{"$f":"IF(AQ20<AQ23,Setup!$J$17,IF(AQ20=AQ23,Setup!$J$19,Setup!$J$18))","v":0},{"$f":"IF(AR20<AR23,Setup!$J$17,IF(AR20=AR23,Setup!$J$19,Setup!$J$18))","v":2},{"$f":"IF(AS20<AS23,Setup!$J$17,IF(AS20=AS23,Setup!$J$19,Setup!$J$18))","v":0},{"$f":"IF(AT20<AT23,Setup!$J$17,IF(AT20=AT23,Setup!$J$19,Setup!$J$18))","v":0},null,{"$f":"IF(AV18<AV25,Setup!$J$22,IF(AV18=AV25,Setup!$J$24,Setup!$J$23))","v":2},{"$f":"IF(AX21=\"P\",\"\",\"DNP\")","v":""},"P"]
["H",{"$f":"(AB18+AX18)&\"-\"&(AC18+AY18)&\"-\"&(AD18+AZ18)","v":"6-6-6"},null,{"$f":"Z18","v":38},"A Net",{"$f":"Z25","v":39},{"$f":"(AB25+AX25)&\"-\"&(AC25+AY25)&\"-\"&(AD25+AZ25)","v":"3-4-2"},"H",null,null,null,2,{"$f":"VLOOKUP(L22,GE_SideNames,2,FALSE)","v":"Back 9"},"Points",null,{"$f":"IF(P23<P20,Setup!$J$17,IF(P23=P20,Setup!$J$19,Setup!$J$18))","v":1},{"$f":"IF(Q23<Q20,Setup!$J$17,IF(Q23=Q20,Setup!$J$19,Setup!$J$18))","v":0},{"$f":"IF(R23<R20,Setup!$J$17,IF(R23=R20,Setup!$J$19,Setup!$J$18))","v":2},{"$f":"IF(S23<S20,Setup!$J$17,IF(S23=S20,Setup!$J$19,Setup!$J$18))","v":2},{"$f":"IF(T23<T20,Setup!$J$17,IF(T23=T20,Setup!$J$19,Setup!$J$18))","v":0},{"$f":"IF(U23<U20,Setup!$J$17,IF(U23=U20,Setup!$J$19,Setup!$J$18))","v":0},{"$f":"IF(V23<V20,Setup!$J$17,IF(V23=V20,Setup!$J$19,Setup!$J$18))","v":2},{"$f":"IF(W23<W20,Setup!$J$17,IF(W23=W20,Setup!$J$19,Setup!$J$18))","v":1},{"$f":"IF(X23<X20,Setup!$J$17,IF(X23=X20,Setup!$J$19,Setup!$J$18))","v":0},null,{"$f":"IF(Z25<Z18,Setup!$J$22,IF(Z25=Z18,Setup!$J$24,Setup!$J$23))","v":0},{"$f":"IF(AB22=\"P\",\"\",\"DNP\")","v":""},"P",null,null,null,null,null,2,{"$f":"VLOOKUP(AH22,GE_SideNames,2,FALSE)","v":"Back 9"},"Points",null,{"$f":"IF(AL23<AL20,Setup!$J$17,IF(AL23=AL20,Setup!$J$19,Setup!$J$18))","v":1},{"$f":"IF(AM23<AM20,Setup!$J$17,IF(AM23=AM20,Setup!$J$19,Setup!$J$18))","v":1},{"$f":"IF(AN23<AN20,Setup!$J$17,IF(AN23=AN20,Setup!$J$19,Setup!$J$18))","v":0},{"$f":"IF(AO23<AO20,Setup!$J$17,IF(AO23=AO20,Setup!$J$19,Setup!$J$18))","v":1},{"$f":"IF(AP23<AP20,Setup!$J$17,IF(AP23=AP20,Setup!$J$19,Setup!$J$18))","v":1},{"$f":"IF(AQ23<AQ20,Setup!$J$17,IF(AQ23=AQ20,Setup!$J$19,Setup!$J$18))","v":2},{"$f":"IF(AR23<AR20,Setup!$J$17,IF(AR23=AR20,Setup!$J$19,Setup!$J$18))","v":0},{"$f":"IF(AS23<AS20,Setup!$J$17,IF(AS23=AS20,Setup!$J$19,Setup!$J$18))","v":2},{"$f":"IF(AT23<AT20,Setup!$J$17,IF(AT23=AT20,Setup!$J$19,Setup!$J$18))","v":2},null,{"$f":"IF(AV25<AV18,Setup!$J$22,IF(AV25=AV18,Setup!$J$24,Setup!$J$23))","v":2},{"$f":"IF(AX22=\"P\",\"\",\"DNP\")","v":"DNP"},"D"]
["M",{"$f":"(AB19+AX19)&\"-\"&(AC19+AY19)&\"-\"&(AD19+AZ19)","v":"1-0-1"},null,{"$f":"AV18","v":41},"B Net",{"$f":"AV25","v":41},{"$f":"(AB24+AX24)&\"-\"&(AC24+AY24)&\"-\"&(AD24+AZ24)","v":"0-1-0"},"M",null,null,null,null,null,"Net",null,{"$f":"P25-P24","v":7},{"$f":"Q25-Q24","v":5},4,4,6,5,5,5,6,null,null,{"$f":"(AB25*Setup!$J$17)+(AC25*Setup!$J$18)+(AD25*Setup!$J$19)+(AB24*Setup!$J$22)+(AC24*Setup!$J$23)+(AD24*Setup!$J$24)","v":8},{"$f":"IF(AB22=\"D\",0,IF(F25=Setup!$J$27,1,0))","v":0},{"$f":"IF(AB22=\"D\",0,IF(F25=Setup!$J$28,1,0))","v":1},{"$f":"IF(AB22=\"D\",0,IF(F25=Setup!$J$29,1,0))","v":0},null,null,null,null,null,"Net",null,{"$f":"AL25-AL24","v":6},{"$f":"AM25-AM24","v":6},7,6,7,7,7,6,7,null,null,{"$f":"(AX25*Setup!$J$17)+(AY25*Setup!$J$18)+(AZ25*Setup!$J$19)+(AX24*Setup!$J$22)+(AY24*Setup!$J$23)+(AZ24*Setup!$J$24)","v":0}]
["T",{"$f":"(AB20)&\"-\"&(AC20)&\"-\"&(AD20)","v":"1-0-0"},null,{"$f":"D22+D23","v":79},"Total",{"$f":"F22+F23","v":80},{"$f":"(AB23)&\"-\"&(AC23)&\"-\"&(AD23)","v":"0-1-0"},"T",null,null,null,86,{"$f":"\"FT: \"&VLOOKUP(L24,GE_Player_ID_Name,2,FALSE)","v":"FT: Goetz, Rob"},"Strokes",{"$f":"IF(O25>O18,O25-O18,0)","v":7},{"$f":"IF(O24>0,AE24+IF(AF24>=$P17,1,0),0)","v":1},{"$f":"IF(O24>0,AE24+IF(AF24>=$Q17,1,0),0)","v":1},{"$f":"IF(O24>0,AE24+IF(AF24>=$R17,1,0),0)","v":1},{"$f":"IF(O24>0,AE24+IF(AF24>=$S17,1,0),0)","v":0},{"$f":"IF(O24>0,AE24+IF(AF24>=$T17,1,0),0)","v":0},{"$f":"IF(O24>0,AE24+IF(AF24>=$U17,1,0),0)","v":1},{"$f":"IF(O24>0,AE24+IF(AF24>=$V17,1,0),0)","v":1},{"$f":"IF(O24>0,AE24+IF(AF24>=$W17,1,0),0)","v":1},{"$f":"IF(O24>0,AE24+IF(AF24>=$X17,1,0),0)","v":1},null,null,"Match",{"$f":"IF(AB22=\"D\",0,COUNTIF(Z22:Z22,Setup!$J$22))","v":0},{"$f":"IF(AB22=\"D\",0,COUNTIF(Z22:Z22,Setup!$J$23))","v":1},{"$f":"IF(AB22=\"D\",0,COUNTIF(Z22:Z22,Setup!$J$24))","v":0},{"$f":"IF(O24<9,0,IF(O24<18,1,IF(O24<27,2,3)))","v":0},{"$f":"IF(O24<9,O24,IF(O24<18,O24-9,IF(O24<27,8-18,IF(O24<36,O24-27,0))))","v":7},null,null,{"$f":"\"FT: \"&VLOOKUP(AH24,GE_Player_ID_Name,2,FALSE)","v":{"$error":"#N/A"}},"Strokes",{"$f":"IF(AK25>AK18,AK25-AK18,0)","v":5},{"$f":"IF(AK24>0,BA24+IF(BB24>=$AL17,1,0),0)","v":1},{"$f":"IF(AK24>0,BA24+IF(BB24>=$AM17,1,0),0)","v":0},{"$f":"IF(AK24>0,BA24+IF(BB24>=$AN17,1,0),0)","v":0},{"$f":"IF(AK24>0,BA24+IF(BB24>=$AO17,1,0),0)","v":0},{"$f":"IF(AK24>0,BA24+IF(BB24>=$AP17,1,0),0)","v":0},{"$f":"IF(AK24>0,BA24+IF(BB24>=$AQ17,1,0),0)","v":1},{"$f":"IF(AK24>0,BA24+IF(BB24>=$AR17,1,0),0)","v":1},{"$f":"IF(AK24>0,BA24+IF(BB24>=$AS17,1,0),0)","v":1},{"$f":"IF(AK24>0,BA24+IF(BB24>=$AT17,1,0),0)","v":1},null,null,"Match",{"$f":"IF(AX22=\"D\",0,COUNTIF(AV22:AV22,Setup!$J$22))","v":0},{"$f":"IF(AX22=\"D\",0,COUNTIF(AV22:AV22,Setup!$J$23))","v":0},{"$f":"IF(AX22=\"D\",0,COUNTIF(AV22:AV22,Setup!$J$24))","v":0},{"$f":"IF(AK24<9,0,IF(AK24<18,1,IF(AK24<27,2,3)))","v":0},{"$f":"IF(AK24<9,AK24,IF(AK24<18,AK24-9,IF(AK24<27,8-18,IF(AK24<36,AK24-27,0))))","v":5}]
[null,{"$f":"\"Match ID - \"&Setup!S42","v":"Match ID - 311"},null,{"$f":"IF(D24<F24,Setup!$J$27,IF(D24=F24,Setup!$J$29,Setup!$J$28))","v":6},"Points",{"$f":"IF(F24<D24,Setup!$J$27,IF(F24=D24,Setup!$J$29,Setup!$J$28))","v":0},null,null,null,null,null,87,{"$f":"VLOOKUP(L25,GE_Player_ID_Name,2,FALSE)","v":"Goetz, Matt"},{"$f":"F17","v":37},{"$f":"ROUND(VLOOKUP(L25,GE_Player_ID_Stats,11,FALSE),0)","v":15},8,6,5,4,6,6,6,6,7,{"$f":"SUM(P25:X25)","v":54},{"$f":"Y25-O25","v":39},"Holes",{"$f":"IF(AB22=\"D\",0,COUNTIF(P22:X22,Setup!$J$17))","v":3},{"$f":"IF(AB22=\"D\",0,COUNTIF(P22:X22,Setup!$J$18))","v":4},{"$f":"IF(AB22=\"D\",0,COUNTIF(P22:X22,Setup!$J$19))","v":2},null,null,null,85,{"$f":"VLOOKUP(AH25,GE_Player_ID_Name,2,FALSE)","v":"Fry, Charles"},{"$f":"F17","v":37},{"$f":"ROUND(VLOOKUP(AH25,GE_Player_ID_Stats,11,FALSE),0)","v":23},7,6,7,6,7,8,8,7,8,{"$f":"SUM(AL25:AT25)","v":64},{"$f":"AU25-AK25","v":41},"Holes",{"$f":"IF(AX22=\"D\",0,COUNTIF(AL22:AT22,Setup!$J$17))","v":0},{"$f":"IF(AX22=\"D\",0,COUNTIF(AL22:AT22,Setup!$J$18))","v":0},{"$f":"IF(AX22=\"D\",0,COUNTIF(AL22:AT22,Setup!$J$19))","v":0}]
[null,null,null,null,null,null,null,null,null,null,null,null,null,null,"Par",{"$f":"VLOOKUP($L32,GE_Course_Pars,3,FALSE)","v":4},{"$f":"VLOOKUP($L32,GE_Course_Pars,4,FALSE)","v":3},{"$f":"VLOOKUP($L32,GE_Course_Pars,5,FALSE)","v":4},{"$f":"VLOOKUP($L32,GE_Course_Pars,6,FALSE)","v":4},{"$f":"VLOOKUP($L32,GE_Course_Pars,7,FALSE)","v":4},{"$f":"VLOOKUP($L32,GE_Course_Pars,8,FALSE)","v":4},{"$f":"VLOOKUP($L32,GE_Course_Pars,9,FALSE)","v":4},{"$f":"VLOOKUP($L32,GE_Course_Pars,10,FALSE)","v":3},{"$f":"VLOOKUP($L32,GE_Course_Pars,11,FALSE)","v":5},null,null,null,null,null,null,null,null,null,null,null,null,"Par",{"$f":"VLOOKUP($L32,GE_Course_Pars,3,FALSE)","v":4},{"$f":"VLOOKUP($L32,GE_Course_Pars,4,FALSE)","v":3},{"$f":"VLOOKUP($L32,GE_Course_Pars,5,FALSE)","v":4},{"$f":"VLOOKUP($L32,GE_Course_Pars,6,FALSE)","v":4},{"$f":"VLOOKUP($L32,GE_Course_Pars,7,FALSE)","v":4},{"$f":"VLOOKUP($L32,GE_Course_Pars,8,FALSE)","v":4},{"$f":"VLOOKUP($L32,GE_Course_Pars,9,FALSE)","v":4},{"$f":"VLOOKUP($L32,GE_Course_Pars,10,FALSE)","v":3},{"$f":"VLOOKUP($L32,GE_Course_Pars,11,FALSE)","v":5}]
[{"$f":"Setup!B18","v":"4:40"},{"$f":"VLOOKUP(Setup!Q43,GE_Teams_DBID,2,FALSE)","v":"Putt Pirates"},null,{"$f":"Setup!Q43","v":49},"vs.",{"$f":"Setup!R43","v":46},{"$f":"VLOOKUP(Setup!R43,GE_Teams_DBID,2,FALSE)","v":"Evan and Jon"},null,null,null,null,null,null,null,"Hdcp",{"$f":"LOOKUP(L32,Setup!$A$5:$A$7,Setup!$C$5:$C$7)","v":8},{"$f":"LOOKUP(L32,Setup!$A$5:$A$7,Setup!$D$5:$D$7)","v":6},{"$f":"LOOKUP(L32,Setup!$A$5:$A$7,Setup!$E$5:$E$7)","v":1},{"$f":"LOOKUP(L32,Setup!$A$5:$A$7,Setup!$F$5:$F$7)","v":2},{"$f":"LOOKUP(L32,Setup!$A$5:$A$7,Setup!$G$5:$G$7)","v":9},{"$f":"LOOKUP(L32,Setup!$A$5:$A$7,Setup!$H$5:$H$7)","v":5},{"$f":"LOOKUP(L32,Setup!$A$5:$A$7,Setup!$I$5:$I$7)","v":4},{"$f":"LOOKUP(L32,Setup!$A$5:$A$7,Setup!$J$5:$J$7)","v":7},{"$f":"LOOKUP(L32,Setup!$A$5:$A$7,Setup!$K$5:$K$7)","v":3},null,null,null,null,null,null,null,null,null,null,null,null,"Hdcp",{"$f":"LOOKUP(AH32,Setup!$A$5:$A$7,Setup!$C$5:$C$7)","v":8},{"$f":"LOOKUP(AH32,Setup!$A$5:$A$7,Setup!$D$5:$D$7)","v":6},{"$f":"LOOKUP(AH32,Setup!$A$5:$A$7,Setup!$E$5:$E$7)","v":1},{"$f":"LOOKUP(AH32,Setup!$A$5:$A$7,Setup!$F$5:$F$7)","v":2},{"$f":"LOOKUP(AH32,Setup!$A$5:$A$7,Setup!$G$5:$G$7)","v":9},{"$f":"LOOKUP(AH32,Setup!$A$5:$A$7,Setup!$H$5:$H$7)","v":5},{"$f":"LOOKUP(AH32,Setup!$A$5:$A$7,Setup!$I$5:$I$7)","v":4},{"$f":"LOOKUP(AH32,Setup!$A$5:$A$7,Setup!$J$5:$J$7)","v":7},{"$f":"LOOKUP(AH32,Setup!$A$5:$A$7,Setup!$K$5:$K$7)","v":3}]
[{"$f":"VLOOKUP(Setup!Q43,GE_Team_PlayerIDs_1, 2,FALSE)","v":118},{"$f":"VLOOKUP(A28,GE_Player_ID_Name,2,FALSE)","v":"Farley, Adam"},{"$f":"ROUND(VLOOKUP(A28,GE_Player_ID_Stats,10,FALSE),1)","v":41.5},{"$f":"VLOOKUP(A28,GE_Player_ID_Stats,11,FALSE)","v":5.2},null,"",null,{"$f":"IF(F28=\"\",\"\",ROUND(VLOOKUP(F28,GE_Player_ID_Stats,10,FALSE),1))","v":""},{"$f":"IF(F28=\"\",\"\",VLOOKUP(F28,GE_Player_ID_Stats,11,FALSE))","v":""},null,null,118,{"$f":"VLOOKUP(L28,GE_Player_ID_Name,2,FALSE)","v":"Farley, Adam"},{"$f":"D27","v":49},{"$f":"ROUND(VLOOKUP(L28,GE_Player_ID_Stats,11,FALSE),0)","v":5},4,4,5,5,6,4,5,4,5,{"$f":"SUM(P28:X28)","v":42},{"$f":"Y28-O28","v":37},"Holes",{"$f":"IF(AB31=\"D\",0,COUNTIF(P31:X31,Setup!$J$17))","v":2},{"$f":"IF(AB31=\"D\",0,COUNTIF(P31:X31,Setup!$J$18))","v":4},{"$f":"IF(AB31=\"D\",0,COUNTIF(P31:X31,Setup!$J$19))","v":3},null,null,null,120,{"$f":"VLOOKUP(AH28,GE_Player_ID_Name,2,FALSE)","v":"Reike, Tim"},{"$f":"D27","v":49},{"$f":"ROUND(VLOOKUP(AH28,GE_Player_ID_Stats,11,FALSE),0)","v":8},6,3,5,6,5,6,6,4,5,{"$f":"SUM(AL28:AT28)","v":46},{"$f":"AU28-AK28","v":38},"Holes",{"$f":"IF(AX31=\"D\",0,COUNTIF(AL31:AT31,Setup!$J$17))","v":3},{"$f":"IF(AX31=\"D\",0,COUNTIF(AL31:AT31,Setup!$J$18))","v":2},{"$f":"IF(AX31=\"D\",0,COUNTIF(AL31:AT31,Setup!$J$19))","v":4}]
[{"$f":"VLOOKUP(Setup!Q43,GE_Team_PlayerIDs_1, 4,FALSE)","v":119},"Young, Brandon",{"$f":"ROUND(VLOOKUP(A29,GE_Player_ID_Stats,10,FALSE),1)","v":52},{"$f":"VLOOKUP(A29,GE_Player_ID_Stats,11,FALSE)","v":13.600000000000001},null,120,"Reike, Tim",{"$f":"IF(F29=\"\",\"\",ROUND(VLOOKUP(F29,GE_Player_ID_Stats,10,FALSE),1))","v":45.3},{"$f":"IF(F29=\"\",\"\",VLOOKUP(F29,GE_Player_ID_Stats,11,FALSE))","v":8.2666666666666693},null,null,null,{"$f":"\"FT: \"&VLOOKUP(L29,GE_Player_ID_Name,2,FALSE)","v":{"$error":"#N/A"}},"Strokes",{"$f":"IF(O28>O35,O28-O35,0)","v":0},{"$f":"IF(O29>0,AE29+IF(AF29>=$P27,1,0),0)","v":0},{"$f":"IF(O29>0,AE29+IF(AF29>=$Q27,1,0),0)","v":0},{"$f":"IF(O29>0,AE29+IF(AF29>=$R27,1,0),0)","v":0},{"$f":"IF(O29>0,AE29+IF(AF29>=$S27,1,0),0)","v":0},{"$f":"IF(O29>0,AE29+IF(AF29>=$T27,1,0),0)","v":0},{"$f":"IF(O29>0,AE29+IF(AF29>=$U27,1,0),0)","v":0},{"$f":"IF(O29>0,AE29+IF(AF29>=$V27,1,0),0)","v":0},{"$f":"IF(O29>0,AE29+IF(AF29>=$W27,1,0),0)","v":0},{"$f":"IF(O29>0,AE29+IF(AF29>=$X27,1,0),0)","v":0},null,null,"Match",{"$f":"IF(AB31=\"D\",0,COUNTIF(Z31:Z31,Setup!$J$22))","v":0},{"$f":"IF(AB31=\"D\",0,COUNTIF(Z31:Z31,Setup!$J$23))","v":0},{"$f":"IF(AB31=\"D\",0,COUNTIF(Z31:Z31,Setup!$J$24))","v":1},{"$f":"IF(O29<9,0,IF(O29<18,1,IF(O29<27,2,3)))","v":0},{"$f":"IF(O29<9,O29,IF(O29<18,O29-9,IF(O29<27,8-18,IF(O29<36,O29-27,0))))","v":0},null,119,{"$f":"\"FT: \"&VLOOKUP(AH29,GE_Player_ID_Name,2,FALSE)","v":"FT: Young, Brandon"},"Strokes",{"$f":"IF(AK28>AK35,AK28-AK35,0)","v":0},{"$f":"IF(AK29>0,BA29+IF(BB29>=$AL27,1,0),0)","v":0},{"$f":"IF(AK29>0,BA29+IF(BB29>=$AM27,1,0),0)","v":0},{"$f":"IF(AK29>0,BA29+IF(BB29>=$AN27,1,0),0)","v":0},{"$f":"IF(AK29>0,BA29+IF(BB29>=$AO27,1,0),0)","v":0},{"$f":"IF(AK29>0,BA29+IF(BB29>=$AP27,1,0),0)","v":0},{"$f":"IF(AK29>0,BA29+IF(BB29>=$AQ27,1,0),0)","v":0},{"$f":"IF(AK29>0,BA29+IF(BB29>=$AR27,1,0),0)","v":0},{"$f":"IF(AK29>0,BA29+IF(BB29>=$AS27,1,0),0)","v":0},{"$f":"IF(AK29>0,BA29+IF(BB29>=$AT27,1,0),0)","v":0},null,null,"Match",{"$f":"IF(AX31=\"D\",0,COUNTIF(AV31:AV31,Setup!$J$22))","v":1},{"$f":"IF(AX31=\"D\",0,COUNTIF(AV31:AV31,Setup!$J$23))","v":0},{"$f":"IF(AX31=\"D\",0,COUNTIF(AV31:AV31,Setup!$J$24))","v":0},{"$f":"IF(AK29<9,0,IF(AK29<18,1,IF(AK29<27,2,3)))","v":0},{"$f":"IF(AK29<9,AK29,IF(AK29<18,AK29-9,IF(AK29<27,8-18,IF(AK29<36,AK29-27,0))))","v":0}]
[{"$f":"VLOOKUP(Setup!R43,GE_Team_PlayerIDs_1, 2,FALSE)","v":111},"Graves, Evan",{"$f":"ROUND(VLOOKUP(A30,GE_Player_ID_Stats,10,FALSE),1)","v":48.7},{"$f":"VLOOKUP(A30,GE_Player_ID_Stats,11,FALSE)","v":10.933333333333332},null,"",null,{"$f":"IF(F30=\"\",\"\",ROUND(VLOOKUP(F30,GE_Player_ID_Stats,10,FALSE),1))","v":""},{"$f":"IF(F30=\"\",\"\",VLOOKUP(F30,GE_Player_ID_Stats,11,FALSE))","v":""},null,null,null,null,"Net",null,{"$f":"P28-P29","v":4},{"$f":"Q28-Q29","v":4},5,5,6,4,5,4,5,null,null,{"$f":"(AB28*Setup!$J$17)+(AC28*Setup!$J$18)+(AD28*Setup!$J$19)+(AB29*Setup!$J$22)+(AC29*Setup!$J$23)+(AD29*Setup!$J$24)","v":9},{"$f":"IF(AB31=\"D\",0,IF(D35=Setup!$J$27,1,0))","v":1},{"$f":"IF(AB31=\"D\",0,IF(D35=Setup!$J$28,1,0))","v":0},{"$f":"IF(AB31=\"D\",0,IF(D35=Setup!$J$29,1,0))","v":0},null,null,null,null,null,"Net",null,{"$f":"AL28-AL29","v":6},{"$f":"AM28-AM29","v":3},5,6,5,6,6,4,5,null,null,{"$f":"(AX28*Setup!$J$17)+(AY28*Setup!$J$18)+(AZ28*Setup!$J$19)+(AX29*Setup!$J$22)+(AY29*Setup!$J$23)+(AZ29*Setup!$J$24)","v":14}]
[{"$f":"VLOOKUP(Setup!R43,GE_Team_PlayerIDs_1, 4,FALSE)","v":112},"Leonard, Jon",{"$f":"ROUND(VLOOKUP(A31,GE_Player_ID_Stats,10,FALSE),1)","v":59.7},{"$f":"VLOOKUP(A31,GE_Player_ID_Stats,11,FALSE)","v":19.733333333333334},null,"",null,{"$f":"IF(F31=\"\",\"\",ROUND(VLOOKUP(F31,GE_Player_ID_Stats,10,FALSE),1))","v":""},{"$f":"IF(F31=\"\",\"\",VLOOKUP(F31,GE_Player_ID_Stats,11,FALSE))","v":""},null,null,"A",null,"Points",null,{"$f":"IF(P30<P33,Setup!$J$17,IF(P30=P33,Setup!$J$19,Setup!$J$18))","v":2},{"$f":"IF(Q30<Q33,Setup!$J$17,IF(Q30=Q33,Setup!$J$19,Setup!$J$18))","v":0},{"$f":"IF(R30<R33,Setup!$J$17,IF(R30=R33,Setup!$J$19,Setup!$J$18))","v":0},{"$f":"IF(S30<S33,Setup!$J$17,IF(S30=S33,Setup!$J$19,Setup!$J$18))","v":1},{"$f":"IF(T30<T33,Setup!$J$17,IF(T30=T33,Setup!$J$19,Setup!$J$18))","v":0},{"$f":"IF(U30<U33,Setup!$J$17,IF(U30=U33,Setup!$J$19,Setup!$J$18))","v":1},{"$f":"IF(V30<V33,Setup!$J$17,IF(V30=V33,Setup!$J$19,Setup!$J$18))","v":0},{"$f":"IF(W30<W33,Setup!$J$17,IF(W30=W33,Setup!$J$19,Setup!$J$18))","v":1},{"$f":"IF(X30<X33,Setup!$J$17,IF(X30=X33,Setup!$J$19,Setup!$J$18))","v":2},null,{"$f":"IF(Z28<Z35,Setup!$J$22,IF(Z28=Z35,Setup!$J$24,Setup!$J$23))","v":2},{"$f":"IF(AB31=\"P\",\"\",\"DNP\")","v":""},"P",null,null,null,null,null,"B",null,"Points",null,{"$f":"IF(AL30<AL33,Setup!$J$17,IF(AL30=AL33,Setup!$J$19,Setup!$J$18))","v":0},{"$f":"IF(AM30<AM33,Setup!$J$17,IF(AM30=AM33,Setup!$J$19,Setup!$J$18))","v":2},{"$f":"IF(AN30<AN33,Setup!$J$17,IF(AN30=AN33,Setup!$J$19,Setup!$J$18))","v":1},{"$f":"IF(AO30<AO33,Setup!$J$17,IF(AO30=AO33,Setup!$J$19,Setup!$J$18))","v":0},{"$f":"IF(AP30<AP33,Setup!$J$17,IF(AP30=AP33,Setup!$J$19,Setup!$J$18))","v":1},{"$f":"IF(AQ30<AQ33,Setup!$J$17,IF(AQ30=AQ33,Setup!$J$19,Setup!$J$18))","v":1},{"$f":"IF(AR30<AR33,Setup!$J$17,IF(AR30=AR33,Setup!$J$19,Setup!$J$18))","v":1},{"$f":"IF(AS30<AS33,Setup!$J$17,IF(AS30=AS33,Setup!$J$19,Setup!$J$18))","v":2},{"$f":"IF(AT30<AT33,Setup!$J$17,IF(AT30=AT33,Setup!$J$19,Setup!$J$18))","v":2},null,{"$f":"IF(AV28<AV35,Setup!$J$22,IF(AV28=AV35,Setup!$J$24,Setup!$J$23))","v":4},{"$f":"IF(AX31=\"P\",\"\",\"DNP\")","v":""},"P"]
["H",{"$f":"(AB28+AX28)&\"-\"&(AC28+AY28)&\"-\"&(AD28+AZ28)","v":"5-6-7"},null,{"$f":"Z28","v":37},"A Net",{"$f":"Z35","v":37},{"$f":"(AB35+AX35)&\"-\"&(AC35+AY35)&\"-\"&(AD35+AZ35)","v":"4-2-3"},"H",null,null,null,1,{"$f":"VLOOKUP(L32,GE_SideNames,2,FALSE)","v":"Front 9"},"Points",null,{"$f":"IF(P33<P30,Setup!$J$17,IF(P33=P30,Setup!$J$19,Setup!$J$18))","v":0},{"$f":"IF(Q33<Q30,Setup!$J$17,IF(Q33=Q30,Setup!$J$19,Setup!$J$18))","v":2},{"$f":"IF(R33<R30,Setup!$J$17,IF(R33=R30,Setup!$J$19,Setup!$J$18))","v":2},{"$f":"IF(S33<S30,Setup!$J$17,IF(S33=S30,Setup!$J$19,Setup!$J$18))","v":1},{"$f":"IF(T33<T30,Setup!$J$17,IF(T33=T30,Setup!$J$19,Setup!$J$18))","v":2},{"$f":"IF(U33<U30,Setup!$J$17,IF(U33=U30,Setup!$J$19,Setup!$J$18))","v":1},{"$f":"IF(V33<V30,Setup!$J$17,IF(V33=V30,Setup!$J$19,Setup!$J$18))","v":2},{"$f":"IF(W33<W30,Setup!$J$17,IF(W33=W30,Setup!$J$19,Setup!$J$18))","v":1},{"$f":"IF(X33<X30,Setup!$J$17,IF(X33=X30,Setup!$J$19,Setup!$J$18))","v":0},null,{"$f":"IF(Z35<Z28,Setup!$J$22,IF(Z35=Z28,Setup!$J$24,Setup!$J$23))","v":2},{"$f":"IF(AB32=\"P\",\"\",\"DNP\")","v":""},"P",null,null,null,null,null,1,{"$f":"VLOOKUP(AH32,GE_SideNames,2,FALSE)","v":"Front 9"},"Points",null,{"$f":"IF(AL33<AL30,Setup!$J$17,IF(AL33=AL30,Setup!$J$19,Setup!$J$18))","v":2},{"$f":"IF(AM33<AM30,Setup!$J$17,IF(AM33=AM30,Setup!$J$19,Setup!$J$18))","v":0},{"$f":"IF(AN33<AN30,Setup!$J$17,IF(AN33=AN30,Setup!$J$19,Setup!$J$18))","v":1},{"$f":"IF(AO33<AO30,Setup!$J$17,IF(AO33=AO30,Setup!$J$19,Setup!$J$18))","v":2},{"$f":"IF(AP33<AP30,Setup!$J$17,IF(AP33=AP30,Setup!$J$19,Setup!$J$18))","v":1},{"$f":"IF(AQ33<AQ30,Setup!$J$17,IF(AQ33=AQ30,Setup!$J$19,Setup!$J$18))","v":1},{"$f":"IF(AR33<AR30,Setup!$J$17,IF(AR33=AR30,Setup!$J$19,Setup!$J$18))","v":1},{"$f":"IF(AS33<AS30,Setup!$J$17,IF(AS33=AS30,Setup!$J$19,Setup!$J$18))","v":0},{"$f":"IF(AT33<AT30,Setup!$J$17,IF(AT33=AT30,Setup!$J$19,Setup!$J$18))","v":0},null,{"$f":"IF(AV35<AV28,Setup!$J$22,IF(AV35=AV28,Setup!$J$24,Setup!$J$23))","v":0},{"$f":"IF(AX32=\"P\",\"\",\"DNP\")","v":"DNP"},"D"]
["M",{"$f":"(AB29+AX29)&\"-\"&(AC29+AY29)&\"-\"&(AD29+AZ29)","v":"1-0-1"},null,{"$f":"AV28","v":38},"B Net",{"$f":"AV35","v":40},{"$f":"(AB34+AX34)&\"-\"&(AC34+AY34)&\"-\"&(AD34+AZ34)","v":"0-0-1"},"M",null,null,null,null,null,"Net",null,{"$f":"P35-P34","v":6},{"$f":"Q35-Q34","v":3},4,5,5,4,4,4,7,null,null,{"$f":"(AB35*Setup!$J$17)+(AC35*Setup!$J$18)+(AD35*Setup!$J$19)+(AB34*Setup!$J$22)+(AC34*Setup!$J$23)+(AD34*Setup!$J$24)","v":13},{"$f":"IF(AB32=\"D\",0,IF(F35=Setup!$J$27,1,0))","v":0},{"$f":"IF(AB32=\"D\",0,IF(F35=Setup!$J$28,1,0))","v":1},{"$f":"IF(AB32=\"D\",0,IF(F35=Setup!$J$29,1,0))","v":0},null,null,null,null,null,"Net",null,{"$f":"AL35-AL34","v":5},{"$f":"AM35-AM34","v":5},5,5,5,6,6,5,6,null,null,{"$f":"(AX35*Setup!$J$17)+(AY35*Setup!$J$18)+(AZ35*Setup!$J$19)+(AX34*Setup!$J$22)+(AY34*Setup!$J$23)+(AZ34*Setup!$J$24)","v":0}]
["T",{"$f":"(AB30)&\"-\"&(AC30)&\"-\"&(AD30)","v":"1-0-0"},null,{"$f":"D32+D33","v":75},"Total",{"$f":"F32+F33","v":77},{"$f":"(AB33)&\"-\"&(AC33)&\"-\"&(AD33)","v":"0-1-0"},"T",null,null,null,null,{"$f":"\"FT: \"&VLOOKUP(L34,GE_Player_ID_Name,2,FALSE)","v":{"$error":"#N/A"}},"Strokes",{"$f":"IF(O35>O28,O35-O28,0)","v":6},{"$f":"IF(O34>0,AE34+IF(AF34>=$P27,1,0),0)","v":0},{"$f":"IF(O34>0,AE34+IF(AF34>=$Q27,1,0),0)","v":1},{"$f":"IF(O34>0,AE34+IF(AF34>=$R27,1,0),0)","v":1},{"$f":"IF(O34>0,AE34+IF(AF34>=$S27,1,0),0)","v":1},{"$f":"IF(O34>0,AE34+IF(AF34>=$T27,1,0),0)","v":0},{"$f":"IF(O34>0,AE34+IF(AF34>=$U27,1,0),0)","v":1},{"$f":"IF(O34>0,AE34+IF(AF34>=$V27,1,0),0)","v":1},{"$f":"IF(O34>0,AE34+IF(AF34>=$W27,1,0),0)","v":0},{"$f":"IF(O34>0,AE34+IF(AF34>=$X27,1,0),0)","v":1},null,null,"Match",{"$f":"IF(AB32=\"D\",0,COUNTIF(Z32:Z32,Setup!$J$22))","v":0},{"$f":"IF(AB32=\"D\",0,COUNTIF(Z32:Z32,Setup!$J$23))","v":0},{"$f":"IF(AB32=\"D\",0,COUNTIF(Z32:Z32,Setup!$J$24))","v":1},{"$f":"IF(O34<9,0,IF(O34<18,1,IF(O34<27,2,3)))","v":0},{"$f":"IF(O34<9,O34,IF(O34<18,O34-9,IF(O34<27,8-18,IF(O34<36,O34-27,0))))","v":6},null,null,{"$f":"\"FT: \"&VLOOKUP(AH34,GE_Player_ID_Name,2,FALSE)","v":{"$error":"#N/A"}},"Strokes",{"$f":"IF(AK35>AK28,AK35-AK28,0)","v":12},{"$f":"IF(AK34>0,BA34+IF(BB34>=$AL27,1,0),0)","v":1},{"$f":"IF(AK34>0,BA34+IF(BB34>=$AM27,1,0),0)","v":1},{"$f":"IF(AK34>0,BA34+IF(BB34>=$AN27,1,0),0)","v":2},{"$f":"IF(AK34>0,BA34+IF(BB34>=$AO27,1,0),0)","v":2},{"$f":"IF(AK34>0,BA34+IF(BB34>=$AP27,1,0),0)","v":1},{"$f":"IF(AK34>0,BA34+IF(BB34>=$AQ27,1,0),0)","v":1},{"$f":"IF(AK34>0,BA34+IF(BB34>=$AR27,1,0),0)","v":1},{"$f":"IF(AK34>0,BA34+IF(BB34>=$AS27,1,0),0)","v":1},{"$f":"IF(AK34>0,BA34+IF(BB34>=$AT27,1,0),0)","v":2},null,null,"Match",{"$f":"IF(AX32=\"D\",0,COUNTIF(AV32:AV32,Setup!$J$22))","v":0},{"$f":"IF(AX32=\"D\",0,COUNTIF(AV32:AV32,Setup!$J$23))","v":0},{"$f":"IF(AX32=\"D\",0,COUNTIF(AV32:AV32,Setup!$J$24))","v":0},{"$f":"IF(AK34<9,0,IF(AK34<18,1,IF(AK34<27,2,3)))","v":1},{"$f":"IF(AK34<9,AK34,IF(AK34<18,AK34-9,IF(AK34<27,8-18,IF(AK34<36,AK34-27,0))))","v":3}]
[null,{"$f":"\"Match ID - \"&Setup!S43","v":"Match ID - 312"},null,{"$f":"IF(D34<F34,Setup!$J$27,IF(D34=F34,Setup!$J$29,Setup!$J$28))","v":6},"Points",{"$f":"IF(F34<D34,Setup!$J$27,IF(F34=D34,Setup!$J$29,Setup!$J$28))","v":0},null,null,null,null,null,111,{"$f":"VLOOKUP(L35,GE_Player_ID_Name,2,FALSE)","v":"Graves, Evan"},{"$f":"F27","v":46},{"$f":"ROUND(VLOOKUP(L35,GE_Player_ID_Stats,11,FALSE),0)","v":11},6,4,5,6,5,5,5,4,8,{"$f":"SUM(P35:X35)","v":48},{"$f":"Y35-O35","v":37},"Holes",{"$f":"IF(AB32=\"D\",0,COUNTIF(P32:X32,Setup!$J$17))","v":4},{"$f":"IF(AB32=\"D\",0,COUNTIF(P32:X32,Setup!$J$18))","v":2},{"$f":"IF(AB32=\"D\",0,COUNTIF(P32:X32,Setup!$J$19))","v":3},null,null,null,112,{"$f":"VLOOKUP(AH35,GE_Player_ID_Name,2,FALSE)","v":"Leonard, Jon"},{"$f":"F27","v":46},{"$f":"ROUND(VLOOKUP(AH35,GE_Player_ID_Stats,11,FALSE),0)","v":20},6,6,7,7,6,7,7,6,8,{"$f":"SUM(AL35:AT35)","v":60},{"$f":"AU35-AK35","v":40},"Holes",{"$f":"IF(AX32=\"D\",0,COUNTIF(AL32:AT32,Setup!$J$17))","v":0},{"$f":"IF(AX32=\"D\",0,COUNTIF(AL32:AT32,Setup!$J$18))","v":0},{"$f":"IF(AX32=\"D\",0,COUNTIF(AL32:AT32,Setup!$J$19))","v":0}]
[null,null,null,null,null,null,null,null,null,null,null,null,null,null,"Par",{"$f":"VLOOKUP($L42,GE_Course_Pars,3,FALSE)","v":4},{"$f":"VLOOKUP($L42,GE_Course_Pars,4,FALSE)","v":3},{"$f":"VLOOKUP($L42,GE_Course_Pars,5,FALSE)","v":4},{"$f":"VLOOKUP($L42,GE_Course_Pars,6,FALSE)","v":3},{"$f":"VLOOKUP($L42,GE_Course_Pars,7,FALSE)","v":4},{"$f":"VLOOKUP($L42,GE_Course_Pars,8,FALSE)","v":4},{"$f":"VLOOKUP($L42,GE_Course_Pars,9,FALSE)","v":5},{"$f":"VLOOKUP($L42,GE_Course_Pars,10,FALSE)","v":4},{"$f":"VLOOKUP($L42,GE_Course_Pars,11,FALSE)","v":4},null,null,null,null,null,null,null,null,null,null,null,null,"Par",{"$f":"VLOOKUP($L42,GE_Course_Pars,3,FALSE)","v":4},{"$f":"VLOOKUP($L42,GE_Course_Pars,4,FALSE)","v":3},{"$f":"VLOOKUP($L42,GE_Course_Pars,5,FALSE)","v":4},{"$f":"VLOOKUP($L42,GE_Course_Pars,6,FALSE)","v":3},{"$f":"VLOOKUP($L42,GE_Course_Pars,7,FALSE)","v":4},{"$f":"VLOOKUP($L42,GE_Course_Pars,8,FALSE)","v":4},{"$f":"VLOOKUP($L42,GE_Course_Pars,9,FALSE)","v":5},{"$f":"VLOOKUP($L42,GE_Course_Pars,10,FALSE)","v":4},{"$f":"VLOOKUP($L42,GE_Course_Pars,11,FALSE)","v":4}]
[{"$f":"Setup!B19","v":"4:50"},{"$f":"VLOOKUP(Setup!Q44,GE_Teams_DBID,2,FALSE)","v":"Dave, Joe and Rick"},null,{"$f":"Setup!Q44","v":39},"vs.",{"$f":"Setup!R44","v":36},{"$f":"VLOOKUP(Setup!R44,GE_Teams_DBID,2,FALSE)","v":"Bob and Mike"},null,null,null,null,null,null,null,"Hdcp",{"$f":"LOOKUP(L42,Setup!$A$5:$A$7,Setup!$C$5:$C$7)","v":4},{"$f":"LOOKUP(L42,Setup!$A$5:$A$7,Setup!$D$5:$D$7)","v":6},{"$f":"LOOKUP(L42,Setup!$A$5:$A$7,Setup!$E$5:$E$7)","v":7},{"$f":"LOOKUP(L42,Setup!$A$5:$A$7,Setup!$F$5:$F$7)","v":8},{"$f":"LOOKUP(L42,Setup!$A$5:$A$7,Setup!$G$5:$G$7)","v":9},{"$f":"LOOKUP(L42,Setup!$A$5:$A$7,Setup!$H$5:$H$7)","v":1},{"$f":"LOOKUP(L42,Setup!$A$5:$A$7,Setup!$I$5:$I$7)","v":3},{"$f":"LOOKUP(L42,Setup!$A$5:$A$7,Setup!$J$5:$J$7)","v":5},{"$f":"LOOKUP(L42,Setup!$A$5:$A$7,Setup!$K$5:$K$7)","v":2},null,null,null,null,null,null,null,null,null,null,null,null,"Hdcp",{"$f":"LOOKUP(AH42,Setup!$A$5:$A$7,Setup!$C$5:$C$7)","v":4},{"$f":"LOOKUP(AH42,Setup!$A$5:$A$7,Setup!$D$5:$D$7)","v":6},{"$f":"LOOKUP(AH42,Setup!$A$5:$A$7,Setup!$E$5:$E$7)","v":7},{"$f":"LOOKUP(AH42,Setup!$A$5:$A$7,Setup!$F$5:$F$7)","v":8},{"$f":"LOOKUP(AH42,Setup!$A$5:$A$7,Setup!$G$5:$G$7)","v":9},{"$f":"LOOKUP(AH42,Setup!$A$5:$A$7,Setup!$H$5:$H$7)","v":1},{"$f":"LOOKUP(AH42,Setup!$A$5:$A$7,Setup!$I$5:$I$7)","v":3},{"$f":"LOOKUP(AH42,Setup!$A$5:$A$7,Setup!$J$5:$J$7)","v":5},{"$f":"LOOKUP(AH42,Setup!$A$5:$A$7,Setup!$K$5:$K$7)","v":2}]
[{"$f":"VLOOKUP(Setup!Q44,GE_Team_PlayerIDs_1, 2,FALSE)","v":92},{"$f":"VLOOKUP(A38,GE_Player_ID_Name,2,FALSE)","v":"Hanna, Dave"},{"$f":"ROUND(VLOOKUP(A38,GE_Player_ID_Stats,10,FALSE),1)","v":56},{"$f":"VLOOKUP(A38,GE_Player_ID_Stats,11,FALSE)","v":16.8},null,"",null,{"$f":"IF(F38=\"\",\"\",ROUND(VLOOKUP(F38,GE_Player_ID_Stats,10,FALSE),1))","v":""},{"$f":"IF(F38=\"\",\"\",VLOOKUP(F38,GE_Player_ID_Stats,11,FALSE))","v":""},null,null,92,{"$f":"VLOOKUP(L38,GE_Player_ID_Name,2,FALSE)","v":"Hanna, Dave"},{"$f":"D37","v":39},{"$f":"ROUND(VLOOKUP(L38,GE_Player_ID_Stats,11,FALSE),0)","v":17},6,5,6,5,6,7,8,6,7,{"$f":"SUM(P38:X38)","v":56},{"$f":"Y38-O38","v":39},"Holes",{"$f":"IF(AB41=\"D\",0,COUNTIF(P41:X41,Setup!$J$17))","v":0},{"$f":"IF(AB41=\"D\",0,COUNTIF(P41:X41,Setup!$J$18))","v":0},{"$f":"IF(AB41=\"D\",0,COUNTIF(P41:X41,Setup!$J$19))","v":0},null,null,null,93,{"$f":"VLOOKUP(AH38,GE_Player_ID_Name,2,FALSE)","v":"Shoaf, Joe"},{"$f":"D37","v":39},{"$f":"ROUND(VLOOKUP(AH38,GE_Player_ID_Stats,11,FALSE),0)","v":20},7,6,7,5,6,7,8,7,7,{"$f":"SUM(AL38:AT38)","v":60},{"$f":"AU38-AK38","v":40},"Holes",{"$f":"IF(AX41=\"D\",0,COUNTIF(AL41:AT41,Setup!$J$17))","v":0},{"$f":"IF(AX41=\"D\",0,COUNTIF(AL41:AT41,Setup!$J$18))","v":0},{"$f":"IF(AX41=\"D\",0,COUNTIF(AL41:AT41,Setup!$J$19))","v":0}]
[{"$f":"VLOOKUP(Setup!Q44,GE_Team_PlayerIDs_1, 4,FALSE)","v":93},"Shoaf, Joe",{"$f":"ROUND(VLOOKUP(A39,GE_Player_ID_Stats,10,FALSE),1)","v":60},{"$f":"VLOOKUP(A39,GE_Player_ID_Stats,11,FALSE)","v":20},null,"",null,{"$f":"IF(F39=\"\",\"\",ROUND(VLOOKUP(F39,GE_Player_ID_Stats,10,FALSE),1))","v":""},{"$f":"IF(F39=\"\",\"\",VLOOKUP(F39,GE_Player_ID_Stats,11,FALSE))","v":""},null,null,null,{"$f":"\"FT: \"&VLOOKUP(L39,GE_Player_ID_Name,2,FALSE)","v":{"$error":"#N/A"}},"Strokes",{"$f":"IF(O38>O45,O38-O45,0)","v":6},{"$f":"IF(O39>0,AE39+IF(AF39>=$P37,1,0),0)","v":1},{"$f":"IF(O39>0,AE39+IF(AF39>=$Q37,1,0),0)","v":1},{"$f":"IF(O39>0,AE39+IF(AF39>=$R37,1,0),0)","v":0},{"$f":"IF(O39>0,AE39+IF(AF39>=$S37,1,0),0)","v":0},{"$f":"IF(O39>0,AE39+IF(AF39>=$T37,1,0),0)","v":0},{"$f":"IF(O39>0,AE39+IF(AF39>=$U37,1,0),0)","v":1},{"$f":"IF(O39>0,AE39+IF(AF39>=$V37,1,0),0)","v":1},{"$f":"IF(O39>0,AE39+IF(AF39>=$W37,1,0),0)","v":1},{"$f":"IF(O39>0,AE39+IF(AF39>=$X37,1,0),0)","v":1},null,null,"Match",{"$f":"IF(AB41=\"D\",0,COUNTIF(Z41:Z41,Setup!$J$22))","v":0},{"$f":"IF(AB41=\"D\",0,COUNTIF(Z41:Z41,Setup!$J$23))","v":0},{"$f":"IF(AB41=\"D\",0,COUNTIF(Z41:Z41,Setup!$J$24))","v":0},{"$f":"IF(O39<9,0,IF(O39<18,1,IF(O39<27,2,3)))","v":0},{"$f":"IF(O39<9,O39,IF(O39<18,O39-9,IF(O39<27,8-18,IF(O39<36,O39-27,0))))","v":6},null,null,{"$f":"\"FT: \"&VLOOKUP(AH39,GE_Player_ID_Name,2,FALSE)","v":{"$error":"#N/A"}},"Strokes",{"$f":"IF(AK38>AK45,AK38-AK45,0)","v":3},{"$f":"IF(AK39>0,BA39+IF(BB39>=$AL37,1,0),0)","v":0},{"$f":"IF(AK39>0,BA39+IF(BB39>=$AM37,1,0),0)","v":0},{"$f":"IF(AK39>0,BA39+IF(BB39>=$AN37,1,0),0)","v":0},{"$f":"IF(AK39>0,BA39+IF(BB39>=$AO37,1,0),0)","v":0},{"$f":"IF(AK39>0,BA39+IF(BB39>=$AP37,1,0),0)","v":0},{"$f":"IF(AK39>0,BA39+IF(BB39>=$AQ37,1,0),0)","v":1},{"$f":"IF(AK39>0,BA39+IF(BB39>=$AR37,1,0),0)","v":1},{"$f":"IF(AK39>0,BA39+IF(BB39>=$AS37,1,0),0)","v":0},{"$f":"IF(AK39>0,BA39+IF(BB39>=$AT37,1,0),0)","v":1},null,null,"Match",{"$f":"IF(AX41=\"D\",0,COUNTIF(AV41:AV41,Setup!$J$22))","v":0},{"$f":"IF(AX41=\"D\",0,COUNTIF(AV41:AV41,Setup!$J$23))","v":0},{"$f":"IF(AX41=\"D\",0,COUNTIF(AV41:AV41,Setup!$J$24))","v":0},{"$f":"IF(AK39<9,0,IF(AK39<18,1,IF(AK39<27,2,3)))","v":0},{"$f":"IF(AK39<9,AK39,IF(AK39<18,AK39-9,IF(AK39<27,8-18,IF(AK39<36,AK39-27,0))))","v":3}]
[{"$f":"VLOOKUP(Setup!R44,GE_Team_PlayerIDs_1, 2,FALSE)","v":81},"Dehner, Bob",{"$f":"ROUND(VLOOKUP(A40,GE_Player_ID_Stats,10,FALSE),1)","v":56},{"$f":"VLOOKUP(A40,GE_Player_ID_Stats,11,FALSE)","v":16.8},null,"",null,{"$f":"IF(F40=\"\",\"\",ROUND(VLOOKUP(F40,GE_Player_ID_Stats,10,FALSE),1))","v":""},{"$f":"IF(F40=\"\",\"\",VLOOKUP(F40,GE_Player_ID_Stats,11,FALSE))","v":""},null,null,null,null,"Net",null,{"$f":"P38-P39","v":5},{"$f":"Q38-Q39","v":4},6,5,6,6,7,5,6,null,null,{"$f":"(AB38*Setup!$J$17)+(AC38*Setup!$J$18)+(AD38*Setup!$J$19)+(AB39*Setup!$J$22)+(AC39*Setup!$J$23)+(AD39*Setup!$J$24)","v":0},{"$f":"IF(AB41=\"D\",0,IF(D45=Setup!$J$27,1,0))","v":0},{"$f":"IF(AB41=\"D\",0,IF(D45=Setup!$J$28,1,0))","v":0},{"$f":"IF(AB41=\"D\",0,IF(D45=Setup!$J$29,1,0))","v":0},null,null,null,null,null,"Net",null,{"$f":"AL38-AL39","v":7},{"$f":"AM38-AM39","v":6},7,5,6,6,7,7,6,null,null,{"$f":"(AX38*Setup!$J$17)+(AY38*Setup!$J$18)+(AZ38*Setup!$J$19)+(AX39*Setup!$J$22)+(AY39*Setup!$J$23)+(AZ39*Setup!$J$24)","v":0}]
[{"$f":"VLOOKUP(Setup!R44,GE_Team_PlayerIDs_1, 4,FALSE)","v":82},"Upchurch, Mike",{"$f":"ROUND(VLOOKUP(A41,GE_Player_ID_Stats,10,FALSE),1)","v":49.3},{"$f":"VLOOKUP(A41,GE_Player_ID_Stats,11,FALSE)","v":11.4},null,"",null,{"$f":"IF(F41=\"\",\"\",ROUND(VLOOKUP(F41,GE_Player_ID_Stats,10,FALSE),1))","v":""},{"$f":"IF(F41=\"\",\"\",VLOOKUP(F41,GE_Player_ID_Stats,11,FALSE))","v":""},null,null,"A",null,"Points",null,{"$f":"IF(P40<P43,Setup!$J$17,IF(P40=P43,Setup!$J$19,Setup!$J$18))","v":1},{"$f":"IF(Q40<Q43,Setup!$J$17,IF(Q40=Q43,Setup!$J$19,Setup!$J$18))","v":1},{"$f":"IF(R40<R43,Setup!$J$17,IF(R40=R43,Setup!$J$19,Setup!$J$18))","v":1},{"$f":"IF(S40<S43,Setup!$J$17,IF(S40=S43,Setup!$J$19,Setup!$J$18))","v":0},{"$f":"IF(T40<T43,Setup!$J$17,IF(T40=T43,Setup!$J$19,Setup!$J$18))","v":0},{"$f":"IF(U40<U43,Setup!$J$17,IF(U40=U43,Setup!$J$19,Setup!$J$18))","v":0},{"$f":"IF(V40<V43,Setup!$J$17,IF(V40=V43,Setup!$J$19,Setup!$J$18))","v":1},{"$f":"IF(W40<W43,Setup!$J$17,IF(W40=W43,Setup!$J$19,Setup!$J$18))","v":2},{"$f":"IF(X40<X43,Setup!$J$17,IF(X40=X43,Setup!$J$19,Setup!$J$18))","v":0},null,{"$f":"IF(Z38<Z45,Setup!$J$22,IF(Z38=Z45,Setup!$J$24,Setup!$J$23))","v":0},{"$f":"IF(AB41=\"P\",\"\",\"DNP\")","v":"DNP"},"D",null,null,null,null,null,"B",null,"Points",null,{"$f":"IF(AL40<AL43,Setup!$J$17,IF(AL40=AL43,Setup!$J$19,Setup!$J$18))","v":1},{"$f":"IF(AM40<AM43,Setup!$J$17,IF(AM40=AM43,Setup!$J$19,Setup!$J$18))","v":0},{"$f":"IF(AN40<AN43,Setup!$J$17,IF(AN40=AN43,Setup!$J$19,Setup!$J$18))","v":0},{"$f":"IF(AO40<AO43,Setup!$J$17,IF(AO40=AO43,Setup!$J$19,Setup!$J$18))","v":0},{"$f":"IF(AP40<AP43,Setup!$J$17,IF(AP40=AP43,Setup!$J$19,Setup!$J$18))","v":1},{"$f":"IF(AQ40<AQ43,Setup!$J$17,IF(AQ40=AQ43,Setup!$J$19,Setup!$J$18))","v":2},{"$f":"IF(AR40<AR43,Setup!$J$17,IF(AR40=AR43,Setup!$J$19,Setup!$J$18))","v":2},{"$f":"IF(AS40<AS43,Setup!$J$17,IF(AS40=AS43,Setup!$J$19,Setup!$J$18))","v":0},{"$f":"IF(AT40<AT43,Setup!$J$17,IF(AT40=AT43,Setup!$J$19,Setup!$J$18))","v":2},null,{"$f":"IF(AV38<AV45,Setup!$J$22,IF(AV38=AV45,Setup!$J$24,Setup!$J$23))","v":0},{"$f":"IF(AX41=\"P\",\"\",\"DNP\")","v":"DNP"},"D"]
["H",{"$f":"(AB38+AX38)&\"-\"&(AC38+AY38)&\"-\"&(AD38+AZ38)","v":"0-0-0"},null,{"$f":"Z38","v":39},"A Net",{"$f":"Z45","v":36},{"$f":"(AB45+AX45)&\"-\"&(AC45+AY45)&\"-\"&(AD45+AZ45)","v":"8-4-6"},"H",null,null,null,2,{"$f":"VLOOKUP(L42,GE_SideNames,2,FALSE)","v":"Back 9"},"Points",null,{"$f":"IF(P43<P40,Setup!$J$17,IF(P43=P40,Setup!$J$19,Setup!$J$18))","v":1},{"$f":"IF(Q43<Q40,Setup!$J$17,IF(Q43=Q40,Setup!$J$19,Setup!$J$18))","v":1},{"$f":"IF(R43<R40,Setup!$J$17,IF(R43=R40,Setup!$J$19,Setup!$J$18))","v":1},{"$f":"IF(S43<S40,Setup!$J$17,IF(S43=S40,Setup!$J$19,Setup!$J$18))","v":2},{"$f":"IF(T43<T40,Setup!$J$17,IF(T43=T40,Setup!$J$19,Setup!$J$18))","v":2},{"$f":"IF(U43<U40,Setup!$J$17,IF(U43=U40,Setup!$J$19,Setup!$J$18))","v":2},{"$f":"IF(V43<V40,Setup!$J$17,IF(V43=V40,Setup!$J$19,Setup!$J$18))","v":1},{"$f":"IF(W43<W40,Setup!$J$17,IF(W43=W40,Setup!$J$19,Setup!$J$18))","v":0},{"$f":"IF(X43<X40,Setup!$J$17,IF(X43=X40,Setup!$J$19,Setup!$J$18))","v":2},null,{"$f":"IF(Z45<Z38,Setup!$J$22,IF(Z45=Z38,Setup!$J$24,Setup!$J$23))","v":4},{"$f":"IF(AB42=\"P\",\"\",\"DNP\")","v":""},"P",null,null,null,null,null,2,{"$f":"VLOOKUP(AH42,GE_SideNames,2,FALSE)","v":"Back 9"},"Points",null,{"$f":"IF(AL43<AL40,Setup!$J$17,IF(AL43=AL40,Setup!$J$19,Setup!$J$18))","v":1},{"$f":"IF(AM43<AM40,Setup!$J$17,IF(AM43=AM40,Setup!$J$19,Setup!$J$18))","v":2},{"$f":"IF(AN43<AN40,Setup!$J$17,IF(AN43=AN40,Setup!$J$19,Setup!$J$18))","v":2},{"$f":"IF(AO43<AO40,Setup!$J$17,IF(AO43=AO40,Setup!$J$19,Setup!$J$18))","v":2},{"$f":"IF(AP43<AP40,Setup!$J$17,IF(AP43=AP40,Setup!$J$19,Setup!$J$18))","v":1},{"$f":"IF(AQ43<AQ40,Setup!$J$17,IF(AQ43=AQ40,Setup!$J$19,Setup!$J$18))","v":0},{"$f":"IF(AR43<AR40,Setup!$J$17,IF(AR43=AR40,Setup!$J$19,Setup!$J$18))","v":0},{"$f":"IF(AS43<AS40,Setup!$J$17,IF(AS43=AS40,Setup!$J$19,Setup!$J$18))","v":2},{"$f":"IF(AT43<AT40,Setup!$J$17,IF(AT43=AT40,Setup!$J$19,Setup!$J$18))","v":0},null,{"$f":"IF(AV45<AV38,Setup!$J$22,IF(AV45=AV38,Setup!$J$24,Setup!$J$23))","v":4},{"$f":"IF(AX42=\"P\",\"\",\"DNP\")","v":""},"P"]
["M",{"$f":"(AB39+AX39)&\"-\"&(AC39+AY39)&\"-\"&(AD39+AZ39)","v":"0-0-0"},null,{"$f":"AV38","v":40},"B Net",{"$f":"AV45","v":39},{"$f":"(AB44+AX44)&\"-\"&(AC44+AY44)&\"-\"&(AD44+AZ44)","v":"2-0-0"},"M",null,null,null,null,null,"Net",null,{"$f":"P45-P44","v":5},{"$f":"Q45-Q44","v":4},6,3,5,5,7,7,5,null,null,{"$f":"(AB45*Setup!$J$17)+(AC45*Setup!$J$18)+(AD45*Setup!$J$19)+(AB44*Setup!$J$22)+(AC44*Setup!$J$23)+(AD44*Setup!$J$24)","v":16},{"$f":"IF(AB42=\"D\",0,IF(F45=Setup!$J$27,1,0))","v":1},{"$f":"IF(AB42=\"D\",0,IF(F45=Setup!$J$28,1,0))","v":0},{"$f":"IF(AB42=\"D\",0,IF(F45=Setup!$J$29,1,0))","v":0},null,null,null,null,null,"Net",null,{"$f":"AL45-AL44","v":7},{"$f":"AM45-AM44","v":5},6,4,6,7,8,5,8,null,null,{"$f":"(AX45*Setup!$J$17)+(AY45*Setup!$J$18)+(AZ45*Setup!$J$19)+(AX44*Setup!$J$22)+(AY44*Setup!$J$23)+(AZ44*Setup!$J$24)","v":14}]
["T",{"$f":"(AB40)&\"-\"&(AC40)&\"-\"&(AD40)","v":"0-0-0"},null,{"$f":"D42+D43","v":79},"Total",{"$f":"F42+F43","v":75},{"$f":"(AB43)&\"-\"&(AC43)&\"-\"&(AD43)","v":"1-0-0"},"T",null,null,null,null,{"$f":"\"FT: \"&VLOOKUP(L44,GE_Player_ID_Name,2,FALSE)","v":{"$error":"#N/A"}},"Strokes",{"$f":"IF(O45>O38,O45-O38,0)","v":0},{"$f":"IF(O44>0,AE44+IF(AF44>=$P37,1,0),0)","v":0},{"$f":"IF(O44>0,AE44+IF(AF44>=$Q37,1,0),0)","v":0},{"$f":"IF(O44>0,AE44+IF(AF44>=$R37,1,0),0)","v":0},{"$f":"IF(O44>0,AE44+IF(AF44>=$S37,1,0),0)","v":0},{"$f":"IF(O44>0,AE44+IF(AF44>=$T37,1,0),0)","v":0},{"$f":"IF(O44>0,AE44+IF(AF44>=$U37,1,0),0)","v":0},{"$f":"IF(O44>0,AE44+IF(AF44>=$V37,1,0),0)","v":0},{"$f":"IF(O44>0,AE44+IF(AF44>=$W37,1,0),0)","v":0},{"$f":"IF(O44>0,AE44+IF(AF44>=$X37,1,0),0)","v":0},null,null,"Match",{"$f":"IF(AB42=\"D\",0,COUNTIF(Z42:Z42,Setup!$J$22))","v":1},{"$f":"IF(AB42=\"D\",0,COUNTIF(Z42:Z42,Setup!$J$23))","v":0},{"$f":"IF(AB42=\"D\",0,COUNTIF(Z42:Z42,Setup!$J$24))","v":0},{"$f":"IF(O44<9,0,IF(O44<18,1,IF(O44<27,2,3)))","v":0},{"$f":"IF(O44<9,O44,IF(O44<18,O44-9,IF(O44<27,8-18,IF(O44<36,O44-27,0))))","v":0},null,null,{"$f":"\"FT: \"&VLOOKUP(AH44,GE_Player_ID_Name,2,FALSE)","v":{"$error":"#N/A"}},"Strokes",{"$f":"IF(AK45>AK38,AK45-AK38,0)","v":0},{"$f":"IF(AK44>0,BA44+IF(BB44>=$AL37,1,0),0)","v":0},{"$f":"IF(AK44>0,BA44+IF(BB44>=$AM37,1,0),0)","v":0},{"$f":"IF(AK44>0,BA44+IF(BB44>=$AN37,1,0),0)","v":0},{"$f":"IF(AK44>0,BA44+IF(BB44>=$AO37,1,0),0)","v":0},{"$f":"IF(AK44>0,BA44+IF(BB44>=$AP37,1,0),0)","v":0},{"$f":"IF(AK44>0,BA44+IF(BB44>=$AQ37,1,0),0)","v":0},{"$f":"IF(AK44>0,BA44+IF(BB44>=$AR37,1,0),0)","v":0},{"$f":"IF(AK44>0,BA44+IF(BB44>=$AS37,1,0),0)","v":0},{"$f":"IF(AK44>0,BA44+IF(BB44>=$AT37,1,0),0)","v":0},null,null,"Match",{"$f":"IF(AX42=\"D\",0,COUNTIF(AV42:AV42,Setup!$J$22))","v":1},{"$f":"IF(AX42=\"D\",0,COUNTIF(AV42:AV42,Setup!$J$23))","v":0},{"$f":"IF(AX42=\"D\",0,COUNTIF(AV42:AV42,Setup!$J$24))","v":0},{"$f":"IF(AK44<9,0,IF(AK44<18,1,IF(AK44<27,2,3)))","v":0},{"$f":"IF(AK44<9,AK44,IF(AK44<18,AK44-9,IF(AK44<27,8-18,IF(AK44<36,AK44-27,0))))","v":0}]
[null,{"$f":"\"Match ID - \"&Setup!S44","v":"Match ID - 313"},null,{"$f":"IF(D44<F44,Setup!$J$27,IF(D44=F44,Setup!$J$29,Setup!$J$28))","v":0},"Points",{"$f":"IF(F44<D44,Setup!$J$27,IF(F44=D44,Setup!$J$29,Setup!$J$28))","v":6},null,null,null,null,null,82,{"$f":"VLOOKUP(L45,GE_Player_ID_Name,2,FALSE)","v":"Upchurch, Mike"},{"$f":"F37","v":36},{"$f":"ROUND(VLOOKUP(L45,GE_Player_ID_Stats,11,FALSE),0)","v":11},5,4,6,3,5,5,7,7,5,{"$f":"SUM(P45:X45)","v":47},{"$f":"Y45-O45","v":36},"Holes",{"$f":"IF(AB42=\"D\",0,COUNTIF(P42:X42,Setup!$J$17))","v":4},{"$f":"IF(AB42=\"D\",0,COUNTIF(P42:X42,Setup!$J$18))","v":1},{"$f":"IF(AB42=\"D\",0,COUNTIF(P42:X42,Setup!$J$19))","v":4},null,null,null,81,{"$f":"VLOOKUP(AH45,GE_Player_ID_Name,2,FALSE)","v":"Dehner, Bob"},{"$f":"F37","v":36},{"$f":"ROUND(VLOOKUP(AH45,GE_Player_ID_Stats,11,FALSE),0)","v":17},7,5,6,4,6,7,8,5,8,{"$f":"SUM(AL45:AT45)","v":56},{"$f":"AU45-AK45","v":39},"Holes",{"$f":"IF(AX42=\"D\",0,COUNTIF(AL42:AT42,Setup!$J$17))","v":4},{"$f":"IF(AX42=\"D\",0,COUNTIF(AL42:AT42,Setup!$J$18))","v":3},{"$f":"IF(AX42=\"D\",0,COUNTIF(AL42:AT42,Setup!$J$19))","v":2}]
[null,null,null,null,null,null,null,null,null,null,null,null,null,null,"Par",{"$f":"VLOOKUP($L52,GE_Course_Pars,3,FALSE)","v":4},{"$f":"VLOOKUP($L52,GE_Course_Pars,4,FALSE)","v":3},{"$f":"VLOOKUP($L52,GE_Course_Pars,5,FALSE)","v":4},{"$f":"VLOOKUP($L52,GE_Course_Pars,6,FALSE)","v":4},{"$f":"VLOOKUP($L52,GE_Course_Pars,7,FALSE)","v":4},{"$f":"VLOOKUP($L52,GE_Course_Pars,8,FALSE)","v":4},{"$f":"VLOOKUP($L52,GE_Course_Pars,9,FALSE)","v":4},{"$f":"VLOOKUP($L52,GE_Course_Pars,10,FALSE)","v":3},{"$f":"VLOOKUP($L52,GE_Course_Pars,11,FALSE)","v":5},null,null,null,null,null,null,null,null,null,null,null,null,"Par",{"$f":"VLOOKUP($L52,GE_Course_Pars,3,FALSE)","v":4},{"$f":"VLOOKUP($L52,GE_Course_Pars,4,FALSE)","v":3},{"$f":"VLOOKUP($L52,GE_Course_Pars,5,FALSE)","v":4},{"$f":"VLOOKUP($L52,GE_Course_Pars,6,FALSE)","v":4},{"$f":"VLOOKUP($L52,GE_Course_Pars,7,FALSE)","v":4},{"$f":"VLOOKUP($L52,GE_Course_Pars,8,FALSE)","v":4},{"$f":"VLOOKUP($L52,GE_Course_Pars,9,FALSE)","v":4},{"$f":"VLOOKUP($L52,GE_Course_Pars,10,FALSE)","v":3},{"$f":"VLOOKUP($L52,GE_Course_Pars,11,FALSE)","v":5}]
[{"$f":"Setup!B19","v":"4:50"},{"$f":"VLOOKUP(Setup!Q45,GE_Teams_DBID,2,FALSE)","v":"Reckless Drivers"},null,{"$f":"Setup!Q45","v":50},"vs.",{"$f":"Setup!R45","v":45},{"$f":"VLOOKUP(Setup!R45,GE_Teams_DBID,2,FALSE)","v":"Dude Wheres My Par"},null,null,null,null,null,null,null,"Hdcp",{"$f":"LOOKUP(L52,Setup!$A$5:$A$7,Setup!$C$5:$C$7)","v":8},{"$f":"LOOKUP(L52,Setup!$A$5:$A$7,Setup!$D$5:$D$7)","v":6},{"$f":"LOOKUP(L52,Setup!$A$5:$A$7,Setup!$E$5:$E$7)","v":1},{"$f":"LOOKUP(L52,Setup!$A$5:$A$7,Setup!$F$5:$F$7)","v":2},{"$f":"LOOKUP(L52,Setup!$A$5:$A$7,Setup!$G$5:$G$7)","v":9},{"$f":"LOOKUP(L52,Setup!$A$5:$A$7,Setup!$H$5:$H$7)","v":5},{"$f":"LOOKUP(L52,Setup!$A$5:$A$7,Setup!$I$5:$I$7)","v":4},{"$f":"LOOKUP(L52,Setup!$A$5:$A$7,Setup!$J$5:$J$7)","v":7},{"$f":"LOOKUP(L52,Setup!$A$5:$A$7,Setup!$K$5:$K$7)","v":3},null,null,null,null,null,null,null,null,null,null,null,null,"Hdcp",{"$f":"LOOKUP(AH52,Setup!$A$5:$A$7,Setup!$C$5:$C$7)","v":8},{"$f":"LOOKUP(AH52,Setup!$A$5:$A$7,Setup!$D$5:$D$7)","v":6},{"$f":"LOOKUP(AH52,Setup!$A$5:$A$7,Setup!$E$5:$E$7)","v":1},{"$f":"LOOKUP(AH52,Setup!$A$5:$A$7,Setup!$F$5:$F$7)","v":2},{"$f":"LOOKUP(AH52,Setup!$A$5:$A$7,Setup!$G$5:$G$7)","v":9},{"$f":"LOOKUP(AH52,Setup!$A$5:$A$7,Setup!$H$5:$H$7)","v":5},{"$f":"LOOKUP(AH52,Setup!$A$5:$A$7,Setup!$I$5:$I$7)","v":4},{"$f":"LOOKUP(AH52,Setup!$A$5:$A$7,Setup!$J$5:$J$7)","v":7},{"$f":"LOOKUP(AH52,Setup!$A$5:$A$7,Setup!$K$5:$K$7)","v":3}]
[{"$f":"VLOOKUP(Setup!Q45,GE_Team_PlayerIDs_1, 2,FALSE)","v":121},{"$f":"VLOOKUP(A48,GE_Player_ID_Name,2,FALSE)","v":"Lamb, David"},{"$f":"ROUND(VLOOKUP(A48,GE_Player_ID_Stats,10,FALSE),1)","v":47},{"$f":"VLOOKUP(A48,GE_Player_ID_Stats,11,FALSE)","v":9.6000000000000014},null,151,"Ruter, Brian",{"$f":"IF(F48=\"\",\"\",ROUND(VLOOKUP(F48,GE_Player_ID_Stats,10,FALSE),1))","v":52.3},{"$f":"IF(F48=\"\",\"\",VLOOKUP(F48,GE_Player_ID_Stats,11,FALSE))","v":13.866666666666669},null,null,122,{"$f":"VLOOKUP(L48,GE_Player_ID_Name,2,FALSE)","v":"Ruter, Eric"},{"$f":"D47","v":50},{"$f":"ROUND(VLOOKUP(L48,GE_Player_ID_Stats,11,FALSE),0)","v":9},4,5,5,5,3,4,6,4,7,{"$f":"SUM(P48:X48)","v":43},{"$f":"Y48-O48","v":34},"Holes",{"$f":"IF(AB51=\"D\",0,COUNTIF(P51:X51,Setup!$J$17))","v":3},{"$f":"IF(AB51=\"D\",0,COUNTIF(P51:X51,Setup!$J$18))","v":3},{"$f":"IF(AB51=\"D\",0,COUNTIF(P51:X51,Setup!$J$19))","v":3},null,null,null,151,{"$f":"VLOOKUP(AH48,GE_Player_ID_Name,2,FALSE)","v":"Ruter, Brian"},{"$f":"D47","v":50},{"$f":"ROUND(VLOOKUP(AH48,GE_Player_ID_Stats,11,FALSE),0)","v":14},7,5,4,6,7,5,6,5,9,{"$f":"SUM(AL48:AT48)","v":54},{"$f":"AU48-AK48","v":40},"Holes",{"$f":"IF(AX51=\"D\",0,COUNTIF(AL51:AT51,Setup!$J$17))","v":3},{"$f":"IF(AX51=\"D\",0,COUNTIF(AL51:AT51,Setup!$J$18))","v":5},{"$f":"IF(AX51=\"D\",0,COUNTIF(AL51:AT51,Setup!$J$19))","v":1}]
[{"$f":"VLOOKUP(Setup!Q45,GE_Team_PlayerIDs_1, 4,FALSE)","v":122},"Ruter, Eric",{"$f":"ROUND(VLOOKUP(A49,GE_Player_ID_Stats,10,FALSE),1)","v":45.8},{"$f":"VLOOKUP(A49,GE_Player_ID_Stats,11,FALSE)","v":8.6},null,"",null,{"$f":"IF(F49=\"\",\"\",ROUND(VLOOKUP(F49,GE_Player_ID_Stats,10,FALSE),1))","v":""},{"$f":"IF(F49=\"\",\"\",VLOOKUP(F49,GE_Player_ID_Stats,11,FALSE))","v":""},null,null,null,{"$f":"\"FT: \"&VLOOKUP(L49,GE_Player_ID_Name,2,FALSE)","v":{"$error":"#N/A"}},"Strokes",{"$f":"IF(O48>O55,O48-O55,0)","v":4},{"$f":"IF(O49>0,AE49+IF(AF49>=$P47,1,0),0)","v":0},{"$f":"IF(O49>0,AE49+IF(AF49>=$Q47,1,0),0)","v":0},{"$f":"IF(O49>0,AE49+IF(AF49>=$R47,1,0),0)","v":1},{"$f":"IF(O49>0,AE49+IF(AF49>=$S47,1,0),0)","v":1},{"$f":"IF(O49>0,AE49+IF(AF49>=$T47,1,0),0)","v":0},{"$f":"IF(O49>0,AE49+IF(AF49>=$U47,1,0),0)","v":0},{"$f":"IF(O49>0,AE49+IF(AF49>=$V47,1,0),0)","v":1},{"$f":"IF(O49>0,AE49+IF(AF49>=$W47,1,0),0)","v":0},{"$f":"IF(O49>0,AE49+IF(AF49>=$X47,1,0),0)","v":1},null,null,"Match",{"$f":"IF(AB51=\"D\",0,COUNTIF(Z51:Z51,Setup!$J$22))","v":1},{"$f":"IF(AB51=\"D\",0,COUNTIF(Z51:Z51,Setup!$J$23))","v":0},{"$f":"IF(AB51=\"D\",0,COUNTIF(Z51:Z51,Setup!$J$24))","v":0},{"$f":"IF(O49<9,0,IF(O49<18,1,IF(O49<27,2,3)))","v":0},{"$f":"IF(O49<9,O49,IF(O49<18,O49-9,IF(O49<27,8-18,IF(O49<36,O49-27,0))))","v":4},null,121,{"$f":"\"FT: \"&VLOOKUP(AH49,GE_Player_ID_Name,2,FALSE)","v":"FT: Lamb, David"},"Strokes",{"$f":"IF(AK48>AK55,AK48-AK55,0)","v":3},{"$f":"IF(AK49>0,BA49+IF(BB49>=$AL47,1,0),0)","v":0},{"$f":"IF(AK49>0,BA49+IF(BB49>=$AM47,1,0),0)","v":0},{"$f":"IF(AK49>0,BA49+IF(BB49>=$AN47,1,0),0)","v":1},{"$f":"IF(AK49>0,BA49+IF(BB49>=$AO47,1,0),0)","v":1},{"$f":"IF(AK49>0,BA49+IF(BB49>=$AP47,1,0),0)","v":0},{"$f":"IF(AK49>0,BA49+IF(BB49>=$AQ47,1,0),0)","v":0},{"$f":"IF(AK49>0,BA49+IF(BB49>=$AR47,1,0),0)","v":0},{"$f":"IF(AK49>0,BA49+IF(BB49>=$AS47,1,0),0)","v":0},{"$f":"IF(AK49>0,BA49+IF(BB49>=$AT47,1,0),0)","v":1},null,null,"Match",{"$f":"IF(AX51=\"D\",0,COUNTIF(AV51:AV51,Setup!$J$22))","v":0},{"$f":"IF(AX51=\"D\",0,COUNTIF(AV51:AV51,Setup!$J$23))","v":1},{"$f":"IF(AX51=\"D\",0,COUNTIF(AV51:AV51,Setup!$J$24))","v":0},{"$f":"IF(AK49<9,0,IF(AK49<18,1,IF(AK49<27,2,3)))","v":0},{"$f":"IF(AK49<9,AK49,IF(AK49<18,AK49-9,IF(AK49<27,8-18,IF(AK49<36,AK49-27,0))))","v":3}]
[{"$f":"VLOOKUP(Setup!R45,GE_Team_PlayerIDs_1, 2,FALSE)","v":109},"McGrew, Doug",{"$f":"ROUND(VLOOKUP(A50,GE_Player_ID_Stats,10,FALSE),1)","v":40.799999999999997},{"$f":"VLOOKUP(A50,GE_Player_ID_Stats,11,FALSE)","v":4.6000000000000005},null,"",null,{"$f":"IF(F50=\"\",\"\",ROUND(VLOOKUP(F50,GE_Player_ID_Stats,10,FALSE),1))","v":""},{"$f":"IF(F50=\"\",\"\",VLOOKUP(F50,GE_Player_ID_Stats,11,FALSE))","v":""},null,null,null,null,"Net",null,{"$f":"P48-P49","v":4},{"$f":"Q48-Q49","v":5},4,4,3,4,5,4,6,null,null,{"$f":"(AB48*Setup!$J$17)+(AC48*Setup!$J$18)+(AD48*Setup!$J$19)+(AB49*Setup!$J$22)+(AC49*Setup!$J$23)+(AD49*Setup!$J$24)","v":13},{"$f":"IF(AB51=\"D\",0,IF(D55=Setup!$J$27,1,0))","v":0},{"$f":"IF(AB51=\"D\",0,IF(D55=Setup!$J$28,1,0))","v":1},{"$f":"IF(AB51=\"D\",0,IF(D55=Setup!$J$29,1,0))","v":0},null,null,null,null,null,"Net",null,{"$f":"AL48-AL49","v":7},{"$f":"AM48-AM49","v":5},3,5,7,5,6,5,8,null,null,{"$f":"(AX48*Setup!$J$17)+(AY48*Setup!$J$18)+(AZ48*Setup!$J$19)+(AX49*Setup!$J$22)+(AY49*Setup!$J$23)+(AZ49*Setup!$J$24)","v":7}]
[{"$f":"VLOOKUP(Setup!R45,GE_Team_PlayerIDs_1, 4,FALSE)","v":110},"Tate, Melvin",{"$f":"ROUND(VLOOKUP(A51,GE_Player_ID_Stats,10,FALSE),1)","v":48.7},{"$f":"VLOOKUP(A51,GE_Player_ID_Stats,11,FALSE)","v":10.933333333333332},null,"",null,{"$f":"IF(F51=\"\",\"\",ROUND(VLOOKUP(F51,GE_Player_ID_Stats,10,FALSE),1))","v":""},{"$f":"IF(F51=\"\",\"\",VLOOKUP(F51,GE_Player_ID_Stats,11,FALSE))","v":""},null,null,"A",null,"Points",null,{"$f":"IF(P50<P53,Setup!$J$17,IF(P50=P53,Setup!$J$19,Setup!$J$18))","v":1},{"$f":"IF(Q50<Q53,Setup!$J$17,IF(Q50=Q53,Setup!$J$19,Setup!$J$18))","v":0},{"$f":"IF(R50<R53,Setup!$J$17,IF(R50=R53,Setup!$J$19,Setup!$J$18))","v":2},{"$f":"IF(S50<S53,Setup!$J$17,IF(S50=S53,Setup!$J$19,Setup!$J$18))","v":2},{"$f":"IF(T50<T53,Setup!$J$17,IF(T50=T53,Setup!$J$19,Setup!$J$18))","v":2},{"$f":"IF(U50<U53,Setup!$J$17,IF(U50=U53,Setup!$J$19,Setup!$J$18))","v":1},{"$f":"IF(V50<V53,Setup!$J$17,IF(V50=V53,Setup!$J$19,Setup!$J$18))","v":0},{"$f":"IF(W50<W53,Setup!$J$17,IF(W50=W53,Setup!$J$19,Setup!$J$18))","v":1},{"$f":"IF(X50<X53,Setup!$J$17,IF(X50=X53,Setup!$J$19,Setup!$J$18))","v":0},null,{"$f":"IF(Z48<Z55,Setup!$J$22,IF(Z48=Z55,Setup!$J$24,Setup!$J$23))","v":4},{"$f":"IF(AB51=\"P\",\"\",\"DNP\")","v":""},"P",null,null,null,null,null,"B",null,"Points",null,{"$f":"IF(AL50<AL53,Setup!$J$17,IF(AL50=AL53,Setup!$J$19,Setup!$J$18))","v":0},{"$f":"IF(AM50<AM53,Setup!$J$17,IF(AM50=AM53,Setup!$J$19,Setup!$J$18))","v":0},{"$f":"IF(AN50<AN53,Setup!$J$17,IF(AN50=AN53,Setup!$J$19,Setup!$J$18))","v":2},{"$f":"IF(AO50<AO53,Setup!$J$17,IF(AO50=AO53,Setup!$J$19,Setup!$J$18))","v":2},{"$f":"IF(AP50<AP53,Setup!$J$17,IF(AP50=AP53,Setup!$J$19,Setup!$J$18))","v":0},{"$f":"IF(AQ50<AQ53,Setup!$J$17,IF(AQ50=AQ53,Setup!$J$19,Setup!$J$18))","v":2},{"$f":"IF(AR50<AR53,Setup!$J$17,IF(AR50=AR53,Setup!$J$19,Setup!$J$18))","v":1},{"$f":"IF(AS50<AS53,Setup!$J$17,IF(AS50=AS53,Setup!$J$19,Setup!$J$18))","v":0},{"$f":"IF(AT50<AT53,Setup!$J$17,IF(AT50=AT53,Setup!$J$19,Setup!$J$18))","v":0},null,{"$f":"IF(AV48<AV55,Setup!$J$22,IF(AV48=AV55,Setup!$J$24,Setup!$J$23))","v":0},{"$f":"IF(AX51=\"P\",\"\",\"DNP\")","v":""},"P"]
["H",{"$f":"(AB48+AX48)&\"-\"&(AC48+AY48)&\"-\"&(AD48+AZ48)","v":"6-8-4"},null,{"$f":"Z48","v":34},"A Net",{"$f":"Z55","v":35},{"$f":"(AB55+AX55)&\"-\"&(AC55+AY55)&\"-\"&(AD55+AZ55)","v":"3-3-3"},"H",null,null,null,1,{"$f":"VLOOKUP(L52,GE_SideNames,2,FALSE)","v":"Front 9"},"Points",null,{"$f":"IF(P53<P50,Setup!$J$17,IF(P53=P50,Setup!$J$19,Setup!$J$18))","v":1},{"$f":"IF(Q53<Q50,Setup!$J$17,IF(Q53=Q50,Setup!$J$19,Setup!$J$18))","v":2},{"$f":"IF(R53<R50,Setup!$J$17,IF(R53=R50,Setup!$J$19,Setup!$J$18))","v":0},{"$f":"IF(S53<S50,Setup!$J$17,IF(S53=S50,Setup!$J$19,Setup!$J$18))","v":0},{"$f":"IF(T53<T50,Setup!$J$17,IF(T53=T50,Setup!$J$19,Setup!$J$18))","v":0},{"$f":"IF(U53<U50,Setup!$J$17,IF(U53=U50,Setup!$J$19,Setup!$J$18))","v":1},{"$f":"IF(V53<V50,Setup!$J$17,IF(V53=V50,Setup!$J$19,Setup!$J$18))","v":2},{"$f":"IF(W53<W50,Setup!$J$17,IF(W53=W50,Setup!$J$19,Setup!$J$18))","v":1},{"$f":"IF(X53<X50,Setup!$J$17,IF(X53=X50,Setup!$J$19,Setup!$J$18))","v":2},null,{"$f":"IF(Z55<Z48,Setup!$J$22,IF(Z55=Z48,Setup!$J$24,Setup!$J$23))","v":0},{"$f":"IF(AB52=\"P\",\"\",\"DNP\")","v":""},"P",null,null,null,null,null,1,{"$f":"VLOOKUP(AH52,GE_SideNames,2,FALSE)","v":"Front 9"},"Points",null,{"$f":"IF(AL53<AL50,Setup!$J$17,IF(AL53=AL50,Setup!$J$19,Setup!$J$18))","v":2},{"$f":"IF(AM53<AM50,Setup!$J$17,IF(AM53=AM50,Setup!$J$19,Setup!$J$18))","v":2},{"$f":"IF(AN53<AN50,Setup!$J$17,IF(AN53=AN50,Setup!$J$19,Setup!$J$18))","v":0},{"$f":"IF(AO53<AO50,Setup!$J$17,IF(AO53=AO50,Setup!$J$19,Setup!$J$18))","v":0},{"$f":"IF(AP53<AP50,Setup!$J$17,IF(AP53=AP50,Setup!$J$19,Setup!$J$18))","v":2},{"$f":"IF(AQ53<AQ50,Setup!$J$17,IF(AQ53=AQ50,Setup!$J$19,Setup!$J$18))","v":0},{"$f":"IF(AR53<AR50,Setup!$J$17,IF(AR53=AR50,Setup!$J$19,Setup!$J$18))","v":1},{"$f":"IF(AS53<AS50,Setup!$J$17,IF(AS53=AS50,Setup!$J$19,Setup!$J$18))","v":2},{"$f":"IF(AT53<AT50,Setup!$J$17,IF(AT53=AT50,Setup!$J$19,Setup!$J$18))","v":2},null,{"$f":"IF(AV55<AV48,Setup!$J$22,IF(AV55=AV48,Setup!$J$24,Setup!$J$23))","v":4},{"$f":"IF(AX52=\"P\",\"\",\"DNP\")","v":"DNP"},"D"]
["M",{"$f":"(AB49+AX49)&\"-\"&(AC49+AY49)&\"-\"&(AD49+AZ49)","v":"1-1-0"},null,{"$f":"AV48","v":40},"B Net",{"$f":"AV55","v":38},{"$f":"(AB54+AX54)&\"-\"&(AC54+AY54)&\"-\"&(AD54+AZ54)","v":"0-1-0"},"M",null,null,null,null,null,"Net",null,{"$f":"P55-P54","v":4},{"$f":"Q55-Q54","v":3},5,5,6,4,4,4,5,null,null,{"$f":"(AB55*Setup!$J$17)+(AC55*Setup!$J$18)+(AD55*Setup!$J$19)+(AB54*Setup!$J$22)+(AC54*Setup!$J$23)+(AD54*Setup!$J$24)","v":9},{"$f":"IF(AB52=\"D\",0,IF(F55=Setup!$J$27,1,0))","v":1},{"$f":"IF(AB52=\"D\",0,IF(F55=Setup!$J$28,1,0))","v":0},{"$f":"IF(AB52=\"D\",0,IF(F55=Setup!$J$29,1,0))","v":0},null,null,null,null,null,"Net",null,{"$f":"AL55-AL54","v":5},{"$f":"AM55-AM54","v":4},6,6,5,6,6,4,7,null,null,{"$f":"(AX55*Setup!$J$17)+(AY55*Setup!$J$18)+(AZ55*Setup!$J$19)+(AX54*Setup!$J$22)+(AY54*Setup!$J$23)+(AZ54*Setup!$J$24)","v":0}]
["T",{"$f":"(AB50)&\"-\"&(AC50)&\"-\"&(AD50)","v":"0-1-0"},null,{"$f":"D52+D53","v":74},"Total",{"$f":"F52+F53","v":73},{"$f":"(AB53)&\"-\"&(AC53)&\"-\"&(AD53)","v":"1-0-0"},"T",null,null,null,null,{"$f":"\"FT: \"&VLOOKUP(L54,GE_Player_ID_Name,2,FALSE)","v":{"$error":"#N/A"}},"Strokes",{"$f":"IF(O55>O48,O55-O48,0)","v":0},{"$f":"IF(O54>0,AE54+IF(AF54>=$P47,1,0),0)","v":0},{"$f":"IF(O54>0,AE54+IF(AF54>=$Q47,1,0),0)","v":0},{"$f":"IF(O54>0,AE54+IF(AF54>=$R47,1,0),0)","v":0},{"$f":"IF(O54>0,AE54+IF(AF54>=$S47,1,0),0)","v":0},{"$f":"IF(O54>0,AE54+IF(AF54>=$T47,1,0),0)","v":0},{"$f":"IF(O54>0,AE54+IF(AF54>=$U47,1,0),0)","v":0},{"$f":"IF(O54>0,AE54+IF(AF54>=$V47,1,0),0)","v":0},{"$f":"IF(O54>0,AE54+IF(AF54>=$W47,1,0),0)","v":0},{"$f":"IF(O54>0,AE54+IF(AF54>=$X47,1,0),0)","v":0},null,null,"Match",{"$f":"IF(AB52=\"D\",0,COUNTIF(Z52:Z52,Setup!$J$22))","v":0},{"$f":"IF(AB52=\"D\",0,COUNTIF(Z52:Z52,Setup!$J$23))","v":1},{"$f":"IF(AB52=\"D\",0,COUNTIF(Z52:Z52,Setup!$J$24))","v":0},{"$f":"IF(O54<9,0,IF(O54<18,1,IF(O54<27,2,3)))","v":0},{"$f":"IF(O54<9,O54,IF(O54<18,O54-9,IF(O54<27,8-18,IF(O54<36,O54-27,0))))","v":0},null,null,{"$f":"\"FT: \"&VLOOKUP(AH54,GE_Player_ID_Name,2,FALSE)","v":{"$error":"#N/A"}},"Strokes",{"$f":"IF(AK55>AK48,AK55-AK48,0)","v":0},{"$f":"IF(AK54>0,BA54+IF(BB54>=$AL47,1,0),0)","v":0},{"$f":"IF(AK54>0,BA54+IF(BB54>=$AM47,1,0),0)","v":0},{"$f":"IF(AK54>0,BA54+IF(BB54>=$AN47,1,0),0)","v":0},{"$f":"IF(AK54>0,BA54+IF(BB54>=$AO47,1,0),0)","v":0},{"$f":"IF(AK54>0,BA54+IF(BB54>=$AP47,1,0),0)","v":0},{"$f":"IF(AK54>0,BA54+IF(BB54>=$AQ47,1,0),0)","v":0},{"$f":"IF(AK54>0,BA54+IF(BB54>=$AR47,1,0),0)","v":0},{"$f":"IF(AK54>0,BA54+IF(BB54>=$AS47,1,0),0)","v":0},{"$f":"IF(AK54>0,BA54+IF(BB54>=$AT47,1,0),0)","v":0},null,null,"Match",{"$f":"IF(AX52=\"D\",0,COUNTIF(AV52:AV52,Setup!$J$22))","v":0},{"$f":"IF(AX52=\"D\",0,COUNTIF(AV52:AV52,Setup!$J$23))","v":0},{"$f":"IF(AX52=\"D\",0,COUNTIF(AV52:AV52,Setup!$J$24))","v":0},{"$f":"IF(AK54<9,0,IF(AK54<18,1,IF(AK54<27,2,3)))","v":0},{"$f":"IF(AK54<9,AK54,IF(AK54<18,AK54-9,IF(AK54<27,8-18,IF(AK54<36,AK54-27,0))))","v":0}]
[null,{"$f":"\"Match ID - \"&Setup!S45","v":"Match ID - 314"},null,{"$f":"IF(D54<F54,Setup!$J$27,IF(D54=F54,Setup!$J$29,Setup!$J$28))","v":0},"Points",{"$f":"IF(F54<D54,Setup!$J$27,IF(F54=D54,Setup!$J$29,Setup!$J$28))","v":6},null,null,null,null,null,109,{"$f":"VLOOKUP(L55,GE_Player_ID_Name,2,FALSE)","v":"McGrew, Doug"},{"$f":"F47","v":45},{"$f":"ROUND(VLOOKUP(L55,GE_Player_ID_Stats,11,FALSE),0)","v":5},4,3,5,5,6,4,4,4,5,{"$f":"SUM(P55:X55)","v":40},{"$f":"Y55-O55","v":35},"Holes",{"$f":"IF(AB52=\"D\",0,COUNTIF(P52:X52,Setup!$J$17))","v":3},{"$f":"IF(AB52=\"D\",0,COUNTIF(P52:X52,Setup!$J$18))","v":3},{"$f":"IF(AB52=\"D\",0,COUNTIF(P52:X52,Setup!$J$19))","v":3},null,null,null,110,{"$f":"VLOOKUP(AH55,GE_Player_ID_Name,2,FALSE)","v":"Tate, Melvin"},{"$f":"F47","v":45},{"$f":"ROUND(VLOOKUP(AH55,GE_Player_ID_Stats,11,FALSE),0)","v":11},5,4,6,6,5,6,6,4,7,{"$f":"SUM(AL55:AT55)","v":49},{"$f":"AU55-AK55","v":38},"Holes",{"$f":"IF(AX52=\"D\",0,COUNTIF(AL52:AT52,Setup!$J$17))","v":0},{"$f":"IF(AX52=\"D\",0,COUNTIF(AL52:AT52,Setup!$J$18))","v":0},{"$f":"IF(AX52=\"D\",0,COUNTIF(AL52:AT52,Setup!$J$19))","v":0}]
[null,null,null,null,null,null,null,null,null,null,null,null,null,null,"Par",{"$f":"VLOOKUP($L62,GE_Course_Pars,3,FALSE)","v":4},{"$f":"VLOOKUP($L62,GE_Course_Pars,4,FALSE)","v":3},{"$f":"VLOOKUP($L62,GE_Course_Pars,5,FALSE)","v":4},{"$f":"VLOOKUP($L62,GE_Course_Pars,6,FALSE)","v":3},{"$f":"VLOOKUP($L62,GE_Course_Pars,7,FALSE)","v":4},{"$f":"VLOOKUP($L62,GE_Course_Pars,8,FALSE)","v":4},{"$f":"VLOOKUP($L62,GE_Course_Pars,9,FALSE)","v":5},{"$f":"VLOOKUP($L62,GE_Course_Pars,10,FALSE)","v":4},{"$f":"VLOOKUP($L62,GE_Course_Pars,11,FALSE)","v":4},null,null,null,null,null,null,null,null,null,null,null,null,"Par",{"$f":"VLOOKUP($L62,GE_Course_Pars,3,FALSE)","v":4},{"$f":"VLOOKUP($L62,GE_Course_Pars,4,FALSE)","v":3},{"$f":"VLOOKUP($L62,GE_Course_Pars,5,FALSE)","v":4},{"$f":"VLOOKUP($L62,GE_Course_Pars,6,FALSE)","v":3},{"$f":"VLOOKUP($L62,GE_Course_Pars,7,FALSE)","v":4},{"$f":"VLOOKUP($L62,GE_Course_Pars,8,FALSE)","v":4},{"$f":"VLOOKUP($L62,GE_Course_Pars,9,FALSE)","v":5},{"$f":"VLOOKUP($L62,GE_Course_Pars,10,FALSE)","v":4},{"$f":"VLOOKUP($L62,GE_Course_Pars,11,FALSE)","v":4}]
[{"$f":"Setup!B20","v":"5:00"},{"$f":"VLOOKUP(Setup!Q46,GE_Teams_DBID,2,FALSE)","v":"Schmitts Creek"},null,{"$f":"Setup!Q46","v":40},"vs.",{"$f":"Setup!R46","v":35},{"$f":"VLOOKUP(Setup!R46,GE_Teams_DBID,2,FALSE)","v":"Bill and John"},null,null,null,null,null,null,null,"Hdcp",{"$f":"LOOKUP(L62,Setup!$A$5:$A$7,Setup!$C$5:$C$7)","v":4},{"$f":"LOOKUP(L62,Setup!$A$5:$A$7,Setup!$D$5:$D$7)","v":6},{"$f":"LOOKUP(L62,Setup!$A$5:$A$7,Setup!$E$5:$E$7)","v":7},{"$f":"LOOKUP(L62,Setup!$A$5:$A$7,Setup!$F$5:$F$7)","v":8},{"$f":"LOOKUP(L62,Setup!$A$5:$A$7,Setup!$G$5:$G$7)","v":9},{"$f":"LOOKUP(L62,Setup!$A$5:$A$7,Setup!$H$5:$H$7)","v":1},{"$f":"LOOKUP(L62,Setup!$A$5:$A$7,Setup!$I$5:$I$7)","v":3},{"$f":"LOOKUP(L62,Setup!$A$5:$A$7,Setup!$J$5:$J$7)","v":5},{"$f":"LOOKUP(L62,Setup!$A$5:$A$7,Setup!$K$5:$K$7)","v":2},null,null,null,null,null,null,null,null,null,null,null,null,"Hdcp",{"$f":"LOOKUP(AH62,Setup!$A$5:$A$7,Setup!$C$5:$C$7)","v":4},{"$f":"LOOKUP(AH62,Setup!$A$5:$A$7,Setup!$D$5:$D$7)","v":6},{"$f":"LOOKUP(AH62,Setup!$A$5:$A$7,Setup!$E$5:$E$7)","v":7},{"$f":"LOOKUP(AH62,Setup!$A$5:$A$7,Setup!$F$5:$F$7)","v":8},{"$f":"LOOKUP(AH62,Setup!$A$5:$A$7,Setup!$G$5:$G$7)","v":9},{"$f":"LOOKUP(AH62,Setup!$A$5:$A$7,Setup!$H$5:$H$7)","v":1},{"$f":"LOOKUP(AH62,Setup!$A$5:$A$7,Setup!$I$5:$I$7)","v":3},{"$f":"LOOKUP(AH62,Setup!$A$5:$A$7,Setup!$J$5:$J$7)","v":5},{"$f":"LOOKUP(AH62,Setup!$A$5:$A$7,Setup!$K$5:$K$7)","v":2}]
[{"$f":"VLOOKUP(Setup!Q46,GE_Team_PlayerIDs_1, 2,FALSE)","v":96},{"$f":"VLOOKUP(A58,GE_Player_ID_Name,2,FALSE)","v":"Schmitt, Andy"},{"$f":"ROUND(VLOOKUP(A58,GE_Player_ID_Stats,10,FALSE),1)","v":50.3},{"$f":"VLOOKUP(A58,GE_Player_ID_Stats,11,FALSE)","v":12.200000000000001},null,"",null,{"$f":"IF(F58=\"\",\"\",ROUND(VLOOKUP(F58,GE_Player_ID_Stats,10,FALSE),1))","v":""},{"$f":"IF(F58=\"\",\"\",VLOOKUP(F58,GE_Player_ID_Stats,11,FALSE))","v":""},null,null,97,{"$f":"VLOOKUP(L58,GE_Player_ID_Name,2,FALSE)","v":"Schmitt, Peter"},{"$f":"D57","v":40},{"$f":"ROUND(VLOOKUP(L58,GE_Player_ID_Stats,11,FALSE),0)","v":10},5,5,7,4,6,5,6,5,6,{"$f":"SUM(P58:X58)","v":49},{"$f":"Y58-O58","v":39},"Holes",{"$f":"IF(AB61=\"D\",0,COUNTIF(P61:X61,Setup!$J$17))","v":2},{"$f":"IF(AB61=\"D\",0,COUNTIF(P61:X61,Setup!$J$18))","v":6},{"$f":"IF(AB61=\"D\",0,COUNTIF(P61:X61,Setup!$J$19))","v":1},null,null,null,96,{"$f":"VLOOKUP(AH58,GE_Player_ID_Name,2,FALSE)","v":"Schmitt, Andy"},{"$f":"D57","v":40},{"$f":"ROUND(VLOOKUP(AH58,GE_Player_ID_Stats,11,FALSE),0)","v":12},6,5,5,7,6,6,6,8,4,{"$f":"SUM(AL58:AT58)","v":53},{"$f":"AU58-AK58","v":41},"Holes",{"$f":"IF(AX61=\"D\",0,COUNTIF(AL61:AT61,Setup!$J$17))","v":1},{"$f":"IF(AX61=\"D\",0,COUNTIF(AL61:AT61,Setup!$J$18))","v":6},{"$f":"IF(AX61=\"D\",0,COUNTIF(AL61:AT61,Setup!$J$19))","v":2}]
[{"$f":"VLOOKUP(Setup!Q46,GE_Team_PlayerIDs_1, 4,FALSE)","v":97},"Schmitt, Peter",{"$f":"ROUND(VLOOKUP(A59,GE_Player_ID_Stats,10,FALSE),1)","v":47},{"$f":"VLOOKUP(A59,GE_Player_ID_Stats,11,FALSE)","v":9.6000000000000014},null,"",null,{"$f":"IF(F59=\"\",\"\",ROUND(VLOOKUP(F59,GE_Player_ID_Stats,10,FALSE),1))","v":""},{"$f":"IF(F59=\"\",\"\",VLOOKUP(F59,GE_Player_ID_Stats,11,FALSE))","v":""},null,null,null,{"$f":"\"FT: \"&VLOOKUP(L59,GE_Player_ID_Name,2,FALSE)","v":{"$error":"#N/A"}},"Strokes",{"$f":"IF(O58>O65,O58-O65,0)","v":1},{"$f":"IF(O59>0,AE59+IF(AF59>=$P57,1,0),0)","v":0},{"$f":"IF(O59>0,AE59+IF(AF59>=$Q57,1,0),0)","v":0},{"$f":"IF(O59>0,AE59+IF(AF59>=$R57,1,0),0)","v":0},{"$f":"IF(O59>0,AE59+IF(AF59>=$S57,1,0),0)","v":0},{"$f":"IF(O59>0,AE59+IF(AF59>=$T57,1,0),0)","v":0},{"$f":"IF(O59>0,AE59+IF(AF59>=$U57,1,0),0)","v":1},{"$f":"IF(O59>0,AE59+IF(AF59>=$V57,1,0),0)","v":0},{"$f":"IF(O59>0,AE59+IF(AF59>=$W57,1,0),0)","v":0},{"$f":"IF(O59>0,AE59+IF(AF59>=$X57,1,0),0)","v":0},null,null,"Match",{"$f":"IF(AB61=\"D\",0,COUNTIF(Z61:Z61,Setup!$J$22))","v":0},{"$f":"IF(AB61=\"D\",0,COUNTIF(Z61:Z61,Setup!$J$23))","v":1},{"$f":"IF(AB61=\"D\",0,COUNTIF(Z61:Z61,Setup!$J$24))","v":0},{"$f":"IF(O59<9,0,IF(O59<18,1,IF(O59<27,2,3)))","v":0},{"$f":"IF(O59<9,O59,IF(O59<18,O59-9,IF(O59<27,8-18,IF(O59<36,O59-27,0))))","v":1},null,null,{"$f":"\"FT: \"&VLOOKUP(AH59,GE_Player_ID_Name,2,FALSE)","v":{"$error":"#N/A"}},"Strokes",{"$f":"IF(AK58>AK65,AK58-AK65,0)","v":0},{"$f":"IF(AK59>0,BA59+IF(BB59>=$AL57,1,0),0)","v":0},{"$f":"IF(AK59>0,BA59+IF(BB59>=$AM57,1,0),0)","v":0},{"$f":"IF(AK59>0,BA59+IF(BB59>=$AN57,1,0),0)","v":0},{"$f":"IF(AK59>0,BA59+IF(BB59>=$AO57,1,0),0)","v":0},{"$f":"IF(AK59>0,BA59+IF(BB59>=$AP57,1,0),0)","v":0},{"$f":"IF(AK59>0,BA59+IF(BB59>=$AQ57,1,0),0)","v":0},{"$f":"IF(AK59>0,BA59+IF(BB59>=$AR57,1,0),0)","v":0},{"$f":"IF(AK59>0,BA59+IF(BB59>=$AS57,1,0),0)","v":0},{"$f":"IF(AK59>0,BA59+IF(BB59>=$AT57,1,0),0)","v":0},null,null,"Match",{"$f":"IF(AX61=\"D\",0,COUNTIF(AV61:AV61,Setup!$J$22))","v":0},{"$f":"IF(AX61=\"D\",0,COUNTIF(AV61:AV61,Setup!$J$23))","v":1},{"$f":"IF(AX61=\"D\",0,COUNTIF(AV61:AV61,Setup!$J$24))","v":0},{"$f":"IF(AK59<9,0,IF(AK59<18,1,IF(AK59<27,2,3)))","v":0},{"$f":"IF(AK59<9,AK59,IF(AK59<18,AK59-9,IF(AK59<27,8-18,IF(AK59<36,AK59-27,0))))","v":0}]
[{"$f":"VLOOKUP(Setup!R46,GE_Team_PlayerIDs_1, 2,FALSE)","v":79},"Hobek, Bill",{"$f":"ROUND(VLOOKUP(A60,GE_Player_ID_Stats,10,FALSE),1)","v":46.8},{"$f":"VLOOKUP(A60,GE_Player_ID_Stats,11,FALSE)","v":9.4},null,"",null,{"$f":"IF(F60=\"\",\"\",ROUND(VLOOKUP(F60,GE_Player_ID_Stats,10,FALSE),1))","v":""},{"$f":"IF(F60=\"\",\"\",VLOOKUP(F60,GE_Player_ID_Stats,11,FALSE))","v":""},null,null,null,null,"Net",null,{"$f":"P58-P59","v":5},{"$f":"Q58-Q59","v":5},7,4,6,4,6,5,6,null,null,{"$f":"(AB58*Setup!$J$17)+(AC58*Setup!$J$18)+(AD58*Setup!$J$19)+(AB59*Setup!$J$22)+(AC59*Setup!$J$23)+(AD59*Setup!$J$24)","v":5},{"$f":"IF(AB61=\"D\",0,IF(D65=Setup!$J$27,1,0))","v":0},{"$f":"IF(AB61=\"D\",0,IF(D65=Setup!$J$28,1,0))","v":1},{"$f":"IF(AB61=\"D\",0,IF(D65=Setup!$J$29,1,0))","v":0},null,null,null,null,null,"Net",null,{"$f":"AL58-AL59","v":6},{"$f":"AM58-AM59","v":5},5,7,6,6,6,8,4,null,null,{"$f":"(AX58*Setup!$J$17)+(AY58*Setup!$J$18)+(AZ58*Setup!$J$19)+(AX59*Setup!$J$22)+(AY59*Setup!$J$23)+(AZ59*Setup!$J$24)","v":4}]
[{"$f":"VLOOKUP(Setup!R46,GE_Team_PlayerIDs_1, 4,FALSE)","v":80},"Coop, John",{"$f":"ROUND(VLOOKUP(A61,GE_Player_ID_Stats,10,FALSE),1)","v":54.7},{"$f":"VLOOKUP(A61,GE_Player_ID_Stats,11,FALSE)","v":15.733333333333333},null,145,"Heinrich, Trevor",{"$f":"IF(F61=\"\",\"\",ROUND(VLOOKUP(F61,GE_Player_ID_Stats,10,FALSE),1))","v":56.3},{"$f":"IF(F61=\"\",\"\",VLOOKUP(F61,GE_Player_ID_Stats,11,FALSE))","v":17.06666666666667},null,null,"A",null,"Points",null,{"$f":"IF(P60<P63,Setup!$J$17,IF(P60=P63,Setup!$J$19,Setup!$J$18))","v":2},{"$f":"IF(Q60<Q63,Setup!$J$17,IF(Q60=Q63,Setup!$J$19,Setup!$J$18))","v":0},{"$f":"IF(R60<R63,Setup!$J$17,IF(R60=R63,Setup!$J$19,Setup!$J$18))","v":0},{"$f":"IF(S60<S63,Setup!$J$17,IF(S60=S63,Setup!$J$19,Setup!$J$18))","v":1},{"$f":"IF(T60<T63,Setup!$J$17,IF(T60=T63,Setup!$J$19,Setup!$J$18))","v":0},{"$f":"IF(U60<U63,Setup!$J$17,IF(U60=U63,Setup!$J$19,Setup!$J$18))","v":2},{"$f":"IF(V60<V63,Setup!$J$17,IF(V60=V63,Setup!$J$19,Setup!$J$18))","v":0},{"$f":"IF(W60<W63,Setup!$J$17,IF(W60=W63,Setup!$J$19,Setup!$J$18))","v":0},{"$f":"IF(X60<X63,Setup!$J$17,IF(X60=X63,Setup!$J$19,Setup!$J$18))","v":0},null,{"$f":"IF(Z58<Z65,Setup!$J$22,IF(Z58=Z65,Setup!$J$24,Setup!$J$23))","v":0},{"$f":"IF(AB61=\"P\",\"\",\"DNP\")","v":""},"P",null,null,null,null,null,"B",null,"Points",null,{"$f":"IF(AL60<AL63,Setup!$J$17,IF(AL60=AL63,Setup!$J$19,Setup!$J$18))","v":0},{"$f":"IF(AM60<AM63,Setup!$J$17,IF(AM60=AM63,Setup!$J$19,Setup!$J$18))","v":2},{"$f":"IF(AN60<AN63,Setup!$J$17,IF(AN60=AN63,Setup!$J$19,Setup!$J$18))","v":1},{"$f":"IF(AO60<AO63,Setup!$J$17,IF(AO60=AO63,Setup!$J$19,Setup!$J$18))","v":1},{"$f":"IF(AP60<AP63,Setup!$J$17,IF(AP60=AP63,Setup!$J$19,Setup!$J$18))","v":0},{"$f":"IF(AQ60<AQ63,Setup!$J$17,IF(AQ60=AQ63,Setup!$J$19,Setup!$J$18))","v":0},{"$f":"IF(AR60<AR63,Setup!$J$17,IF(AR60=AR63,Setup!$J$19,Setup!$J$18))","v":0},{"$f":"IF(AS60<AS63,Setup!$J$17,IF(AS60=AS63,Setup!$J$19,Setup!$J$18))","v":0},{"$f":"IF(AT60<AT63,Setup!$J$17,IF(AT60=AT63,Setup!$J$19,Setup!$J$18))","v":0},null,{"$f":"IF(AV58<AV65,Setup!$J$22,IF(AV58=AV65,Setup!$J$24,Setup!$J$23))","v":0},{"$f":"IF(AX61=\"P\",\"\",\"DNP\")","v":""},"P"]
["H",{"$f":"(AB58+AX58)&\"-\"&(AC58+AY58)&\"-\"&(AD58+AZ58)","v":"3-12-3"},null,{"$f":"Z58","v":39},"A Net",{"$f":"Z65","v":35},{"$f":"(AB65+AX65)&\"-\"&(AC65+AY65)&\"-\"&(AD65+AZ65)","v":"12-3-3"},"H",null,null,null,2,{"$f":"VLOOKUP(L62,GE_SideNames,2,FALSE)","v":"Back 9"},"Points",null,{"$f":"IF(P63<P60,Setup!$J$17,IF(P63=P60,Setup!$J$19,Setup!$J$18))","v":0},{"$f":"IF(Q63<Q60,Setup!$J$17,IF(Q63=Q60,Setup!$J$19,Setup!$J$18))","v":2},{"$f":"IF(R63<R60,Setup!$J$17,IF(R63=R60,Setup!$J$19,Setup!$J$18))","v":2},{"$f":"IF(S63<S60,Setup!$J$17,IF(S63=S60,Setup!$J$19,Setup!$J$18))","v":1},{"$f":"IF(T63<T60,Setup!$J$17,IF(T63=T60,Setup!$J$19,Setup!$J$18))","v":2},{"$f":"IF(U63<U60,Setup!$J$17,IF(U63=U60,Setup!$J$19,Setup!$J$18))","v":0},{"$f":"IF(V63<V60,Setup!$J$17,IF(V63=V60,Setup!$J$19,Setup!$J$18))","v":2},{"$f":"IF(W63<W60,Setup!$J$17,IF(W63=W60,Setup!$J$19,Setup!$J$18))","v":2},{"$f":"IF(X63<X60,Setup!$J$17,IF(X63=X60,Setup!$J$19,Setup!$J$18))","v":2},null,{"$f":"IF(Z65<Z58,Setup!$J$22,IF(Z65=Z58,Setup!$J$24,Setup!$J$23))","v":4},{"$f":"IF(AB62=\"P\",\"\",\"DNP\")","v":""},"P",null,null,null,null,null,2,{"$f":"VLOOKUP(AH62,GE_SideNames,2,FALSE)","v":"Back 9"},"Points",null,{"$f":"IF(AL63<AL60,Setup!$J$17,IF(AL63=AL60,Setup!$J$19,Setup!$J$18))","v":2},{"$f":"IF(AM63<AM60,Setup!$J$17,IF(AM63=AM60,Setup!$J$19,Setup!$J$18))","v":0},{"$f":"IF(AN63<AN60,Setup!$J$17,IF(AN63=AN60,Setup!$J$19,Setup!$J$18))","v":1},{"$f":"IF(AO63<AO60,Setup!$J$17,IF(AO63=AO60,Setup!$J$19,Setup!$J$18))","v":1},{"$f":"IF(AP63<AP60,Setup!$J$17,IF(AP63=AP60,Setup!$J$19,Setup!$J$18))","v":2},{"$f":"IF(AQ63<AQ60,Setup!$J$17,IF(AQ63=AQ60,Setup!$J$19,Setup!$J$18))","v":2},{"$f":"IF(AR63<AR60,Setup!$J$17,IF(AR63=AR60,Setup!$J$19,Setup!$J$18))","v":2},{"$f":"IF(AS63<AS60,Setup!$J$17,IF(AS63=AS60,Setup!$J$19,Setup!$J$18))","v":2},{"$f":"IF(AT63<AT60,Setup!$J$17,IF(AT63=AT60,Setup!$J$19,Setup!$J$18))","v":2},null,{"$f":"IF(AV65<AV58,Setup!$J$22,IF(AV65=AV58,Setup!$J$24,Setup!$J$23))","v":4},{"$f":"IF(AX62=\"P\",\"\",\"DNP\")","v":""},"P"]
["M",{"$f":"(AB59+AX59)&\"-\"&(AC59+AY59)&\"-\"&(AD59+AZ59)","v":"0-2-0"},null,{"$f":"AV58","v":41},"B Net",{"$f":"AV65","v":33},{"$f":"(AB64+AX64)&\"-\"&(AC64+AY64)&\"-\"&(AD64+AZ64)","v":"2-0-0"},"M",null,null,null,null,null,"Net",null,{"$f":"P65-P64","v":7},{"$f":"Q65-Q64","v":4},5,4,5,5,5,4,5,null,null,{"$f":"(AB65*Setup!$J$17)+(AC65*Setup!$J$18)+(AD65*Setup!$J$19)+(AB64*Setup!$J$22)+(AC64*Setup!$J$23)+(AD64*Setup!$J$24)","v":17},{"$f":"IF(AB62=\"D\",0,IF(F65=Setup!$J$27,1,0))","v":1},{"$f":"IF(AB62=\"D\",0,IF(F65=Setup!$J$28,1,0))","v":0},{"$f":"IF(AB62=\"D\",0,IF(F65=Setup!$J$29,1,0))","v":0},null,null,null,null,null,"Net",null,{"$f":"AL65-AL64","v":5},{"$f":"AM65-AM64","v":6},5,7,5,5,5,4,3,null,null,{"$f":"(AX65*Setup!$J$17)+(AY65*Setup!$J$18)+(AZ65*Setup!$J$19)+(AX64*Setup!$J$22)+(AY64*Setup!$J$23)+(AZ64*Setup!$J$24)","v":18}]
["T",{"$f":"(AB60)&\"-\"&(AC60)&\"-\"&(AD60)","v":"0-1-0"},null,{"$f":"D62+D63","v":80},"Total",{"$f":"F62+F63","v":68},{"$f":"(AB63)&\"-\"&(AC63)&\"-\"&(AD63)","v":"1-0-0"},"T",null,null,null,null,{"$f":"\"FT: \"&VLOOKUP(L64,GE_Player_ID_Name,2,FALSE)","v":{"$error":"#N/A"}},"Strokes",{"$f":"IF(O65>O58,O65-O58,0)","v":0},{"$f":"IF(O64>0,AE64+IF(AF64>=$P57,1,0),0)","v":0},{"$f":"IF(O64>0,AE64+IF(AF64>=$Q57,1,0),0)","v":0},{"$f":"IF(O64>0,AE64+IF(AF64>=$R57,1,0),0)","v":0},{"$f":"IF(O64>0,AE64+IF(AF64>=$S57,1,0),0)","v":0},{"$f":"IF(O64>0,AE64+IF(AF64>=$T57,1,0),0)","v":0},{"$f":"IF(O64>0,AE64+IF(AF64>=$U57,1,0),0)","v":0},{"$f":"IF(O64>0,AE64+IF(AF64>=$V57,1,0),0)","v":0},{"$f":"IF(O64>0,AE64+IF(AF64>=$W57,1,0),0)","v":0},{"$f":"IF(O64>0,AE64+IF(AF64>=$X57,1,0),0)","v":0},null,null,"Match",{"$f":"IF(AB62=\"D\",0,COUNTIF(Z62:Z62,Setup!$J$22))","v":1},{"$f":"IF(AB62=\"D\",0,COUNTIF(Z62:Z62,Setup!$J$23))","v":0},{"$f":"IF(AB62=\"D\",0,COUNTIF(Z62:Z62,Setup!$J$24))","v":0},{"$f":"IF(O64<9,0,IF(O64<18,1,IF(O64<27,2,3)))","v":0},{"$f":"IF(O64<9,O64,IF(O64<18,O64-9,IF(O64<27,8-18,IF(O64<36,O64-27,0))))","v":0},null,80,{"$f":"\"FT: \"&VLOOKUP(AH64,GE_Player_ID_Name,2,FALSE)","v":"FT: Coop, John"},"Strokes",{"$f":"IF(AK65>AK58,AK65-AK58,0)","v":5},{"$f":"IF(AK64>0,BA64+IF(BB64>=$AL57,1,0),0)","v":1},{"$f":"IF(AK64>0,BA64+IF(BB64>=$AM57,1,0),0)","v":0},{"$f":"IF(AK64>0,BA64+IF(BB64>=$AN57,1,0),0)","v":0},{"$f":"IF(AK64>0,BA64+IF(BB64>=$AO57,1,0),0)","v":0},{"$f":"IF(AK64>0,BA64+IF(BB64>=$AP57,1,0),0)","v":0},{"$f":"IF(AK64>0,BA64+IF(BB64>=$AQ57,1,0),0)","v":1},{"$f":"IF(AK64>0,BA64+IF(BB64>=$AR57,1,0),0)","v":1},{"$f":"IF(AK64>0,BA64+IF(BB64>=$AS57,1,0),0)","v":1},{"$f":"IF(AK64>0,BA64+IF(BB64>=$AT57,1,0),0)","v":1},null,null,"Match",{"$f":"IF(AX62=\"D\",0,COUNTIF(AV62:AV62,Setup!$J$22))","v":1},{"$f":"IF(AX62=\"D\",0,COUNTIF(AV62:AV62,Setup!$J$23))","v":0},{"$f":"IF(AX62=\"D\",0,COUNTIF(AV62:AV62,Setup!$J$24))","v":0},{"$f":"IF(AK64<9,0,IF(AK64<18,1,IF(AK64<27,2,3)))","v":0},{"$f":"IF(AK64<9,AK64,IF(AK64<18,AK64-9,IF(AK64<27,8-18,IF(AK64<36,AK64-27,0))))","v":5}]
[null,{"$f":"\"Match ID - \"&Setup!S46","v":"Match ID - 315"},null,{"$f":"IF(D64<F64,Setup!$J$27,IF(D64=F64,Setup!$J$29,Setup!$J$28))","v":0},"Points",{"$f":"IF(F64<D64,Setup!$J$27,IF(F64=D64,Setup!$J$29,Setup!$J$28))","v":6},null,null,null,null,null,79,{"$f":"VLOOKUP(L65,GE_Player_ID_Name,2,FALSE)","v":"Hobek, Bill"},{"$f":"F57","v":35},{"$f":"ROUND(VLOOKUP(L65,GE_Player_ID_Stats,11,FALSE),0)","v":9},7,4,5,4,5,5,5,4,5,{"$f":"SUM(P65:X65)","v":44},{"$f":"Y65-O65","v":35},"Holes",{"$f":"IF(AB62=\"D\",0,COUNTIF(P62:X62,Setup!$J$17))","v":6},{"$f":"IF(AB62=\"D\",0,COUNTIF(P62:X62,Setup!$J$18))","v":2},{"$f":"IF(AB62=\"D\",0,COUNTIF(P62:X62,Setup!$J$19))","v":1},null,null,null,145,{"$f":"VLOOKUP(AH65,GE_Player_ID_Name,2,FALSE)","v":"Heinrich, Trevor"},{"$f":"F57","v":35},{"$f":"ROUND(VLOOKUP(AH65,GE_Player_ID_Stats,11,FALSE),0)","v":17},6,6,5,7,5,6,6,5,4,{"$f":"SUM(AL65:AT65)","v":50},{"$f":"AU65-AK65","v":33},"Holes",{"$f":"IF(AX62=\"D\",0,COUNTIF(AL62:AT62,Setup!$J$17))","v":6},{"$f":"IF(AX62=\"D\",0,COUNTIF(AL62:AT62,Setup!$J$18))","v":1},{"$f":"IF(AX62=\"D\",0,COUNTIF(AL62:AT62,Setup!$J$19))","v":2}]
[null,null,null,null,null,null,null,null,null,null,null,null,null,null,"Par",{"$f":"VLOOKUP($L72,GE_Course_Pars,3,FALSE)","v":4},{"$f":"VLOOKUP($L72,GE_Course_Pars,4,FALSE)","v":3},{"$f":"VLOOKUP($L72,GE_Course_Pars,5,FALSE)","v":4},{"$f":"VLOOKUP($L72,GE_Course_Pars,6,FALSE)","v":4},{"$f":"VLOOKUP($L72,GE_Course_Pars,7,FALSE)","v":4},{"$f":"VLOOKUP($L72,GE_Course_Pars,8,FALSE)","v":4},{"$f":"VLOOKUP($L72,GE_Course_Pars,9,FALSE)","v":4},{"$f":"VLOOKUP($L72,GE_Course_Pars,10,FALSE)","v":3},{"$f":"VLOOKUP($L72,GE_Course_Pars,11,FALSE)","v":5},null,null,null,null,null,null,null,null,null,null,null,null,"Par",{"$f":"VLOOKUP($L72,GE_Course_Pars,3,FALSE)","v":4},{"$f":"VLOOKUP($L72,GE_Course_Pars,4,FALSE)","v":3},{"$f":"VLOOKUP($L72,GE_Course_Pars,5,FALSE)","v":4},{"$f":"VLOOKUP($L72,GE_Course_Pars,6,FALSE)","v":4},{"$f":"VLOOKUP($L72,GE_Course_Pars,7,FALSE)","v":4},{"$f":"VLOOKUP($L72,GE_Course_Pars,8,FALSE)","v":4},{"$f":"VLOOKUP($L72,GE_Course_Pars,9,FALSE)","v":4},{"$f":"VLOOKUP($L72,GE_Course_Pars,10,FALSE)","v":3},{"$f":"VLOOKUP($L72,GE_Course_Pars,11,FALSE)","v":5}]
[{"$f":"Setup!B20","v":"5:00"},{"$f":"VLOOKUP(Setup!Q47,GE_Teams_DBID,2,FALSE)","v":"Shootist 1"},null,{"$f":"Setup!Q47","v":51},"vs.",{"$f":"Setup!R47","v":53},{"$f":"VLOOKUP(Setup!R47,GE_Teams_DBID,2,FALSE)","v":"Snowmen"},null,null,null,null,null,null,null,"Hdcp",{"$f":"LOOKUP(L72,Setup!$A$5:$A$7,Setup!$C$5:$C$7)","v":8},{"$f":"LOOKUP(L72,Setup!$A$5:$A$7,Setup!$D$5:$D$7)","v":6},{"$f":"LOOKUP(L72,Setup!$A$5:$A$7,Setup!$E$5:$E$7)","v":1},{"$f":"LOOKUP(L72,Setup!$A$5:$A$7,Setup!$F$5:$F$7)","v":2},{"$f":"LOOKUP(L72,Setup!$A$5:$A$7,Setup!$G$5:$G$7)","v":9},{"$f":"LOOKUP(L72,Setup!$A$5:$A$7,Setup!$H$5:$H$7)","v":5},{"$f":"LOOKUP(L72,Setup!$A$5:$A$7,Setup!$I$5:$I$7)","v":4},{"$f":"LOOKUP(L72,Setup!$A$5:$A$7,Setup!$J$5:$J$7)","v":7},{"$f":"LOOKUP(L72,Setup!$A$5:$A$7,Setup!$K$5:$K$7)","v":3},null,null,null,null,null,null,null,null,null,null,null,null,"Hdcp",{"$f":"LOOKUP(AH72,Setup!$A$5:$A$7,Setup!$C$5:$C$7)","v":8},{"$f":"LOOKUP(AH72,Setup!$A$5:$A$7,Setup!$D$5:$D$7)","v":6},{"$f":"LOOKUP(AH72,Setup!$A$5:$A$7,Setup!$E$5:$E$7)","v":1},{"$f":"LOOKUP(AH72,Setup!$A$5:$A$7,Setup!$F$5:$F$7)","v":2},{"$f":"LOOKUP(AH72,Setup!$A$5:$A$7,Setup!$G$5:$G$7)","v":9},{"$f":"LOOKUP(AH72,Setup!$A$5:$A$7,Setup!$H$5:$H$7)","v":5},{"$f":"LOOKUP(AH72,Setup!$A$5:$A$7,Setup!$I$5:$I$7)","v":4},{"$f":"LOOKUP(AH72,Setup!$A$5:$A$7,Setup!$J$5:$J$7)","v":7},{"$f":"LOOKUP(AH72,Setup!$A$5:$A$7,Setup!$K$5:$K$7)","v":3}]
[{"$f":"VLOOKUP(Setup!Q47,GE_Team_PlayerIDs_1, 2,FALSE)","v":125},{"$f":"VLOOKUP(A68,GE_Player_ID_Name,2,FALSE)","v":"Rickards, Charlie"},{"$f":"ROUND(VLOOKUP(A68,GE_Player_ID_Stats,10,FALSE),1)","v":49},{"$f":"VLOOKUP(A68,GE_Player_ID_Stats,11,FALSE)","v":11.200000000000001},null,"",null,{"$f":"IF(F68=\"\",\"\",ROUND(VLOOKUP(F68,GE_Player_ID_Stats,10,FALSE),1))","v":""},{"$f":"IF(F68=\"\",\"\",VLOOKUP(F68,GE_Player_ID_Stats,11,FALSE))","v":""},null,null,123,{"$f":"VLOOKUP(L68,GE_Player_ID_Name,2,FALSE)","v":"Miller, Jim"},{"$f":"D67","v":51},{"$f":"ROUND(VLOOKUP(L68,GE_Player_ID_Stats,11,FALSE),0)","v":8},4,3,3,7,5,4,6,5,8,{"$f":"SUM(P68:X68)","v":45},{"$f":"Y68-O68","v":37},"Holes",{"$f":"IF(AB71=\"D\",0,COUNTIF(P71:X71,Setup!$J$17))","v":4},{"$f":"IF(AB71=\"D\",0,COUNTIF(P71:X71,Setup!$J$18))","v":3},{"$f":"IF(AB71=\"D\",0,COUNTIF(P71:X71,Setup!$J$19))","v":2},null,null,null,125,{"$f":"VLOOKUP(AH68,GE_Player_ID_Name,2,FALSE)","v":"Rickards, Charlie"},{"$f":"D67","v":51},{"$f":"ROUND(VLOOKUP(AH68,GE_Player_ID_Stats,11,FALSE),0)","v":11},3,4,7,6,6,6,6,5,8,{"$f":"SUM(AL68:AT68)","v":51},{"$f":"AU68-AK68","v":40},"Holes",{"$f":"IF(AX71=\"D\",0,COUNTIF(AL71:AT71,Setup!$J$17))","v":2},{"$f":"IF(AX71=\"D\",0,COUNTIF(AL71:AT71,Setup!$J$18))","v":3},{"$f":"IF(AX71=\"D\",0,COUNTIF(AL71:AT71,Setup!$J$19))","v":4}]
[{"$f":"VLOOKUP(Setup!Q47,GE_Team_PlayerIDs_1, 4,FALSE)","v":123},"Miller, Jim",{"$f":"ROUND(VLOOKUP(A69,GE_Player_ID_Stats,10,FALSE),1)","v":45},{"$f":"VLOOKUP(A69,GE_Player_ID_Stats,11,FALSE)","v":8},null,"",null,{"$f":"IF(F69=\"\",\"\",ROUND(VLOOKUP(F69,GE_Player_ID_Stats,10,FALSE),1))","v":""},{"$f":"IF(F69=\"\",\"\",VLOOKUP(F69,GE_Player_ID_Stats,11,FALSE))","v":""},null,null,null,{"$f":"\"FT: \"&VLOOKUP(L69,GE_Player_ID_Name,2,FALSE)","v":{"$error":"#N/A"}},"Strokes",{"$f":"IF(O68>O75,O68-O75,0)","v":0},{"$f":"IF(O69>0,AE69+IF(AF69>=$P67,1,0),0)","v":0},{"$f":"IF(O69>0,AE69+IF(AF69>=$Q67,1,0),0)","v":0},{"$f":"IF(O69>0,AE69+IF(AF69>=$R67,1,0),0)","v":0},{"$f":"IF(O69>0,AE69+IF(AF69>=$S67,1,0),0)","v":0},{"$f":"IF(O69>0,AE69+IF(AF69>=$T67,1,0),0)","v":0},{"$f":"IF(O69>0,AE69+IF(AF69>=$U67,1,0),0)","v":0},{"$f":"IF(O69>0,AE69+IF(AF69>=$V67,1,0),0)","v":0},{"$f":"IF(O69>0,AE69+IF(AF69>=$W67,1,0),0)","v":0},{"$f":"IF(O69>0,AE69+IF(AF69>=$X67,1,0),0)","v":0},null,null,"Match",{"$f":"IF(AB71=\"D\",0,COUNTIF(Z71:Z71,Setup!$J$22))","v":0},{"$f":"IF(AB71=\"D\",0,COUNTIF(Z71:Z71,Setup!$J$23))","v":0},{"$f":"IF(AB71=\"D\",0,COUNTIF(Z71:Z71,Setup!$J$24))","v":1},{"$f":"IF(O69<9,0,IF(O69<18,1,IF(O69<27,2,3)))","v":0},{"$f":"IF(O69<9,O69,IF(O69<18,O69-9,IF(O69<27,8-18,IF(O69<36,O69-27,0))))","v":0},null,null,{"$f":"\"FT: \"&VLOOKUP(AH69,GE_Player_ID_Name,2,FALSE)","v":{"$error":"#N/A"}},"Strokes",{"$f":"IF(AK68>AK75,AK68-AK75,0)","v":0},{"$f":"IF(AK69>0,BA69+IF(BB69>=$AL67,1,0),0)","v":0},{"$f":"IF(AK69>0,BA69+IF(BB69>=$AM67,1,0),0)","v":0},{"$f":"IF(AK69>0,BA69+IF(BB69>=$AN67,1,0),0)","v":0},{"$f":"IF(AK69>0,BA69+IF(BB69>=$AO67,1,0),0)","v":0},{"$f":"IF(AK69>0,BA69+IF(BB69>=$AP67,1,0),0)","v":0},{"$f":"IF(AK69>0,BA69+IF(BB69>=$AQ67,1,0),0)","v":0},{"$f":"IF(AK69>0,BA69+IF(BB69>=$AR67,1,0),0)","v":0},{"$f":"IF(AK69>0,BA69+IF(BB69>=$AS67,1,0),0)","v":0},{"$f":"IF(AK69>0,BA69+IF(BB69>=$AT67,1,0),0)","v":0},null,null,"Match",{"$f":"IF(AX71=\"D\",0,COUNTIF(AV71:AV71,Setup!$J$22))","v":0},{"$f":"IF(AX71=\"D\",0,COUNTIF(AV71:AV71,Setup!$J$23))","v":1},{"$f":"IF(AX71=\"D\",0,COUNTIF(AV71:AV71,Setup!$J$24))","v":0},{"$f":"IF(AK69<9,0,IF(AK69<18,1,IF(AK69<27,2,3)))","v":0},{"$f":"IF(AK69<9,AK69,IF(AK69<18,AK69-9,IF(AK69<27,8-18,IF(AK69<36,AK69-27,0))))","v":0}]
[{"$f":"VLOOKUP(Setup!R47,GE_Team_PlayerIDs_1, 2,FALSE)","v":129},"Pignone, Gary",{"$f":"ROUND(VLOOKUP(A70,GE_Player_ID_Stats,10,FALSE),1)","v":50.5},{"$f":"VLOOKUP(A70,GE_Player_ID_Stats,11,FALSE)","v":12.4},null,"",null,{"$f":"IF(F70=\"\",\"\",ROUND(VLOOKUP(F70,GE_Player_ID_Stats,10,FALSE),1))","v":""},{"$f":"IF(F70=\"\",\"\",VLOOKUP(F70,GE_Player_ID_Stats,11,FALSE))","v":""},null,null,null,null,"Net",null,{"$f":"P68-P69","v":4},{"$f":"Q68-Q69","v":3},3,7,5,4,6,5,8,null,null,{"$f":"(AB68*Setup!$J$17)+(AC68*Setup!$J$18)+(AD68*Setup!$J$19)+(AB69*Setup!$J$22)+(AC69*Setup!$J$23)+(AD69*Setup!$J$24)","v":12},{"$f":"IF(AB71=\"D\",0,IF(D75=Setup!$J$27,1,0))","v":0},{"$f":"IF(AB71=\"D\",0,IF(D75=Setup!$J$28,1,0))","v":1},{"$f":"IF(AB71=\"D\",0,IF(D75=Setup!$J$29,1,0))","v":0},null,null,null,null,null,"Net",null,{"$f":"AL68-AL69","v":3},{"$f":"AM68-AM69","v":4},7,6,6,6,6,5,8,null,null,{"$f":"(AX68*Setup!$J$17)+(AY68*Setup!$J$18)+(AZ68*Setup!$J$19)+(AX69*Setup!$J$22)+(AY69*Setup!$J$23)+(AZ69*Setup!$J$24)","v":8}]
[{"$f":"VLOOKUP(Setup!R47,GE_Team_PlayerIDs_1, 4,FALSE)","v":130},"Okeefe, Kevin",{"$f":"ROUND(VLOOKUP(A71,GE_Player_ID_Stats,10,FALSE),1)","v":51},{"$f":"VLOOKUP(A71,GE_Player_ID_Stats,11,FALSE)","v":12.8},null,132,"Weinle, Jerry",{"$f":"IF(F71=\"\",\"\",ROUND(VLOOKUP(F71,GE_Player_ID_Stats,10,FALSE),1))","v":47},{"$f":"IF(F71=\"\",\"\",VLOOKUP(F71,GE_Player_ID_Stats,11,FALSE))","v":9.6000000000000014},null,null,"A",null,"Points",null,{"$f":"IF(P70<P73,Setup!$J$17,IF(P70=P73,Setup!$J$19,Setup!$J$18))","v":2},{"$f":"IF(Q70<Q73,Setup!$J$17,IF(Q70=Q73,Setup!$J$19,Setup!$J$18))","v":2},{"$f":"IF(R70<R73,Setup!$J$17,IF(R70=R73,Setup!$J$19,Setup!$J$18))","v":1},{"$f":"IF(S70<S73,Setup!$J$17,IF(S70=S73,Setup!$J$19,Setup!$J$18))","v":0},{"$f":"IF(T70<T73,Setup!$J$17,IF(T70=T73,Setup!$J$19,Setup!$J$18))","v":2},{"$f":"IF(U70<U73,Setup!$J$17,IF(U70=U73,Setup!$J$19,Setup!$J$18))","v":2},{"$f":"IF(V70<V73,Setup!$J$17,IF(V70=V73,Setup!$J$19,Setup!$J$18))","v":0},{"$f":"IF(W70<W73,Setup!$J$17,IF(W70=W73,Setup!$J$19,Setup!$J$18))","v":1},{"$f":"IF(X70<X73,Setup!$J$17,IF(X70=X73,Setup!$J$19,Setup!$J$18))","v":0},null,{"$f":"IF(Z68<Z75,Setup!$J$22,IF(Z68=Z75,Setup!$J$24,Setup!$J$23))","v":2},{"$f":"IF(AB71=\"P\",\"\",\"DNP\")","v":""},"P",null,null,null,null,null,"B",null,"Points",null,{"$f":"IF(AL70<AL73,Setup!$J$17,IF(AL70=AL73,Setup!$J$19,Setup!$J$18))","v":2},{"$f":"IF(AM70<AM73,Setup!$J$17,IF(AM70=AM73,Setup!$J$19,Setup!$J$18))","v":1},{"$f":"IF(AN70<AN73,Setup!$J$17,IF(AN70=AN73,Setup!$J$19,Setup!$J$18))","v":0},{"$f":"IF(AO70<AO73,Setup!$J$17,IF(AO70=AO73,Setup!$J$19,Setup!$J$18))","v":2},{"$f":"IF(AP70<AP73,Setup!$J$17,IF(AP70=AP73,Setup!$J$19,Setup!$J$18))","v":1},{"$f":"IF(AQ70<AQ73,Setup!$J$17,IF(AQ70=AQ73,Setup!$J$19,Setup!$J$18))","v":1},{"$f":"IF(AR70<AR73,Setup!$J$17,IF(AR70=AR73,Setup!$J$19,Setup!$J$18))","v":1},{"$f":"IF(AS70<AS73,Setup!$J$17,IF(AS70=AS73,Setup!$J$19,Setup!$J$18))","v":0},{"$f":"IF(AT70<AT73,Setup!$J$17,IF(AT70=AT73,Setup!$J$19,Setup!$J$18))","v":0},null,{"$f":"IF(AV68<AV75,Setup!$J$22,IF(AV68=AV75,Setup!$J$24,Setup!$J$23))","v":0},{"$f":"IF(AX71=\"P\",\"\",\"DNP\")","v":""},"P"]
["H",{"$f":"(AB68+AX68)&\"-\"&(AC68+AY68)&\"-\"&(AD68+AZ68)","v":"6-6-6"},null,{"$f":"Z68","v":37},"A Net",{"$f":"Z75","v":37},{"$f":"(AB75+AX75)&\"-\"&(AC75+AY75)&\"-\"&(AD75+AZ75)","v":"6-6-6"},"H",null,null,null,1,{"$f":"VLOOKUP(L72,GE_SideNames,2,FALSE)","v":"Front 9"},"Points",null,{"$f":"IF(P73<P70,Setup!$J$17,IF(P73=P70,Setup!$J$19,Setup!$J$18))","v":0},{"$f":"IF(Q73<Q70,Setup!$J$17,IF(Q73=Q70,Setup!$J$19,Setup!$J$18))","v":0},{"$f":"IF(R73<R70,Setup!$J$17,IF(R73=R70,Setup!$J$19,Setup!$J$18))","v":1},{"$f":"IF(S73<S70,Setup!$J$17,IF(S73=S70,Setup!$J$19,Setup!$J$18))","v":2},{"$f":"IF(T73<T70,Setup!$J$17,IF(T73=T70,Setup!$J$19,Setup!$J$18))","v":0},{"$f":"IF(U73<U70,Setup!$J$17,IF(U73=U70,Setup!$J$19,Setup!$J$18))","v":0},{"$f":"IF(V73<V70,Setup!$J$17,IF(V73=V70,Setup!$J$19,Setup!$J$18))","v":2},{"$f":"IF(W73<W70,Setup!$J$17,IF(W73=W70,Setup!$J$19,Setup!$J$18))","v":1},{"$f":"IF(X73<X70,Setup!$J$17,IF(X73=X70,Setup!$J$19,Setup!$J$18))","v":2},null,{"$f":"IF(Z75<Z68,Setup!$J$22,IF(Z75=Z68,Setup!$J$24,Setup!$J$23))","v":2},{"$f":"IF(AB72=\"P\",\"\",\"DNP\")","v":""},"P",null,null,null,null,null,1,{"$f":"VLOOKUP(AH72,GE_SideNames,2,FALSE)","v":"Front 9"},"Points",null,{"$f":"IF(AL73<AL70,Setup!$J$17,IF(AL73=AL70,Setup!$J$19,Setup!$J$18))","v":0},{"$f":"IF(AM73<AM70,Setup!$J$17,IF(AM73=AM70,Setup!$J$19,Setup!$J$18))","v":1},{"$f":"IF(AN73<AN70,Setup!$J$17,IF(AN73=AN70,Setup!$J$19,Setup!$J$18))","v":2},{"$f":"IF(AO73<AO70,Setup!$J$17,IF(AO73=AO70,Setup!$J$19,Setup!$J$18))","v":0},{"$f":"IF(AP73<AP70,Setup!$J$17,IF(AP73=AP70,Setup!$J$19,Setup!$J$18))","v":1},{"$f":"IF(AQ73<AQ70,Setup!$J$17,IF(AQ73=AQ70,Setup!$J$19,Setup!$J$18))","v":1},{"$f":"IF(AR73<AR70,Setup!$J$17,IF(AR73=AR70,Setup!$J$19,Setup!$J$18))","v":1},{"$f":"IF(AS73<AS70,Setup!$J$17,IF(AS73=AS70,Setup!$J$19,Setup!$J$18))","v":2},{"$f":"IF(AT73<AT70,Setup!$J$17,IF(AT73=AT70,Setup!$J$19,Setup!$J$18))","v":2},null,{"$f":"IF(AV75<AV68,Setup!$J$22,IF(AV75=AV68,Setup!$J$24,Setup!$J$23))","v":4},{"$f":"IF(AX72=\"P\",\"\",\"DNP\")","v":""},"P"]
["M",{"$f":"(AB69+AX69)&\"-\"&(AC69+AY69)&\"-\"&(AD69+AZ69)","v":"0-1-1"},null,{"$f":"AV68","v":40},"B Net",{"$f":"AV75","v":39},{"$f":"(AB74+AX74)&\"-\"&(AC74+AY74)&\"-\"&(AD74+AZ74)","v":"1-0-1"},"M",null,null,null,null,null,"Net",null,{"$f":"P75-P74","v":7},{"$f":"Q75-Q74","v":4},3,3,6,5,5,5,7,null,null,{"$f":"(AB75*Setup!$J$17)+(AC75*Setup!$J$18)+(AD75*Setup!$J$19)+(AB74*Setup!$J$22)+(AC74*Setup!$J$23)+(AD74*Setup!$J$24)","v":10},{"$f":"IF(AB72=\"D\",0,IF(F75=Setup!$J$27,1,0))","v":1},{"$f":"IF(AB72=\"D\",0,IF(F75=Setup!$J$28,1,0))","v":0},{"$f":"IF(AB72=\"D\",0,IF(F75=Setup!$J$29,1,0))","v":0},null,null,null,null,null,"Net",null,{"$f":"AL75-AL74","v":5},{"$f":"AM75-AM74","v":4},4,8,6,6,6,4,7,null,null,{"$f":"(AX75*Setup!$J$17)+(AY75*Setup!$J$18)+(AZ75*Setup!$J$19)+(AX74*Setup!$J$22)+(AY74*Setup!$J$23)+(AZ74*Setup!$J$24)","v":14}]
["T",{"$f":"(AB70)&\"-\"&(AC70)&\"-\"&(AD70)","v":"0-1-0"},null,{"$f":"D72+D73","v":77},"Total",{"$f":"F72+F73","v":76},{"$f":"(AB73)&\"-\"&(AC73)&\"-\"&(AD73)","v":"1-0-0"},"T",null,null,null,130,{"$f":"\"FT: \"&VLOOKUP(L74,GE_Player_ID_Name,2,FALSE)","v":"FT: Okeefe, Kevin"},"Strokes",{"$f":"IF(O75>O68,O75-O68,0)","v":2},{"$f":"IF(O74>0,AE74+IF(AF74>=$P67,1,0),0)","v":0},{"$f":"IF(O74>0,AE74+IF(AF74>=$Q67,1,0),0)","v":0},{"$f":"IF(O74>0,AE74+IF(AF74>=$R67,1,0),0)","v":1},{"$f":"IF(O74>0,AE74+IF(AF74>=$S67,1,0),0)","v":1},{"$f":"IF(O74>0,AE74+IF(AF74>=$T67,1,0),0)","v":0},{"$f":"IF(O74>0,AE74+IF(AF74>=$U67,1,0),0)","v":0},{"$f":"IF(O74>0,AE74+IF(AF74>=$V67,1,0),0)","v":0},{"$f":"IF(O74>0,AE74+IF(AF74>=$W67,1,0),0)","v":0},{"$f":"IF(O74>0,AE74+IF(AF74>=$X67,1,0),0)","v":0},null,null,"Match",{"$f":"IF(AB72=\"D\",0,COUNTIF(Z72:Z72,Setup!$J$22))","v":0},{"$f":"IF(AB72=\"D\",0,COUNTIF(Z72:Z72,Setup!$J$23))","v":0},{"$f":"IF(AB72=\"D\",0,COUNTIF(Z72:Z72,Setup!$J$24))","v":1},{"$f":"IF(O74<9,0,IF(O74<18,1,IF(O74<27,2,3)))","v":0},{"$f":"IF(O74<9,O74,IF(O74<18,O74-9,IF(O74<27,8-18,IF(O74<36,O74-27,0))))","v":2},null,null,{"$f":"\"FT: \"&VLOOKUP(AH74,GE_Player_ID_Name,2,FALSE)","v":{"$error":"#N/A"}},"Strokes",{"$f":"IF(AK75>AK68,AK75-AK68,0)","v":1},{"$f":"IF(AK74>0,BA74+IF(BB74>=$AL67,1,0),0)","v":0},{"$f":"IF(AK74>0,BA74+IF(BB74>=$AM67,1,0),0)","v":0},{"$f":"IF(AK74>0,BA74+IF(BB74>=$AN67,1,0),0)","v":1},{"$f":"IF(AK74>0,BA74+IF(BB74>=$AO67,1,0),0)","v":0},{"$f":"IF(AK74>0,BA74+IF(BB74>=$AP67,1,0),0)","v":0},{"$f":"IF(AK74>0,BA74+IF(BB74>=$AQ67,1,0),0)","v":0},{"$f":"IF(AK74>0,BA74+IF(BB74>=$AR67,1,0),0)","v":0},{"$f":"IF(AK74>0,BA74+IF(BB74>=$AS67,1,0),0)","v":0},{"$f":"IF(AK74>0,BA74+IF(BB74>=$AT67,1,0),0)","v":0},null,null,"Match",{"$f":"IF(AX72=\"D\",0,COUNTIF(AV72:AV72,Setup!$J$22))","v":1},{"$f":"IF(AX72=\"D\",0,COUNTIF(AV72:AV72,Setup!$J$23))","v":0},{"$f":"IF(AX72=\"D\",0,COUNTIF(AV72:AV72,Setup!$J$24))","v":0},{"$f":"IF(AK74<9,0,IF(AK74<18,1,IF(AK74<27,2,3)))","v":0},{"$f":"IF(AK74<9,AK74,IF(AK74<18,AK74-9,IF(AK74<27,8-18,IF(AK74<36,AK74-27,0))))","v":1}]
[null,{"$f":"\"Match ID - \"&Setup!S47","v":"Match ID - 316"},null,{"$f":"IF(D74<F74,Setup!$J$27,IF(D74=F74,Setup!$J$29,Setup!$J$28))","v":0},"Points",{"$f":"IF(F74<D74,Setup!$J$27,IF(F74=D74,Setup!$J$29,Setup!$J$28))","v":6},null,null,null,null,null,132,{"$f":"VLOOKUP(L75,GE_Player_ID_Name,2,FALSE)","v":"Weinle, Jerry"},{"$f":"F67","v":53},{"$f":"ROUND(VLOOKUP(L75,GE_Player_ID_Stats,11,FALSE),0)","v":10},7,4,4,4,6,5,5,5,7,{"$f":"SUM(P75:X75)","v":47},{"$f":"Y75-O75","v":37},"Holes",{"$f":"IF(AB72=\"D\",0,COUNTIF(P72:X72,Setup!$J$17))","v":3},{"$f":"IF(AB72=\"D\",0,COUNTIF(P72:X72,Setup!$J$18))","v":4},{"$f":"IF(AB72=\"D\",0,COUNTIF(P72:X72,Setup!$J$19))","v":2},null,null,null,129,{"$f":"VLOOKUP(AH75,GE_Player_ID_Name,2,FALSE)","v":"Pignone, Gary"},{"$f":"F67","v":53},{"$f":"ROUND(VLOOKUP(AH75,GE_Player_ID_Stats,11,FALSE),0)","v":12},5,4,5,8,6,6,6,4,7,{"$f":"SUM(AL75:AT75)","v":51},{"$f":"AU75-AK75","v":39},"Holes",{"$f":"IF(AX72=\"D\",0,COUNTIF(AL72:AT72,Setup!$J$17))","v":3},{"$f":"IF(AX72=\"D\",0,COUNTIF(AL72:AT72,Setup!$J$18))","v":2},{"$f":"IF(AX72=\"D\",0,COUNTIF(AL72:AT72,Setup!$J$19))","v":4}]
[null,null,null,null,null,null,null,null,null,null,null,null,null,null,"Par",{"$f":"VLOOKUP($L82,GE_Course_Pars,3,FALSE)","v":4},{"$f":"VLOOKUP($L82,GE_Course_Pars,4,FALSE)","v":3},{"$f":"VLOOKUP($L82,GE_Course_Pars,5,FALSE)","v":4},{"$f":"VLOOKUP($L82,GE_Course_Pars,6,FALSE)","v":3},{"$f":"VLOOKUP($L82,GE_Course_Pars,7,FALSE)","v":4},{"$f":"VLOOKUP($L82,GE_Course_Pars,8,FALSE)","v":4},{"$f":"VLOOKUP($L82,GE_Course_Pars,9,FALSE)","v":5},{"$f":"VLOOKUP($L82,GE_Course_Pars,10,FALSE)","v":4},{"$f":"VLOOKUP($L82,GE_Course_Pars,11,FALSE)","v":4},null,null,null,null,null,null,null,null,null,null,null,null,"Par",{"$f":"VLOOKUP($L82,GE_Course_Pars,3,FALSE)","v":4},{"$f":"VLOOKUP($L82,GE_Course_Pars,4,FALSE)","v":3},{"$f":"VLOOKUP($L82,GE_Course_Pars,5,FALSE)","v":4},{"$f":"VLOOKUP($L82,GE_Course_Pars,6,FALSE)","v":3},{"$f":"VLOOKUP($L82,GE_Course_Pars,7,FALSE)","v":4},{"$f":"VLOOKUP($L82,GE_Course_Pars,8,FALSE)","v":4},{"$f":"VLOOKUP($L82,GE_Course_Pars,9,FALSE)","v":5},{"$f":"VLOOKUP($L82,GE_Course_Pars,10,FALSE)","v":4},{"$f":"VLOOKUP($L82,GE_Course_Pars,11,FALSE)","v":4}]
[{"$f":"Setup!B21","v":"5:10"},{"$f":"VLOOKUP(Setup!Q48,GE_Teams_DBID,2,FALSE)","v":"McAvoys"},null,{"$f":"Setup!Q48","v":41},"vs.",{"$f":"Setup!R48","v":43},{"$f":"VLOOKUP(Setup!R48,GE_Teams_DBID,2,FALSE)","v":"Stewart Shankers"},null,null,null,null,null,null,null,"Hdcp",{"$f":"LOOKUP(L82,Setup!$A$5:$A$7,Setup!$C$5:$C$7)","v":4},{"$f":"LOOKUP(L82,Setup!$A$5:$A$7,Setup!$D$5:$D$7)","v":6},{"$f":"LOOKUP(L82,Setup!$A$5:$A$7,Setup!$E$5:$E$7)","v":7},{"$f":"LOOKUP(L82,Setup!$A$5:$A$7,Setup!$F$5:$F$7)","v":8},{"$f":"LOOKUP(L82,Setup!$A$5:$A$7,Setup!$G$5:$G$7)","v":9},{"$f":"LOOKUP(L82,Setup!$A$5:$A$7,Setup!$H$5:$H$7)","v":1},{"$f":"LOOKUP(L82,Setup!$A$5:$A$7,Setup!$I$5:$I$7)","v":3},{"$f":"LOOKUP(L82,Setup!$A$5:$A$7,Setup!$J$5:$J$7)","v":5},{"$f":"LOOKUP(L82,Setup!$A$5:$A$7,Setup!$K$5:$K$7)","v":2},null,null,null,null,null,null,null,null,null,null,null,null,"Hdcp",{"$f":"LOOKUP(AH82,Setup!$A$5:$A$7,Setup!$C$5:$C$7)","v":4},{"$f":"LOOKUP(AH82,Setup!$A$5:$A$7,Setup!$D$5:$D$7)","v":6},{"$f":"LOOKUP(AH82,Setup!$A$5:$A$7,Setup!$E$5:$E$7)","v":7},{"$f":"LOOKUP(AH82,Setup!$A$5:$A$7,Setup!$F$5:$F$7)","v":8},{"$f":"LOOKUP(AH82,Setup!$A$5:$A$7,Setup!$G$5:$G$7)","v":9},{"$f":"LOOKUP(AH82,Setup!$A$5:$A$7,Setup!$H$5:$H$7)","v":1},{"$f":"LOOKUP(AH82,Setup!$A$5:$A$7,Setup!$I$5:$I$7)","v":3},{"$f":"LOOKUP(AH82,Setup!$A$5:$A$7,Setup!$J$5:$J$7)","v":5},{"$f":"LOOKUP(AH82,Setup!$A$5:$A$7,Setup!$K$5:$K$7)","v":2}]
[{"$f":"VLOOKUP(Setup!Q48,GE_Team_PlayerIDs_1, 2,FALSE)","v":98},{"$f":"VLOOKUP(A78,GE_Player_ID_Name,2,FALSE)","v":"Doll, Mike"},{"$f":"ROUND(VLOOKUP(A78,GE_Player_ID_Stats,10,FALSE),1)","v":56},{"$f":"VLOOKUP(A78,GE_Player_ID_Stats,11,FALSE)","v":16.8},null,"",null,{"$f":"IF(F78=\"\",\"\",ROUND(VLOOKUP(F78,GE_Player_ID_Stats,10,FALSE),1))","v":""},{"$f":"IF(F78=\"\",\"\",VLOOKUP(F78,GE_Player_ID_Stats,11,FALSE))","v":""},null,null,99,{"$f":"VLOOKUP(L78,GE_Player_ID_Name,2,FALSE)","v":"Recher, Jason"},{"$f":"D77","v":41},{"$f":"ROUND(VLOOKUP(L78,GE_Player_ID_Stats,11,FALSE),0)","v":15},7,5,7,4,6,8,8,5,6,{"$f":"SUM(P78:X78)","v":56},{"$f":"Y78-O78","v":41},"Holes",{"$f":"IF(AB81=\"D\",0,COUNTIF(P81:X81,Setup!$J$17))","v":5},{"$f":"IF(AB81=\"D\",0,COUNTIF(P81:X81,Setup!$J$18))","v":3},{"$f":"IF(AB81=\"D\",0,COUNTIF(P81:X81,Setup!$J$19))","v":1},null,null,null,98,{"$f":"VLOOKUP(AH78,GE_Player_ID_Name,2,FALSE)","v":"Doll, Mike"},{"$f":"D77","v":41},{"$f":"ROUND(VLOOKUP(AH78,GE_Player_ID_Stats,11,FALSE),0)","v":17},8,5,7,5,5,7,6,6,7,{"$f":"SUM(AL78:AT78)","v":56},{"$f":"AU78-AK78","v":39},"Holes",{"$f":"IF(AX81=\"D\",0,COUNTIF(AL81:AT81,Setup!$J$17))","v":3},{"$f":"IF(AX81=\"D\",0,COUNTIF(AL81:AT81,Setup!$J$18))","v":2},{"$f":"IF(AX81=\"D\",0,COUNTIF(AL81:AT81,Setup!$J$19))","v":4}]
[{"$f":"VLOOKUP(Setup!Q48,GE_Team_PlayerIDs_1, 4,FALSE)","v":99},"Recher, Jason",{"$f":"ROUND(VLOOKUP(A79,GE_Player_ID_Stats,10,FALSE),1)","v":53.3},{"$f":"VLOOKUP(A79,GE_Player_ID_Stats,11,FALSE)","v":14.66666666666667},null,{"$f":"IF(G79<>\"\",VLOOKUP(G79,GE_SubList,2,FALSE),\"\")","v":""},null,{"$f":"IF(F79=\"\",\"\",ROUND(VLOOKUP(F79,GE_Player_ID_Stats,10,FALSE),1))","v":""},{"$f":"IF(F79=\"\",\"\",VLOOKUP(F79,GE_Player_ID_Stats,11,FALSE))","v":""},null,null,null,{"$f":"\"FT: \"&VLOOKUP(L79,GE_Player_ID_Name,2,FALSE)","v":{"$error":"#N/A"}},"Strokes",{"$f":"IF(O78>O85,O78-O85,0)","v":1},{"$f":"IF(O79>0,AE79+IF(AF79>=$P77,1,0),0)","v":0},{"$f":"IF(O79>0,AE79+IF(AF79>=$Q77,1,0),0)","v":0},{"$f":"IF(O79>0,AE79+IF(AF79>=$R77,1,0),0)","v":0},{"$f":"IF(O79>0,AE79+IF(AF79>=$S77,1,0),0)","v":0},{"$f":"IF(O79>0,AE79+IF(AF79>=$T77,1,0),0)","v":0},{"$f":"IF(O79>0,AE79+IF(AF79>=$U77,1,0),0)","v":1},{"$f":"IF(O79>0,AE79+IF(AF79>=$V77,1,0),0)","v":0},{"$f":"IF(O79>0,AE79+IF(AF79>=$W77,1,0),0)","v":0},{"$f":"IF(O79>0,AE79+IF(AF79>=$X77,1,0),0)","v":0},null,null,"Match",{"$f":"IF(AB81=\"D\",0,COUNTIF(Z81:Z81,Setup!$J$22))","v":0},{"$f":"IF(AB81=\"D\",0,COUNTIF(Z81:Z81,Setup!$J$23))","v":1},{"$f":"IF(AB81=\"D\",0,COUNTIF(Z81:Z81,Setup!$J$24))","v":0},{"$f":"IF(O79<9,0,IF(O79<18,1,IF(O79<27,2,3)))","v":0},{"$f":"IF(O79<9,O79,IF(O79<18,O79-9,IF(O79<27,8-18,IF(O79<36,O79-27,0))))","v":1},null,null,{"$f":"\"FT: \"&VLOOKUP(AH79,GE_Player_ID_Name,2,FALSE)","v":{"$error":"#N/A"}},"Strokes",{"$f":"IF(AK78>AK85,AK78-AK85,0)","v":0},{"$f":"IF(AK79>0,BA79+IF(BB79>=$AL77,1,0),0)","v":0},{"$f":"IF(AK79>0,BA79+IF(BB79>=$AM77,1,0),0)","v":0},{"$f":"IF(AK79>0,BA79+IF(BB79>=$AN77,1,0),0)","v":0},{"$f":"IF(AK79>0,BA79+IF(BB79>=$AO77,1,0),0)","v":0},{"$f":"IF(AK79>0,BA79+IF(BB79>=$AP77,1,0),0)","v":0},{"$f":"IF(AK79>0,BA79+IF(BB79>=$AQ77,1,0),0)","v":0},{"$f":"IF(AK79>0,BA79+IF(BB79>=$AR77,1,0),0)","v":0},{"$f":"IF(AK79>0,BA79+IF(BB79>=$AS77,1,0),0)","v":0},{"$f":"IF(AK79>0,BA79+IF(BB79>=$AT77,1,0),0)","v":0},null,null,"Match",{"$f":"IF(AX81=\"D\",0,COUNTIF(AV81:AV81,Setup!$J$22))","v":1},{"$f":"IF(AX81=\"D\",0,COUNTIF(AV81:AV81,Setup!$J$23))","v":0},{"$f":"IF(AX81=\"D\",0,COUNTIF(AV81:AV81,Setup!$J$24))","v":0},{"$f":"IF(AK79<9,0,IF(AK79<18,1,IF(AK79<27,2,3)))","v":0},{"$f":"IF(AK79<9,AK79,IF(AK79<18,AK79-9,IF(AK79<27,8-18,IF(AK79<36,AK79-27,0))))","v":0}]
[{"$f":"VLOOKUP(Setup!R48,GE_Team_PlayerIDs_1, 2,FALSE)","v":105},"Stewart, Brain",{"$f":"ROUND(VLOOKUP(A80,GE_Player_ID_Stats,10,FALSE),1)","v":52.5},{"$f":"VLOOKUP(A80,GE_Player_ID_Stats,11,FALSE)","v":14},null,{"$f":"IF(G80<>\"\",VLOOKUP(G80,GE_SubList,2,FALSE),\"\")","v":""},null,{"$f":"IF(F80=\"\",\"\",ROUND(VLOOKUP(F80,GE_Player_ID_Stats,10,FALSE),1))","v":""},{"$f":"IF(F80=\"\",\"\",VLOOKUP(F80,GE_Player_ID_Stats,11,FALSE))","v":""},null,null,null,null,"Net",null,{"$f":"P78-P79","v":7},{"$f":"Q78-Q79","v":5},7,4,6,7,8,5,6,null,null,{"$f":"(AB78*Setup!$J$17)+(AC78*Setup!$J$18)+(AD78*Setup!$J$19)+(AB79*Setup!$J$22)+(AC79*Setup!$J$23)+(AD79*Setup!$J$24)","v":11},{"$f":"IF(AB81=\"D\",0,IF(D85=Setup!$J$27,1,0))","v":1},{"$f":"IF(AB81=\"D\",0,IF(D85=Setup!$J$28,1,0))","v":0},{"$f":"IF(AB81=\"D\",0,IF(D85=Setup!$J$29,1,0))","v":0},null,null,null,null,null,"Net",null,{"$f":"AL78-AL79","v":8},{"$f":"AM78-AM79","v":5},7,5,5,7,6,6,7,null,null,{"$f":"(AX78*Setup!$J$17)+(AY78*Setup!$J$18)+(AZ78*Setup!$J$19)+(AX79*Setup!$J$22)+(AY79*Setup!$J$23)+(AZ79*Setup!$J$24)","v":14}]
[{"$f":"VLOOKUP(Setup!R48,GE_Team_PlayerIDs_1, 4,FALSE)","v":106},"Stewart, Drake",{"$f":"ROUND(VLOOKUP(A81,GE_Player_ID_Stats,10,FALSE),1)","v":56.3},{"$f":"VLOOKUP(A81,GE_Player_ID_Stats,11,FALSE)","v":17},null,"",null,{"$f":"IF(F81=\"\",\"\",ROUND(VLOOKUP(F81,GE_Player_ID_Stats,10,FALSE),1))","v":""},{"$f":"IF(F81=\"\",\"\",VLOOKUP(F81,GE_Player_ID_Stats,11,FALSE))","v":""},null,null,"A",null,"Points",null,{"$f":"IF(P80<P83,Setup!$J$17,IF(P80=P83,Setup!$J$19,Setup!$J$18))","v":0},{"$f":"IF(Q80<Q83,Setup!$J$17,IF(Q80=Q83,Setup!$J$19,Setup!$J$18))","v":2},{"$f":"IF(R80<R83,Setup!$J$17,IF(R80=R83,Setup!$J$19,Setup!$J$18))","v":0},{"$f":"IF(S80<S83,Setup!$J$17,IF(S80=S83,Setup!$J$19,Setup!$J$18))","v":2},{"$f":"IF(T80<T83,Setup!$J$17,IF(T80=T83,Setup!$J$19,Setup!$J$18))","v":0},{"$f":"IF(U80<U83,Setup!$J$17,IF(U80=U83,Setup!$J$19,Setup!$J$18))","v":1},{"$f":"IF(V80<V83,Setup!$J$17,IF(V80=V83,Setup!$J$19,Setup!$J$18))","v":2},{"$f":"IF(W80<W83,Setup!$J$17,IF(W80=W83,Setup!$J$19,Setup!$J$18))","v":2},{"$f":"IF(X80<X83,Setup!$J$17,IF(X80=X83,Setup!$J$19,Setup!$J$18))","v":2},null,{"$f":"IF(Z78<Z85,Setup!$J$22,IF(Z78=Z85,Setup!$J$24,Setup!$J$23))","v":0},{"$f":"IF(AB81=\"P\",\"\",\"DNP\")","v":""},"P",null,null,null,null,null,"B",null,"Points",null,{"$f":"IF(AL80<AL83,Setup!$J$17,IF(AL80=AL83,Setup!$J$19,Setup!$J$18))","v":1},{"$f":"IF(AM80<AM83,Setup!$J$17,IF(AM80=AM83,Setup!$J$19,Setup!$J$18))","v":1},{"$f":"IF(AN80<AN83,Setup!$J$17,IF(AN80=AN83,Setup!$J$19,Setup!$J$18))","v":2},{"$f":"IF(AO80<AO83,Setup!$J$17,IF(AO80=AO83,Setup!$J$19,Setup!$J$18))","v":1},{"$f":"IF(AP80<AP83,Setup!$J$17,IF(AP80=AP83,Setup!$J$19,Setup!$J$18))","v":2},{"$f":"IF(AQ80<AQ83,Setup!$J$17,IF(AQ80=AQ83,Setup!$J$19,Setup!$J$18))","v":1},{"$f":"IF(AR80<AR83,Setup!$J$17,IF(AR80=AR83,Setup!$J$19,Setup!$J$18))","v":2},{"$f":"IF(AS80<AS83,Setup!$J$17,IF(AS80=AS83,Setup!$J$19,Setup!$J$18))","v":0},{"$f":"IF(AT80<AT83,Setup!$J$17,IF(AT80=AT83,Setup!$J$19,Setup!$J$18))","v":0},null,{"$f":"IF(AV78<AV85,Setup!$J$22,IF(AV78=AV85,Setup!$J$24,Setup!$J$23))","v":4},{"$f":"IF(AX81=\"P\",\"\",\"DNP\")","v":""},"P"]
["H",{"$f":"(AB78+AX78)&\"-\"&(AC78+AY78)&\"-\"&(AD78+AZ78)","v":"8-5-5"},null,{"$f":"Z78","v":41},"A Net",{"$f":"Z85","v":40},{"$f":"(AB85+AX85)&\"-\"&(AC85+AY85)&\"-\"&(AD85+AZ85)","v":"5-8-5"},"H",null,null,null,2,{"$f":"VLOOKUP(L82,GE_SideNames,2,FALSE)","v":"Back 9"},"Points",null,{"$f":"IF(P83<P80,Setup!$J$17,IF(P83=P80,Setup!$J$19,Setup!$J$18))","v":2},{"$f":"IF(Q83<Q80,Setup!$J$17,IF(Q83=Q80,Setup!$J$19,Setup!$J$18))","v":0},{"$f":"IF(R83<R80,Setup!$J$17,IF(R83=R80,Setup!$J$19,Setup!$J$18))","v":2},{"$f":"IF(S83<S80,Setup!$J$17,IF(S83=S80,Setup!$J$19,Setup!$J$18))","v":0},{"$f":"IF(T83<T80,Setup!$J$17,IF(T83=T80,Setup!$J$19,Setup!$J$18))","v":2},{"$f":"IF(U83<U80,Setup!$J$17,IF(U83=U80,Setup!$J$19,Setup!$J$18))","v":1},{"$f":"IF(V83<V80,Setup!$J$17,IF(V83=V80,Setup!$J$19,Setup!$J$18))","v":0},{"$f":"IF(W83<W80,Setup!$J$17,IF(W83=W80,Setup!$J$19,Setup!$J$18))","v":0},{"$f":"IF(X83<X80,Setup!$J$17,IF(X83=X80,Setup!$J$19,Setup!$J$18))","v":0},null,{"$f":"IF(Z85<Z78,Setup!$J$22,IF(Z85=Z78,Setup!$J$24,Setup!$J$23))","v":4},{"$f":"IF(AB82=\"P\",\"\",\"DNP\")","v":""},"P",null,null,null,null,null,2,{"$f":"VLOOKUP(AH82,GE_SideNames,2,FALSE)","v":"Back 9"},"Points",null,{"$f":"IF(AL83<AL80,Setup!$J$17,IF(AL83=AL80,Setup!$J$19,Setup!$J$18))","v":1},{"$f":"IF(AM83<AM80,Setup!$J$17,IF(AM83=AM80,Setup!$J$19,Setup!$J$18))","v":1},{"$f":"IF(AN83<AN80,Setup!$J$17,IF(AN83=AN80,Setup!$J$19,Setup!$J$18))","v":0},{"$f":"IF(AO83<AO80,Setup!$J$17,IF(AO83=AO80,Setup!$J$19,Setup!$J$18))","v":1},{"$f":"IF(AP83<AP80,Setup!$J$17,IF(AP83=AP80,Setup!$J$19,Setup!$J$18))","v":0},{"$f":"IF(AQ83<AQ80,Setup!$J$17,IF(AQ83=AQ80,Setup!$J$19,Setup!$J$18))","v":1},{"$f":"IF(AR83<AR80,Setup!$J$17,IF(AR83=AR80,Setup!$J$19,Setup!$J$18))","v":0},{"$f":"IF(AS83<AS80,Setup!$J$17,IF(AS83=AS80,Setup!$J$19,Setup!$J$18))","v":2},{"$f":"IF(AT83<AT80,Setup!$J$17,IF(AT83=AT80,Setup!$J$19,Setup!$J$18))","v":2},null,{"$f":"IF(AV85<AV78,Setup!$J$22,IF(AV85=AV78,Setup!$J$24,Setup!$J$23))","v":0},{"$f":"IF(AX82=\"P\",\"\",\"DNP\")","v":""},"P"]
["M",{"$f":"(AB79+AX79)&\"-\"&(AC79+AY79)&\"-\"&(AD79+AZ79)","v":"1-1-0"},null,{"$f":"AV78","v":39},"B Net",{"$f":"AV85","v":42},{"$f":"(AB84+AX84)&\"-\"&(AC84+AY84)&\"-\"&(AD84+AZ84)","v":"1-1-0"},"M",null,null,null,null,null,"Net",null,{"$f":"P85-P84","v":5},{"$f":"Q85-Q84","v":6},5,5,4,7,9,6,7,null,null,{"$f":"(AB85*Setup!$J$17)+(AC85*Setup!$J$18)+(AD85*Setup!$J$19)+(AB84*Setup!$J$22)+(AC84*Setup!$J$23)+(AD84*Setup!$J$24)","v":11},{"$f":"IF(AB82=\"D\",0,IF(F85=Setup!$J$27,1,0))","v":0},{"$f":"IF(AB82=\"D\",0,IF(F85=Setup!$J$28,1,0))","v":1},{"$f":"IF(AB82=\"D\",0,IF(F85=Setup!$J$29,1,0))","v":0},null,null,null,null,null,"Net",null,{"$f":"AL85-AL84","v":8},{"$f":"AM85-AM84","v":5},8,5,8,7,9,5,4,null,null,{"$f":"(AX85*Setup!$J$17)+(AY85*Setup!$J$18)+(AZ85*Setup!$J$19)+(AX84*Setup!$J$22)+(AY84*Setup!$J$23)+(AZ84*Setup!$J$24)","v":8}]
["T",{"$f":"(AB80)&\"-\"&(AC80)&\"-\"&(AD80)","v":"1-0-0"},null,{"$f":"D82+D83","v":80},"Total",{"$f":"F82+F83","v":82},{"$f":"(AB83)&\"-\"&(AC83)&\"-\"&(AD83)","v":"0-1-0"},"T",null,null,null,null,{"$f":"\"FT: \"&VLOOKUP(L84,GE_Player_ID_Name,2,FALSE)","v":{"$error":"#N/A"}},"Strokes",{"$f":"IF(O85>O78,O85-O78,0)","v":0},{"$f":"IF(O84>0,AE84+IF(AF84>=$P77,1,0),0)","v":0},{"$f":"IF(O84>0,AE84+IF(AF84>=$Q77,1,0),0)","v":0},{"$f":"IF(O84>0,AE84+IF(AF84>=$R77,1,0),0)","v":0},{"$f":"IF(O84>0,AE84+IF(AF84>=$S77,1,0),0)","v":0},{"$f":"IF(O84>0,AE84+IF(AF84>=$T77,1,0),0)","v":0},{"$f":"IF(O84>0,AE84+IF(AF84>=$U77,1,0),0)","v":0},{"$f":"IF(O84>0,AE84+IF(AF84>=$V77,1,0),0)","v":0},{"$f":"IF(O84>0,AE84+IF(AF84>=$W77,1,0),0)","v":0},{"$f":"IF(O84>0,AE84+IF(AF84>=$X77,1,0),0)","v":0},null,null,"Match",{"$f":"IF(AB82=\"D\",0,COUNTIF(Z82:Z82,Setup!$J$22))","v":1},{"$f":"IF(AB82=\"D\",0,COUNTIF(Z82:Z82,Setup!$J$23))","v":0},{"$f":"IF(AB82=\"D\",0,COUNTIF(Z82:Z82,Setup!$J$24))","v":0},{"$f":"IF(O84<9,0,IF(O84<18,1,IF(O84<27,2,3)))","v":0},{"$f":"IF(O84<9,O84,IF(O84<18,O84-9,IF(O84<27,8-18,IF(O84<36,O84-27,0))))","v":0},null,null,{"$f":"\"FT: \"&VLOOKUP(AH84,GE_Player_ID_Name,2,FALSE)","v":{"$error":"#N/A"}},"Strokes",{"$f":"IF(AK85>AK78,AK85-AK78,0)","v":0},{"$f":"IF(AK84>0,BA84+IF(BB84>=$AL77,1,0),0)","v":0},{"$f":"IF(AK84>0,BA84+IF(BB84>=$AM77,1,0),0)","v":0},{"$f":"IF(AK84>0,BA84+IF(BB84>=$AN77,1,0),0)","v":0},{"$f":"IF(AK84>0,BA84+IF(BB84>=$AO77,1,0),0)","v":0},{"$f":"IF(AK84>0,BA84+IF(BB84>=$AP77,1,0),0)","v":0},{"$f":"IF(AK84>0,BA84+IF(BB84>=$AQ77,1,0),0)","v":0},{"$f":"IF(AK84>0,BA84+IF(BB84>=$AR77,1,0),0)","v":0},{"$f":"IF(AK84>0,BA84+IF(BB84>=$AS77,1,0),0)","v":0},{"$f":"IF(AK84>0,BA84+IF(BB84>=$AT77,1,0),0)","v":0},null,null,"Match",{"$f":"IF(AX82=\"D\",0,COUNTIF(AV82:AV82,Setup!$J$22))","v":0},{"$f":"IF(AX82=\"D\",0,COUNTIF(AV82:AV82,Setup!$J$23))","v":1},{"$f":"IF(AX82=\"D\",0,COUNTIF(AV82:AV82,Setup!$J$24))","v":0},{"$f":"IF(AK84<9,0,IF(AK84<18,1,IF(AK84<27,2,3)))","v":0},{"$f":"IF(AK84<9,AK84,IF(AK84<18,AK84-9,IF(AK84<27,8-18,IF(AK84<36,AK84-27,0))))","v":0}]
[null,{"$f":"\"Match ID - \"&Setup!S48","v":"Match ID - 317"},null,{"$f":"IF(D84<F84,Setup!$J$27,IF(D84=F84,Setup!$J$29,Setup!$J$28))","v":6},"Points",{"$f":"IF(F84<D84,Setup!$J$27,IF(F84=D84,Setup!$J$29,Setup!$J$28))","v":0},null,null,null,null,null,105,{"$f":"VLOOKUP(L85,GE_Player_ID_Name,2,FALSE)","v":"Stewart, Brain"},{"$f":"F77","v":43},{"$f":"ROUND(VLOOKUP(L85,GE_Player_ID_Stats,11,FALSE),0)","v":14},5,6,5,5,4,7,9,6,7,{"$f":"SUM(P85:X85)","v":54},{"$f":"Y85-O85","v":40},"Holes",{"$f":"IF(AB82=\"D\",0,COUNTIF(P82:X82,Setup!$J$17))","v":3},{"$f":"IF(AB82=\"D\",0,COUNTIF(P82:X82,Setup!$J$18))","v":5},{"$f":"IF(AB82=\"D\",0,COUNTIF(P82:X82,Setup!$J$19))","v":1},null,null,null,106,{"$f":"VLOOKUP(AH85,GE_Player_ID_Name,2,FALSE)","v":"Stewart, Drake"},{"$f":"F77","v":43},{"$f":"ROUND(VLOOKUP(AH85,GE_Player_ID_Stats,11,FALSE),0)","v":17},8,5,8,5,8,7,9,5,4,{"$f":"SUM(AL85:AT85)","v":59},{"$f":"AU85-AK85","v":42},"Holes",{"$f":"IF(AX82=\"D\",0,COUNTIF(AL82:AT82,Setup!$J$17))","v":2},{"$f":"IF(AX82=\"D\",0,COUNTIF(AL82:AT82,Setup!$J$18))","v":3},{"$f":"IF(AX82=\"D\",0,COUNTIF(AL82:AT82,Setup!$J$19))","v":4}]
[null,null,null,null,null,null,null,null,null,null,null,null,null,null,"Par",{"$f":"VLOOKUP($L92,GE_Course_Pars,3,FALSE)","v":4},{"$f":"VLOOKUP($L92,GE_Course_Pars,4,FALSE)","v":3},{"$f":"VLOOKUP($L92,GE_Course_Pars,5,FALSE)","v":4},{"$f":"VLOOKUP($L92,GE_Course_Pars,6,FALSE)","v":4},{"$f":"VLOOKUP($L92,GE_Course_Pars,7,FALSE)","v":4},{"$f":"VLOOKUP($L92,GE_Course_Pars,8,FALSE)","v":4},{"$f":"VLOOKUP($L92,GE_Course_Pars,9,FALSE)","v":4},{"$f":"VLOOKUP($L92,GE_Course_Pars,10,FALSE)","v":3},{"$f":"VLOOKUP($L92,GE_Course_Pars,11,FALSE)","v":5},null,null,null,null,null,null,null,null,null,null,null,null,"Par",{"$f":"VLOOKUP($L92,GE_Course_Pars,3,FALSE)","v":4},{"$f":"VLOOKUP($L92,GE_Course_Pars,4,FALSE)","v":3},{"$f":"VLOOKUP($L92,GE_Course_Pars,5,FALSE)","v":4},{"$f":"VLOOKUP($L92,GE_Course_Pars,6,FALSE)","v":4},{"$f":"VLOOKUP($L92,GE_Course_Pars,7,FALSE)","v":4},{"$f":"VLOOKUP($L92,GE_Course_Pars,8,FALSE)","v":4},{"$f":"VLOOKUP($L92,GE_Course_Pars,9,FALSE)","v":4},{"$f":"VLOOKUP($L92,GE_Course_Pars,10,FALSE)","v":3},{"$f":"VLOOKUP($L92,GE_Course_Pars,11,FALSE)","v":5}]
[{"$f":"Setup!B21","v":"5:10"},{"$f":"VLOOKUP(Setup!Q49,GE_Teams_DBID,2,FALSE)","v":"Shootist 2"},null,{"$f":"Setup!Q49","v":52},"vs.",{"$f":"Setup!R49","v":44},{"$f":"VLOOKUP(Setup!R49,GE_Teams_DBID,2,FALSE)","v":"Delivery Divots"},null,null,null,null,null,null,null,"Hdcp",{"$f":"LOOKUP(L92,Setup!$A$5:$A$7,Setup!$C$5:$C$7)","v":8},{"$f":"LOOKUP(L92,Setup!$A$5:$A$7,Setup!$D$5:$D$7)","v":6},{"$f":"LOOKUP(L92,Setup!$A$5:$A$7,Setup!$E$5:$E$7)","v":1},{"$f":"LOOKUP(L92,Setup!$A$5:$A$7,Setup!$F$5:$F$7)","v":2},{"$f":"LOOKUP(L92,Setup!$A$5:$A$7,Setup!$G$5:$G$7)","v":9},{"$f":"LOOKUP(L92,Setup!$A$5:$A$7,Setup!$H$5:$H$7)","v":5},{"$f":"LOOKUP(L92,Setup!$A$5:$A$7,Setup!$I$5:$I$7)","v":4},{"$f":"LOOKUP(L92,Setup!$A$5:$A$7,Setup!$J$5:$J$7)","v":7},{"$f":"LOOKUP(L92,Setup!$A$5:$A$7,Setup!$K$5:$K$7)","v":3},null,null,null,null,null,null,null,null,null,null,null,null,"Hdcp",{"$f":"LOOKUP(AH92,Setup!$A$5:$A$7,Setup!$C$5:$C$7)","v":8},{"$f":"LOOKUP(AH92,Setup!$A$5:$A$7,Setup!$D$5:$D$7)","v":6},{"$f":"LOOKUP(AH92,Setup!$A$5:$A$7,Setup!$E$5:$E$7)","v":1},{"$f":"LOOKUP(AH92,Setup!$A$5:$A$7,Setup!$F$5:$F$7)","v":2},{"$f":"LOOKUP(AH92,Setup!$A$5:$A$7,Setup!$G$5:$G$7)","v":9},{"$f":"LOOKUP(AH92,Setup!$A$5:$A$7,Setup!$H$5:$H$7)","v":5},{"$f":"LOOKUP(AH92,Setup!$A$5:$A$7,Setup!$I$5:$I$7)","v":4},{"$f":"LOOKUP(AH92,Setup!$A$5:$A$7,Setup!$J$5:$J$7)","v":7},{"$f":"LOOKUP(AH92,Setup!$A$5:$A$7,Setup!$K$5:$K$7)","v":3}]
[{"$f":"VLOOKUP(Setup!Q49,GE_Team_PlayerIDs_1, 2,FALSE)","v":127},{"$f":"VLOOKUP(A88,GE_Player_ID_Name,2,FALSE)","v":"Dudley, Stan"},{"$f":"ROUND(VLOOKUP(A88,GE_Player_ID_Stats,10,FALSE),1)","v":51},{"$f":"VLOOKUP(A88,GE_Player_ID_Stats,11,FALSE)","v":12.8},null,{"$f":"IF(G88<>\"\",VLOOKUP(G88,GE_SubList,2,FALSE),\"\")","v":128},"Wisniewski, Karl",{"$f":"IF(F88=\"\",\"\",ROUND(VLOOKUP(F88,GE_Player_ID_Stats,10,FALSE),1))","v":51.3},{"$f":"IF(F88=\"\",\"\",VLOOKUP(F88,GE_Player_ID_Stats,11,FALSE))","v":13.06666666666667},null,null,126,{"$f":"VLOOKUP(L88,GE_Player_ID_Name,2,FALSE)","v":"Saum, Craig"},{"$f":"D87","v":52},{"$f":"ROUND(VLOOKUP(L88,GE_Player_ID_Stats,11,FALSE),0)","v":7},4,3,6,5,5,8,6,3,6,{"$f":"SUM(P88:X88)","v":46},{"$f":"Y88-O88","v":39},"Holes",{"$f":"IF(AB91=\"D\",0,COUNTIF(P91:X91,Setup!$J$17))","v":4},{"$f":"IF(AB91=\"D\",0,COUNTIF(P91:X91,Setup!$J$18))","v":3},{"$f":"IF(AB91=\"D\",0,COUNTIF(P91:X91,Setup!$J$19))","v":2},null,null,null,128,{"$f":"VLOOKUP(AH88,GE_Player_ID_Name,2,FALSE)","v":"Wisniewski, Karl"},{"$f":"D87","v":52},{"$f":"ROUND(VLOOKUP(AH88,GE_Player_ID_Stats,11,FALSE),0)","v":13},5,4,6,8,6,5,5,5,8,{"$f":"SUM(AL88:AT88)","v":52},{"$f":"AU88-AK88","v":39},"Holes",{"$f":"IF(AX91=\"D\",0,COUNTIF(AL91:AT91,Setup!$J$17))","v":4},{"$f":"IF(AX91=\"D\",0,COUNTIF(AL91:AT91,Setup!$J$18))","v":5},{"$f":"IF(AX91=\"D\",0,COUNTIF(AL91:AT91,Setup!$J$19))","v":0},null,null,null,null,null,null,null,null,null,null,null,null,null,null,null,null,null,null,null,null,null,null,null,null,null,null,null,null,null,null,null,null,null,null,null,null,null,null,null,null,null,null,null,null,null,null,null,null,null,null,null,null,null,null,null,null,8]
[{"$f":"VLOOKUP(Setup!Q49,GE_Team_PlayerIDs_1, 4,FALSE)","v":126},"Saum, Craig",{"$f":"ROUND(VLOOKUP(A89,GE_Player_ID_Stats,10,FALSE),1)","v":44},{"$f":"VLOOKUP(A89,GE_Player_ID_Stats,11,FALSE)","v":7.2},null,"",null,{"$f":"IF(F89=\"\",\"\",ROUND(VLOOKUP(F89,GE_Player_ID_Stats,10,FALSE),1))","v":""},{"$f":"IF(F89=\"\",\"\",VLOOKUP(F89,GE_Player_ID_Stats,11,FALSE))","v":""},null,null,null,{"$f":"\"FT: \"&VLOOKUP(L89,GE_Player_ID_Name,2,FALSE)","v":{"$error":"#N/A"}},"Strokes",{"$f":"IF(O88>O95,O88-O95,0)","v":0},{"$f":"IF(O89>0,AE89+IF(AF89>=$P87,1,0),0)","v":0},{"$f":"IF(O89>0,AE89+IF(AF89>=$Q87,1,0),0)","v":0},{"$f":"IF(O89>0,AE89+IF(AF89>=$R87,1,0),0)","v":0},{"$f":"IF(O89>0,AE89+IF(AF89>=$S87,1,0),0)","v":0},{"$f":"IF(O89>0,AE89+IF(AF89>=$T87,1,0),0)","v":0},{"$f":"IF(O89>0,AE89+IF(AF89>=$U87,1,0),0)","v":0},{"$f":"IF(O89>0,AE89+IF(AF89>=$V87,1,0),0)","v":0},{"$f":"IF(O89>0,AE89+IF(AF89>=$W87,1,0),0)","v":0},{"$f":"IF(O89>0,AE89+IF(AF89>=$X87,1,0),0)","v":0},null,null,"Match",{"$f":"IF(AB91=\"D\",0,COUNTIF(Z91:Z91,Setup!$J$22))","v":0},{"$f":"IF(AB91=\"D\",0,COUNTIF(Z91:Z91,Setup!$J$23))","v":1},{"$f":"IF(AB91=\"D\",0,COUNTIF(Z91:Z91,Setup!$J$24))","v":0},{"$f":"IF(O89<9,0,IF(O89<18,1,IF(O89<27,2,3)))","v":0},{"$f":"IF(O89<9,O89,IF(O89<18,O89-9,IF(O89<27,8-18,IF(O89<36,O89-27,0))))","v":0},null,127,{"$f":"\"FT: \"&VLOOKUP(AH89,GE_Player_ID_Name,2,FALSE)","v":"FT: Dudley, Stan"},"Strokes",{"$f":"IF(AK88>AK95,AK88-AK95,0)","v":0},{"$f":"IF(AK89>0,BA89+IF(BB89>=$AL87,1,0),0)","v":0},{"$f":"IF(AK89>0,BA89+IF(BB89>=$AM87,1,0),0)","v":0},{"$f":"IF(AK89>0,BA89+IF(BB89>=$AN87,1,0),0)","v":0},{"$f":"IF(AK89>0,BA89+IF(BB89>=$AO87,1,0),0)","v":0},{"$f":"IF(AK89>0,BA89+IF(BB89>=$AP87,1,0),0)","v":0},{"$f":"IF(AK89>0,BA89+IF(BB89>=$AQ87,1,0),0)","v":0},{"$f":"IF(AK89>0,BA89+IF(BB89>=$AR87,1,0),0)","v":0},{"$f":"IF(AK89>0,BA89+IF(BB89>=$AS87,1,0),0)","v":0},{"$f":"IF(AK89>0,BA89+IF(BB89>=$AT87,1,0),0)","v":0},null,null,"Match",{"$f":"IF(AX91=\"D\",0,COUNTIF(AV91:AV91,Setup!$J$22))","v":1},{"$f":"IF(AX91=\"D\",0,COUNTIF(AV91:AV91,Setup!$J$23))","v":0},{"$f":"IF(AX91=\"D\",0,COUNTIF(AV91:AV91,Setup!$J$24))","v":0},{"$f":"IF(AK89<9,0,IF(AK89<18,1,IF(AK89<27,2,3)))","v":0},{"$f":"IF(AK89<9,AK89,IF(AK89<18,AK89-9,IF(AK89<27,8-18,IF(AK89<36,AK89-27,0))))","v":0}]
[{"$f":"VLOOKUP(Setup!R49,GE_Team_PlayerIDs_1, 2,FALSE)","v":107},"Metzger, Mike",{"$f":"ROUND(VLOOKUP(A90,GE_Player_ID_Stats,10,FALSE),1)","v":46.7},{"$f":"VLOOKUP(A90,GE_Player_ID_Stats,11,FALSE)","v":9.3333333333333321},null,"",null,{"$f":"IF(F90=\"\",\"\",ROUND(VLOOKUP(F90,GE_Player_ID_Stats,10,FALSE),1))","v":""},{"$f":"IF(F90=\"\",\"\",VLOOKUP(F90,GE_Player_ID_Stats,11,FALSE))","v":""},null,null,null,null,"Net",null,{"$f":"P88-P89","v":4},{"$f":"Q88-Q89","v":3},6,5,5,8,6,3,6,null,null,{"$f":"(AB88*Setup!$J$17)+(AC88*Setup!$J$18)+(AD88*Setup!$J$19)+(AB89*Setup!$J$22)+(AC89*Setup!$J$23)+(AD89*Setup!$J$24)","v":10},{"$f":"IF(AB91=\"D\",0,IF(D95=Setup!$J$27,1,0))","v":0},{"$f":"IF(AB91=\"D\",0,IF(D95=Setup!$J$28,1,0))","v":0},{"$f":"IF(AB91=\"D\",0,IF(D95=Setup!$J$29,1,0))","v":1},null,null,null,null,null,"Net",null,{"$f":"AL88-AL89","v":5},{"$f":"AM88-AM89","v":4},6,8,6,5,5,5,8,null,null,{"$f":"(AX88*Setup!$J$17)+(AY88*Setup!$J$18)+(AZ88*Setup!$J$19)+(AX89*Setup!$J$22)+(AY89*Setup!$J$23)+(AZ89*Setup!$J$24)","v":12}]
[{"$f":"VLOOKUP(Setup!R49,GE_Team_PlayerIDs_1, 4,FALSE)","v":108},"Dulan, Bob",{"$f":"ROUND(VLOOKUP(A91,GE_Player_ID_Stats,10,FALSE),1)","v":57.8},{"$f":"VLOOKUP(A91,GE_Player_ID_Stats,11,FALSE)","v":18.2},null,"",null,{"$f":"IF(F91=\"\",\"\",ROUND(VLOOKUP(F91,GE_Player_ID_Stats,10,FALSE),1))","v":""},{"$f":"IF(F91=\"\",\"\",VLOOKUP(F91,GE_Player_ID_Stats,11,FALSE))","v":""},null,null,"A",null,"Points",null,{"$f":"IF(P90<P93,Setup!$J$17,IF(P90=P93,Setup!$J$19,Setup!$J$18))","v":2},{"$f":"IF(Q90<Q93,Setup!$J$17,IF(Q90=Q93,Setup!$J$19,Setup!$J$18))","v":2},{"$f":"IF(R90<R93,Setup!$J$17,IF(R90=R93,Setup!$J$19,Setup!$J$18))","v":0},{"$f":"IF(S90<S93,Setup!$J$17,IF(S90=S93,Setup!$J$19,Setup!$J$18))","v":1},{"$f":"IF(T90<T93,Setup!$J$17,IF(T90=T93,Setup!$J$19,Setup!$J$18))","v":1},{"$f":"IF(U90<U93,Setup!$J$17,IF(U90=U93,Setup!$J$19,Setup!$J$18))","v":0},{"$f":"IF(V90<V93,Setup!$J$17,IF(V90=V93,Setup!$J$19,Setup!$J$18))","v":0},{"$f":"IF(W90<W93,Setup!$J$17,IF(W90=W93,Setup!$J$19,Setup!$J$18))","v":2},{"$f":"IF(X90<X93,Setup!$J$17,IF(X90=X93,Setup!$J$19,Setup!$J$18))","v":2},null,{"$f":"IF(Z88<Z95,Setup!$J$22,IF(Z88=Z95,Setup!$J$24,Setup!$J$23))","v":0},{"$f":"IF(AB91=\"P\",\"\",\"DNP\")","v":""},"P",null,null,null,null,null,"B",null,"Points",null,{"$f":"IF(AL90<AL93,Setup!$J$17,IF(AL90=AL93,Setup!$J$19,Setup!$J$18))","v":2},{"$f":"IF(AM90<AM93,Setup!$J$17,IF(AM90=AM93,Setup!$J$19,Setup!$J$18))","v":2},{"$f":"IF(AN90<AN93,Setup!$J$17,IF(AN90=AN93,Setup!$J$19,Setup!$J$18))","v":0},{"$f":"IF(AO90<AO93,Setup!$J$17,IF(AO90=AO93,Setup!$J$19,Setup!$J$18))","v":0},{"$f":"IF(AP90<AP93,Setup!$J$17,IF(AP90=AP93,Setup!$J$19,Setup!$J$18))","v":2},{"$f":"IF(AQ90<AQ93,Setup!$J$17,IF(AQ90=AQ93,Setup!$J$19,Setup!$J$18))","v":0},{"$f":"IF(AR90<AR93,Setup!$J$17,IF(AR90=AR93,Setup!$J$19,Setup!$J$18))","v":2},{"$f":"IF(AS90<AS93,Setup!$J$17,IF(AS90=AS93,Setup!$J$19,Setup!$J$18))","v":0},{"$f":"IF(AT90<AT93,Setup!$J$17,IF(AT90=AT93,Setup!$J$19,Setup!$J$18))","v":0},null,{"$f":"IF(AV88<AV95,Setup!$J$22,IF(AV88=AV95,Setup!$J$24,Setup!$J$23))","v":4},{"$f":"IF(AX91=\"P\",\"\",\"DNP\")","v":""},"P"]
["H",{"$f":"(AB88+AX88)&\"-\"&(AC88+AY88)&\"-\"&(AD88+AZ88)","v":"8-8-2"},null,{"$f":"Z88","v":39},"A Net",{"$f":"Z95","v":38},{"$f":"(AB95+AX95)&\"-\"&(AC95+AY95)&\"-\"&(AD95+AZ95)","v":"5-4-0"},"H",null,null,null,1,{"$f":"VLOOKUP(L92,GE_SideNames,2,FALSE)","v":"Front 9"},"Points",null,{"$f":"IF(P93<P90,Setup!$J$17,IF(P93=P90,Setup!$J$19,Setup!$J$18))","v":0},{"$f":"IF(Q93<Q90,Setup!$J$17,IF(Q93=Q90,Setup!$J$19,Setup!$J$18))","v":0},{"$f":"IF(R93<R90,Setup!$J$17,IF(R93=R90,Setup!$J$19,Setup!$J$18))","v":2},{"$f":"IF(S93<S90,Setup!$J$17,IF(S93=S90,Setup!$J$19,Setup!$J$18))","v":1},{"$f":"IF(T93<T90,Setup!$J$17,IF(T93=T90,Setup!$J$19,Setup!$J$18))","v":1},{"$f":"IF(U93<U90,Setup!$J$17,IF(U93=U90,Setup!$J$19,Setup!$J$18))","v":2},{"$f":"IF(V93<V90,Setup!$J$17,IF(V93=V90,Setup!$J$19,Setup!$J$18))","v":2},{"$f":"IF(W93<W90,Setup!$J$17,IF(W93=W90,Setup!$J$19,Setup!$J$18))","v":0},{"$f":"IF(X93<X90,Setup!$J$17,IF(X93=X90,Setup!$J$19,Setup!$J$18))","v":0},null,{"$f":"IF(Z95<Z88,Setup!$J$22,IF(Z95=Z88,Setup!$J$24,Setup!$J$23))","v":4},{"$f":"IF(AB92=\"P\",\"\",\"DNP\")","v":"DNP"},"D",null,null,null,null,null,1,{"$f":"VLOOKUP(AH92,GE_SideNames,2,FALSE)","v":"Front 9"},"Points",null,{"$f":"IF(AL93<AL90,Setup!$J$17,IF(AL93=AL90,Setup!$J$19,Setup!$J$18))","v":0},{"$f":"IF(AM93<AM90,Setup!$J$17,IF(AM93=AM90,Setup!$J$19,Setup!$J$18))","v":0},{"$f":"IF(AN93<AN90,Setup!$J$17,IF(AN93=AN90,Setup!$J$19,Setup!$J$18))","v":2},{"$f":"IF(AO93<AO90,Setup!$J$17,IF(AO93=AO90,Setup!$J$19,Setup!$J$18))","v":2},{"$f":"IF(AP93<AP90,Setup!$J$17,IF(AP93=AP90,Setup!$J$19,Setup!$J$18))","v":0},{"$f":"IF(AQ93<AQ90,Setup!$J$17,IF(AQ93=AQ90,Setup!$J$19,Setup!$J$18))","v":2},{"$f":"IF(AR93<AR90,Setup!$J$17,IF(AR93=AR90,Setup!$J$19,Setup!$J$18))","v":0},{"$f":"IF(AS93<AS90,Setup!$J$17,IF(AS93=AS90,Setup!$J$19,Setup!$J$18))","v":2},{"$f":"IF(AT93<AT90,Setup!$J$17,IF(AT93=AT90,Setup!$J$19,Setup!$J$18))","v":2},null,{"$f":"IF(AV95<AV88,Setup!$J$22,IF(AV95=AV88,Setup!$J$24,Setup!$J$23))","v":0},{"$f":"IF(AX92=\"P\",\"\",\"DNP\")","v":""},"P"]
["M",{"$f":"(AB89+AX89)&\"-\"&(AC89+AY89)&\"-\"&(AD89+AZ89)","v":"1-1-0"},null,{"$f":"AV88","v":39},"B Net",{"$f":"AV95","v":40},{"$f":"(AB94+AX94)&\"-\"&(AC94+AY94)&\"-\"&(AD94+AZ94)","v":"0-1-0"},"M",null,null,null,null,null,"Net",null,{"$f":"P95-P94","v":5},{"$f":"Q95-Q94","v":4},5,5,5,5,5,4,7,null,null,{"$f":"(AB95*Setup!$J$17)+(AC95*Setup!$J$18)+(AD95*Setup!$J$19)+(AB94*Setup!$J$22)+(AC94*Setup!$J$23)+(AD94*Setup!$J$24)","v":0},{"$f":"IF(AB92=\"D\",0,IF(F95=Setup!$J$27,1,0))","v":0},{"$f":"IF(AB92=\"D\",0,IF(F95=Setup!$J$28,1,0))","v":0},{"$f":"IF(AB92=\"D\",0,IF(F95=Setup!$J$29,1,0))","v":0},null,null,null,null,null,"Net",null,{"$f":"AL95-AL94","v":7},{"$f":"AM95-AM94","v":6},5,7,7,4,6,4,7,null,null,{"$f":"(AX95*Setup!$J$17)+(AY95*Setup!$J$18)+(AZ95*Setup!$J$19)+(AX94*Setup!$J$22)+(AY94*Setup!$J$23)+(AZ94*Setup!$J$24)","v":10}]
["T",{"$f":"(AB90)&\"-\"&(AC90)&\"-\"&(AD90)","v":"0-0-1"},null,{"$f":"D92+D93","v":78},"Total",{"$f":"F92+F93","v":78},{"$f":"(AB93)&\"-\"&(AC93)&\"-\"&(AD93)","v":"0-0-0"},"T",null,null,null,null,{"$f":"\"FT: \"&VLOOKUP(L94,GE_Player_ID_Name,2,FALSE)","v":{"$error":"#N/A"}},"Strokes",{"$f":"IF(O95>O88,O95-O88,0)","v":2},{"$f":"IF(O94>0,AE94+IF(AF94>=$P87,1,0),0)","v":0},{"$f":"IF(O94>0,AE94+IF(AF94>=$Q87,1,0),0)","v":0},{"$f":"IF(O94>0,AE94+IF(AF94>=$R87,1,0),0)","v":1},{"$f":"IF(O94>0,AE94+IF(AF94>=$S87,1,0),0)","v":1},{"$f":"IF(O94>0,AE94+IF(AF94>=$T87,1,0),0)","v":0},{"$f":"IF(O94>0,AE94+IF(AF94>=$U87,1,0),0)","v":0},{"$f":"IF(O94>0,AE94+IF(AF94>=$V87,1,0),0)","v":0},{"$f":"IF(O94>0,AE94+IF(AF94>=$W87,1,0),0)","v":0},{"$f":"IF(O94>0,AE94+IF(AF94>=$X87,1,0),0)","v":0},null,null,"Match",{"$f":"IF(AB92=\"D\",0,COUNTIF(Z92:Z92,Setup!$J$22))","v":0},{"$f":"IF(AB92=\"D\",0,COUNTIF(Z92:Z92,Setup!$J$23))","v":0},{"$f":"IF(AB92=\"D\",0,COUNTIF(Z92:Z92,Setup!$J$24))","v":0},{"$f":"IF(O94<9,0,IF(O94<18,1,IF(O94<27,2,3)))","v":0},{"$f":"IF(O94<9,O94,IF(O94<18,O94-9,IF(O94<27,8-18,IF(O94<36,O94-27,0))))","v":2},null,null,{"$f":"\"FT: \"&VLOOKUP(AH94,GE_Player_ID_Name,2,FALSE)","v":{"$error":"#N/A"}},"Strokes",{"$f":"IF(AK95>AK88,AK95-AK88,0)","v":5},{"$f":"IF(AK94>0,BA94+IF(BB94>=$AL87,1,0),0)","v":0},{"$f":"IF(AK94>0,BA94+IF(BB94>=$AM87,1,0),0)","v":0},{"$f":"IF(AK94>0,BA94+IF(BB94>=$AN87,1,0),0)","v":1},{"$f":"IF(AK94>0,BA94+IF(BB94>=$AO87,1,0),0)","v":1},{"$f":"IF(AK94>0,BA94+IF(BB94>=$AP87,1,0),0)","v":0},{"$f":"IF(AK94>0,BA94+IF(BB94>=$AQ87,1,0),0)","v":1},{"$f":"IF(AK94>0,BA94+IF(BB94>=$AR87,1,0),0)","v":1},{"$f":"IF(AK94>0,BA94+IF(BB94>=$AS87,1,0),0)","v":0},{"$f":"IF(AK94>0,BA94+IF(BB94>=$AT87,1,0),0)","v":1},null,null,"Match",{"$f":"IF(AX92=\"D\",0,COUNTIF(AV92:AV92,Setup!$J$22))","v":0},{"$f":"IF(AX92=\"D\",0,COUNTIF(AV92:AV92,Setup!$J$23))","v":1},{"$f":"IF(AX92=\"D\",0,COUNTIF(AV92:AV92,Setup!$J$24))","v":0},{"$f":"IF(AK94<9,0,IF(AK94<18,1,IF(AK94<27,2,3)))","v":0},{"$f":"IF(AK94<9,AK94,IF(AK94<18,AK94-9,IF(AK94<27,8-18,IF(AK94<36,AK94-27,0))))","v":5}]
[null,{"$f":"\"Match ID - \"&Setup!S49","v":"Match ID - 318"},null,{"$f":"IF(D94<F94,Setup!$J$27,IF(D94=F94,Setup!$J$29,Setup!$J$28))","v":3},"Points",{"$f":"IF(F94<D94,Setup!$J$27,IF(F94=D94,Setup!$J$29,Setup!$J$28))","v":3},null,null,null,null,null,107,{"$f":"VLOOKUP(L95,GE_Player_ID_Name,2,FALSE)","v":"Metzger, Mike"},{"$f":"F87","v":44},{"$f":"ROUND(VLOOKUP(L95,GE_Player_ID_Stats,11,FALSE),0)","v":9},5,4,6,6,5,5,5,4,7,{"$f":"SUM(P95:X95)","v":47},{"$f":"Y95-O95","v":38},"Holes",{"$f":"IF(AB92=\"D\",0,COUNTIF(P92:X92,Setup!$J$17))","v":0},{"$f":"IF(AB92=\"D\",0,COUNTIF(P92:X92,Setup!$J$18))","v":0},{"$f":"IF(AB92=\"D\",0,COUNTIF(P92:X92,Setup!$J$19))","v":0},null,null,null,108,{"$f":"VLOOKUP(AH95,GE_Player_ID_Name,2,FALSE)","v":"Dulan, Bob"},{"$f":"F87","v":44},{"$f":"ROUND(VLOOKUP(AH95,GE_Player_ID_Stats,11,FALSE),0)","v":18},7,6,6,8,7,5,7,4,8,{"$f":"SUM(AL95:AT95)","v":58},{"$f":"AU95-AK95","v":40},"Holes",{"$f":"IF(AX92=\"D\",0,COUNTIF(AL92:AT92,Setup!$J$17))","v":5},{"$f":"IF(AX92=\"D\",0,COUNTIF(AL92:AT92,Setup!$J$18))","v":4},{"$f":"IF(AX92=\"D\",0,COUNTIF(AL92:AT92,Setup!$J$19))","v":0}]
[null,null,null,null,null,null,null,null,null,null,null,null,null,null,"Par",{"$f":"VLOOKUP($L102,GE_Course_Pars,3,FALSE)","v":4},{"$f":"VLOOKUP($L102,GE_Course_Pars,4,FALSE)","v":3},{"$f":"VLOOKUP($L102,GE_Course_Pars,5,FALSE)","v":4},{"$f":"VLOOKUP($L102,GE_Course_Pars,6,FALSE)","v":3},{"$f":"VLOOKUP($L102,GE_Course_Pars,7,FALSE)","v":4},{"$f":"VLOOKUP($L102,GE_Course_Pars,8,FALSE)","v":4},{"$f":"VLOOKUP($L102,GE_Course_Pars,9,FALSE)","v":5},{"$f":"VLOOKUP($L102,GE_Course_Pars,10,FALSE)","v":4},{"$f":"VLOOKUP($L102,GE_Course_Pars,11,FALSE)","v":4},null,null,null,null,null,null,null,null,null,null,null,null,"Par",{"$f":"VLOOKUP($L102,GE_Course_Pars,3,FALSE)","v":4},{"$f":"VLOOKUP($L102,GE_Course_Pars,4,FALSE)","v":3},{"$f":"VLOOKUP($L102,GE_Course_Pars,5,FALSE)","v":4},{"$f":"VLOOKUP($L102,GE_Course_Pars,6,FALSE)","v":3},{"$f":"VLOOKUP($L102,GE_Course_Pars,7,FALSE)","v":4},{"$f":"VLOOKUP($L102,GE_Course_Pars,8,FALSE)","v":4},{"$f":"VLOOKUP($L102,GE_Course_Pars,9,FALSE)","v":5},{"$f":"VLOOKUP($L102,GE_Course_Pars,10,FALSE)","v":4},{"$f":"VLOOKUP($L102,GE_Course_Pars,11,FALSE)","v":4}]
[{"$f":"Setup!B22","v":"5:20"},{"$f":"VLOOKUP(Setup!Q50,GE_Teams_DBID,2,FALSE)","v":"Dingers Ringers"},null,{"$f":"Setup!Q50","v":42},"vs.",{"$f":"Setup!R50","v":34},{"$f":"VLOOKUP(Setup!R50,GE_Teams_DBID,2,FALSE)","v":"Alex and Carl"},null,null,null,null,null,null,null,"Hdcp",{"$f":"LOOKUP(L102,Setup!$A$5:$A$7,Setup!$C$5:$C$7)","v":4},{"$f":"LOOKUP(L102,Setup!$A$5:$A$7,Setup!$D$5:$D$7)","v":6},{"$f":"LOOKUP(L102,Setup!$A$5:$A$7,Setup!$E$5:$E$7)","v":7},{"$f":"LOOKUP(L102,Setup!$A$5:$A$7,Setup!$F$5:$F$7)","v":8},{"$f":"LOOKUP(L102,Setup!$A$5:$A$7,Setup!$G$5:$G$7)","v":9},{"$f":"LOOKUP(L102,Setup!$A$5:$A$7,Setup!$H$5:$H$7)","v":1},{"$f":"LOOKUP(L102,Setup!$A$5:$A$7,Setup!$I$5:$I$7)","v":3},{"$f":"LOOKUP(L102,Setup!$A$5:$A$7,Setup!$J$5:$J$7)","v":5},{"$f":"LOOKUP(L102,Setup!$A$5:$A$7,Setup!$K$5:$K$7)","v":2},null,null,null,null,null,null,null,null,null,null,null,null,"Hdcp",{"$f":"LOOKUP(AH102,Setup!$A$5:$A$7,Setup!$C$5:$C$7)","v":4},{"$f":"LOOKUP(AH102,Setup!$A$5:$A$7,Setup!$D$5:$D$7)","v":6},{"$f":"LOOKUP(AH102,Setup!$A$5:$A$7,Setup!$E$5:$E$7)","v":7},{"$f":"LOOKUP(AH102,Setup!$A$5:$A$7,Setup!$F$5:$F$7)","v":8},{"$f":"LOOKUP(AH102,Setup!$A$5:$A$7,Setup!$G$5:$G$7)","v":9},{"$f":"LOOKUP(AH102,Setup!$A$5:$A$7,Setup!$H$5:$H$7)","v":1},{"$f":"LOOKUP(AH102,Setup!$A$5:$A$7,Setup!$I$5:$I$7)","v":3},{"$f":"LOOKUP(AH102,Setup!$A$5:$A$7,Setup!$J$5:$J$7)","v":5},{"$f":"LOOKUP(AH102,Setup!$A$5:$A$7,Setup!$K$5:$K$7)","v":2}]
[{"$f":"VLOOKUP(Setup!Q50,GE_Team_PlayerIDs_1, 2,FALSE)","v":102},{"$f":"VLOOKUP(A98,GE_Player_ID_Name,2,FALSE)","v":"Simendinger, Joe"},{"$f":"ROUND(VLOOKUP(A98,GE_Player_ID_Stats,10,FALSE),1)","v":44},{"$f":"VLOOKUP(A98,GE_Player_ID_Stats,11,FALSE)","v":7.2},null,{"$f":"IF(G98<>\"\",VLOOKUP(G98,GE_SubList,2,FALSE),\"\")","v":104},"Simendinger, Sam",{"$f":"IF(F98=\"\",\"\",ROUND(VLOOKUP(F98,GE_Player_ID_Stats,10,FALSE),1))","v":47},{"$f":"IF(F98=\"\",\"\",VLOOKUP(F98,GE_Player_ID_Stats,11,FALSE))","v":9.6000000000000014},null,null,103,{"$f":"VLOOKUP(L98,GE_Player_ID_Name,2,FALSE)","v":"Simendinger, Joel"},{"$f":"D97","v":42},{"$f":"ROUND(VLOOKUP(L98,GE_Player_ID_Stats,11,FALSE),0)","v":8},5,4,5,3,5,6,6,5,5,{"$f":"SUM(P98:X98)","v":44},{"$f":"Y98-O98","v":36},"Holes",{"$f":"IF(AB101=\"D\",0,COUNTIF(P101:X101,Setup!$J$17))","v":4},{"$f":"IF(AB101=\"D\",0,COUNTIF(P101:X101,Setup!$J$18))","v":4},{"$f":"IF(AB101=\"D\",0,COUNTIF(P101:X101,Setup!$J$19))","v":1},null,null,null,104,{"$f":"VLOOKUP(AH98,GE_Player_ID_Name,2,FALSE)","v":"Simendinger, Sam"},{"$f":"D97","v":42},{"$f":"ROUND(VLOOKUP(AH98,GE_Player_ID_Stats,11,FALSE),0)","v":10},5,5,4,5,5,5,9,5,5,{"$f":"SUM(AL98:AT98)","v":48},{"$f":"AU98-AK98","v":38},"Holes",{"$f":"IF(AX101=\"D\",0,COUNTIF(AL101:AT101,Setup!$J$17))","v":5},{"$f":"IF(AX101=\"D\",0,COUNTIF(AL101:AT101,Setup!$J$18))","v":2},{"$f":"IF(AX101=\"D\",0,COUNTIF(AL101:AT101,Setup!$J$19))","v":2}]
[{"$f":"VLOOKUP(Setup!Q50,GE_Team_PlayerIDs_1, 4,FALSE)","v":103},"Simendinger, Joel",{"$f":"ROUND(VLOOKUP(A99,GE_Player_ID_Stats,10,FALSE),1)","v":44.5},{"$f":"VLOOKUP(A99,GE_Player_ID_Stats,11,FALSE)","v":7.6000000000000005},null,"",null,{"$f":"IF(F99=\"\",\"\",ROUND(VLOOKUP(F99,GE_Player_ID_Stats,10,FALSE),1))","v":""},{"$f":"IF(F99=\"\",\"\",VLOOKUP(F99,GE_Player_ID_Stats,11,FALSE))","v":""},null,null,null,{"$f":"\"FT: \"&VLOOKUP(L99,GE_Player_ID_Name,2,FALSE)","v":{"$error":"#N/A"}},"Strokes",{"$f":"IF(O98>O105,O98-O105,0)","v":2},{"$f":"IF(O99>0,AE99+IF(AF99>=$P97,1,0),0)","v":0},{"$f":"IF(O99>0,AE99+IF(AF99>=$Q97,1,0),0)","v":0},{"$f":"IF(O99>0,AE99+IF(AF99>=$R97,1,0),0)","v":0},{"$f":"IF(O99>0,AE99+IF(AF99>=$S97,1,0),0)","v":0},{"$f":"IF(O99>0,AE99+IF(AF99>=$T97,1,0),0)","v":0},{"$f":"IF(O99>0,AE99+IF(AF99>=$U97,1,0),0)","v":1},{"$f":"IF(O99>0,AE99+IF(AF99>=$V97,1,0),0)","v":0},{"$f":"IF(O99>0,AE99+IF(AF99>=$W97,1,0),0)","v":0},{"$f":"IF(O99>0,AE99+IF(AF99>=$X97,1,0),0)","v":1},null,null,"Match",{"$f":"IF(AB101=\"D\",0,COUNTIF(Z101:Z101,Setup!$J$22))","v":1},{"$f":"IF(AB101=\"D\",0,COUNTIF(Z101:Z101,Setup!$J$23))","v":0},{"$f":"IF(AB101=\"D\",0,COUNTIF(Z101:Z101,Setup!$J$24))","v":0},{"$f":"IF(O99<9,0,IF(O99<18,1,IF(O99<27,2,3)))","v":0},{"$f":"IF(O99<9,O99,IF(O99<18,O99-9,IF(O99<27,8-18,IF(O99<36,O99-27,0))))","v":2},null,102,{"$f":"\"FT: \"&VLOOKUP(AH99,GE_Player_ID_Name,2,FALSE)","v":"FT: Simendinger, Joe"},"Strokes",{"$f":"IF(AK98>AK105,AK98-AK105,0)","v":0},{"$f":"IF(AK99>0,BA99+IF(BB99>=$AL97,1,0),0)","v":0},{"$f":"IF(AK99>0,BA99+IF(BB99>=$AM97,1,0),0)","v":0},{"$f":"IF(AK99>0,BA99+IF(BB99>=$AN97,1,0),0)","v":0},{"$f":"IF(AK99>0,BA99+IF(BB99>=$AO97,1,0),0)","v":0},{"$f":"IF(AK99>0,BA99+IF(BB99>=$AP97,1,0),0)","v":0},{"$f":"IF(AK99>0,BA99+IF(BB99>=$AQ97,1,0),0)","v":0},{"$f":"IF(AK99>0,BA99+IF(BB99>=$AR97,1,0),0)","v":0},{"$f":"IF(AK99>0,BA99+IF(BB99>=$AS97,1,0),0)","v":0},{"$f":"IF(AK99>0,BA99+IF(BB99>=$AT97,1,0),0)","v":0},null,null,"Match",{"$f":"IF(AX101=\"D\",0,COUNTIF(AV101:AV101,Setup!$J$22))","v":1},{"$f":"IF(AX101=\"D\",0,COUNTIF(AV101:AV101,Setup!$J$23))","v":0},{"$f":"IF(AX101=\"D\",0,COUNTIF(AV101:AV101,Setup!$J$24))","v":0},{"$f":"IF(AK99<9,0,IF(AK99<18,1,IF(AK99<27,2,3)))","v":0},{"$f":"IF(AK99<9,AK99,IF(AK99<18,AK99-9,IF(AK99<27,8-18,IF(AK99<36,AK99-27,0))))","v":0}]
[{"$f":"VLOOKUP(Setup!R50,GE_Team_PlayerIDs_1, 2,FALSE)","v":77},"Schock, Alex",{"$f":"ROUND(VLOOKUP(A100,GE_Player_ID_Stats,10,FALSE),1)","v":42.5},{"$f":"VLOOKUP(A100,GE_Player_ID_Stats,11,FALSE)","v":6},null,"",null,{"$f":"IF(F100=\"\",\"\",ROUND(VLOOKUP(F100,GE_Player_ID_Stats,10,FALSE),1))","v":""},{"$f":"IF(F100=\"\",\"\",VLOOKUP(F100,GE_Player_ID_Stats,11,FALSE))","v":""},null,null,null,null,"Net",null,{"$f":"P98-P99","v":5},{"$f":"Q98-Q99","v":4},5,3,5,5,6,5,4,null,null,{"$f":"(AB98*Setup!$J$17)+(AC98*Setup!$J$18)+(AD98*Setup!$J$19)+(AB99*Setup!$J$22)+(AC99*Setup!$J$23)+(AD99*Setup!$J$24)","v":13},{"$f":"IF(AB101=\"D\",0,IF(D105=Setup!$J$27,1,0))","v":1},{"$f":"IF(AB101=\"D\",0,IF(D105=Setup!$J$28,1,0))","v":0},{"$f":"IF(AB101=\"D\",0,IF(D105=Setup!$J$29,1,0))","v":0},null,null,null,null,null,"Net",null,{"$f":"AL98-AL99","v":5},{"$f":"AM98-AM99","v":5},4,5,5,5,9,5,5,null,null,{"$f":"(AX98*Setup!$J$17)+(AY98*Setup!$J$18)+(AZ98*Setup!$J$19)+(AX99*Setup!$J$22)+(AY99*Setup!$J$23)+(AZ99*Setup!$J$24)","v":16}]
[{"$f":"VLOOKUP(Setup!R50,GE_Team_PlayerIDs_1, 4,FALSE)","v":78},"Tenkman, Carl",{"$f":"ROUND(VLOOKUP(A101,GE_Player_ID_Stats,10,FALSE),1)","v":47},{"$f":"VLOOKUP(A101,GE_Player_ID_Stats,11,FALSE)","v":9.6000000000000014},null,"",null,{"$f":"IF(F101=\"\",\"\",ROUND(VLOOKUP(F101,GE_Player_ID_Stats,10,FALSE),1))","v":""},{"$f":"IF(F101=\"\",\"\",VLOOKUP(F101,GE_Player_ID_Stats,11,FALSE))","v":""},null,null,"A",null,"Points",null,{"$f":"IF(P100<P103,Setup!$J$17,IF(P100=P103,Setup!$J$19,Setup!$J$18))","v":2},{"$f":"IF(Q100<Q103,Setup!$J$17,IF(Q100=Q103,Setup!$J$19,Setup!$J$18))","v":2},{"$f":"IF(R100<R103,Setup!$J$17,IF(R100=R103,Setup!$J$19,Setup!$J$18))","v":0},{"$f":"IF(S100<S103,Setup!$J$17,IF(S100=S103,Setup!$J$19,Setup!$J$18))","v":2},{"$f":"IF(T100<T103,Setup!$J$17,IF(T100=T103,Setup!$J$19,Setup!$J$18))","v":1},{"$f":"IF(U100<U103,Setup!$J$17,IF(U100=U103,Setup!$J$19,Setup!$J$18))","v":0},{"$f":"IF(V100<V103,Setup!$J$17,IF(V100=V103,Setup!$J$19,Setup!$J$18))","v":0},{"$f":"IF(W100<W103,Setup!$J$17,IF(W100=W103,Setup!$J$19,Setup!$J$18))","v":0},{"$f":"IF(X100<X103,Setup!$J$17,IF(X100=X103,Setup!$J$19,Setup!$J$18))","v":2},null,{"$f":"IF(Z98<Z105,Setup!$J$22,IF(Z98=Z105,Setup!$J$24,Setup!$J$23))","v":4},{"$f":"IF(AB101=\"P\",\"\",\"DNP\")","v":""},"P",null,null,null,null,null,"B",null,"Points",null,{"$f":"IF(AL100<AL103,Setup!$J$17,IF(AL100=AL103,Setup!$J$19,Setup!$J$18))","v":2},{"$f":"IF(AM100<AM103,Setup!$J$17,IF(AM100=AM103,Setup!$J$19,Setup!$J$18))","v":1},{"$f":"IF(AN100<AN103,Setup!$J$17,IF(AN100=AN103,Setup!$J$19,Setup!$J$18))","v":2},{"$f":"IF(AO100<AO103,Setup!$J$17,IF(AO100=AO103,Setup!$J$19,Setup!$J$18))","v":0},{"$f":"IF(AP100<AP103,Setup!$J$17,IF(AP100=AP103,Setup!$J$19,Setup!$J$18))","v":2},{"$f":"IF(AQ100<AQ103,Setup!$J$17,IF(AQ100=AQ103,Setup!$J$19,Setup!$J$18))","v":1},{"$f":"IF(AR100<AR103,Setup!$J$17,IF(AR100=AR103,Setup!$J$19,Setup!$J$18))","v":0},{"$f":"IF(AS100<AS103,Setup!$J$17,IF(AS100=AS103,Setup!$J$19,Setup!$J$18))","v":2},{"$f":"IF(AT100<AT103,Setup!$J$17,IF(AT100=AT103,Setup!$J$19,Setup!$J$18))","v":2},null,{"$f":"IF(AV98<AV105,Setup!$J$22,IF(AV98=AV105,Setup!$J$24,Setup!$J$23))","v":4},{"$f":"IF(AX101=\"P\",\"\",\"DNP\")","v":""},"P"]
["H",{"$f":"(AB98+AX98)&\"-\"&(AC98+AY98)&\"-\"&(AD98+AZ98)","v":"9-6-3"},null,{"$f":"Z98","v":36},"A Net",{"$f":"Z105","v":37},{"$f":"(AB105+AX105)&\"-\"&(AC105+AY105)&\"-\"&(AD105+AZ105)","v":"6-9-3"},"H",null,null,null,2,{"$f":"VLOOKUP(L102,GE_SideNames,2,FALSE)","v":"Back 9"},"Points",null,{"$f":"IF(P103<P100,Setup!$J$17,IF(P103=P100,Setup!$J$19,Setup!$J$18))","v":0},{"$f":"IF(Q103<Q100,Setup!$J$17,IF(Q103=Q100,Setup!$J$19,Setup!$J$18))","v":0},{"$f":"IF(R103<R100,Setup!$J$17,IF(R103=R100,Setup!$J$19,Setup!$J$18))","v":2},{"$f":"IF(S103<S100,Setup!$J$17,IF(S103=S100,Setup!$J$19,Setup!$J$18))","v":0},{"$f":"IF(T103<T100,Setup!$J$17,IF(T103=T100,Setup!$J$19,Setup!$J$18))","v":1},{"$f":"IF(U103<U100,Setup!$J$17,IF(U103=U100,Setup!$J$19,Setup!$J$18))","v":2},{"$f":"IF(V103<V100,Setup!$J$17,IF(V103=V100,Setup!$J$19,Setup!$J$18))","v":2},{"$f":"IF(W103<W100,Setup!$J$17,IF(W103=W100,Setup!$J$19,Setup!$J$18))","v":2},{"$f":"IF(X103<X100,Setup!$J$17,IF(X103=X100,Setup!$J$19,Setup!$J$18))","v":0},null,{"$f":"IF(Z105<Z98,Setup!$J$22,IF(Z105=Z98,Setup!$J$24,Setup!$J$23))","v":0},{"$f":"IF(AB102=\"P\",\"\",\"DNP\")","v":""},"P",null,null,null,null,null,2,{"$f":"VLOOKUP(AH102,GE_SideNames,2,FALSE)","v":"Back 9"},"Points",null,{"$f":"IF(AL103<AL100,Setup!$J$17,IF(AL103=AL100,Setup!$J$19,Setup!$J$18))","v":0},{"$f":"IF(AM103<AM100,Setup!$J$17,IF(AM103=AM100,Setup!$J$19,Setup!$J$18))","v":1},{"$f":"IF(AN103<AN100,Setup!$J$17,IF(AN103=AN100,Setup!$J$19,Setup!$J$18))","v":0},{"$f":"IF(AO103<AO100,Setup!$J$17,IF(AO103=AO100,Setup!$J$19,Setup!$J$18))","v":2},{"$f":"IF(AP103<AP100,Setup!$J$17,IF(AP103=AP100,Setup!$J$19,Setup!$J$18))","v":0},{"$f":"IF(AQ103<AQ100,Setup!$J$17,IF(AQ103=AQ100,Setup!$J$19,Setup!$J$18))","v":1},{"$f":"IF(AR103<AR100,Setup!$J$17,IF(AR103=AR100,Setup!$J$19,Setup!$J$18))","v":2},{"$f":"IF(AS103<AS100,Setup!$J$17,IF(AS103=AS100,Setup!$J$19,Setup!$J$18))","v":0},{"$f":"IF(AT103<AT100,Setup!$J$17,IF(AT103=AT100,Setup!$J$19,Setup!$J$18))","v":0},null,{"$f":"IF(AV105<AV98,Setup!$J$22,IF(AV105=AV98,Setup!$J$24,Setup!$J$23))","v":0},{"$f":"IF(AX102=\"P\",\"\",\"DNP\")","v":""},"P"]
["M",{"$f":"(AB99+AX99)&\"-\"&(AC99+AY99)&\"-\"&(AD99+AZ99)","v":"2-0-0"},null,{"$f":"AV98","v":38},"B Net",{"$f":"AV105","v":44},{"$f":"(AB104+AX104)&\"-\"&(AC104+AY104)&\"-\"&(AD104+AZ104)","v":"0-2-0"},"M",null,null,null,null,null,"Net",null,{"$f":"P105-P104","v":8},{"$f":"Q105-Q104","v":5},3,4,5,4,5,4,5,null,null,{"$f":"(AB105*Setup!$J$17)+(AC105*Setup!$J$18)+(AD105*Setup!$J$19)+(AB104*Setup!$J$22)+(AC104*Setup!$J$23)+(AD104*Setup!$J$24)","v":9},{"$f":"IF(AB102=\"D\",0,IF(F105=Setup!$J$27,1,0))","v":0},{"$f":"IF(AB102=\"D\",0,IF(F105=Setup!$J$28,1,0))","v":1},{"$f":"IF(AB102=\"D\",0,IF(F105=Setup!$J$29,1,0))","v":0},null,null,null,null,null,"Net",null,{"$f":"AL105-AL104","v":7},{"$f":"AM105-AM104","v":5},5,4,6,5,8,8,6,null,null,{"$f":"(AX105*Setup!$J$17)+(AY105*Setup!$J$18)+(AZ105*Setup!$J$19)+(AX104*Setup!$J$22)+(AY104*Setup!$J$23)+(AZ104*Setup!$J$24)","v":6}]
["T",{"$f":"(AB100)&\"-\"&(AC100)&\"-\"&(AD100)","v":"1-0-0"},null,{"$f":"D102+D103","v":74},"Total",{"$f":"F102+F103","v":81},{"$f":"(AB103)&\"-\"&(AC103)&\"-\"&(AD103)","v":"0-1-0"},"T",null,null,null,null,{"$f":"\"FT: \"&VLOOKUP(L104,GE_Player_ID_Name,2,FALSE)","v":{"$error":"#N/A"}},"Strokes",{"$f":"IF(O105>O98,O105-O98,0)","v":0},{"$f":"IF(O104>0,AE104+IF(AF104>=$P97,1,0),0)","v":0},{"$f":"IF(O104>0,AE104+IF(AF104>=$Q97,1,0),0)","v":0},{"$f":"IF(O104>0,AE104+IF(AF104>=$R97,1,0),0)","v":0},{"$f":"IF(O104>0,AE104+IF(AF104>=$S97,1,0),0)","v":0},{"$f":"IF(O104>0,AE104+IF(AF104>=$T97,1,0),0)","v":0},{"$f":"IF(O104>0,AE104+IF(AF104>=$U97,1,0),0)","v":0},{"$f":"IF(O104>0,AE104+IF(AF104>=$V97,1,0),0)","v":0},{"$f":"IF(O104>0,AE104+IF(AF104>=$W97,1,0),0)","v":0},{"$f":"IF(O104>0,AE104+IF(AF104>=$X97,1,0),0)","v":0},null,null,"Match",{"$f":"IF(AB102=\"D\",0,COUNTIF(Z102:Z102,Setup!$J$22))","v":0},{"$f":"IF(AB102=\"D\",0,COUNTIF(Z102:Z102,Setup!$J$23))","v":1},{"$f":"IF(AB102=\"D\",0,COUNTIF(Z102:Z102,Setup!$J$24))","v":0},{"$f":"IF(O104<9,0,IF(O104<18,1,IF(O104<27,2,3)))","v":0},{"$f":"IF(O104<9,O104,IF(O104<18,O104-9,IF(O104<27,8-18,IF(O104<36,O104-27,0))))","v":0},null,null,{"$f":"\"FT: \"&VLOOKUP(AH104,GE_Player_ID_Name,2,FALSE)","v":{"$error":"#N/A"}},"Strokes",{"$f":"IF(AK105>AK98,AK105-AK98,0)","v":0},{"$f":"IF(AK104>0,BA104+IF(BB104>=$AL97,1,0),0)","v":0},{"$f":"IF(AK104>0,BA104+IF(BB104>=$AM97,1,0),0)","v":0},{"$f":"IF(AK104>0,BA104+IF(BB104>=$AN97,1,0),0)","v":0},{"$f":"IF(AK104>0,BA104+IF(BB104>=$AO97,1,0),0)","v":0},{"$f":"IF(AK104>0,BA104+IF(BB104>=$AP97,1,0),0)","v":0},{"$f":"IF(AK104>0,BA104+IF(BB104>=$AQ97,1,0),0)","v":0},{"$f":"IF(AK104>0,BA104+IF(BB104>=$AR97,1,0),0)","v":0},{"$f":"IF(AK104>0,BA104+IF(BB104>=$AS97,1,0),0)","v":0},{"$f":"IF(AK104>0,BA104+IF(BB104>=$AT97,1,0),0)","v":0},null,null,"Match",{"$f":"IF(AX102=\"D\",0,COUNTIF(AV102:AV102,Setup!$J$22))","v":0},{"$f":"IF(AX102=\"D\",0,COUNTIF(AV102:AV102,Setup!$J$23))","v":1},{"$f":"IF(AX102=\"D\",0,COUNTIF(AV102:AV102,Setup!$J$24))","v":0},{"$f":"IF(AK104<9,0,IF(AK104<18,1,IF(AK104<27,2,3)))","v":0},{"$f":"IF(AK104<9,AK104,IF(AK104<18,AK104-9,IF(AK104<27,8-18,IF(AK104<36,AK104-27,0))))","v":0}]
[null,{"$f":"\"Match ID - \"&Setup!S50","v":"Match ID - 319"},null,{"$f":"IF(D104<F104,Setup!$J$27,IF(D104=F104,Setup!$J$29,Setup!$J$28))","v":6},"Points",{"$f":"IF(F104<D104,Setup!$J$27,IF(F104=D104,Setup!$J$29,Setup!$J$28))","v":0},null,null,null,null,null,77,{"$f":"VLOOKUP(L105,GE_Player_ID_Name,2,FALSE)","v":"Schock, Alex"},{"$f":"F97","v":34},{"$f":"ROUND(VLOOKUP(L105,GE_Player_ID_Stats,11,FALSE),0)","v":6},8,5,3,4,5,4,5,4,5,{"$f":"SUM(P105:X105)","v":43},{"$f":"Y105-O105","v":37},"Holes",{"$f":"IF(AB102=\"D\",0,COUNTIF(P102:X102,Setup!$J$17))","v":4},{"$f":"IF(AB102=\"D\",0,COUNTIF(P102:X102,Setup!$J$18))","v":4},{"$f":"IF(AB102=\"D\",0,COUNTIF(P102:X102,Setup!$J$19))","v":1},null,null,null,78,{"$f":"VLOOKUP(AH105,GE_Player_ID_Name,2,FALSE)","v":"Tenkman, Carl"},{"$f":"F97","v":34},{"$f":"ROUND(VLOOKUP(AH105,GE_Player_ID_Stats,11,FALSE),0)","v":10},7,5,5,4,6,5,8,8,6,{"$f":"SUM(AL105:AT105)","v":54},{"$f":"AU105-AK105","v":44},"Holes",{"$f":"IF(AX102=\"D\",0,COUNTIF(AL102:AT102,Setup!$J$17))","v":2},{"$f":"IF(AX102=\"D\",0,COUNTIF(AL102:AT102,Setup!$J$18))","v":5},{"$f":"IF(AX102=\"D\",0,COUNTIF(AL102:AT102,Setup!$J$19))","v":2}]

{"sheet":"Golfers","index":2,"n_rows":100,"n_cols":64,"rows_kept":100,"cut":false,"hidden":false,"merged":[]}
["Golfer ID","Golfer Name","PID Repeat","Type","Rounds","L6 Tot","L6 Count","Min","Max","L6 Net","L6 Den","Average","Handicap","Holes Won","Holes Lost","Holes Tied","Match Won","Match Lost","Match Tied","Sub Points","Total Points","Eagles","Birdies","Pars","W01","L6-01","W02","L6-02","W03","L6-03","W04","L6-04","W05","L6-05","W06","L6-06","W07","L6-07","W08","L6-08","W09","L6-09","W10","L6-10","W11","L6-11","W12","L6-12","W13","L6-13","W14","L6-14","W15","L6-15","W16","L6-16","W17","L6-17","W18","L6-18","W19","L6-19","W20","L6-20"]
[77,"Schock, Alex",{"$f":"A2","v":77},"R",{"$f":"COUNTA(Y2,AA2,AC2,AE2,AG2,AI2,AK2,AM2,AO2,AQ2,AS2,AU2,AW2,AY2,BA2,BC2,BE2,BG2,BI2,BK2)","v":4},{"$f":"SUM(Z2,AB2,AD2,AF2,AH2,AJ2,AL2,AN2,AP2,AR2,AT2,AV2,AX2,AZ2,BB2,BD2,BF2,BH2,BJ2,BL2)","v":170},{"$f":"COUNTA(Z2,AB2,AD2,AF2,AH2,AJ2,AL2,AN2,AP2,AR2,AT2,AV2,AX2,AZ2,BB2,BD2,BF2,BH2,BJ2,BL2)","v":4},{"$f":"IF(G2>=6,MIN(Z2,AB2,AD2,AF2,AH2,AJ2,AL2,AN2,AP2,AR2,AT2,AV2,AX2,AZ2,BB2,BD2,BF2,BH2,BJ2,BL2),0)","v":0},{"$f":"IF(G2>=6,MAX(Z2,AB2,AD2,AF2,AH2,AJ2,AL2,AN2,AP2,AR2,AT2,AV2,AX2,AZ2,BB2,BD2,BF2,BH2,BJ2,BL2),0)","v":0},{"$f":"(F2-(H2+I2))","v":170},{"$f":"IF(G2>=6,G2-2,G2)","v":4},{"$f":"IF(K2=0,0,(F2-(H2+I2))/K2)","v":42.5},{"$f":"IF(K2=0,0,(L2-35)*0.8)","v":6},{"$f":"SUMIF('X-DSP-ALL'!$E$2:$E$883,A2,'X-DSP-ALL'!$L$2:$L$883)","v":14},{"$f":"SUMIF('X-DSP-ALL'!$E$2:$E$883,A2,'X-DSP-ALL'!$M$2:$M$883)","v":14},{"$f":"SUMIF('X-DSP-ALL'!$E$2:$E$883,A2,'X-DSP-ALL'!$N$2:$N$883)","v":8},{"$f":"SUMIF('X-DSP-ALL'!$E$2:$E$883,A2,'X-DSP-ALL'!$O$2:$O$883)","v":2},{"$f":"SUMIF('X-DSP-ALL'!$E$2:$E$883,A2,'X-DSP-ALL'!$P$2:$P$883)","v":2},{"$f":"SUMIF('X-DSP-ALL'!$E$2:$E$883,A2,'X-DSP-ALL'!$Q$2:$Q$883)","v":0},{"$f":"IF(A2=0,0,SUMIF('X-DSP-ALL'!$F$2:$F$883,A2,'X-DSP-ALL'!$BE$2:$BE$883))","v":0},{"$f":"IF(A2=0,0,(N2*Setup!$J$17)+(O2*Setup!$J$18)+(P2*Setup!$J$19)+(Q2*Setup!$J$22)+(R2*Setup!$J$23)+(S2*Setup!$J$24)+(T2))","v":44},{"$f":"SUMIF('X-DSP-ALL'!$E$2:$E$883,A2,'X-DSP-ALL'!$BO$2:$BO$883)","v":0},{"$f":"SUMIF('X-DSP-ALL'!$E$2:$E$883,A2,'X-DSP-ALL'!$BP$2:$BP$883)","v":2},{"$f":"SUMIF('X-DSP-ALL'!$E$2:$E$883,A2,'X-DSP-ALL'!$BQ$2:$BQ$883)","v":16},41,41,42,42,44,44,43,43]
[78,"Tenkman, Carl",{"$f":"A3","v":78},"R",4,188,4,0,0,{"$f":"(F3-(H3+I3))","v":188},{"$f":"IF(G3>=6,G3-2,G3)","v":4},{"$f":"IF(K3=0,0,(F3-(H3+I3))/K3)","v":47},{"$f":"IF(K3=0,0,(L3-35)*0.8)","v":9.6000000000000014},{"$f":"SUMIF('X-DSP-ALL'!$E$2:$E$883,A3,'X-DSP-ALL'!$L$2:$L$883)","v":9},{"$f":"SUMIF('X-DSP-ALL'!$E$2:$E$883,A3,'X-DSP-ALL'!$M$2:$M$883)","v":17},{"$f":"SUMIF('X-DSP-ALL'!$E$2:$E$883,A3,'X-DSP-ALL'!$N$2:$N$883)","v":10},{"$f":"SUMIF('X-DSP-ALL'!$E$2:$E$883,A3,'X-DSP-ALL'!$O$2:$O$883)","v":1},{"$f":"SUMIF('X-DSP-ALL'!$E$2:$E$883,A3,'X-DSP-ALL'!$P$2:$P$883)","v":3},{"$f":"SUMIF('X-DSP-ALL'!$E$2:$E$883,A3,'X-DSP-ALL'!$Q$2:$Q$883)","v":0},{"$f":"IF(A3=0,0,SUMIF('X-DSP-ALL'!$F$2:$F$883,A3,'X-DSP-ALL'!$BE$2:$BE$883))","v":0},{"$f":"IF(A3=0,0,(N3*Setup!$J$17)+(O3*Setup!$J$18)+(P3*Setup!$J$19)+(Q3*Setup!$J$22)+(R3*Setup!$J$23)+(S3*Setup!$J$24)+(T3))","v":32},{"$f":"SUMIF('X-DSP-ALL'!$E$2:$E$883,A3,'X-DSP-ALL'!$BO$2:$BO$883)","v":0},{"$f":"SUMIF('X-DSP-ALL'!$E$2:$E$883,A3,'X-DSP-ALL'!$BP$2:$BP$883)","v":0},{"$f":"SUMIF('X-DSP-ALL'!$E$2:$E$883,A3,'X-DSP-ALL'!$BQ$2:$BQ$883)","v":12},42,42,45,45,47,47,54,54]
[79,"Hobek, Bill",79,"R",4,187,4,0,0,187,4,46.75,9.4,{"$f":"SUMIF('X-DSP-ALL'!$E$2:$E$883,A4,'X-DSP-ALL'!$L$2:$L$883)","v":14},{"$f":"SUMIF('X-DSP-ALL'!$E$2:$E$883,A4,'X-DSP-ALL'!$M$2:$M$883)","v":10},{"$f":"SUMIF('X-DSP-ALL'!$E$2:$E$883,A4,'X-DSP-ALL'!$N$2:$N$883)","v":12},{"$f":"SUMIF('X-DSP-ALL'!$E$2:$E$883,A4,'X-DSP-ALL'!$O$2:$O$883)","v":3},{"$f":"SUMIF('X-DSP-ALL'!$E$2:$E$883,A4,'X-DSP-ALL'!$P$2:$P$883)","v":1},{"$f":"SUMIF('X-DSP-ALL'!$E$2:$E$883,A4,'X-DSP-ALL'!$Q$2:$Q$883)","v":0},{"$f":"IF(A4=0,0,SUMIF('X-DSP-ALL'!$F$2:$F$883,A4,'X-DSP-ALL'!$BE$2:$BE$883))","v":0},{"$f":"IF(A4=0,0,(N4*Setup!$J$17)+(O4*Setup!$J$18)+(P4*Setup!$J$19)+(Q4*Setup!$J$22)+(R4*Setup!$J$23)+(S4*Setup!$J$24)+(T4))","v":52},{"$f":"SUMIF('X-DSP-ALL'!$E$2:$E$883,A4,'X-DSP-ALL'!$BO$2:$BO$883)","v":0},{"$f":"SUMIF('X-DSP-ALL'!$E$2:$E$883,A4,'X-DSP-ALL'!$BP$2:$BP$883)","v":0},{"$f":"SUMIF('X-DSP-ALL'!$E$2:$E$883,A4,'X-DSP-ALL'!$BQ$2:$BQ$883)","v":10},48,48,42,42,53,53,44,44]
[80,"Coop, John",80,"R",3,164,3,0,0,164,3,54.666666666666664,15.733333333333333,{"$f":"SUMIF('X-DSP-ALL'!$E$2:$E$883,A5,'X-DSP-ALL'!$L$2:$L$883)","v":10},{"$f":"SUMIF('X-DSP-ALL'!$E$2:$E$883,A5,'X-DSP-ALL'!$M$2:$M$883)","v":9},{"$f":"SUMIF('X-DSP-ALL'!$E$2:$E$883,A5,'X-DSP-ALL'!$N$2:$N$883)","v":8},{"$f":"SUMIF('X-DSP-ALL'!$E$2:$E$883,A5,'X-DSP-ALL'!$O$2:$O$883)","v":3},{"$f":"SUMIF('X-DSP-ALL'!$E$2:$E$883,A5,'X-DSP-ALL'!$P$2:$P$883)","v":0},{"$f":"SUMIF('X-DSP-ALL'!$E$2:$E$883,A5,'X-DSP-ALL'!$Q$2:$Q$883)","v":0},{"$f":"IF(A5=0,0,SUMIF('X-DSP-ALL'!$F$2:$F$883,A5,'X-DSP-ALL'!$BE$2:$BE$883))","v":21},{"$f":"IF(A5=0,0,(N5*Setup!$J$17)+(O5*Setup!$J$18)+(P5*Setup!$J$19)+(Q5*Setup!$J$22)+(R5*Setup!$J$23)+(S5*Setup!$J$24)+(T5))","v":61},{"$f":"SUMIF('X-DSP-ALL'!$E$2:$E$883,A5,'X-DSP-ALL'!$BO$2:$BO$883)","v":0},{"$f":"SUMIF('X-DSP-ALL'!$E$2:$E$883,A5,'X-DSP-ALL'!$BP$2:$BP$883)","v":0},{"$f":"SUMIF('X-DSP-ALL'!$E$2:$E$883,A5,'X-DSP-ALL'!$BQ$2:$BQ$883)","v":1},57,57,54,54,53,53]
[81,"Dehner, Bob",81,"R",4,224,4,0,0,224,4,56,16.8,{"$f":"SUMIF('X-DSP-ALL'!$E$2:$E$883,A6,'X-DSP-ALL'!$L$2:$L$883)","v":13},{"$f":"SUMIF('X-DSP-ALL'!$E$2:$E$883,A6,'X-DSP-ALL'!$M$2:$M$883)","v":14},{"$f":"SUMIF('X-DSP-ALL'!$E$2:$E$883,A6,'X-DSP-ALL'!$N$2:$N$883)","v":9},{"$f":"SUMIF('X-DSP-ALL'!$E$2:$E$883,A6,'X-DSP-ALL'!$O$2:$O$883)","v":1},{"$f":"SUMIF('X-DSP-ALL'!$E$2:$E$883,A6,'X-DSP-ALL'!$P$2:$P$883)","v":2},{"$f":"SUMIF('X-DSP-ALL'!$E$2:$E$883,A6,'X-DSP-ALL'!$Q$2:$Q$883)","v":1},{"$f":"IF(A6=0,0,SUMIF('X-DSP-ALL'!$F$2:$F$883,A6,'X-DSP-ALL'!$BE$2:$BE$883))","v":0},{"$f":"IF(A6=0,0,(N6*Setup!$J$17)+(O6*Setup!$J$18)+(P6*Setup!$J$19)+(Q6*Setup!$J$22)+(R6*Setup!$J$23)+(S6*Setup!$J$24)+(T6))","v":41},{"$f":"SUMIF('X-DSP-ALL'!$E$2:$E$883,A6,'X-DSP-ALL'!$BO$2:$BO$883)","v":0},{"$f":"SUMIF('X-DSP-ALL'!$E$2:$E$883,A6,'X-DSP-ALL'!$BP$2:$BP$883)","v":0},{"$f":"SUMIF('X-DSP-ALL'!$E$2:$E$883,A6,'X-DSP-ALL'!$BQ$2:$BQ$883)","v":3},51,51,55,55,62,62,56,56]
[82,"Upchurch, Mike",82,"R",4,197,4,0,0,197,4,49.25,11.4,{"$f":"SUMIF('X-DSP-ALL'!$E$2:$E$883,A7,'X-DSP-ALL'!$L$2:$L$883)","v":13},{"$f":"SUMIF('X-DSP-ALL'!$E$2:$E$883,A7,'X-DSP-ALL'!$M$2:$M$883)","v":9},{"$f":"SUMIF('X-DSP-ALL'!$E$2:$E$883,A7,'X-DSP-ALL'!$N$2:$N$883)","v":14},{"$f":"SUMIF('X-DSP-ALL'!$E$2:$E$883,A7,'X-DSP-ALL'!$O$2:$O$883)","v":1},{"$f":"SUMIF('X-DSP-ALL'!$E$2:$E$883,A7,'X-DSP-ALL'!$P$2:$P$883)","v":1},{"$f":"SUMIF('X-DSP-ALL'!$E$2:$E$883,A7,'X-DSP-ALL'!$Q$2:$Q$883)","v":2},{"$f":"IF(A7=0,0,SUMIF('X-DSP-ALL'!$F$2:$F$883,A7,'X-DSP-ALL'!$BE$2:$BE$883))","v":0},{"$f":"IF(A7=0,0,(N7*Setup!$J$17)+(O7*Setup!$J$18)+(P7*Setup!$J$19)+(Q7*Setup!$J$22)+(R7*Setup!$J$23)+(S7*Setup!$J$24)+(T7))","v":48},{"$f":"SUMIF('X-DSP-ALL'!$E$2:$E$883,A7,'X-DSP-ALL'!$BO$2:$BO$883)","v":0},{"$f":"SUMIF('X-DSP-ALL'!$E$2:$E$883,A7,'X-DSP-ALL'!$BP$2:$BP$883)","v":0},{"$f":"SUMIF('X-DSP-ALL'!$E$2:$E$883,A7,'X-DSP-ALL'!$BQ$2:$BQ$883)","v":5},50,50,49,49,51,51,47,47]
[83,"Upchurch, Nancy",83,"R",0,0,0,0,0,0,0,0,0,{"$f":"SUMIF('X-DSP-ALL'!$E$2:$E$883,A8,'X-DSP-ALL'!$L$2:$L$883)","v":0},{"$f":"SUMIF('X-DSP-ALL'!$E$2:$E$883,A8,'X-DSP-ALL'!$M$2:$M$883)","v":0},{"$f":"SUMIF('X-DSP-ALL'!$E$2:$E$883,A8,'X-DSP-ALL'!$N$2:$N$883)","v":0},{"$f":"SUMIF('X-DSP-ALL'!$E$2:$E$883,A8,'X-DSP-ALL'!$O$2:$O$883)","v":0},{"$f":"SUMIF('X-DSP-ALL'!$E$2:$E$883,A8,'X-DSP-ALL'!$P$2:$P$883)","v":0},{"$f":"SUMIF('X-DSP-ALL'!$E$2:$E$883,A8,'X-DSP-ALL'!$Q$2:$Q$883)","v":0},{"$f":"IF(A8=0,0,SUMIF('X-DSP-ALL'!$F$2:$F$883,A8,'X-DSP-ALL'!$BE$2:$BE$883))","v":0},{"$f":"IF(A8=0,0,(N8*Setup!$J$17)+(O8*Setup!$J$18)+(P8*Setup!$J$19)+(Q8*Setup!$J$22)+(R8*Setup!$J$23)+(S8*Setup!$J$24)+(T8))","v":0},{"$f":"SUMIF('X-DSP-ALL'!$E$2:$E$883,A8,'X-DSP-ALL'!$BO$2:$BO$883)","v":0},{"$f":"SUMIF('X-DSP-ALL'!$E$2:$E$883,A8,'X-DSP-ALL'!$BP$2:$BP$883)","v":0},{"$f":"SUMIF('X-DSP-ALL'!$E$2:$E$883,A8,'X-DSP-ALL'!$BQ$2:$BQ$883)","v":0}]
[84,"Gavin, Steve",84,"R",0,0,0,0,0,0,0,0,0,{"$f":"SUMIF('X-DSP-ALL'!$E$2:$E$883,A9,'X-DSP-ALL'!$L$2:$L$883)","v":0},{"$f":"SUMIF('X-DSP-ALL'!$E$2:$E$883,A9,'X-DSP-ALL'!$M$2:$M$883)","v":0},{"$f":"SUMIF('X-DSP-ALL'!$E$2:$E$883,A9,'X-DSP-ALL'!$N$2:$N$883)","v":0},{"$f":"SUMIF('X-DSP-ALL'!$E$2:$E$883,A9,'X-DSP-ALL'!$O$2:$O$883)","v":0},{"$f":"SUMIF('X-DSP-ALL'!$E$2:$E$883,A9,'X-DSP-ALL'!$P$2:$P$883)","v":0},{"$f":"SUMIF('X-DSP-ALL'!$E$2:$E$883,A9,'X-DSP-ALL'!$Q$2:$Q$883)","v":0},{"$f":"IF(A9=0,0,SUMIF('X-DSP-ALL'!$F$2:$F$883,A9,'X-DSP-ALL'!$BE$2:$BE$883))","v":0},{"$f":"IF(A9=0,0,(N9*Setup!$J$17)+(O9*Setup!$J$18)+(P9*Setup!$J$19)+(Q9*Setup!$J$22)+(R9*Setup!$J$23)+(S9*Setup!$J$24)+(T9))","v":0},{"$f":"SUMIF('X-DSP-ALL'!$E$2:$E$883,A9,'X-DSP-ALL'!$BO$2:$BO$883)","v":0},{"$f":"SUMIF('X-DSP-ALL'!$E$2:$E$883,A9,'X-DSP-ALL'!$BP$2:$BP$883)","v":0},{"$f":"SUMIF('X-DSP-ALL'!$E$2:$E$883,A9,'X-DSP-ALL'!$BQ$2:$BQ$883)","v":0}]
[85,"Fry, Charles",85,"R",3,191,3,0,0,191,3,63.666666666666664,22.933333333333334,{"$f":"SUMIF('X-DSP-ALL'!$E$2:$E$883,A10,'X-DSP-ALL'!$L$2:$L$883)","v":6},{"$f":"SUMIF('X-DSP-ALL'!$E$2:$E$883,A10,'X-DSP-ALL'!$M$2:$M$883)","v":15},{"$f":"SUMIF('X-DSP-ALL'!$E$2:$E$883,A10,'X-DSP-ALL'!$N$2:$N$883)","v":6},{"$f":"SUMIF('X-DSP-ALL'!$E$2:$E$883,A10,'X-DSP-ALL'!$O$2:$O$883)","v":0},{"$f":"SUMIF('X-DSP-ALL'!$E$2:$E$883,A10,'X-DSP-ALL'!$P$2:$P$883)","v":3},{"$f":"SUMIF('X-DSP-ALL'!$E$2:$E$883,A10,'X-DSP-ALL'!$Q$2:$Q$883)","v":0},{"$f":"IF(A10=0,0,SUMIF('X-DSP-ALL'!$F$2:$F$883,A10,'X-DSP-ALL'!$BE$2:$BE$883))","v":0},{"$f":"IF(A10=0,0,(N10*Setup!$J$17)+(O10*Setup!$J$18)+(P10*Setup!$J$19)+(Q10*Setup!$J$22)+(R10*Setup!$J$23)+(S10*Setup!$J$24)+(T10))","v":18},{"$f":"SUMIF('X-DSP-ALL'!$E$2:$E$883,A10,'X-DSP-ALL'!$BO$2:$BO$883)","v":0},{"$f":"SUMIF('X-DSP-ALL'!$E$2:$E$883,A10,'X-DSP-ALL'!$BP$2:$BP$883)","v":0},{"$f":"SUMIF('X-DSP-ALL'!$E$2:$E$883,A10,'X-DSP-ALL'!$BQ$2:$BQ$883)","v":0},65,65,61,61,65,65]
[86,"Goetz, Rob",86,"R",2,122,2,0,0,122,2,61,20.8,{"$f":"SUMIF('X-DSP-ALL'!$E$2:$E$883,A11,'X-DSP-ALL'!$L$2:$L$883)","v":5},{"$f":"SUMIF('X-DSP-ALL'!$E$2:$E$883,A11,'X-DSP-ALL'!$M$2:$M$883)","v":9},{"$f":"SUMIF('X-DSP-ALL'!$E$2:$E$883,A11,'X-DSP-ALL'!$N$2:$N$883)","v":4},{"$f":"SUMIF('X-DSP-ALL'!$E$2:$E$883,A11,'X-DSP-ALL'!$O$2:$O$883)","v":0},{"$f":"SUMIF('X-DSP-ALL'!$E$2:$E$883,A11,'X-DSP-ALL'!$P$2:$P$883)","v":2},{"$f":"SUMIF('X-DSP-ALL'!$E$2:$E$883,A11,'X-DSP-ALL'!$Q$2:$Q$883)","v":0},{"$f":"IF(A11=0,0,SUMIF('X-DSP-ALL'!$F$2:$F$883,A11,'X-DSP-ALL'!$BE$2:$BE$883))","v":17},{"$f":"IF(A11=0,0,(N11*Setup!$J$17)+(O11*Setup!$J$18)+(P11*Setup!$J$19)+(Q11*Setup!$J$22)+(R11*Setup!$J$23)+(S11*Setup!$J$24)+(T11))","v":31},{"$f":"SUMIF('X-DSP-ALL'!$E$2:$E$883,A11,'X-DSP-ALL'!$BO$2:$BO$883)","v":0},{"$f":"SUMIF('X-DSP-ALL'!$E$2:$E$883,A11,'X-DSP-ALL'!$BP$2:$BP$883)","v":0},{"$f":"SUMIF('X-DSP-ALL'!$E$2:$E$883,A11,'X-DSP-ALL'!$BQ$2:$BQ$883)","v":0},62,62,60,60]
[87,"Goetz, Matt",87,"R",2,108,2,0,0,108,2,54,15.200000000000001,{"$f":"SUMIF('X-DSP-ALL'!$E$2:$E$883,A12,'X-DSP-ALL'!$L$2:$L$883)","v":5},{"$f":"SUMIF('X-DSP-ALL'!$E$2:$E$883,A12,'X-DSP-ALL'!$M$2:$M$883)","v":8},{"$f":"SUMIF('X-DSP-ALL'!$E$2:$E$883,A12,'X-DSP-ALL'!$N$2:$N$883)","v":5},{"$f":"SUMIF('X-DSP-ALL'!$E$2:$E$883,A12,'X-DSP-ALL'!$O$2:$O$883)","v":0},{"$f":"SUMIF('X-DSP-ALL'!$E$2:$E$883,A12,'X-DSP-ALL'!$P$2:$P$883)","v":1},{"$f":"SUMIF('X-DSP-ALL'!$E$2:$E$883,A12,'X-DSP-ALL'!$Q$2:$Q$883)","v":1},{"$f":"IF(A12=0,0,SUMIF('X-DSP-ALL'!$F$2:$F$883,A12,'X-DSP-ALL'!$BE$2:$BE$883))","v":0},{"$f":"IF(A12=0,0,(N12*Setup!$J$17)+(O12*Setup!$J$18)+(P12*Setup!$J$19)+(Q12*Setup!$J$22)+(R12*Setup!$J$23)+(S12*Setup!$J$24)+(T12))","v":17},{"$f":"SUMIF('X-DSP-ALL'!$E$2:$E$883,A12,'X-DSP-ALL'!$BO$2:$BO$883)","v":0},{"$f":"SUMIF('X-DSP-ALL'!$E$2:$E$883,A12,'X-DSP-ALL'!$BP$2:$BP$883)","v":0},{"$f":"SUMIF('X-DSP-ALL'!$E$2:$E$883,A12,'X-DSP-ALL'!$BQ$2:$BQ$883)","v":0},null,null,null,null,54,54,54,54]
[88,"Bridwell, Glen",88,"R",2,90,2,0,0,90,2,45,8,{"$f":"SUMIF('X-DSP-ALL'!$E$2:$E$883,A13,'X-DSP-ALL'!$L$2:$L$883)","v":6},{"$f":"SUMIF('X-DSP-ALL'!$E$2:$E$883,A13,'X-DSP-ALL'!$M$2:$M$883)","v":7},{"$f":"SUMIF('X-DSP-ALL'!$E$2:$E$883,A13,'X-DSP-ALL'!$N$2:$N$883)","v":5},{"$f":"SUMIF('X-DSP-ALL'!$E$2:$E$883,A13,'X-DSP-ALL'!$O$2:$O$883)","v":0},{"$f":"SUMIF('X-DSP-ALL'!$E$2:$E$883,A13,'X-DSP-ALL'!$P$2:$P$883)","v":0},{"$f":"SUMIF('X-DSP-ALL'!$E$2:$E$883,A13,'X-DSP-ALL'!$Q$2:$Q$883)","v":2},{"$f":"IF(A13=0,0,SUMIF('X-DSP-ALL'!$F$2:$F$883,A13,'X-DSP-ALL'!$BE$2:$BE$883))","v":16},{"$f":"IF(A13=0,0,(N13*Setup!$J$17)+(O13*Setup!$J$18)+(P13*Setup!$J$19)+(Q13*Setup!$J$22)+(R13*Setup!$J$23)+(S13*Setup!$J$24)+(T13))","v":37},{"$f":"SUMIF('X-DSP-ALL'!$E$2:$E$883,A13,'X-DSP-ALL'!$BO$2:$BO$883)","v":0},{"$f":"SUMIF('X-DSP-ALL'!$E$2:$E$883,A13,'X-DSP-ALL'!$BP$2:$BP$883)","v":1},{"$f":"SUMIF('X-DSP-ALL'!$E$2:$E$883,A13,'X-DSP-ALL'!$BQ$2:$BQ$883)","v":3},44,44,null,null,null,null,46,46]
[89,"Jonovski, Mendo",89,"R",2,114,2,0,0,114,2,57,17.600000000000001,{"$f":"SUMIF('X-DSP-ALL'!$E$2:$E$883,A14,'X-DSP-ALL'!$L$2:$L$883)","v":5},{"$f":"SUMIF('X-DSP-ALL'!$E$2:$E$883,A14,'X-DSP-ALL'!$M$2:$M$883)","v":8},{"$f":"SUMIF('X-DSP-ALL'!$E$2:$E$883,A14,'X-DSP-ALL'!$N$2:$N$883)","v":5},{"$f":"SUMIF('X-DSP-ALL'!$E$2:$E$883,A14,'X-DSP-ALL'!$O$2:$O$883)","v":0},{"$f":"SUMIF('X-DSP-ALL'!$E$2:$E$883,A14,'X-DSP-ALL'!$P$2:$P$883)","v":1},{"$f":"SUMIF('X-DSP-ALL'!$E$2:$E$883,A14,'X-DSP-ALL'!$Q$2:$Q$883)","v":1},{"$f":"IF(A14=0,0,SUMIF('X-DSP-ALL'!$F$2:$F$883,A14,'X-DSP-ALL'!$BE$2:$BE$883))","v":15},{"$f":"IF(A14=0,0,(N14*Setup!$J$17)+(O14*Setup!$J$18)+(P14*Setup!$J$19)+(Q14*Setup!$J$22)+(R14*Setup!$J$23)+(S14*Setup!$J$24)+(T14))","v":32},{"$f":"SUMIF('X-DSP-ALL'!$E$2:$E$883,A14,'X-DSP-ALL'!$BO$2:$BO$883)","v":0},{"$f":"SUMIF('X-DSP-ALL'!$E$2:$E$883,A14,'X-DSP-ALL'!$BP$2:$BP$883)","v":0},{"$f":"SUMIF('X-DSP-ALL'!$E$2:$E$883,A14,'X-DSP-ALL'!$BQ$2:$BQ$883)","v":0},null,null,55,55,null,null,59,59]
[90,"Johnson, Mike",90,"R",2,127,2,0,0,127,2,63.5,22.8,{"$f":"SUMIF('X-DSP-ALL'!$E$2:$E$883,A15,'X-DSP-ALL'!$L$2:$L$883)","v":7},{"$f":"SUMIF('X-DSP-ALL'!$E$2:$E$883,A15,'X-DSP-ALL'!$M$2:$M$883)","v":7},{"$f":"SUMIF('X-DSP-ALL'!$E$2:$E$883,A15,'X-DSP-ALL'!$N$2:$N$883)","v":4},{"$f":"SUMIF('X-DSP-ALL'!$E$2:$E$883,A15,'X-DSP-ALL'!$O$2:$O$883)","v":0},{"$f":"SUMIF('X-DSP-ALL'!$E$2:$E$883,A15,'X-DSP-ALL'!$P$2:$P$883)","v":2},{"$f":"SUMIF('X-DSP-ALL'!$E$2:$E$883,A15,'X-DSP-ALL'!$Q$2:$Q$883)","v":0},{"$f":"IF(A15=0,0,SUMIF('X-DSP-ALL'!$F$2:$F$883,A15,'X-DSP-ALL'!$BE$2:$BE$883))","v":0},{"$f":"IF(A15=0,0,(N15*Setup!$J$17)+(O15*Setup!$J$18)+(P15*Setup!$J$19)+(Q15*Setup!$J$22)+(R15*Setup!$J$23)+(S15*Setup!$J$24)+(T15))","v":18},{"$f":"SUMIF('X-DSP-ALL'!$E$2:$E$883,A15,'X-DSP-ALL'!$BO$2:$BO$883)","v":0},{"$f":"SUMIF('X-DSP-ALL'!$E$2:$E$883,A15,'X-DSP-ALL'!$BP$2:$BP$883)","v":0},{"$f":"SUMIF('X-DSP-ALL'!$E$2:$E$883,A15,'X-DSP-ALL'!$BQ$2:$BQ$883)","v":0},61,61,null,null,66,66]
[91,"Jonovski, Mire",91,"R",2,120,2,0,0,120,2,60,20,{"$f":"SUMIF('X-DSP-ALL'!$E$2:$E$883,A16,'X-DSP-ALL'!$L$2:$L$883)","v":4},{"$f":"SUMIF('X-DSP-ALL'!$E$2:$E$883,A16,'X-DSP-ALL'!$M$2:$M$883)","v":9},{"$f":"SUMIF('X-DSP-ALL'!$E$2:$E$883,A16,'X-DSP-ALL'!$N$2:$N$883)","v":5},{"$f":"SUMIF('X-DSP-ALL'!$E$2:$E$883,A16,'X-DSP-ALL'!$O$2:$O$883)","v":0},{"$f":"SUMIF('X-DSP-ALL'!$E$2:$E$883,A16,'X-DSP-ALL'!$P$2:$P$883)","v":2},{"$f":"SUMIF('X-DSP-ALL'!$E$2:$E$883,A16,'X-DSP-ALL'!$Q$2:$Q$883)","v":0},{"$f":"IF(A16=0,0,SUMIF('X-DSP-ALL'!$F$2:$F$883,A16,'X-DSP-ALL'!$BE$2:$BE$883))","v":0},{"$f":"IF(A16=0,0,(N16*Setup!$J$17)+(O16*Setup!$J$18)+(P16*Setup!$J$19)+(Q16*Setup!$J$22)+(R16*Setup!$J$23)+(S16*Setup!$J$24)+(T16))","v":13},{"$f":"SUMIF('X-DSP-ALL'!$E$2:$E$883,A16,'X-DSP-ALL'!$BO$2:$BO$883)","v":0},{"$f":"SUMIF('X-DSP-ALL'!$E$2:$E$883,A16,'X-DSP-ALL'!$BP$2:$BP$883)","v":0},{"$f":"SUMIF('X-DSP-ALL'!$E$2:$E$883,A16,'X-DSP-ALL'!$BQ$2:$BQ$883)","v":1},null,null,61,61,59,59]
[92,"Hanna, Dave",92,"R",1,56,1,0,0,56,1,56,16.8,{"$f":"SUMIF('X-DSP-ALL'!$E$2:$E$883,A17,'X-DSP-ALL'!$L$2:$L$883)","v":0},{"$f":"SUMIF('X-DSP-ALL'!$E$2:$E$883,A17,'X-DSP-ALL'!$M$2:$M$883)","v":0},{"$f":"SUMIF('X-DSP-ALL'!$E$2:$E$883,A17,'X-DSP-ALL'!$N$2:$N$883)","v":0},{"$f":"SUMIF('X-DSP-ALL'!$E$2:$E$883,A17,'X-DSP-ALL'!$O$2:$O$883)","v":0},{"$f":"SUMIF('X-DSP-ALL'!$E$2:$E$883,A17,'X-DSP-ALL'!$P$2:$P$883)","v":0},{"$f":"SUMIF('X-DSP-ALL'!$E$2:$E$883,A17,'X-DSP-ALL'!$Q$2:$Q$883)","v":0},{"$f":"IF(A17=0,0,SUMIF('X-DSP-ALL'!$F$2:$F$883,A17,'X-DSP-ALL'!$BE$2:$BE$883))","v":28},{"$f":"IF(A17=0,0,(N17*Setup!$J$17)+(O17*Setup!$J$18)+(P17*Setup!$J$19)+(Q17*Setup!$J$22)+(R17*Setup!$J$23)+(S17*Setup!$J$24)+(T17))","v":28},{"$f":"SUMIF('X-DSP-ALL'!$E$2:$E$883,A17,'X-DSP-ALL'!$BO$2:$BO$883)","v":0},{"$f":"SUMIF('X-DSP-ALL'!$E$2:$E$883,A17,'X-DSP-ALL'!$BP$2:$BP$883)","v":0},{"$f":"SUMIF('X-DSP-ALL'!$E$2:$E$883,A17,'X-DSP-ALL'!$BQ$2:$BQ$883)","v":1},null,null,null,null,56,56]
[93,"Shoaf, Joe",93,"R",2,120,2,0,0,120,2,60,20,{"$f":"SUMIF('X-DSP-ALL'!$E$2:$E$883,A18,'X-DSP-ALL'!$L$2:$L$883)","v":3},{"$f":"SUMIF('X-DSP-ALL'!$E$2:$E$883,A18,'X-DSP-ALL'!$M$2:$M$883)","v":3},{"$f":"SUMIF('X-DSP-ALL'!$E$2:$E$883,A18,'X-DSP-ALL'!$N$2:$N$883)","v":3},{"$f":"SUMIF('X-DSP-ALL'!$E$2:$E$883,A18,'X-DSP-ALL'!$O$2:$O$883)","v":0},{"$f":"SUMIF('X-DSP-ALL'!$E$2:$E$883,A18,'X-DSP-ALL'!$P$2:$P$883)","v":1},{"$f":"SUMIF('X-DSP-ALL'!$E$2:$E$883,A18,'X-DSP-ALL'!$Q$2:$Q$883)","v":0},{"$f":"IF(A18=0,0,SUMIF('X-DSP-ALL'!$F$2:$F$883,A18,'X-DSP-ALL'!$BE$2:$BE$883))","v":22},{"$f":"IF(A18=0,0,(N18*Setup!$J$17)+(O18*Setup!$J$18)+(P18*Setup!$J$19)+(Q18*Setup!$J$22)+(R18*Setup!$J$23)+(S18*Setup!$J$24)+(T18))","v":31},{"$f":"SUMIF('X-DSP-ALL'!$E$2:$E$883,A18,'X-DSP-ALL'!$BO$2:$BO$883)","v":0},{"$f":"SUMIF('X-DSP-ALL'!$E$2:$E$883,A18,'X-DSP-ALL'!$BP$2:$BP$883)","v":0},{"$f":"SUMIF('X-DSP-ALL'!$E$2:$E$883,A18,'X-DSP-ALL'!$BQ$2:$BQ$883)","v":0},60,60,null,null,null,null,60,60]
[94,"Kern, Rick",94,"R",2,105,2,0,0,105,2,52.5,14,{"$f":"SUMIF('X-DSP-ALL'!$E$2:$E$883,A19,'X-DSP-ALL'!$L$2:$L$883)","v":7},{"$f":"SUMIF('X-DSP-ALL'!$E$2:$E$883,A19,'X-DSP-ALL'!$M$2:$M$883)","v":9},{"$f":"SUMIF('X-DSP-ALL'!$E$2:$E$883,A19,'X-DSP-ALL'!$N$2:$N$883)","v":2},{"$f":"SUMIF('X-DSP-ALL'!$E$2:$E$883,A19,'X-DSP-ALL'!$O$2:$O$883)","v":1},{"$f":"SUMIF('X-DSP-ALL'!$E$2:$E$883,A19,'X-DSP-ALL'!$P$2:$P$883)","v":1},{"$f":"SUMIF('X-DSP-ALL'!$E$2:$E$883,A19,'X-DSP-ALL'!$Q$2:$Q$883)","v":0},{"$f":"IF(A19=0,0,SUMIF('X-DSP-ALL'!$F$2:$F$883,A19,'X-DSP-ALL'!$BE$2:$BE$883))","v":0},{"$f":"IF(A19=0,0,(N19*Setup!$J$17)+(O19*Setup!$J$18)+(P19*Setup!$J$19)+(Q19*Setup!$J$22)+(R19*Setup!$J$23)+(S19*Setup!$J$24)+(T19))","v":20},{"$f":"SUMIF('X-DSP-ALL'!$E$2:$E$883,A19,'X-DSP-ALL'!$BO$2:$BO$883)","v":0},{"$f":"SUMIF('X-DSP-ALL'!$E$2:$E$883,A19,'X-DSP-ALL'!$BP$2:$BP$883)","v":0},{"$f":"SUMIF('X-DSP-ALL'!$E$2:$E$883,A19,'X-DSP-ALL'!$BQ$2:$BQ$883)","v":3},null,null,56,56,49,49]
[95,"Hollstegge, Steve",95,"R",1,56,1,0,0,56,1,56,16.8,{"$f":"SUMIF('X-DSP-ALL'!$E$2:$E$883,A20,'X-DSP-ALL'!$L$2:$L$883)","v":2},{"$f":"SUMIF('X-DSP-ALL'!$E$2:$E$883,A20,'X-DSP-ALL'!$M$2:$M$883)","v":4},{"$f":"SUMIF('X-DSP-ALL'!$E$2:$E$883,A20,'X-DSP-ALL'!$N$2:$N$883)","v":3},{"$f":"SUMIF('X-DSP-ALL'!$E$2:$E$883,A20,'X-DSP-ALL'!$O$2:$O$883)","v":0},{"$f":"SUMIF('X-DSP-ALL'!$E$2:$E$883,A20,'X-DSP-ALL'!$P$2:$P$883)","v":1},{"$f":"SUMIF('X-DSP-ALL'!$E$2:$E$883,A20,'X-DSP-ALL'!$Q$2:$Q$883)","v":0},{"$f":"IF(A20=0,0,SUMIF('X-DSP-ALL'!$F$2:$F$883,A20,'X-DSP-ALL'!$BE$2:$BE$883))","v":0},{"$f":"IF(A20=0,0,(N20*Setup!$J$17)+(O20*Setup!$J$18)+(P20*Setup!$J$19)+(Q20*Setup!$J$22)+(R20*Setup!$J$23)+(S20*Setup!$J$24)+(T20))","v":7},{"$f":"SUMIF('X-DSP-ALL'!$E$2:$E$883,A20,'X-DSP-ALL'!$BO$2:$BO$883)","v":0},{"$f":"SUMIF('X-DSP-ALL'!$E$2:$E$883,A20,'X-DSP-ALL'!$BP$2:$BP$883)","v":0},{"$f":"SUMIF('X-DSP-ALL'!$E$2:$E$883,A20,'X-DSP-ALL'!$BQ$2:$BQ$883)","v":0},56,56]
[96,"Schmitt, Andy",96,"R",4,201,4,0,0,201,4,50.25,12.200000000000001,{"$f":"SUMIF('X-DSP-ALL'!$E$2:$E$883,A21,'X-DSP-ALL'!$L$2:$L$883)","v":10},{"$f":"SUMIF('X-DSP-ALL'!$E$2:$E$883,A21,'X-DSP-ALL'!$M$2:$M$883)","v":16},{"$f":"SUMIF('X-DSP-ALL'!$E$2:$E$883,A21,'X-DSP-ALL'!$N$2:$N$883)","v":10},{"$f":"SUMIF('X-DSP-ALL'!$E$2:$E$883,A21,'X-DSP-ALL'!$O$2:$O$883)","v":2},{"$f":"SUMIF('X-DSP-ALL'!$E$2:$E$883,A21,'X-DSP-ALL'!$P$2:$P$883)","v":2},{"$f":"SUMIF('X-DSP-ALL'!$E$2:$E$883,A21,'X-DSP-ALL'!$Q$2:$Q$883)","v":0},{"$f":"IF(A21=0,0,SUMIF('X-DSP-ALL'!$F$2:$F$883,A21,'X-DSP-ALL'!$BE$2:$BE$883))","v":0},{"$f":"IF(A21=0,0,(N21*Setup!$J$17)+(O21*Setup!$J$18)+(P21*Setup!$J$19)+(Q21*Setup!$J$22)+(R21*Setup!$J$23)+(S21*Setup!$J$24)+(T21))","v":38},{"$f":"SUMIF('X-DSP-ALL'!$E$2:$E$883,A21,'X-DSP-ALL'!$BO$2:$BO$883)","v":0},{"$f":"SUMIF('X-DSP-ALL'!$E$2:$E$883,A21,'X-DSP-ALL'!$BP$2:$BP$883)","v":1},{"$f":"SUMIF('X-DSP-ALL'!$E$2:$E$883,A21,'X-DSP-ALL'!$BQ$2:$BQ$883)","v":2},51,51,50,50,47,47,53,53]
[97,"Schmitt, Peter",97,"R",4,188,4,0,0,188,4,47,9.6000000000000014,{"$f":"SUMIF('X-DSP-ALL'!$E$2:$E$883,A22,'X-DSP-ALL'!$L$2:$L$883)","v":7},{"$f":"SUMIF('X-DSP-ALL'!$E$2:$E$883,A22,'X-DSP-ALL'!$M$2:$M$883)","v":19},{"$f":"SUMIF('X-DSP-ALL'!$E$2:$E$883,A22,'X-DSP-ALL'!$N$2:$N$883)","v":10},{"$f":"SUMIF('X-DSP-ALL'!$E$2:$E$883,A22,'X-DSP-ALL'!$O$2:$O$883)","v":1},{"$f":"SUMIF('X-DSP-ALL'!$E$2:$E$883,A22,'X-DSP-ALL'!$P$2:$P$883)","v":2},{"$f":"SUMIF('X-DSP-ALL'!$E$2:$E$883,A22,'X-DSP-ALL'!$Q$2:$Q$883)","v":1},{"$f":"IF(A22=0,0,SUMIF('X-DSP-ALL'!$F$2:$F$883,A22,'X-DSP-ALL'!$BE$2:$BE$883))","v":0},{"$f":"IF(A22=0,0,(N22*Setup!$J$17)+(O22*Setup!$J$18)+(P22*Setup!$J$19)+(Q22*Setup!$J$22)+(R22*Setup!$J$23)+(S22*Setup!$J$24)+(T22))","v":30},{"$f":"SUMIF('X-DSP-ALL'!$E$2:$E$883,A22,'X-DSP-ALL'!$BO$2:$BO$883)","v":0},{"$f":"SUMIF('X-DSP-ALL'!$E$2:$E$883,A22,'X-DSP-ALL'!$BP$2:$BP$883)","v":0},{"$f":"SUMIF('X-DSP-ALL'!$E$2:$E$883,A22,'X-DSP-ALL'!$BQ$2:$BQ$883)","v":6},47,47,48,48,44,44,49,49]
[98,"Doll, Mike",98,"R",4,224,4,0,0,224,4,56,16.8,{"$f":"SUMIF('X-DSP-ALL'!$E$2:$E$883,A23,'X-DSP-ALL'!$L$2:$L$883)","v":12},{"$f":"SUMIF('X-DSP-ALL'!$E$2:$E$883,A23,'X-DSP-ALL'!$M$2:$M$883)","v":11},{"$f":"SUMIF('X-DSP-ALL'!$E$2:$E$883,A23,'X-DSP-ALL'!$N$2:$N$883)","v":13},{"$f":"SUMIF('X-DSP-ALL'!$E$2:$E$883,A23,'X-DSP-ALL'!$O$2:$O$883)","v":2},{"$f":"SUMIF('X-DSP-ALL'!$E$2:$E$883,A23,'X-DSP-ALL'!$P$2:$P$883)","v":1},{"$f":"SUMIF('X-DSP-ALL'!$E$2:$E$883,A23,'X-DSP-ALL'!$Q$2:$Q$883)","v":1},{"$f":"IF(A23=0,0,SUMIF('X-DSP-ALL'!$F$2:$F$883,A23,'X-DSP-ALL'!$BE$2:$BE$883))","v":0},{"$f":"IF(A23=0,0,(N23*Setup!$J$17)+(O23*Setup!$J$18)+(P23*Setup!$J$19)+(Q23*Setup!$J$22)+(R23*Setup!$J$23)+(S23*Setup!$J$24)+(T23))","v":47},{"$f":"SUMIF('X-DSP-ALL'!$E$2:$E$883,A23,'X-DSP-ALL'!$BO$2:$BO$883)","v":0},{"$f":"SUMIF('X-DSP-ALL'!$E$2:$E$883,A23,'X-DSP-ALL'!$BP$2:$BP$883)","v":0},{"$f":"SUMIF('X-DSP-ALL'!$E$2:$E$883,A23,'X-DSP-ALL'!$BQ$2:$BQ$883)","v":2},58,58,52,52,58,58,56,56]
[99,"Recher, Jason",99,"R",3,160,3,0,0,160,3,53.333333333333336,14.66666666666667,{"$f":"SUMIF('X-DSP-ALL'!$E$2:$E$883,A24,'X-DSP-ALL'!$L$2:$L$883)","v":11},{"$f":"SUMIF('X-DSP-ALL'!$E$2:$E$883,A24,'X-DSP-ALL'!$M$2:$M$883)","v":11},{"$f":"SUMIF('X-DSP-ALL'!$E$2:$E$883,A24,'X-DSP-ALL'!$N$2:$N$883)","v":5},{"$f":"SUMIF('X-DSP-ALL'!$E$2:$E$883,A24,'X-DSP-ALL'!$O$2:$O$883)","v":1},{"$f":"SUMIF('X-DSP-ALL'!$E$2:$E$883,A24,'X-DSP-ALL'!$P$2:$P$883)","v":2},{"$f":"SUMIF('X-DSP-ALL'!$E$2:$E$883,A24,'X-DSP-ALL'!$Q$2:$Q$883)","v":0},{"$f":"IF(A24=0,0,SUMIF('X-DSP-ALL'!$F$2:$F$883,A24,'X-DSP-ALL'!$BE$2:$BE$883))","v":8},{"$f":"IF(A24=0,0,(N24*Setup!$J$17)+(O24*Setup!$J$18)+(P24*Setup!$J$19)+(Q24*Setup!$J$22)+(R24*Setup!$J$23)+(S24*Setup!$J$24)+(T24))","v":39},{"$f":"SUMIF('X-DSP-ALL'!$E$2:$E$883,A24,'X-DSP-ALL'!$BO$2:$BO$883)","v":0},{"$f":"SUMIF('X-DSP-ALL'!$E$2:$E$883,A24,'X-DSP-ALL'!$BP$2:$BP$883)","v":0},{"$f":"SUMIF('X-DSP-ALL'!$E$2:$E$883,A24,'X-DSP-ALL'!$BQ$2:$BQ$883)","v":0},52,52,52,52,null,null,56,56]
[100,"Landrum, Rick",100,"R",1,50,1,0,0,50,1,50,12,{"$f":"SUMIF('X-DSP-ALL'!$E$2:$E$883,A25,'X-DSP-ALL'!$L$2:$L$883)","v":3},{"$f":"SUMIF('X-DSP-ALL'!$E$2:$E$883,A25,'X-DSP-ALL'!$M$2:$M$883)","v":4},{"$f":"SUMIF('X-DSP-ALL'!$E$2:$E$883,A25,'X-DSP-ALL'!$N$2:$N$883)","v":2},{"$f":"SUMIF('X-DSP-ALL'!$E$2:$E$883,A25,'X-DSP-ALL'!$O$2:$O$883)","v":0},{"$f":"SUMIF('X-DSP-ALL'!$E$2:$E$883,A25,'X-DSP-ALL'!$P$2:$P$883)","v":1},{"$f":"SUMIF('X-DSP-ALL'!$E$2:$E$883,A25,'X-DSP-ALL'!$Q$2:$Q$883)","v":0},{"$f":"IF(A25=0,0,SUMIF('X-DSP-ALL'!$F$2:$F$883,A25,'X-DSP-ALL'!$BE$2:$BE$883))","v":0},{"$f":"IF(A25=0,0,(N25*Setup!$J$17)+(O25*Setup!$J$18)+(P25*Setup!$J$19)+(Q25*Setup!$J$22)+(R25*Setup!$J$23)+(S25*Setup!$J$24)+(T25))","v":8},{"$f":"SUMIF('X-DSP-ALL'!$E$2:$E$883,A25,'X-DSP-ALL'!$BO$2:$BO$883)","v":0},{"$f":"SUMIF('X-DSP-ALL'!$E$2:$E$883,A25,'X-DSP-ALL'!$BP$2:$BP$883)","v":0},{"$f":"SUMIF('X-DSP-ALL'!$E$2:$E$883,A25,'X-DSP-ALL'!$BQ$2:$BQ$883)","v":4},null,null,null,null,50,50]
[101,"Reese, Clint",101,"R",0,0,0,0,0,0,0,0,0,{"$f":"SUMIF('X-DSP-ALL'!$E$2:$E$883,A26,'X-DSP-ALL'!$L$2:$L$883)","v":0},{"$f":"SUMIF('X-DSP-ALL'!$E$2:$E$883,A26,'X-DSP-ALL'!$M$2:$M$883)","v":0},{"$f":"SUMIF('X-DSP-ALL'!$E$2:$E$883,A26,'X-DSP-ALL'!$N$2:$N$883)","v":0},{"$f":"SUMIF('X-DSP-ALL'!$E$2:$E$883,A26,'X-DSP-ALL'!$O$2:$O$883)","v":0},{"$f":"SUMIF('X-DSP-ALL'!$E$2:$E$883,A26,'X-DSP-ALL'!$P$2:$P$883)","v":0},{"$f":"SUMIF('X-DSP-ALL'!$E$2:$E$883,A26,'X-DSP-ALL'!$Q$2:$Q$883)","v":0},{"$f":"IF(A26=0,0,SUMIF('X-DSP-ALL'!$F$2:$F$883,A26,'X-DSP-ALL'!$BE$2:$BE$883))","v":0},{"$f":"IF(A26=0,0,(N26*Setup!$J$17)+(O26*Setup!$J$18)+(P26*Setup!$J$19)+(Q26*Setup!$J$22)+(R26*Setup!$J$23)+(S26*Setup!$J$24)+(T26))","v":0},{"$f":"SUMIF('X-DSP-ALL'!$E$2:$E$883,A26,'X-DSP-ALL'!$BO$2:$BO$883)","v":0},{"$f":"SUMIF('X-DSP-ALL'!$E$2:$E$883,A26,'X-DSP-ALL'!$BP$2:$BP$883)","v":0},{"$f":"SUMIF('X-DSP-ALL'!$E$2:$E$883,A26,'X-DSP-ALL'!$BQ$2:$BQ$883)","v":0}]
[102,"Simendinger, Joe",102,"R",2,88,2,0,0,88,2,44,7.2,{"$f":"SUMIF('X-DSP-ALL'!$E$2:$E$883,A27,'X-DSP-ALL'!$L$2:$L$883)","v":10},{"$f":"SUMIF('X-DSP-ALL'!$E$2:$E$883,A27,'X-DSP-ALL'!$M$2:$M$883)","v":5},{"$f":"SUMIF('X-DSP-ALL'!$E$2:$E$883,A27,'X-DSP-ALL'!$N$2:$N$883)","v":3},{"$f":"SUMIF('X-DSP-ALL'!$E$2:$E$883,A27,'X-DSP-ALL'!$O$2:$O$883)","v":2},{"$f":"SUMIF('X-DSP-ALL'!$E$2:$E$883,A27,'X-DSP-ALL'!$P$2:$P$883)","v":0},{"$f":"SUMIF('X-DSP-ALL'!$E$2:$E$883,A27,'X-DSP-ALL'!$Q$2:$Q$883)","v":0},{"$f":"IF(A27=0,0,SUMIF('X-DSP-ALL'!$F$2:$F$883,A27,'X-DSP-ALL'!$BE$2:$BE$883))","v":35},{"$f":"IF(A27=0,0,(N27*Setup!$J$17)+(O27*Setup!$J$18)+(P27*Setup!$J$19)+(Q27*Setup!$J$22)+(R27*Setup!$J$23)+(S27*Setup!$J$24)+(T27))","v":66},{"$f":"SUMIF('X-DSP-ALL'!$E$2:$E$883,A27,'X-DSP-ALL'!$BO$2:$BO$883)","v":0},{"$f":"SUMIF('X-DSP-ALL'!$E$2:$E$883,A27,'X-DSP-ALL'!$BP$2:$BP$883)","v":1},{"$f":"SUMIF('X-DSP-ALL'!$E$2:$E$883,A27,'X-DSP-ALL'!$BQ$2:$BQ$883)","v":7},45,45,43,43]
[103,"Simendinger, Joel",103,"R",4,178,4,0,0,178,4,44.5,7.6000000000000005,{"$f":"SUMIF('X-DSP-ALL'!$E$2:$E$883,A28,'X-DSP-ALL'!$L$2:$L$883)","v":14},{"$f":"SUMIF('X-DSP-ALL'!$E$2:$E$883,A28,'X-DSP-ALL'!$M$2:$M$883)","v":13},{"$f":"SUMIF('X-DSP-ALL'!$E$2:$E$883,A28,'X-DSP-ALL'!$N$2:$N$883)","v":9},{"$f":"SUMIF('X-DSP-ALL'!$E$2:$E$883,A28,'X-DSP-ALL'!$O$2:$O$883)","v":3},{"$f":"SUMIF('X-DSP-ALL'!$E$2:$E$883,A28,'X-DSP-ALL'!$P$2:$P$883)","v":1},{"$f":"SUMIF('X-DSP-ALL'!$E$2:$E$883,A28,'X-DSP-ALL'!$Q$2:$Q$883)","v":0},{"$f":"IF(A28=0,0,SUMIF('X-DSP-ALL'!$F$2:$F$883,A28,'X-DSP-ALL'!$BE$2:$BE$883))","v":0},{"$f":"IF(A28=0,0,(N28*Setup!$J$17)+(O28*Setup!$J$18)+(P28*Setup!$J$19)+(Q28*Setup!$J$22)+(R28*Setup!$J$23)+(S28*Setup!$J$24)+(T28))","v":49},{"$f":"SUMIF('X-DSP-ALL'!$E$2:$E$883,A28,'X-DSP-ALL'!$BO$2:$BO$883)","v":0},{"$f":"SUMIF('X-DSP-ALL'!$E$2:$E$883,A28,'X-DSP-ALL'!$BP$2:$BP$883)","v":1},{"$f":"SUMIF('X-DSP-ALL'!$E$2:$E$883,A28,'X-DSP-ALL'!$BQ$2:$BQ$883)","v":6},42,42,43,43,49,49,44,44]
[104,"Simendinger, Sam",104,"R",2,94,2,0,0,94,2,47,9.6000000000000014,{"$f":"SUMIF('X-DSP-ALL'!$E$2:$E$883,A29,'X-DSP-ALL'!$L$2:$L$883)","v":12},{"$f":"SUMIF('X-DSP-ALL'!$E$2:$E$883,A29,'X-DSP-ALL'!$M$2:$M$883)","v":3},{"$f":"SUMIF('X-DSP-ALL'!$E$2:$E$883,A29,'X-DSP-ALL'!$N$2:$N$883)","v":3},{"$f":"SUMIF('X-DSP-ALL'!$E$2:$E$883,A29,'X-DSP-ALL'!$O$2:$O$883)","v":2},{"$f":"SUMIF('X-DSP-ALL'!$E$2:$E$883,A29,'X-DSP-ALL'!$P$2:$P$883)","v":0},{"$f":"SUMIF('X-DSP-ALL'!$E$2:$E$883,A29,'X-DSP-ALL'!$Q$2:$Q$883)","v":0},{"$f":"IF(A29=0,0,SUMIF('X-DSP-ALL'!$F$2:$F$883,A29,'X-DSP-ALL'!$BE$2:$BE$883))","v":0},{"$f":"IF(A29=0,0,(N29*Setup!$J$17)+(O29*Setup!$J$18)+(P29*Setup!$J$19)+(Q29*Setup!$J$22)+(R29*Setup!$J$23)+(S29*Setup!$J$24)+(T29))","v":35},{"$f":"SUMIF('X-DSP-ALL'!$E$2:$E$883,A29,'X-DSP-ALL'!$BO$2:$BO$883)","v":0},{"$f":"SUMIF('X-DSP-ALL'!$E$2:$E$883,A29,'X-DSP-ALL'!$BP$2:$BP$883)","v":0},{"$f":"SUMIF('X-DSP-ALL'!$E$2:$E$883,A29,'X-DSP-ALL'!$BQ$2:$BQ$883)","v":4},null,null,null,null,46,46,48,48]
[105,"Stewart, Brain",105,"R",4,210,4,0,0,210,4,52.5,14,{"$f":"SUMIF('X-DSP-ALL'!$E$2:$E$883,A30,'X-DSP-ALL'!$L$2:$L$883)","v":14},{"$f":"SUMIF('X-DSP-ALL'!$E$2:$E$883,A30,'X-DSP-ALL'!$M$2:$M$883)","v":17},{"$f":"SUMIF('X-DSP-ALL'!$E$2:$E$883,A30,'X-DSP-ALL'!$N$2:$N$883)","v":5},{"$f":"SUMIF('X-DSP-ALL'!$E$2:$E$883,A30,'X-DSP-ALL'!$O$2:$O$883)","v":2},{"$f":"SUMIF('X-DSP-ALL'!$E$2:$E$883,A30,'X-DSP-ALL'!$P$2:$P$883)","v":2},{"$f":"SUMIF('X-DSP-ALL'!$E$2:$E$883,A30,'X-DSP-ALL'!$Q$2:$Q$883)","v":0},{"$f":"IF(A30=0,0,SUMIF('X-DSP-ALL'!$F$2:$F$883,A30,'X-DSP-ALL'!$BE$2:$BE$883))","v":0},{"$f":"IF(A30=0,0,(N30*Setup!$J$17)+(O30*Setup!$J$18)+(P30*Setup!$J$19)+(Q30*Setup!$J$22)+(R30*Setup!$J$23)+(S30*Setup!$J$24)+(T30))","v":41},{"$f":"SUMIF('X-DSP-ALL'!$E$2:$E$883,A30,'X-DSP-ALL'!$BO$2:$BO$883)","v":0},{"$f":"SUMIF('X-DSP-ALL'!$E$2:$E$883,A30,'X-DSP-ALL'!$BP$2:$BP$883)","v":1},{"$f":"SUMIF('X-DSP-ALL'!$E$2:$E$883,A30,'X-DSP-ALL'!$BQ$2:$BQ$883)","v":4},51,51,49,49,56,56,54,54]
[106,"Stewart, Drake",106,"R",4,225,4,0,0,225,4,56.25,17,{"$f":"SUMIF('X-DSP-ALL'!$E$2:$E$883,A31,'X-DSP-ALL'!$L$2:$L$883)","v":8},{"$f":"SUMIF('X-DSP-ALL'!$E$2:$E$883,A31,'X-DSP-ALL'!$M$2:$M$883)","v":17},{"$f":"SUMIF('X-DSP-ALL'!$E$2:$E$883,A31,'X-DSP-ALL'!$N$2:$N$883)","v":11},{"$f":"SUMIF('X-DSP-ALL'!$E$2:$E$883,A31,'X-DSP-ALL'!$O$2:$O$883)","v":0},{"$f":"SUMIF('X-DSP-ALL'!$E$2:$E$883,A31,'X-DSP-ALL'!$P$2:$P$883)","v":3},{"$f":"SUMIF('X-DSP-ALL'!$E$2:$E$883,A31,'X-DSP-ALL'!$Q$2:$Q$883)","v":1},{"$f":"IF(A31=0,0,SUMIF('X-DSP-ALL'!$F$2:$F$883,A31,'X-DSP-ALL'!$BE$2:$BE$883))","v":0},{"$f":"IF(A31=0,0,(N31*Setup!$J$17)+(O31*Setup!$J$18)+(P31*Setup!$J$19)+(Q31*Setup!$J$22)+(R31*Setup!$J$23)+(S31*Setup!$J$24)+(T31))","v":29},{"$f":"SUMIF('X-DSP-ALL'!$E$2:$E$883,A31,'X-DSP-ALL'!$BO$2:$BO$883)","v":0},{"$f":"SUMIF('X-DSP-ALL'!$E$2:$E$883,A31,'X-DSP-ALL'!$BP$2:$BP$883)","v":0},{"$f":"SUMIF('X-DSP-ALL'!$E$2:$E$883,A31,'X-DSP-ALL'!$BQ$2:$BQ$883)","v":3},52,52,56,56,58,58,59,59]
[107,"Metzger, Mike",107,"R",3,140,3,0,0,140,3,46.666666666666664,9.3333333333333321,{"$f":"SUMIF('X-DSP-ALL'!$E$2:$E$883,A32,'X-DSP-ALL'!$L$2:$L$883)","v":10},{"$f":"SUMIF('X-DSP-ALL'!$E$2:$E$883,A32,'X-DSP-ALL'!$M$2:$M$883)","v":11},{"$f":"SUMIF('X-DSP-ALL'!$E$2:$E$883,A32,'X-DSP-ALL'!$N$2:$N$883)","v":6},{"$f":"SUMIF('X-DSP-ALL'!$E$2:$E$883,A32,'X-DSP-ALL'!$O$2:$O$883)","v":2},{"$f":"SUMIF('X-DSP-ALL'!$E$2:$E$883,A32,'X-DSP-ALL'!$P$2:$P$883)","v":1},{"$f":"SUMIF('X-DSP-ALL'!$E$2:$E$883,A32,'X-DSP-ALL'!$Q$2:$Q$883)","v":0},{"$f":"IF(A32=0,0,SUMIF('X-DSP-ALL'!$F$2:$F$883,A32,'X-DSP-ALL'!$BE$2:$BE$883))","v":0},{"$f":"IF(A32=0,0,(N32*Setup!$J$17)+(O32*Setup!$J$18)+(P32*Setup!$J$19)+(Q32*Setup!$J$22)+(R32*Setup!$J$23)+(S32*Setup!$J$24)+(T32))","v":34},{"$f":"SUMIF('X-DSP-ALL'!$E$2:$E$883,A32,'X-DSP-ALL'!$BO$2:$BO$883)","v":0},{"$f":"SUMIF('X-DSP-ALL'!$E$2:$E$883,A32,'X-DSP-ALL'!$BP$2:$BP$883)","v":0},{"$f":"SUMIF('X-DSP-ALL'!$E$2:$E$883,A32,'X-DSP-ALL'!$BQ$2:$BQ$883)","v":8},48,48,45,45,47,47]
[108,"Dulan, Bob",108,"R",4,231,4,0,0,231,4,57.75,18.2,{"$f":"SUMIF('X-DSP-ALL'!$E$2:$E$883,A33,'X-DSP-ALL'!$L$2:$L$883)","v":13},{"$f":"SUMIF('X-DSP-ALL'!$E$2:$E$883,A33,'X-DSP-ALL'!$M$2:$M$883)","v":14},{"$f":"SUMIF('X-DSP-ALL'!$E$2:$E$883,A33,'X-DSP-ALL'!$N$2:$N$883)","v":9},{"$f":"SUMIF('X-DSP-ALL'!$E$2:$E$883,A33,'X-DSP-ALL'!$O$2:$O$883)","v":1},{"$f":"SUMIF('X-DSP-ALL'!$E$2:$E$883,A33,'X-DSP-ALL'!$P$2:$P$883)","v":3},{"$f":"SUMIF('X-DSP-ALL'!$E$2:$E$883,A33,'X-DSP-ALL'!$Q$2:$Q$883)","v":0},{"$f":"IF(A33=0,0,SUMIF('X-DSP-ALL'!$F$2:$F$883,A33,'X-DSP-ALL'!$BE$2:$BE$883))","v":0},{"$f":"IF(A33=0,0,(N33*Setup!$J$17)+(O33*Setup!$J$18)+(P33*Setup!$J$19)+(Q33*Setup!$J$22)+(R33*Setup!$J$23)+(S33*Setup!$J$24)+(T33))","v":39},{"$f":"SUMIF('X-DSP-ALL'!$E$2:$E$883,A33,'X-DSP-ALL'!$BO$2:$BO$883)","v":0},{"$f":"SUMIF('X-DSP-ALL'!$E$2:$E$883,A33,'X-DSP-ALL'!$BP$2:$BP$883)","v":0},{"$f":"SUMIF('X-DSP-ALL'!$E$2:$E$883,A33,'X-DSP-ALL'!$BQ$2:$BQ$883)","v":0},55,55,55,55,63,63,58,58]
[109,"McGrew, Doug",109,"R",{"$f":"COUNTA(Y34,AA34,AC34,AE34,AG34,AI34,AK34,AM34,AO34,AQ34,AS34,AU34,AW34,AY34,BA34,BC34,BE34,BG34,BI34,BK34)","v":4},{"$f":"SUM(Z34,AB34,AD34,AF34,AH34,AJ34,AL34,AN34,AP34,AR34,AT34,AV34,AX34,AZ34,BB34,BD34,BF34,BH34,BJ34,BL34)","v":163},{"$f":"COUNTA(Z34,AB34,AD34,AF34,AH34,AJ34,AL34,AN34,AP34,AR34,AT34,AV34,AX34,AZ34,BB34,BD34,BF34,BH34,BJ34,BL34)","v":4},{"$f":"IF(G34>=6,MIN(Z34,AB34,AD34,AF34,AH34,AJ34,AL34,AN34,AP34,AR34,AT34,AV34,AX34,AZ34,BB34,BD34,BF34,BH34,BJ34,BL34),0)","v":0},{"$f":"IF(G34>=6,MAX(Z34,AB34,AD34,AF34,AH34,AJ34,AL34,AN34,AP34,AR34,AT34,AV34,AX34,AZ34,BB34,BD34,BF34,BH34,BJ34,BL34),0)","v":0},163,4,40.75,4.6000000000000005,{"$f":"SUMIF('X-DSP-ALL'!$E$2:$E$883,A34,'X-DSP-ALL'!$L$2:$L$883)","v":15},{"$f":"SUMIF('X-DSP-ALL'!$E$2:$E$883,A34,'X-DSP-ALL'!$M$2:$M$883)","v":10},{"$f":"SUMIF('X-DSP-ALL'!$E$2:$E$883,A34,'X-DSP-ALL'!$N$2:$N$883)","v":11},{"$f":"SUMIF('X-DSP-ALL'!$E$2:$E$883,A34,'X-DSP-ALL'!$O$2:$O$883)","v":3},{"$f":"SUMIF('X-DSP-ALL'!$E$2:$E$883,A34,'X-DSP-ALL'!$P$2:$P$883)","v":1},{"$f":"SUMIF('X-DSP-ALL'!$E$2:$E$883,A34,'X-DSP-ALL'!$Q$2:$Q$883)","v":0},{"$f":"IF(A34=0,0,SUMIF('X-DSP-ALL'!$F$2:$F$883,A34,'X-DSP-ALL'!$BE$2:$BE$883))","v":0},{"$f":"IF(A34=0,0,(N34*Setup!$J$17)+(O34*Setup!$J$18)+(P34*Setup!$J$19)+(Q34*Setup!$J$22)+(R34*Setup!$J$23)+(S34*Setup!$J$24)+(T34))","v":53},{"$f":"SUMIF('X-DSP-ALL'!$E$2:$E$883,A34,'X-DSP-ALL'!$BO$2:$BO$883)","v":0},{"$f":"SUMIF('X-DSP-ALL'!$E$2:$E$883,A34,'X-DSP-ALL'!$BP$2:$BP$883)","v":1},{"$f":"SUMIF('X-DSP-ALL'!$E$2:$E$883,A34,'X-DSP-ALL'!$BQ$2:$BQ$883)","v":18},44,44,39,39,40,40,40,40]
[110,"Tate, Melvin",110,"R",3,146,3,0,0,146,3,48.666666666666664,10.933333333333332,{"$f":"SUMIF('X-DSP-ALL'!$E$2:$E$883,A35,'X-DSP-ALL'!$L$2:$L$883)","v":13},{"$f":"SUMIF('X-DSP-ALL'!$E$2:$E$883,A35,'X-DSP-ALL'!$M$2:$M$883)","v":9},{"$f":"SUMIF('X-DSP-ALL'!$E$2:$E$883,A35,'X-DSP-ALL'!$N$2:$N$883)","v":5},{"$f":"SUMIF('X-DSP-ALL'!$E$2:$E$883,A35,'X-DSP-ALL'!$O$2:$O$883)","v":1},{"$f":"SUMIF('X-DSP-ALL'!$E$2:$E$883,A35,'X-DSP-ALL'!$P$2:$P$883)","v":0},{"$f":"SUMIF('X-DSP-ALL'!$E$2:$E$883,A35,'X-DSP-ALL'!$Q$2:$Q$883)","v":2},{"$f":"IF(A35=0,0,SUMIF('X-DSP-ALL'!$F$2:$F$883,A35,'X-DSP-ALL'!$BE$2:$BE$883))","v":0},{"$f":"IF(A35=0,0,(N35*Setup!$J$17)+(O35*Setup!$J$18)+(P35*Setup!$J$19)+(Q35*Setup!$J$22)+(R35*Setup!$J$23)+(S35*Setup!$J$24)+(T35))","v":39},{"$f":"SUMIF('X-DSP-ALL'!$E$2:$E$883,A35,'X-DSP-ALL'!$BO$2:$BO$883)","v":0},{"$f":"SUMIF('X-DSP-ALL'!$E$2:$E$883,A35,'X-DSP-ALL'!$BP$2:$BP$883)","v":0},{"$f":"SUMIF('X-DSP-ALL'!$E$2:$E$883,A35,'X-DSP-ALL'!$BQ$2:$BQ$883)","v":3},50,50,47,47,49,49]
[111,"Graves, Evan",111,"R",3,146,3,0,0,146,3,48.666666666666664,10.933333333333332,{"$f":"SUMIF('X-DSP-ALL'!$E$2:$E$883,A36,'X-DSP-ALL'!$L$2:$L$883)","v":9},{"$f":"SUMIF('X-DSP-ALL'!$E$2:$E$883,A36,'X-DSP-ALL'!$M$2:$M$883)","v":8},{"$f":"SUMIF('X-DSP-ALL'!$E$2:$E$883,A36,'X-DSP-ALL'!$N$2:$N$883)","v":10},{"$f":"SUMIF('X-DSP-ALL'!$E$2:$E$883,A36,'X-DSP-ALL'!$O$2:$O$883)","v":0},{"$f":"SUMIF('X-DSP-ALL'!$E$2:$E$883,A36,'X-DSP-ALL'!$P$2:$P$883)","v":2},{"$f":"SUMIF('X-DSP-ALL'!$E$2:$E$883,A36,'X-DSP-ALL'!$Q$2:$Q$883)","v":1},{"$f":"IF(A36=0,0,SUMIF('X-DSP-ALL'!$F$2:$F$883,A36,'X-DSP-ALL'!$BE$2:$BE$883))","v":14},{"$f":"IF(A36=0,0,(N36*Setup!$J$17)+(O36*Setup!$J$18)+(P36*Setup!$J$19)+(Q36*Setup!$J$22)+(R36*Setup!$J$23)+(S36*Setup!$J$24)+(T36))","v":44},{"$f":"SUMIF('X-DSP-ALL'!$E$2:$E$883,A36,'X-DSP-ALL'!$BO$2:$BO$883)","v":0},{"$f":"SUMIF('X-DSP-ALL'!$E$2:$E$883,A36,'X-DSP-ALL'!$BP$2:$BP$883)","v":0},{"$f":"SUMIF('X-DSP-ALL'!$E$2:$E$883,A36,'X-DSP-ALL'!$BQ$2:$BQ$883)","v":5},48,48,50,50,null,null,48,48]
[112,"Leonard, Jon",112,"R",3,179,3,0,0,179,3,59.666666666666664,19.733333333333334,{"$f":"SUMIF('X-DSP-ALL'!$E$2:$E$883,A37,'X-DSP-ALL'!$L$2:$L$883)","v":8},{"$f":"SUMIF('X-DSP-ALL'!$E$2:$E$883,A37,'X-DSP-ALL'!$M$2:$M$883)","v":11},{"$f":"SUMIF('X-DSP-ALL'!$E$2:$E$883,A37,'X-DSP-ALL'!$N$2:$N$883)","v":8},{"$f":"SUMIF('X-DSP-ALL'!$E$2:$E$883,A37,'X-DSP-ALL'!$O$2:$O$883)","v":1},{"$f":"SUMIF('X-DSP-ALL'!$E$2:$E$883,A37,'X-DSP-ALL'!$P$2:$P$883)","v":2},{"$f":"SUMIF('X-DSP-ALL'!$E$2:$E$883,A37,'X-DSP-ALL'!$Q$2:$Q$883)","v":0},{"$f":"IF(A37=0,0,SUMIF('X-DSP-ALL'!$F$2:$F$883,A37,'X-DSP-ALL'!$BE$2:$BE$883))","v":0},{"$f":"IF(A37=0,0,(N37*Setup!$J$17)+(O37*Setup!$J$18)+(P37*Setup!$J$19)+(Q37*Setup!$J$22)+(R37*Setup!$J$23)+(S37*Setup!$J$24)+(T37))","v":28},{"$f":"SUMIF('X-DSP-ALL'!$E$2:$E$883,A37,'X-DSP-ALL'!$BO$2:$BO$883)","v":0},{"$f":"SUMIF('X-DSP-ALL'!$E$2:$E$883,A37,'X-DSP-ALL'!$BP$2:$BP$883)","v":0},{"$f":"SUMIF('X-DSP-ALL'!$E$2:$E$883,A37,'X-DSP-ALL'!$BQ$2:$BQ$883)","v":0},60,60,62,62,57,57]
[113,"Boswell, Clyde",113,"R",2,113,2,0,0,113,2,56.5,17.2,{"$f":"SUMIF('X-DSP-ALL'!$E$2:$E$883,A38,'X-DSP-ALL'!$L$2:$L$883)","v":7},{"$f":"SUMIF('X-DSP-ALL'!$E$2:$E$883,A38,'X-DSP-ALL'!$M$2:$M$883)","v":8},{"$f":"SUMIF('X-DSP-ALL'!$E$2:$E$883,A38,'X-DSP-ALL'!$N$2:$N$883)","v":3},{"$f":"SUMIF('X-DSP-ALL'!$E$2:$E$883,A38,'X-DSP-ALL'!$O$2:$O$883)","v":0},{"$f":"SUMIF('X-DSP-ALL'!$E$2:$E$883,A38,'X-DSP-ALL'!$P$2:$P$883)","v":2},{"$f":"SUMIF('X-DSP-ALL'!$E$2:$E$883,A38,'X-DSP-ALL'!$Q$2:$Q$883)","v":0},{"$f":"IF(A38=0,0,SUMIF('X-DSP-ALL'!$F$2:$F$883,A38,'X-DSP-ALL'!$BE$2:$BE$883))","v":8},{"$f":"IF(A38=0,0,(N38*Setup!$J$17)+(O38*Setup!$J$18)+(P38*Setup!$J$19)+(Q38*Setup!$J$22)+(R38*Setup!$J$23)+(S38*Setup!$J$24)+(T38))","v":25},{"$f":"SUMIF('X-DSP-ALL'!$E$2:$E$883,A38,'X-DSP-ALL'!$BO$2:$BO$883)","v":0},{"$f":"SUMIF('X-DSP-ALL'!$E$2:$E$883,A38,'X-DSP-ALL'!$BP$2:$BP$883)","v":0},{"$f":"SUMIF('X-DSP-ALL'!$E$2:$E$883,A38,'X-DSP-ALL'!$BQ$2:$BQ$883)","v":0},null,null,55,55,58,58]
[114,"Brook, DeeDee",114,"R",4,217,4,0,0,217,4,54.25,15.4,{"$f":"SUMIF('X-DSP-ALL'!$E$2:$E$883,A39,'X-DSP-ALL'!$L$2:$L$883)","v":18},{"$f":"SUMIF('X-DSP-ALL'!$E$2:$E$883,A39,'X-DSP-ALL'!$M$2:$M$883)","v":8},{"$f":"SUMIF('X-DSP-ALL'!$E$2:$E$883,A39,'X-DSP-ALL'!$N$2:$N$883)","v":10},{"$f":"SUMIF('X-DSP-ALL'!$E$2:$E$883,A39,'X-DSP-ALL'!$O$2:$O$883)","v":2},{"$f":"SUMIF('X-DSP-ALL'!$E$2:$E$883,A39,'X-DSP-ALL'!$P$2:$P$883)","v":2},{"$f":"SUMIF('X-DSP-ALL'!$E$2:$E$883,A39,'X-DSP-ALL'!$Q$2:$Q$883)","v":0},{"$f":"IF(A39=0,0,SUMIF('X-DSP-ALL'!$F$2:$F$883,A39,'X-DSP-ALL'!$BE$2:$BE$883))","v":0},{"$f":"IF(A39=0,0,(N39*Setup!$J$17)+(O39*Setup!$J$18)+(P39*Setup!$J$19)+(Q39*Setup!$J$22)+(R39*Setup!$J$23)+(S39*Setup!$J$24)+(T39))","v":54},{"$f":"SUMIF('X-DSP-ALL'!$E$2:$E$883,A39,'X-DSP-ALL'!$BO$2:$BO$883)","v":0},{"$f":"SUMIF('X-DSP-ALL'!$E$2:$E$883,A39,'X-DSP-ALL'!$BP$2:$BP$883)","v":0},{"$f":"SUMIF('X-DSP-ALL'!$E$2:$E$883,A39,'X-DSP-ALL'!$BQ$2:$BQ$883)","v":1},59,59,54,54,51,51,53,53]
[115,"Kohler, Evan",115,"R",3,140,3,0,0,140,3,46.666666666666664,9.3333333333333321,{"$f":"SUMIF('X-DSP-ALL'!$E$2:$E$883,A40,'X-DSP-ALL'!$L$2:$L$883)","v":12},{"$f":"SUMIF('X-DSP-ALL'!$E$2:$E$883,A40,'X-DSP-ALL'!$M$2:$M$883)","v":9},{"$f":"SUMIF('X-DSP-ALL'!$E$2:$E$883,A40,'X-DSP-ALL'!$N$2:$N$883)","v":6},{"$f":"SUMIF('X-DSP-ALL'!$E$2:$E$883,A40,'X-DSP-ALL'!$O$2:$O$883)","v":2},{"$f":"SUMIF('X-DSP-ALL'!$E$2:$E$883,A40,'X-DSP-ALL'!$P$2:$P$883)","v":1},{"$f":"SUMIF('X-DSP-ALL'!$E$2:$E$883,A40,'X-DSP-ALL'!$Q$2:$Q$883)","v":0},{"$f":"IF(A40=0,0,SUMIF('X-DSP-ALL'!$F$2:$F$883,A40,'X-DSP-ALL'!$BE$2:$BE$883))","v":16},{"$f":"IF(A40=0,0,(N40*Setup!$J$17)+(O40*Setup!$J$18)+(P40*Setup!$J$19)+(Q40*Setup!$J$22)+(R40*Setup!$J$23)+(S40*Setup!$J$24)+(T40))","v":54},{"$f":"SUMIF('X-DSP-ALL'!$E$2:$E$883,A40,'X-DSP-ALL'!$BO$2:$BO$883)","v":0},{"$f":"SUMIF('X-DSP-ALL'!$E$2:$E$883,A40,'X-DSP-ALL'!$BP$2:$BP$883)","v":1},{"$f":"SUMIF('X-DSP-ALL'!$E$2:$E$883,A40,'X-DSP-ALL'!$BQ$2:$BQ$883)","v":7},48,48,48,48,44,44]
[116,"Kohler, Jeff",116,"R",2,81,2,0,0,81,2,40.5,4.4000000000000004,{"$f":"SUMIF('X-DSP-ALL'!$E$2:$E$883,A41,'X-DSP-ALL'!$L$2:$L$883)","v":2},{"$f":"SUMIF('X-DSP-ALL'!$E$2:$E$883,A41,'X-DSP-ALL'!$M$2:$M$883)","v":9},{"$f":"SUMIF('X-DSP-ALL'!$E$2:$E$883,A41,'X-DSP-ALL'!$N$2:$N$883)","v":7},{"$f":"SUMIF('X-DSP-ALL'!$E$2:$E$883,A41,'X-DSP-ALL'!$O$2:$O$883)","v":0},{"$f":"SUMIF('X-DSP-ALL'!$E$2:$E$883,A41,'X-DSP-ALL'!$P$2:$P$883)","v":2},{"$f":"SUMIF('X-DSP-ALL'!$E$2:$E$883,A41,'X-DSP-ALL'!$Q$2:$Q$883)","v":0},{"$f":"IF(A41=0,0,SUMIF('X-DSP-ALL'!$F$2:$F$883,A41,'X-DSP-ALL'!$BE$2:$BE$883))","v":22},{"$f":"IF(A41=0,0,(N41*Setup!$J$17)+(O41*Setup!$J$18)+(P41*Setup!$J$19)+(Q41*Setup!$J$22)+(R41*Setup!$J$23)+(S41*Setup!$J$24)+(T41))","v":33},{"$f":"SUMIF('X-DSP-ALL'!$E$2:$E$883,A41,'X-DSP-ALL'!$BO$2:$BO$883)","v":0},{"$f":"SUMIF('X-DSP-ALL'!$E$2:$E$883,A41,'X-DSP-ALL'!$BP$2:$BP$883)","v":0},{"$f":"SUMIF('X-DSP-ALL'!$E$2:$E$883,A41,'X-DSP-ALL'!$BQ$2:$BQ$883)","v":15},null,null,37,37,null,null,44,44]
[117,"Ferguson, Scott",117,"R",3,143,3,0,0,143,3,47.666666666666664,10.133333333333333,{"$f":"SUMIF('X-DSP-ALL'!$E$2:$E$883,A42,'X-DSP-ALL'!$L$2:$L$883)","v":10},{"$f":"SUMIF('X-DSP-ALL'!$E$2:$E$883,A42,'X-DSP-ALL'!$M$2:$M$883)","v":10},{"$f":"SUMIF('X-DSP-ALL'!$E$2:$E$883,A42,'X-DSP-ALL'!$N$2:$N$883)","v":7},{"$f":"SUMIF('X-DSP-ALL'!$E$2:$E$883,A42,'X-DSP-ALL'!$O$2:$O$883)","v":1},{"$f":"SUMIF('X-DSP-ALL'!$E$2:$E$883,A42,'X-DSP-ALL'!$P$2:$P$883)","v":1},{"$f":"SUMIF('X-DSP-ALL'!$E$2:$E$883,A42,'X-DSP-ALL'!$Q$2:$Q$883)","v":1},{"$f":"IF(A42=0,0,SUMIF('X-DSP-ALL'!$F$2:$F$883,A42,'X-DSP-ALL'!$BE$2:$BE$883))","v":0},{"$f":"IF(A42=0,0,(N42*Setup!$J$17)+(O42*Setup!$J$18)+(P42*Setup!$J$19)+(Q42*Setup!$J$22)+(R42*Setup!$J$23)+(S42*Setup!$J$24)+(T42))","v":33},{"$f":"SUMIF('X-DSP-ALL'!$E$2:$E$883,A42,'X-DSP-ALL'!$BO$2:$BO$883)","v":0},{"$f":"SUMIF('X-DSP-ALL'!$E$2:$E$883,A42,'X-DSP-ALL'!$BP$2:$BP$883)","v":1},{"$f":"SUMIF('X-DSP-ALL'!$E$2:$E$883,A42,'X-DSP-ALL'!$BQ$2:$BQ$883)","v":2},50,50,43,43,50,50]
[118,"Farley, Adam",118,"R",2,83,2,0,0,83,2,41.5,5.2,{"$f":"SUMIF('X-DSP-ALL'!$E$2:$E$883,A43,'X-DSP-ALL'!$L$2:$L$883)","v":6},{"$f":"SUMIF('X-DSP-ALL'!$E$2:$E$883,A43,'X-DSP-ALL'!$M$2:$M$883)","v":7},{"$f":"SUMIF('X-DSP-ALL'!$E$2:$E$883,A43,'X-DSP-ALL'!$N$2:$N$883)","v":5},{"$f":"SUMIF('X-DSP-ALL'!$E$2:$E$883,A43,'X-DSP-ALL'!$O$2:$O$883)","v":1},{"$f":"SUMIF('X-DSP-ALL'!$E$2:$E$883,A43,'X-DSP-ALL'!$P$2:$P$883)","v":0},{"$f":"SUMIF('X-DSP-ALL'!$E$2:$E$883,A43,'X-DSP-ALL'!$Q$2:$Q$883)","v":1},{"$f":"IF(A43=0,0,SUMIF('X-DSP-ALL'!$F$2:$F$883,A43,'X-DSP-ALL'!$BE$2:$BE$883))","v":15},{"$f":"IF(A43=0,0,(N43*Setup!$J$17)+(O43*Setup!$J$18)+(P43*Setup!$J$19)+(Q43*Setup!$J$22)+(R43*Setup!$J$23)+(S43*Setup!$J$24)+(T43))","v":38},{"$f":"SUMIF('X-DSP-ALL'!$E$2:$E$883,A43,'X-DSP-ALL'!$BO$2:$BO$883)","v":0},{"$f":"SUMIF('X-DSP-ALL'!$E$2:$E$883,A43,'X-DSP-ALL'!$BP$2:$BP$883)","v":0},{"$f":"SUMIF('X-DSP-ALL'!$E$2:$E$883,A43,'X-DSP-ALL'!$BQ$2:$BQ$883)","v":8},null,null,null,null,41,41,42,42]
[119,"Young, Brandon",119,"R",1,52,1,0,0,52,1,52,13.600000000000001,{"$f":"SUMIF('X-DSP-ALL'!$E$2:$E$883,A44,'X-DSP-ALL'!$L$2:$L$883)","v":5},{"$f":"SUMIF('X-DSP-ALL'!$E$2:$E$883,A44,'X-DSP-ALL'!$M$2:$M$883)","v":4},{"$f":"SUMIF('X-DSP-ALL'!$E$2:$E$883,A44,'X-DSP-ALL'!$N$2:$N$883)","v":0},{"$f":"SUMIF('X-DSP-ALL'!$E$2:$E$883,A44,'X-DSP-ALL'!$O$2:$O$883)","v":0},{"$f":"SUMIF('X-DSP-ALL'!$E$2:$E$883,A44,'X-DSP-ALL'!$P$2:$P$883)","v":0},{"$f":"SUMIF('X-DSP-ALL'!$E$2:$E$883,A44,'X-DSP-ALL'!$Q$2:$Q$883)","v":1},{"$f":"IF(A44=0,0,SUMIF('X-DSP-ALL'!$F$2:$F$883,A44,'X-DSP-ALL'!$BE$2:$BE$883))","v":29},{"$f":"IF(A44=0,0,(N44*Setup!$J$17)+(O44*Setup!$J$18)+(P44*Setup!$J$19)+(Q44*Setup!$J$22)+(R44*Setup!$J$23)+(S44*Setup!$J$24)+(T44))","v":41},{"$f":"SUMIF('X-DSP-ALL'!$E$2:$E$883,A44,'X-DSP-ALL'!$BO$2:$BO$883)","v":0},{"$f":"SUMIF('X-DSP-ALL'!$E$2:$E$883,A44,'X-DSP-ALL'!$BP$2:$BP$883)","v":0},{"$f":"SUMIF('X-DSP-ALL'!$E$2:$E$883,A44,'X-DSP-ALL'!$BQ$2:$BQ$883)","v":1},52,52]
[120,"Reike, Tim",120,"R",3,136,3,0,0,136,3,45.333333333333336,8.2666666666666693,{"$f":"SUMIF('X-DSP-ALL'!$E$2:$E$883,A45,'X-DSP-ALL'!$L$2:$L$883)","v":10},{"$f":"SUMIF('X-DSP-ALL'!$E$2:$E$883,A45,'X-DSP-ALL'!$M$2:$M$883)","v":7},{"$f":"SUMIF('X-DSP-ALL'!$E$2:$E$883,A45,'X-DSP-ALL'!$N$2:$N$883)","v":10},{"$f":"SUMIF('X-DSP-ALL'!$E$2:$E$883,A45,'X-DSP-ALL'!$O$2:$O$883)","v":1},{"$f":"SUMIF('X-DSP-ALL'!$E$2:$E$883,A45,'X-DSP-ALL'!$P$2:$P$883)","v":2},{"$f":"SUMIF('X-DSP-ALL'!$E$2:$E$883,A45,'X-DSP-ALL'!$Q$2:$Q$883)","v":0},{"$f":"IF(A45=0,0,SUMIF('X-DSP-ALL'!$F$2:$F$883,A45,'X-DSP-ALL'!$BE$2:$BE$883))","v":0},{"$f":"IF(A45=0,0,(N45*Setup!$J$17)+(O45*Setup!$J$18)+(P45*Setup!$J$19)+(Q45*Setup!$J$22)+(R45*Setup!$J$23)+(S45*Setup!$J$24)+(T45))","v":34},{"$f":"SUMIF('X-DSP-ALL'!$E$2:$E$883,A45,'X-DSP-ALL'!$BO$2:$BO$883)","v":0},{"$f":"SUMIF('X-DSP-ALL'!$E$2:$E$883,A45,'X-DSP-ALL'!$BP$2:$BP$883)","v":0},{"$f":"SUMIF('X-DSP-ALL'!$E$2:$E$883,A45,'X-DSP-ALL'!$BQ$2:$BQ$883)","v":9},null,null,46,46,44,44,46,46]
[121,"Lamb, David",121,"R",1,47,1,0,0,47,1,47,9.6000000000000014,{"$f":"SUMIF('X-DSP-ALL'!$E$2:$E$883,A46,'X-DSP-ALL'!$L$2:$L$883)","v":4},{"$f":"SUMIF('X-DSP-ALL'!$E$2:$E$883,A46,'X-DSP-ALL'!$M$2:$M$883)","v":2},{"$f":"SUMIF('X-DSP-ALL'!$E$2:$E$883,A46,'X-DSP-ALL'!$N$2:$N$883)","v":3},{"$f":"SUMIF('X-DSP-ALL'!$E$2:$E$883,A46,'X-DSP-ALL'!$O$2:$O$883)","v":0},{"$f":"SUMIF('X-DSP-ALL'!$E$2:$E$883,A46,'X-DSP-ALL'!$P$2:$P$883)","v":0},{"$f":"SUMIF('X-DSP-ALL'!$E$2:$E$883,A46,'X-DSP-ALL'!$Q$2:$Q$883)","v":1},{"$f":"IF(A46=0,0,SUMIF('X-DSP-ALL'!$F$2:$F$883,A46,'X-DSP-ALL'!$BE$2:$BE$883))","v":23},{"$f":"IF(A46=0,0,(N46*Setup!$J$17)+(O46*Setup!$J$18)+(P46*Setup!$J$19)+(Q46*Setup!$J$22)+(R46*Setup!$J$23)+(S46*Setup!$J$24)+(T46))","v":36},{"$f":"SUMIF('X-DSP-ALL'!$E$2:$E$883,A46,'X-DSP-ALL'!$BO$2:$BO$883)","v":0},{"$f":"SUMIF('X-DSP-ALL'!$E$2:$E$883,A46,'X-DSP-ALL'!$BP$2:$BP$883)","v":0},{"$f":"SUMIF('X-DSP-ALL'!$E$2:$E$883,A46,'X-DSP-ALL'!$BQ$2:$BQ$883)","v":1},47,47]
[122,"Ruter, Eric",122,"R",4,183,4,0,0,183,4,45.75,8.6,{"$f":"SUMIF('X-DSP-ALL'!$E$2:$E$883,A47,'X-DSP-ALL'!$L$2:$L$883)","v":14},{"$f":"SUMIF('X-DSP-ALL'!$E$2:$E$883,A47,'X-DSP-ALL'!$M$2:$M$883)","v":12},{"$f":"SUMIF('X-DSP-ALL'!$E$2:$E$883,A47,'X-DSP-ALL'!$N$2:$N$883)","v":10},{"$f":"SUMIF('X-DSP-ALL'!$E$2:$E$883,A47,'X-DSP-ALL'!$O$2:$O$883)","v":4},{"$f":"SUMIF('X-DSP-ALL'!$E$2:$E$883,A47,'X-DSP-ALL'!$P$2:$P$883)","v":0},{"$f":"SUMIF('X-DSP-ALL'!$E$2:$E$883,A47,'X-DSP-ALL'!$Q$2:$Q$883)","v":0},{"$f":"IF(A47=0,0,SUMIF('X-DSP-ALL'!$F$2:$F$883,A47,'X-DSP-ALL'!$BE$2:$BE$883))","v":0},{"$f":"IF(A47=0,0,(N47*Setup!$J$17)+(O47*Setup!$J$18)+(P47*Setup!$J$19)+(Q47*Setup!$J$22)+(R47*Setup!$J$23)+(S47*Setup!$J$24)+(T47))","v":54},{"$f":"SUMIF('X-DSP-ALL'!$E$2:$E$883,A47,'X-DSP-ALL'!$BO$2:$BO$883)","v":0},{"$f":"SUMIF('X-DSP-ALL'!$E$2:$E$883,A47,'X-DSP-ALL'!$BP$2:$BP$883)","v":1},{"$f":"SUMIF('X-DSP-ALL'!$E$2:$E$883,A47,'X-DSP-ALL'!$BQ$2:$BQ$883)","v":13},48,48,44,44,48,48,43,43]
[123,"Miller, Jim",123,"R",3,135,3,0,0,135,3,45,8,{"$f":"SUMIF('X-DSP-ALL'!$E$2:$E$883,A48,'X-DSP-ALL'!$L$2:$L$883)","v":12},{"$f":"SUMIF('X-DSP-ALL'!$E$2:$E$883,A48,'X-DSP-ALL'!$M$2:$M$883)","v":7},{"$f":"SUMIF('X-DSP-ALL'!$E$2:$E$883,A48,'X-DSP-ALL'!$N$2:$N$883)","v":8},{"$f":"SUMIF('X-DSP-ALL'!$E$2:$E$883,A48,'X-DSP-ALL'!$O$2:$O$883)","v":2},{"$f":"SUMIF('X-DSP-ALL'!$E$2:$E$883,A48,'X-DSP-ALL'!$P$2:$P$883)","v":0},{"$f":"SUMIF('X-DSP-ALL'!$E$2:$E$883,A48,'X-DSP-ALL'!$Q$2:$Q$883)","v":1},{"$f":"IF(A48=0,0,SUMIF('X-DSP-ALL'!$F$2:$F$883,A48,'X-DSP-ALL'!$BE$2:$BE$883))","v":16},{"$f":"IF(A48=0,0,(N48*Setup!$J$17)+(O48*Setup!$J$18)+(P48*Setup!$J$19)+(Q48*Setup!$J$22)+(R48*Setup!$J$23)+(S48*Setup!$J$24)+(T48))","v":58},{"$f":"SUMIF('X-DSP-ALL'!$E$2:$E$883,A48,'X-DSP-ALL'!$BO$2:$BO$883)","v":0},{"$f":"SUMIF('X-DSP-ALL'!$E$2:$E$883,A48,'X-DSP-ALL'!$BP$2:$BP$883)","v":1},{"$f":"SUMIF('X-DSP-ALL'!$E$2:$E$883,A48,'X-DSP-ALL'!$BQ$2:$BQ$883)","v":10},46,46,44,44,null,null,45,45]
[124,"Bosarge, John",124,"R",3,136,3,0,0,136,3,45.333333333333336,8.2666666666666693,{"$f":"SUMIF('X-DSP-ALL'!$E$2:$E$883,A49,'X-DSP-ALL'!$L$2:$L$883)","v":15},{"$f":"SUMIF('X-DSP-ALL'!$E$2:$E$883,A49,'X-DSP-ALL'!$M$2:$M$883)","v":5},{"$f":"SUMIF('X-DSP-ALL'!$E$2:$E$883,A49,'X-DSP-ALL'!$N$2:$N$883)","v":7},{"$f":"SUMIF('X-DSP-ALL'!$E$2:$E$883,A49,'X-DSP-ALL'!$O$2:$O$883)","v":3},{"$f":"SUMIF('X-DSP-ALL'!$E$2:$E$883,A49,'X-DSP-ALL'!$P$2:$P$883)","v":0},{"$f":"SUMIF('X-DSP-ALL'!$E$2:$E$883,A49,'X-DSP-ALL'!$Q$2:$Q$883)","v":0},{"$f":"IF(A49=0,0,SUMIF('X-DSP-ALL'!$F$2:$F$883,A49,'X-DSP-ALL'!$BE$2:$BE$883))","v":0},{"$f":"IF(A49=0,0,(N49*Setup!$J$17)+(O49*Setup!$J$18)+(P49*Setup!$J$19)+(Q49*Setup!$J$22)+(R49*Setup!$J$23)+(S49*Setup!$J$24)+(T49))","v":49},{"$f":"SUMIF('X-DSP-ALL'!$E$2:$E$883,A49,'X-DSP-ALL'!$BO$2:$BO$883)","v":0},{"$f":"SUMIF('X-DSP-ALL'!$E$2:$E$883,A49,'X-DSP-ALL'!$BP$2:$BP$883)","v":0},{"$f":"SUMIF('X-DSP-ALL'!$E$2:$E$883,A49,'X-DSP-ALL'!$BQ$2:$BQ$883)","v":11},50,50,41,41,45,45]
[125,"Rickards, Charlie",125,"R",2,98,2,0,0,98,2,49,11.200000000000001,{"$f":"SUMIF('X-DSP-ALL'!$E$2:$E$883,A50,'X-DSP-ALL'!$L$2:$L$883)","v":6},{"$f":"SUMIF('X-DSP-ALL'!$E$2:$E$883,A50,'X-DSP-ALL'!$M$2:$M$883)","v":4},{"$f":"SUMIF('X-DSP-ALL'!$E$2:$E$883,A50,'X-DSP-ALL'!$N$2:$N$883)","v":8},{"$f":"SUMIF('X-DSP-ALL'!$E$2:$E$883,A50,'X-DSP-ALL'!$O$2:$O$883)","v":1},{"$f":"SUMIF('X-DSP-ALL'!$E$2:$E$883,A50,'X-DSP-ALL'!$P$2:$P$883)","v":1},{"$f":"SUMIF('X-DSP-ALL'!$E$2:$E$883,A50,'X-DSP-ALL'!$Q$2:$Q$883)","v":0},{"$f":"IF(A50=0,0,SUMIF('X-DSP-ALL'!$F$2:$F$883,A50,'X-DSP-ALL'!$BE$2:$BE$883))","v":33},{"$f":"IF(A50=0,0,(N50*Setup!$J$17)+(O50*Setup!$J$18)+(P50*Setup!$J$19)+(Q50*Setup!$J$22)+(R50*Setup!$J$23)+(S50*Setup!$J$24)+(T50))","v":57},{"$f":"SUMIF('X-DSP-ALL'!$E$2:$E$883,A50,'X-DSP-ALL'!$BO$2:$BO$883)","v":0},{"$f":"SUMIF('X-DSP-ALL'!$E$2:$E$883,A50,'X-DSP-ALL'!$BP$2:$BP$883)","v":1},{"$f":"SUMIF('X-DSP-ALL'!$E$2:$E$883,A50,'X-DSP-ALL'!$BQ$2:$BQ$883)","v":3},null,null,null,null,47,47,51,51]
[126,"Saum, Craig",126,"R",4,176,4,0,0,176,4,44,7.2,{"$f":"SUMIF('X-DSP-ALL'!$E$2:$E$883,A51,'X-DSP-ALL'!$L$2:$L$883)","v":17},{"$f":"SUMIF('X-DSP-ALL'!$E$2:$E$883,A51,'X-DSP-ALL'!$M$2:$M$883)","v":10},{"$f":"SUMIF('X-DSP-ALL'!$E$2:$E$883,A51,'X-DSP-ALL'!$N$2:$N$883)","v":9},{"$f":"SUMIF('X-DSP-ALL'!$E$2:$E$883,A51,'X-DSP-ALL'!$O$2:$O$883)","v":1},{"$f":"SUMIF('X-DSP-ALL'!$E$2:$E$883,A51,'X-DSP-ALL'!$P$2:$P$883)","v":1},{"$f":"SUMIF('X-DSP-ALL'!$E$2:$E$883,A51,'X-DSP-ALL'!$Q$2:$Q$883)","v":2},{"$f":"IF(A51=0,0,SUMIF('X-DSP-ALL'!$F$2:$F$883,A51,'X-DSP-ALL'!$BE$2:$BE$883))","v":0},{"$f":"IF(A51=0,0,(N51*Setup!$J$17)+(O51*Setup!$J$18)+(P51*Setup!$J$19)+(Q51*Setup!$J$22)+(R51*Setup!$J$23)+(S51*Setup!$J$24)+(T51))","v":51},{"$f":"SUMIF('X-DSP-ALL'!$E$2:$E$883,A51,'X-DSP-ALL'!$BO$2:$BO$883)","v":0},{"$f":"SUMIF('X-DSP-ALL'!$E$2:$E$883,A51,'X-DSP-ALL'!$BP$2:$BP$883)","v":0},{"$f":"SUMIF('X-DSP-ALL'!$E$2:$E$883,A51,'X-DSP-ALL'!$BQ$2:$BQ$883)","v":21},43,43,45,45,42,42,46,46]
[127,"Dudley, Stan",127,"R",1,51,1,0,0,51,1,51,12.8,{"$f":"SUMIF('X-DSP-ALL'!$E$2:$E$883,A52,'X-DSP-ALL'!$L$2:$L$883)","v":3},{"$f":"SUMIF('X-DSP-ALL'!$E$2:$E$883,A52,'X-DSP-ALL'!$M$2:$M$883)","v":1},{"$f":"SUMIF('X-DSP-ALL'!$E$2:$E$883,A52,'X-DSP-ALL'!$N$2:$N$883)","v":5},{"$f":"SUMIF('X-DSP-ALL'!$E$2:$E$883,A52,'X-DSP-ALL'!$O$2:$O$883)","v":1},{"$f":"SUMIF('X-DSP-ALL'!$E$2:$E$883,A52,'X-DSP-ALL'!$P$2:$P$883)","v":0},{"$f":"SUMIF('X-DSP-ALL'!$E$2:$E$883,A52,'X-DSP-ALL'!$Q$2:$Q$883)","v":0},{"$f":"IF(A52=0,0,SUMIF('X-DSP-ALL'!$F$2:$F$883,A52,'X-DSP-ALL'!$BE$2:$BE$883))","v":41},{"$f":"IF(A52=0,0,(N52*Setup!$J$17)+(O52*Setup!$J$18)+(P52*Setup!$J$19)+(Q52*Setup!$J$22)+(R52*Setup!$J$23)+(S52*Setup!$J$24)+(T52))","v":56},{"$f":"SUMIF('X-DSP-ALL'!$E$2:$E$883,A52,'X-DSP-ALL'!$BO$2:$BO$883)","v":0},{"$f":"SUMIF('X-DSP-ALL'!$E$2:$E$883,A52,'X-DSP-ALL'!$BP$2:$BP$883)","v":0},{"$f":"SUMIF('X-DSP-ALL'!$E$2:$E$883,A52,'X-DSP-ALL'!$BQ$2:$BQ$883)","v":0},null,null,null,null,51,51]
[128,"Wisniewski, Karl",128,"R",3,154,3,0,0,154,3,51.333333333333336,13.06666666666667,{"$f":"SUMIF('X-DSP-ALL'!$E$2:$E$883,A53,'X-DSP-ALL'!$L$2:$L$883)","v":10},{"$f":"SUMIF('X-DSP-ALL'!$E$2:$E$883,A53,'X-DSP-ALL'!$M$2:$M$883)","v":10},{"$f":"SUMIF('X-DSP-ALL'!$E$2:$E$883,A53,'X-DSP-ALL'!$N$2:$N$883)","v":7},{"$f":"SUMIF('X-DSP-ALL'!$E$2:$E$883,A53,'X-DSP-ALL'!$O$2:$O$883)","v":3},{"$f":"SUMIF('X-DSP-ALL'!$E$2:$E$883,A53,'X-DSP-ALL'!$P$2:$P$883)","v":0},{"$f":"SUMIF('X-DSP-ALL'!$E$2:$E$883,A53,'X-DSP-ALL'!$Q$2:$Q$883)","v":0},{"$f":"IF(A53=0,0,SUMIF('X-DSP-ALL'!$F$2:$F$883,A53,'X-DSP-ALL'!$BE$2:$BE$883))","v":0},{"$f":"IF(A53=0,0,(N53*Setup!$J$17)+(O53*Setup!$J$18)+(P53*Setup!$J$19)+(Q53*Setup!$J$22)+(R53*Setup!$J$23)+(S53*Setup!$J$24)+(T53))","v":39},{"$f":"SUMIF('X-DSP-ALL'!$E$2:$E$883,A53,'X-DSP-ALL'!$BO$2:$BO$883)","v":0},{"$f":"SUMIF('X-DSP-ALL'!$E$2:$E$883,A53,'X-DSP-ALL'!$BP$2:$BP$883)","v":0},{"$f":"SUMIF('X-DSP-ALL'!$E$2:$E$883,A53,'X-DSP-ALL'!$BQ$2:$BQ$883)","v":4},52,52,50,50,null,null,52,52]
[129,"Pignone, Gary",129,"R",2,101,2,0,0,101,2,50.5,12.4,{"$f":"SUMIF('X-DSP-ALL'!$E$2:$E$883,A54,'X-DSP-ALL'!$L$2:$L$883)","v":3},{"$f":"SUMIF('X-DSP-ALL'!$E$2:$E$883,A54,'X-DSP-ALL'!$M$2:$M$883)","v":2},{"$f":"SUMIF('X-DSP-ALL'!$E$2:$E$883,A54,'X-DSP-ALL'!$N$2:$N$883)","v":4},{"$f":"SUMIF('X-DSP-ALL'!$E$2:$E$883,A54,'X-DSP-ALL'!$O$2:$O$883)","v":1},{"$f":"SUMIF('X-DSP-ALL'!$E$2:$E$883,A54,'X-DSP-ALL'!$P$2:$P$883)","v":0},{"$f":"SUMIF('X-DSP-ALL'!$E$2:$E$883,A54,'X-DSP-ALL'!$Q$2:$Q$883)","v":0},{"$f":"IF(A54=0,0,SUMIF('X-DSP-ALL'!$F$2:$F$883,A54,'X-DSP-ALL'!$BE$2:$BE$883))","v":30},{"$f":"IF(A54=0,0,(N54*Setup!$J$17)+(O54*Setup!$J$18)+(P54*Setup!$J$19)+(Q54*Setup!$J$22)+(R54*Setup!$J$23)+(S54*Setup!$J$24)+(T54))","v":44},{"$f":"SUMIF('X-DSP-ALL'!$E$2:$E$883,A54,'X-DSP-ALL'!$BO$2:$BO$883)","v":0},{"$f":"SUMIF('X-DSP-ALL'!$E$2:$E$883,A54,'X-DSP-ALL'!$BP$2:$BP$883)","v":0},{"$f":"SUMIF('X-DSP-ALL'!$E$2:$E$883,A54,'X-DSP-ALL'!$BQ$2:$BQ$883)","v":0},null,null,null,null,50,50,51,51]
[130,"Okeefe, Kevin",130,"R",2,102,2,0,0,102,2,51,12.8,{"$f":"SUMIF('X-DSP-ALL'!$E$2:$E$883,A55,'X-DSP-ALL'!$L$2:$L$883)","v":4},{"$f":"SUMIF('X-DSP-ALL'!$E$2:$E$883,A55,'X-DSP-ALL'!$M$2:$M$883)","v":3},{"$f":"SUMIF('X-DSP-ALL'!$E$2:$E$883,A55,'X-DSP-ALL'!$N$2:$N$883)","v":2},{"$f":"SUMIF('X-DSP-ALL'!$E$2:$E$883,A55,'X-DSP-ALL'!$O$2:$O$883)","v":1},{"$f":"SUMIF('X-DSP-ALL'!$E$2:$E$883,A55,'X-DSP-ALL'!$P$2:$P$883)","v":0},{"$f":"SUMIF('X-DSP-ALL'!$E$2:$E$883,A55,'X-DSP-ALL'!$Q$2:$Q$883)","v":0},{"$f":"IF(A55=0,0,SUMIF('X-DSP-ALL'!$F$2:$F$883,A55,'X-DSP-ALL'!$BE$2:$BE$883))","v":10},{"$f":"IF(A55=0,0,(N55*Setup!$J$17)+(O55*Setup!$J$18)+(P55*Setup!$J$19)+(Q55*Setup!$J$22)+(R55*Setup!$J$23)+(S55*Setup!$J$24)+(T55))","v":24},{"$f":"SUMIF('X-DSP-ALL'!$E$2:$E$883,A55,'X-DSP-ALL'!$BO$2:$BO$883)","v":0},{"$f":"SUMIF('X-DSP-ALL'!$E$2:$E$883,A55,'X-DSP-ALL'!$BP$2:$BP$883)","v":0},{"$f":"SUMIF('X-DSP-ALL'!$E$2:$E$883,A55,'X-DSP-ALL'!$BQ$2:$BQ$883)","v":3},null,null,51,51,51,51]
[131,"Prue, Chris",131,"R",2,96,2,0,0,96,2,48,10.4,{"$f":"SUMIF('X-DSP-ALL'!$E$2:$E$883,A56,'X-DSP-ALL'!$L$2:$L$883)","v":10},{"$f":"SUMIF('X-DSP-ALL'!$E$2:$E$883,A56,'X-DSP-ALL'!$M$2:$M$883)","v":6},{"$f":"SUMIF('X-DSP-ALL'!$E$2:$E$883,A56,'X-DSP-ALL'!$N$2:$N$883)","v":2},{"$f":"SUMIF('X-DSP-ALL'!$E$2:$E$883,A56,'X-DSP-ALL'!$O$2:$O$883)","v":2},{"$f":"SUMIF('X-DSP-ALL'!$E$2:$E$883,A56,'X-DSP-ALL'!$P$2:$P$883)","v":0},{"$f":"SUMIF('X-DSP-ALL'!$E$2:$E$883,A56,'X-DSP-ALL'!$Q$2:$Q$883)","v":0},{"$f":"IF(A56=0,0,SUMIF('X-DSP-ALL'!$F$2:$F$883,A56,'X-DSP-ALL'!$BE$2:$BE$883))","v":0},{"$f":"IF(A56=0,0,(N56*Setup!$J$17)+(O56*Setup!$J$18)+(P56*Setup!$J$19)+(Q56*Setup!$J$22)+(R56*Setup!$J$23)+(S56*Setup!$J$24)+(T56))","v":30},{"$f":"SUMIF('X-DSP-ALL'!$E$2:$E$883,A56,'X-DSP-ALL'!$BO$2:$BO$883)","v":0},{"$f":"SUMIF('X-DSP-ALL'!$E$2:$E$883,A56,'X-DSP-ALL'!$BP$2:$BP$883)","v":0},{"$f":"SUMIF('X-DSP-ALL'!$E$2:$E$883,A56,'X-DSP-ALL'!$BQ$2:$BQ$883)","v":5},null,null,49,49,47,47]
[132,"Weinle, Jerry",132,"R",1,47,1,0,0,47,1,47,9.6000000000000014,{"$f":"SUMIF('X-DSP-ALL'!$E$2:$E$883,A57,'X-DSP-ALL'!$L$2:$L$883)","v":3},{"$f":"SUMIF('X-DSP-ALL'!$E$2:$E$883,A57,'X-DSP-ALL'!$M$2:$M$883)","v":4},{"$f":"SUMIF('X-DSP-ALL'!$E$2:$E$883,A57,'X-DSP-ALL'!$N$2:$N$883)","v":2},{"$f":"SUMIF('X-DSP-ALL'!$E$2:$E$883,A57,'X-DSP-ALL'!$O$2:$O$883)","v":0},{"$f":"SUMIF('X-DSP-ALL'!$E$2:$E$883,A57,'X-DSP-ALL'!$P$2:$P$883)","v":0},{"$f":"SUMIF('X-DSP-ALL'!$E$2:$E$883,A57,'X-DSP-ALL'!$Q$2:$Q$883)","v":1},{"$f":"IF(A57=0,0,SUMIF('X-DSP-ALL'!$F$2:$F$883,A57,'X-DSP-ALL'!$BE$2:$BE$883))","v":0},{"$f":"IF(A57=0,0,(N57*Setup!$J$17)+(O57*Setup!$J$18)+(P57*Setup!$J$19)+(Q57*Setup!$J$22)+(R57*Setup!$J$23)+(S57*Setup!$J$24)+(T57))","v":10},{"$f":"SUMIF('X-DSP-ALL'!$E$2:$E$883,A57,'X-DSP-ALL'!$BO$2:$BO$883)","v":0},{"$f":"SUMIF('X-DSP-ALL'!$E$2:$E$883,A57,'X-DSP-ALL'!$BP$2:$BP$883)","v":0},{"$f":"SUMIF('X-DSP-ALL'!$E$2:$E$883,A57,'X-DSP-ALL'!$BQ$2:$BQ$883)","v":2},null,null,null,null,null,null,47,47]
[133,"Salehpour, Kaevon",133,"R",0,0,0,0,0,0,0,0,0,{"$f":"SUMIF('X-DSP-ALL'!$E$2:$E$883,A58,'X-DSP-ALL'!$L$2:$L$883)","v":0},{"$f":"SUMIF('X-DSP-ALL'!$E$2:$E$883,A58,'X-DSP-ALL'!$M$2:$M$883)","v":0},{"$f":"SUMIF('X-DSP-ALL'!$E$2:$E$883,A58,'X-DSP-ALL'!$N$2:$N$883)","v":0},{"$f":"SUMIF('X-DSP-ALL'!$E$2:$E$883,A58,'X-DSP-ALL'!$O$2:$O$883)","v":0},{"$f":"SUMIF('X-DSP-ALL'!$E$2:$E$883,A58,'X-DSP-ALL'!$P$2:$P$883)","v":0},{"$f":"SUMIF('X-DSP-ALL'!$E$2:$E$883,A58,'X-DSP-ALL'!$Q$2:$Q$883)","v":0},{"$f":"IF(A58=0,0,SUMIF('X-DSP-ALL'!$F$2:$F$883,A58,'X-DSP-ALL'!$BE$2:$BE$883))","v":0},{"$f":"IF(A58=0,0,(N58*Setup!$J$17)+(O58*Setup!$J$18)+(P58*Setup!$J$19)+(Q58*Setup!$J$22)+(R58*Setup!$J$23)+(S58*Setup!$J$24)+(T58))","v":0},{"$f":"SUMIF('X-DSP-ALL'!$E$2:$E$883,A58,'X-DSP-ALL'!$BO$2:$BO$883)","v":0},{"$f":"SUMIF('X-DSP-ALL'!$E$2:$E$883,A58,'X-DSP-ALL'!$BP$2:$BP$883)","v":0},{"$f":"SUMIF('X-DSP-ALL'!$E$2:$E$883,A58,'X-DSP-ALL'!$BQ$2:$BQ$883)","v":0}]
[134,"Strauss, Bob",134,"R",0,0,0,0,0,0,0,0,0,{"$f":"SUMIF('X-DSP-ALL'!$E$2:$E$883,A59,'X-DSP-ALL'!$L$2:$L$883)","v":0},{"$f":"SUMIF('X-DSP-ALL'!$E$2:$E$883,A59,'X-DSP-ALL'!$M$2:$M$883)","v":0},{"$f":"SUMIF('X-DSP-ALL'!$E$2:$E$883,A59,'X-DSP-ALL'!$N$2:$N$883)","v":0},{"$f":"SUMIF('X-DSP-ALL'!$E$2:$E$883,A59,'X-DSP-ALL'!$O$2:$O$883)","v":0},{"$f":"SUMIF('X-DSP-ALL'!$E$2:$E$883,A59,'X-DSP-ALL'!$P$2:$P$883)","v":0},{"$f":"SUMIF('X-DSP-ALL'!$E$2:$E$883,A59,'X-DSP-ALL'!$Q$2:$Q$883)","v":0},{"$f":"IF(A59=0,0,SUMIF('X-DSP-ALL'!$F$2:$F$883,A59,'X-DSP-ALL'!$BE$2:$BE$883))","v":0},{"$f":"IF(A59=0,0,(N59*Setup!$J$17)+(O59*Setup!$J$18)+(P59*Setup!$J$19)+(Q59*Setup!$J$22)+(R59*Setup!$J$23)+(S59*Setup!$J$24)+(T59))","v":0},{"$f":"SUMIF('X-DSP-ALL'!$E$2:$E$883,A59,'X-DSP-ALL'!$BO$2:$BO$883)","v":0},{"$f":"SUMIF('X-DSP-ALL'!$E$2:$E$883,A59,'X-DSP-ALL'!$BP$2:$BP$883)","v":0},{"$f":"SUMIF('X-DSP-ALL'!$E$2:$E$883,A59,'X-DSP-ALL'!$BQ$2:$BQ$883)","v":0}]
[135,"Jackson, Chris",135,"R",0,0,0,0,0,0,0,0,0,{"$f":"SUMIF('X-DSP-ALL'!$E$2:$E$883,A60,'X-DSP-ALL'!$L$2:$L$883)","v":0},{"$f":"SUMIF('X-DSP-ALL'!$E$2:$E$883,A60,'X-DSP-ALL'!$M$2:$M$883)","v":0},{"$f":"SUMIF('X-DSP-ALL'!$E$2:$E$883,A60,'X-DSP-ALL'!$N$2:$N$883)","v":0},{"$f":"SUMIF('X-DSP-ALL'!$E$2:$E$883,A60,'X-DSP-ALL'!$O$2:$O$883)","v":0},{"$f":"SUMIF('X-DSP-ALL'!$E$2:$E$883,A60,'X-DSP-ALL'!$P$2:$P$883)","v":0},{"$f":"SUMIF('X-DSP-ALL'!$E$2:$E$883,A60,'X-DSP-ALL'!$Q$2:$Q$883)","v":0},{"$f":"IF(A60=0,0,SUMIF('X-DSP-ALL'!$F$2:$F$883,A60,'X-DSP-ALL'!$BE$2:$BE$883))","v":0},{"$f":"IF(A60=0,0,(N60*Setup!$J$17)+(O60*Setup!$J$18)+(P60*Setup!$J$19)+(Q60*Setup!$J$22)+(R60*Setup!$J$23)+(S60*Setup!$J$24)+(T60))","v":0},{"$f":"SUMIF('X-DSP-ALL'!$E$2:$E$883,A60,'X-DSP-ALL'!$BO$2:$BO$883)","v":0},{"$f":"SUMIF('X-DSP-ALL'!$E$2:$E$883,A60,'X-DSP-ALL'!$BP$2:$BP$883)","v":0},{"$f":"SUMIF('X-DSP-ALL'!$E$2:$E$883,A60,'X-DSP-ALL'!$BQ$2:$BQ$883)","v":0}]
[136,"Endreola, Chuck",136,"R",0,0,0,0,0,0,0,0,0,{"$f":"SUMIF('X-DSP-ALL'!$E$2:$E$883,A61,'X-DSP-ALL'!$L$2:$L$883)","v":0},{"$f":"SUMIF('X-DSP-ALL'!$E$2:$E$883,A61,'X-DSP-ALL'!$M$2:$M$883)","v":0},{"$f":"SUMIF('X-DSP-ALL'!$E$2:$E$883,A61,'X-DSP-ALL'!$N$2:$N$883)","v":0},{"$f":"SUMIF('X-DSP-ALL'!$E$2:$E$883,A61,'X-DSP-ALL'!$O$2:$O$883)","v":0},{"$f":"SUMIF('X-DSP-ALL'!$E$2:$E$883,A61,'X-DSP-ALL'!$P$2:$P$883)","v":0},{"$f":"SUMIF('X-DSP-ALL'!$E$2:$E$883,A61,'X-DSP-ALL'!$Q$2:$Q$883)","v":0},{"$f":"IF(A61=0,0,SUMIF('X-DSP-ALL'!$F$2:$F$883,A61,'X-DSP-ALL'!$BE$2:$BE$883))","v":0},{"$f":"IF(A61=0,0,(N61*Setup!$J$17)+(O61*Setup!$J$18)+(P61*Setup!$J$19)+(Q61*Setup!$J$22)+(R61*Setup!$J$23)+(S61*Setup!$J$24)+(T61))","v":0},{"$f":"SUMIF('X-DSP-ALL'!$E$2:$E$883,A61,'X-DSP-ALL'!$BO$2:$BO$883)","v":0},{"$f":"SUMIF('X-DSP-ALL'!$E$2:$E$883,A61,'X-DSP-ALL'!$BP$2:$BP$883)","v":0},{"$f":"SUMIF('X-DSP-ALL'!$E$2:$E$883,A61,'X-DSP-ALL'!$BQ$2:$BQ$883)","v":0}]
[137,"Keenie, Daniel",137,"R",0,0,0,0,0,0,0,0,0,{"$f":"SUMIF('X-DSP-ALL'!$E$2:$E$883,A62,'X-DSP-ALL'!$L$2:$L$883)","v":0},{"$f":"SUMIF('X-DSP-ALL'!$E$2:$E$883,A62,'X-DSP-ALL'!$M$2:$M$883)","v":0},{"$f":"SUMIF('X-DSP-ALL'!$E$2:$E$883,A62,'X-DSP-ALL'!$N$2:$N$883)","v":0},{"$f":"SUMIF('X-DSP-ALL'!$E$2:$E$883,A62,'X-DSP-ALL'!$O$2:$O$883)","v":0},{"$f":"SUMIF('X-DSP-ALL'!$E$2:$E$883,A62,'X-DSP-ALL'!$P$2:$P$883)","v":0},{"$f":"SUMIF('X-DSP-ALL'!$E$2:$E$883,A62,'X-DSP-ALL'!$Q$2:$Q$883)","v":0},{"$f":"IF(A62=0,0,SUMIF('X-DSP-ALL'!$F$2:$F$883,A62,'X-DSP-ALL'!$BE$2:$BE$883))","v":0},{"$f":"IF(A62=0,0,(N62*Setup!$J$17)+(O62*Setup!$J$18)+(P62*Setup!$J$19)+(Q62*Setup!$J$22)+(R62*Setup!$J$23)+(S62*Setup!$J$24)+(T62))","v":0},{"$f":"SUMIF('X-DSP-ALL'!$E$2:$E$883,A62,'X-DSP-ALL'!$BO$2:$BO$883)","v":0},{"$f":"SUMIF('X-DSP-ALL'!$E$2:$E$883,A62,'X-DSP-ALL'!$BP$2:$BP$883)","v":0},{"$f":"SUMIF('X-DSP-ALL'!$E$2:$E$883,A62,'X-DSP-ALL'!$BQ$2:$BQ$883)","v":0}]
[138,"Woolums, Dave",138,"R",0,0,0,0,0,0,0,0,0,{"$f":"SUMIF('X-DSP-ALL'!$E$2:$E$883,A63,'X-DSP-ALL'!$L$2:$L$883)","v":0},{"$f":"SUMIF('X-DSP-ALL'!$E$2:$E$883,A63,'X-DSP-ALL'!$M$2:$M$883)","v":0},{"$f":"SUMIF('X-DSP-ALL'!$E$2:$E$883,A63,'X-DSP-ALL'!$N$2:$N$883)","v":0},{"$f":"SUMIF('X-DSP-ALL'!$E$2:$E$883,A63,'X-DSP-ALL'!$O$2:$O$883)","v":0},{"$f":"SUMIF('X-DSP-ALL'!$E$2:$E$883,A63,'X-DSP-ALL'!$P$2:$P$883)","v":0},{"$f":"SUMIF('X-DSP-ALL'!$E$2:$E$883,A63,'X-DSP-ALL'!$Q$2:$Q$883)","v":0},{"$f":"IF(A63=0,0,SUMIF('X-DSP-ALL'!$F$2:$F$883,A63,'X-DSP-ALL'!$BE$2:$BE$883))","v":0},{"$f":"IF(A63=0,0,(N63*Setup!$J$17)+(O63*Setup!$J$18)+(P63*Setup!$J$19)+(Q63*Setup!$J$22)+(R63*Setup!$J$23)+(S63*Setup!$J$24)+(T63))","v":0},{"$f":"SUMIF('X-DSP-ALL'!$E$2:$E$883,A63,'X-DSP-ALL'!$BO$2:$BO$883)","v":0},{"$f":"SUMIF('X-DSP-ALL'!$E$2:$E$883,A63,'X-DSP-ALL'!$BP$2:$BP$883)","v":0},{"$f":"SUMIF('X-DSP-ALL'!$E$2:$E$883,A63,'X-DSP-ALL'!$BQ$2:$BQ$883)","v":0}]
[139,"Laikos, Demetrious",139,"R",0,0,0,0,0,0,0,0,0,{"$f":"SUMIF('X-DSP-ALL'!$E$2:$E$883,A64,'X-DSP-ALL'!$L$2:$L$883)","v":0},{"$f":"SUMIF('X-DSP-ALL'!$E$2:$E$883,A64,'X-DSP-ALL'!$M$2:$M$883)","v":0},{"$f":"SUMIF('X-DSP-ALL'!$E$2:$E$883,A64,'X-DSP-ALL'!$N$2:$N$883)","v":0},{"$f":"SUMIF('X-DSP-ALL'!$E$2:$E$883,A64,'X-DSP-ALL'!$O$2:$O$883)","v":0},{"$f":"SUMIF('X-DSP-ALL'!$E$2:$E$883,A64,'X-DSP-ALL'!$P$2:$P$883)","v":0},{"$f":"SUMIF('X-DSP-ALL'!$E$2:$E$883,A64,'X-DSP-ALL'!$Q$2:$Q$883)","v":0},{"$f":"IF(A64=0,0,SUMIF('X-DSP-ALL'!$F$2:$F$883,A64,'X-DSP-ALL'!$BE$2:$BE$883))","v":0},{"$f":"IF(A64=0,0,(N64*Setup!$J$17)+(O64*Setup!$J$18)+(P64*Setup!$J$19)+(Q64*Setup!$J$22)+(R64*Setup!$J$23)+(S64*Setup!$J$24)+(T64))","v":0},{"$f":"SUMIF('X-DSP-ALL'!$E$2:$E$883,A64,'X-DSP-ALL'!$BO$2:$BO$883)","v":0},{"$f":"SUMIF('X-DSP-ALL'!$E$2:$E$883,A64,'X-DSP-ALL'!$BP$2:$BP$883)","v":0},{"$f":"SUMIF('X-DSP-ALL'!$E$2:$E$883,A64,'X-DSP-ALL'!$BQ$2:$BQ$883)","v":0}]
[140,"Perez, J",140,"R",0,0,0,0,0,0,0,0,0,{"$f":"SUMIF('X-DSP-ALL'!$E$2:$E$883,A65,'X-DSP-ALL'!$L$2:$L$883)","v":0},{"$f":"SUMIF('X-DSP-ALL'!$E$2:$E$883,A65,'X-DSP-ALL'!$M$2:$M$883)","v":0},{"$f":"SUMIF('X-DSP-ALL'!$E$2:$E$883,A65,'X-DSP-ALL'!$N$2:$N$883)","v":0},{"$f":"SUMIF('X-DSP-ALL'!$E$2:$E$883,A65,'X-DSP-ALL'!$O$2:$O$883)","v":0},{"$f":"SUMIF('X-DSP-ALL'!$E$2:$E$883,A65,'X-DSP-ALL'!$P$2:$P$883)","v":0},{"$f":"SUMIF('X-DSP-ALL'!$E$2:$E$883,A65,'X-DSP-ALL'!$Q$2:$Q$883)","v":0},{"$f":"IF(A65=0,0,SUMIF('X-DSP-ALL'!$F$2:$F$883,A65,'X-DSP-ALL'!$BE$2:$BE$883))","v":0},{"$f":"IF(A65=0,0,(N65*Setup!$J$17)+(O65*Setup!$J$18)+(P65*Setup!$J$19)+(Q65*Setup!$J$22)+(R65*Setup!$J$23)+(S65*Setup!$J$24)+(T65))","v":0},{"$f":"SUMIF('X-DSP-ALL'!$E$2:$E$883,A65,'X-DSP-ALL'!$BO$2:$BO$883)","v":0},{"$f":"SUMIF('X-DSP-ALL'!$E$2:$E$883,A65,'X-DSP-ALL'!$BP$2:$BP$883)","v":0},{"$f":"SUMIF('X-DSP-ALL'!$E$2:$E$883,A65,'X-DSP-ALL'!$BQ$2:$BQ$883)","v":0}]
[141,"Heinen, Jason",141,"S",{"$f":"COUNTA(Y66,AA66,AC66,AE66,AG66,AI66,AK66,AM66,AO66,AQ66,AS66,AU66,AW66,AY66,BA66,BC66,BE66,BG66,BI66,BK66)","v":0},{"$f":"SUM(Z66,AB66,AD66,AF66,AH66,AJ66,AL66,AN66,AP66,AR66,AT66,AV66,AX66,AZ66,BB66,BD66,BF66,BH66,BJ66,BL66)","v":0},{"$f":"COUNTA(Z66,AB66,AD66,AF66,AH66,AJ66,AL66,AN66,AP66,AR66,AT66,AV66,AX66,AZ66,BB66,BD66,BF66,BH66,BJ66,BL66)","v":0},{"$f":"IF(G66>=6,MIN(Z66,AB66,AD66,AF66,AH66,AJ66,AL66,AN66,AP66,AR66,AT66,AV66,AX66,AZ66,BB66,BD66,BF66,BH66,BJ66,BL66),0)","v":0},{"$f":"IF(G66>=6,MAX(Z66,AB66,AD66,AF66,AH66,AJ66,AL66,AN66,AP66,AR66,AT66,AV66,AX66,AZ66,BB66,BD66,BF66,BH66,BJ66,BL66),0)","v":0},0,0,0,0,{"$f":"SUMIF('X-DSP-ALL'!$E$2:$E$883,A66,'X-DSP-ALL'!$L$2:$L$883)","v":0},{"$f":"SUMIF('X-DSP-ALL'!$E$2:$E$883,A66,'X-DSP-ALL'!$M$2:$M$883)","v":0},{"$f":"SUMIF('X-DSP-ALL'!$E$2:$E$883,A66,'X-DSP-ALL'!$N$2:$N$883)","v":0},{"$f":"SUMIF('X-DSP-ALL'!$E$2:$E$883,A66,'X-DSP-ALL'!$O$2:$O$883)","v":0},{"$f":"SUMIF('X-DSP-ALL'!$E$2:$E$883,A66,'X-DSP-ALL'!$P$2:$P$883)","v":0},{"$f":"SUMIF('X-DSP-ALL'!$E$2:$E$883,A66,'X-DSP-ALL'!$Q$2:$Q$883)","v":0},{"$f":"IF(A66=0,0,SUMIF('X-DSP-ALL'!$F$2:$F$883,A66,'X-DSP-ALL'!$BE$2:$BE$883))","v":0},{"$f":"IF(A66=0,0,(N66*Setup!$J$17)+(O66*Setup!$J$18)+(P66*Setup!$J$19)+(Q66*Setup!$J$22)+(R66*Setup!$J$23)+(S66*Setup!$J$24)+(T66))","v":0},{"$f":"SUMIF('X-DSP-ALL'!$E$2:$E$883,A66,'X-DSP-ALL'!$BO$2:$BO$883)","v":0},{"$f":"SUMIF('X-DSP-ALL'!$E$2:$E$883,A66,'X-DSP-ALL'!$BP$2:$BP$883)","v":0},{"$f":"SUMIF('X-DSP-ALL'!$E$2:$E$883,A66,'X-DSP-ALL'!$BQ$2:$BQ$883)","v":0}]
[142,"Schwab, Jeff",{"$f":"A67","v":142},"S",0,0,0,0,0,{"$f":"(F67-(H67+I67))","v":0},{"$f":"IF(G67>=6,G67-2,G67)","v":0},{"$f":"IF(K67=0,0,(F67-(H67+I67))/K67)","v":0},{"$f":"IF(K67=0,0,(L67-35)*0.8)","v":0},{"$f":"SUMIF('X-DSP-ALL'!$E$2:$E$883,A67,'X-DSP-ALL'!$L$2:$L$883)","v":0},{"$f":"SUMIF('X-DSP-ALL'!$E$2:$E$883,A67,'X-DSP-ALL'!$M$2:$M$883)","v":0},{"$f":"SUMIF('X-DSP-ALL'!$E$2:$E$883,A67,'X-DSP-ALL'!$N$2:$N$883)","v":0},{"$f":"SUMIF('X-DSP-ALL'!$E$2:$E$883,A67,'X-DSP-ALL'!$O$2:$O$883)","v":0},{"$f":"SUMIF('X-DSP-ALL'!$E$2:$E$883,A67,'X-DSP-ALL'!$P$2:$P$883)","v":0},{"$f":"SUMIF('X-DSP-ALL'!$E$2:$E$883,A67,'X-DSP-ALL'!$Q$2:$Q$883)","v":0},{"$f":"IF(A67=0,0,SUMIF('X-DSP-ALL'!$F$2:$F$883,A67,'X-DSP-ALL'!$BE$2:$BE$883))","v":0},{"$f":"IF(A67=0,0,(N67*Setup!$J$17)+(O67*Setup!$J$18)+(P67*Setup!$J$19)+(Q67*Setup!$J$22)+(R67*Setup!$J$23)+(S67*Setup!$J$24)+(T67))","v":0},{"$f":"SUMIF('X-DSP-ALL'!$E$2:$E$883,A67,'X-DSP-ALL'!$BO$2:$BO$883)","v":0},{"$f":"SUMIF('X-DSP-ALL'!$E$2:$E$883,A67,'X-DSP-ALL'!$BP$2:$BP$883)","v":0},{"$f":"SUMIF('X-DSP-ALL'!$E$2:$E$883,A67,'X-DSP-ALL'!$BQ$2:$BQ$883)","v":0}]
[143,"Mossman, Jim",143,"S",0,0,0,0,0,0,0,0,0,{"$f":"SUMIF('X-DSP-ALL'!$E$2:$E$883,A68,'X-DSP-ALL'!$L$2:$L$883)","v":0},{"$f":"SUMIF('X-DSP-ALL'!$E$2:$E$883,A68,'X-DSP-ALL'!$M$2:$M$883)","v":0},{"$f":"SUMIF('X-DSP-ALL'!$E$2:$E$883,A68,'X-DSP-ALL'!$N$2:$N$883)","v":0},{"$f":"SUMIF('X-DSP-ALL'!$E$2:$E$883,A68,'X-DSP-ALL'!$O$2:$O$883)","v":0},{"$f":"SUMIF('X-DSP-ALL'!$E$2:$E$883,A68,'X-DSP-ALL'!$P$2:$P$883)","v":0},{"$f":"SUMIF('X-DSP-ALL'!$E$2:$E$883,A68,'X-DSP-ALL'!$Q$2:$Q$883)","v":0},{"$f":"IF(A68=0,0,SUMIF('X-DSP-ALL'!$F$2:$F$883,A68,'X-DSP-ALL'!$BE$2:$BE$883))","v":0},{"$f":"IF(A68=0,0,(N68*Setup!$J$17)+(O68*Setup!$J$18)+(P68*Setup!$J$19)+(Q68*Setup!$J$22)+(R68*Setup!$J$23)+(S68*Setup!$J$24)+(T68))","v":0},{"$f":"SUMIF('X-DSP-ALL'!$E$2:$E$883,A68,'X-DSP-ALL'!$BO$2:$BO$883)","v":0},{"$f":"SUMIF('X-DSP-ALL'!$E$2:$E$883,A68,'X-DSP-ALL'!$BP$2:$BP$883)","v":0},{"$f":"SUMIF('X-DSP-ALL'!$E$2:$E$883,A68,'X-DSP-ALL'!$BQ$2:$BQ$883)","v":0}]
[144,"Tempel, John",144,"S",0,0,0,0,0,0,0,0,0,{"$f":"SUMIF('X-DSP-ALL'!$E$2:$E$883,A69,'X-DSP-ALL'!$L$2:$L$883)","v":0},{"$f":"SUMIF('X-DSP-ALL'!$E$2:$E$883,A69,'X-DSP-ALL'!$M$2:$M$883)","v":0},{"$f":"SUMIF('X-DSP-ALL'!$E$2:$E$883,A69,'X-DSP-ALL'!$N$2:$N$883)","v":0},{"$f":"SUMIF('X-DSP-ALL'!$E$2:$E$883,A69,'X-DSP-ALL'!$O$2:$O$883)","v":0},{"$f":"SUMIF('X-DSP-ALL'!$E$2:$E$883,A69,'X-DSP-ALL'!$P$2:$P$883)","v":0},{"$f":"SUMIF('X-DSP-ALL'!$E$2:$E$883,A69,'X-DSP-ALL'!$Q$2:$Q$883)","v":0},{"$f":"IF(A69=0,0,SUMIF('X-DSP-ALL'!$F$2:$F$883,A69,'X-DSP-ALL'!$BE$2:$BE$883))","v":0},{"$f":"IF(A69=0,0,(N69*Setup!$J$17)+(O69*Setup!$J$18)+(P69*Setup!$J$19)+(Q69*Setup!$J$22)+(R69*Setup!$J$23)+(S69*Setup!$J$24)+(T69))","v":0},{"$f":"SUMIF('X-DSP-ALL'!$E$2:$E$883,A69,'X-DSP-ALL'!$BO$2:$BO$883)","v":0},{"$f":"SUMIF('X-DSP-ALL'!$E$2:$E$883,A69,'X-DSP-ALL'!$BP$2:$BP$883)","v":0},{"$f":"SUMIF('X-DSP-ALL'!$E$2:$E$883,A69,'X-DSP-ALL'!$BQ$2:$BQ$883)","v":0}]
[145,"Heinrich, Trevor",145,"S",3,169,3,0,0,169,3,56.333333333333336,17.06666666666667,{"$f":"SUMIF('X-DSP-ALL'!$E$2:$E$883,A70,'X-DSP-ALL'!$L$2:$L$883)","v":15},{"$f":"SUMIF('X-DSP-ALL'!$E$2:$E$883,A70,'X-DSP-ALL'!$M$2:$M$883)","v":6},{"$f":"SUMIF('X-DSP-ALL'!$E$2:$E$883,A70,'X-DSP-ALL'!$N$2:$N$883)","v":6},{"$f":"SUMIF('X-DSP-ALL'!$E$2:$E$883,A70,'X-DSP-ALL'!$O$2:$O$883)","v":3},{"$f":"SUMIF('X-DSP-ALL'!$E$2:$E$883,A70,'X-DSP-ALL'!$P$2:$P$883)","v":0},{"$f":"SUMIF('X-DSP-ALL'!$E$2:$E$883,A70,'X-DSP-ALL'!$Q$2:$Q$883)","v":0},{"$f":"IF(A70=0,0,SUMIF('X-DSP-ALL'!$F$2:$F$883,A70,'X-DSP-ALL'!$BE$2:$BE$883))","v":0},{"$f":"IF(A70=0,0,(N70*Setup!$J$17)+(O70*Setup!$J$18)+(P70*Setup!$J$19)+(Q70*Setup!$J$22)+(R70*Setup!$J$23)+(S70*Setup!$J$24)+(T70))","v":48},{"$f":"SUMIF('X-DSP-ALL'!$E$2:$E$883,A70,'X-DSP-ALL'!$BO$2:$BO$883)","v":0},{"$f":"SUMIF('X-DSP-ALL'!$E$2:$E$883,A70,'X-DSP-ALL'!$BP$2:$BP$883)","v":0},{"$f":"SUMIF('X-DSP-ALL'!$E$2:$E$883,A70,'X-DSP-ALL'!$BQ$2:$BQ$883)","v":2},59,59,null,null,60,60,50,50]
[146,"Kumer, Kerry",146,"S",0,0,0,0,0,0,0,0,0,{"$f":"SUMIF('X-DSP-ALL'!$E$2:$E$883,A71,'X-DSP-ALL'!$L$2:$L$883)","v":0},{"$f":"SUMIF('X-DSP-ALL'!$E$2:$E$883,A71,'X-DSP-ALL'!$M$2:$M$883)","v":0},{"$f":"SUMIF('X-DSP-ALL'!$E$2:$E$883,A71,'X-DSP-ALL'!$N$2:$N$883)","v":0},{"$f":"SUMIF('X-DSP-ALL'!$E$2:$E$883,A71,'X-DSP-ALL'!$O$2:$O$883)","v":0},{"$f":"SUMIF('X-DSP-ALL'!$E$2:$E$883,A71,'X-DSP-ALL'!$P$2:$P$883)","v":0},{"$f":"SUMIF('X-DSP-ALL'!$E$2:$E$883,A71,'X-DSP-ALL'!$Q$2:$Q$883)","v":0},{"$f":"IF(A71=0,0,SUMIF('X-DSP-ALL'!$F$2:$F$883,A71,'X-DSP-ALL'!$BE$2:$BE$883))","v":0},{"$f":"IF(A71=0,0,(N71*Setup!$J$17)+(O71*Setup!$J$18)+(P71*Setup!$J$19)+(Q71*Setup!$J$22)+(R71*Setup!$J$23)+(S71*Setup!$J$24)+(T71))","v":0},{"$f":"SUMIF('X-DSP-ALL'!$E$2:$E$883,A71,'X-DSP-ALL'!$BO$2:$BO$883)","v":0},{"$f":"SUMIF('X-DSP-ALL'!$E$2:$E$883,A71,'X-DSP-ALL'!$BP$2:$BP$883)","v":0},{"$f":"SUMIF('X-DSP-ALL'!$E$2:$E$883,A71,'X-DSP-ALL'!$BQ$2:$BQ$883)","v":0}]
[147,"Payne, Kyle",147,"S",0,0,0,0,0,0,0,0,0,{"$f":"SUMIF('X-DSP-ALL'!$E$2:$E$883,A72,'X-DSP-ALL'!$L$2:$L$883)","v":0},{"$f":"SUMIF('X-DSP-ALL'!$E$2:$E$883,A72,'X-DSP-ALL'!$M$2:$M$883)","v":0},{"$f":"SUMIF('X-DSP-ALL'!$E$2:$E$883,A72,'X-DSP-ALL'!$N$2:$N$883)","v":0},{"$f":"SUMIF('X-DSP-ALL'!$E$2:$E$883,A72,'X-DSP-ALL'!$O$2:$O$883)","v":0},{"$f":"SUMIF('X-DSP-ALL'!$E$2:$E$883,A72,'X-DSP-ALL'!$P$2:$P$883)","v":0},{"$f":"SUMIF('X-DSP-ALL'!$E$2:$E$883,A72,'X-DSP-ALL'!$Q$2:$Q$883)","v":0},{"$f":"IF(A72=0,0,SUMIF('X-DSP-ALL'!$F$2:$F$883,A72,'X-DSP-ALL'!$BE$2:$BE$883))","v":0},{"$f":"IF(A72=0,0,(N72*Setup!$J$17)+(O72*Setup!$J$18)+(P72*Setup!$J$19)+(Q72*Setup!$J$22)+(R72*Setup!$J$23)+(S72*Setup!$J$24)+(T72))","v":0},{"$f":"SUMIF('X-DSP-ALL'!$E$2:$E$883,A72,'X-DSP-ALL'!$BO$2:$BO$883)","v":0},{"$f":"SUMIF('X-DSP-ALL'!$E$2:$E$883,A72,'X-DSP-ALL'!$BP$2:$BP$883)","v":0},{"$f":"SUMIF('X-DSP-ALL'!$E$2:$E$883,A72,'X-DSP-ALL'!$BQ$2:$BQ$883)","v":0}]
[148,"Huffman, Michael",148,"S",0,0,0,0,0,0,0,0,0,{"$f":"SUMIF('X-DSP-ALL'!$E$2:$E$883,A73,'X-DSP-ALL'!$L$2:$L$883)","v":0},{"$f":"SUMIF('X-DSP-ALL'!$E$2:$E$883,A73,'X-DSP-ALL'!$M$2:$M$883)","v":0},{"$f":"SUMIF('X-DSP-ALL'!$E$2:$E$883,A73,'X-DSP-ALL'!$N$2:$N$883)","v":0},{"$f":"SUMIF('X-DSP-ALL'!$E$2:$E$883,A73,'X-DSP-ALL'!$O$2:$O$883)","v":0},{"$f":"SUMIF('X-DSP-ALL'!$E$2:$E$883,A73,'X-DSP-ALL'!$P$2:$P$883)","v":0},{"$f":"SUMIF('X-DSP-ALL'!$E$2:$E$883,A73,'X-DSP-ALL'!$Q$2:$Q$883)","v":0},{"$f":"IF(A73=0,0,SUMIF('X-DSP-ALL'!$F$2:$F$883,A73,'X-DSP-ALL'!$BE$2:$BE$883))","v":0},{"$f":"IF(A73=0,0,(N73*Setup!$J$17)+(O73*Setup!$J$18)+(P73*Setup!$J$19)+(Q73*Setup!$J$22)+(R73*Setup!$J$23)+(S73*Setup!$J$24)+(T73))","v":0},{"$f":"SUMIF('X-DSP-ALL'!$E$2:$E$883,A73,'X-DSP-ALL'!$BO$2:$BO$883)","v":0},{"$f":"SUMIF('X-DSP-ALL'!$E$2:$E$883,A73,'X-DSP-ALL'!$BP$2:$BP$883)","v":0},{"$f":"SUMIF('X-DSP-ALL'!$E$2:$E$883,A73,'X-DSP-ALL'!$BQ$2:$BQ$883)","v":0}]
[149,"Talreja, Sunil",149,"S",0,0,0,0,0,0,0,0,0,{"$f":"SUMIF('X-DSP-ALL'!$E$2:$E$883,A74,'X-DSP-ALL'!$L$2:$L$883)","v":0},{"$f":"SUMIF('X-DSP-ALL'!$E$2:$E$883,A74,'X-DSP-ALL'!$M$2:$M$883)","v":0},{"$f":"SUMIF('X-DSP-ALL'!$E$2:$E$883,A74,'X-DSP-ALL'!$N$2:$N$883)","v":0},{"$f":"SUMIF('X-DSP-ALL'!$E$2:$E$883,A74,'X-DSP-ALL'!$O$2:$O$883)","v":0},{"$f":"SUMIF('X-DSP-ALL'!$E$2:$E$883,A74,'X-DSP-ALL'!$P$2:$P$883)","v":0},{"$f":"SUMIF('X-DSP-ALL'!$E$2:$E$883,A74,'X-DSP-ALL'!$Q$2:$Q$883)","v":0},{"$f":"IF(A74=0,0,SUMIF('X-DSP-ALL'!$F$2:$F$883,A74,'X-DSP-ALL'!$BE$2:$BE$883))","v":0},{"$f":"IF(A74=0,0,(N74*Setup!$J$17)+(O74*Setup!$J$18)+(P74*Setup!$J$19)+(Q74*Setup!$J$22)+(R74*Setup!$J$23)+(S74*Setup!$J$24)+(T74))","v":0},{"$f":"SUMIF('X-DSP-ALL'!$E$2:$E$883,A74,'X-DSP-ALL'!$BO$2:$BO$883)","v":0},{"$f":"SUMIF('X-DSP-ALL'!$E$2:$E$883,A74,'X-DSP-ALL'!$BP$2:$BP$883)","v":0},{"$f":"SUMIF('X-DSP-ALL'!$E$2:$E$883,A74,'X-DSP-ALL'!$BQ$2:$BQ$883)","v":0}]
[150,"Chappell, Lawrence",150,"S",1,60,1,0,0,60,1,60,20,{"$f":"SUMIF('X-DSP-ALL'!$E$2:$E$883,A75,'X-DSP-ALL'!$L$2:$L$883)","v":2},{"$f":"SUMIF('X-DSP-ALL'!$E$2:$E$883,A75,'X-DSP-ALL'!$M$2:$M$883)","v":3},{"$f":"SUMIF('X-DSP-ALL'!$E$2:$E$883,A75,'X-DSP-ALL'!$N$2:$N$883)","v":4},{"$f":"SUMIF('X-DSP-ALL'!$E$2:$E$883,A75,'X-DSP-ALL'!$O$2:$O$883)","v":0},{"$f":"SUMIF('X-DSP-ALL'!$E$2:$E$883,A75,'X-DSP-ALL'!$P$2:$P$883)","v":1},{"$f":"SUMIF('X-DSP-ALL'!$E$2:$E$883,A75,'X-DSP-ALL'!$Q$2:$Q$883)","v":0},{"$f":"IF(A75=0,0,SUMIF('X-DSP-ALL'!$F$2:$F$883,A75,'X-DSP-ALL'!$BE$2:$BE$883))","v":0},{"$f":"IF(A75=0,0,(N75*Setup!$J$17)+(O75*Setup!$J$18)+(P75*Setup!$J$19)+(Q75*Setup!$J$22)+(R75*Setup!$J$23)+(S75*Setup!$J$24)+(T75))","v":8},{"$f":"SUMIF('X-DSP-ALL'!$E$2:$E$883,A75,'X-DSP-ALL'!$BO$2:$BO$883)","v":0},{"$f":"SUMIF('X-DSP-ALL'!$E$2:$E$883,A75,'X-DSP-ALL'!$BP$2:$BP$883)","v":0},{"$f":"SUMIF('X-DSP-ALL'!$E$2:$E$883,A75,'X-DSP-ALL'!$BQ$2:$BQ$883)","v":0},60,60]
[151,"Ruter, Brian",151,"S",3,157,3,0,0,157,3,52.333333333333336,13.866666666666669,{"$f":"SUMIF('X-DSP-ALL'!$E$2:$E$883,A76,'X-DSP-ALL'!$L$2:$L$883)","v":7},{"$f":"SUMIF('X-DSP-ALL'!$E$2:$E$883,A76,'X-DSP-ALL'!$M$2:$M$883)","v":13},{"$f":"SUMIF('X-DSP-ALL'!$E$2:$E$883,A76,'X-DSP-ALL'!$N$2:$N$883)","v":7},{"$f":"SUMIF('X-DSP-ALL'!$E$2:$E$883,A76,'X-DSP-ALL'!$O$2:$O$883)","v":0},{"$f":"SUMIF('X-DSP-ALL'!$E$2:$E$883,A76,'X-DSP-ALL'!$P$2:$P$883)","v":2},{"$f":"SUMIF('X-DSP-ALL'!$E$2:$E$883,A76,'X-DSP-ALL'!$Q$2:$Q$883)","v":1},{"$f":"IF(A76=0,0,SUMIF('X-DSP-ALL'!$F$2:$F$883,A76,'X-DSP-ALL'!$BE$2:$BE$883))","v":0},{"$f":"IF(A76=0,0,(N76*Setup!$J$17)+(O76*Setup!$J$18)+(P76*Setup!$J$19)+(Q76*Setup!$J$22)+(R76*Setup!$J$23)+(S76*Setup!$J$24)+(T76))","v":23},{"$f":"SUMIF('X-DSP-ALL'!$E$2:$E$883,A76,'X-DSP-ALL'!$BO$2:$BO$883)","v":0},{"$f":"SUMIF('X-DSP-ALL'!$E$2:$E$883,A76,'X-DSP-ALL'!$BP$2:$BP$883)","v":0},{"$f":"SUMIF('X-DSP-ALL'!$E$2:$E$883,A76,'X-DSP-ALL'!$BQ$2:$BQ$883)","v":4},null,null,47,47,56,56,54,54]
[152,"Hudson, Rob",152,"S",2,106,2,0,0,106,2,53,14.4,{"$f":"SUMIF('X-DSP-ALL'!$E$2:$E$883,A77,'X-DSP-ALL'!$L$2:$L$883)","v":9},{"$f":"SUMIF('X-DSP-ALL'!$E$2:$E$883,A77,'X-DSP-ALL'!$M$2:$M$883)","v":8},{"$f":"SUMIF('X-DSP-ALL'!$E$2:$E$883,A77,'X-DSP-ALL'!$N$2:$N$883)","v":1},{"$f":"SUMIF('X-DSP-ALL'!$E$2:$E$883,A77,'X-DSP-ALL'!$O$2:$O$883)","v":1},{"$f":"SUMIF('X-DSP-ALL'!$E$2:$E$883,A77,'X-DSP-ALL'!$P$2:$P$883)","v":1},{"$f":"SUMIF('X-DSP-ALL'!$E$2:$E$883,A77,'X-DSP-ALL'!$Q$2:$Q$883)","v":0},{"$f":"IF(A77=0,0,SUMIF('X-DSP-ALL'!$F$2:$F$883,A77,'X-DSP-ALL'!$BE$2:$BE$883))","v":0},{"$f":"IF(A77=0,0,(N77*Setup!$J$17)+(O77*Setup!$J$18)+(P77*Setup!$J$19)+(Q77*Setup!$J$22)+(R77*Setup!$J$23)+(S77*Setup!$J$24)+(T77))","v":23},{"$f":"SUMIF('X-DSP-ALL'!$E$2:$E$883,A77,'X-DSP-ALL'!$BO$2:$BO$883)","v":0},{"$f":"SUMIF('X-DSP-ALL'!$E$2:$E$883,A77,'X-DSP-ALL'!$BP$2:$BP$883)","v":0},{"$f":"SUMIF('X-DSP-ALL'!$E$2:$E$883,A77,'X-DSP-ALL'!$BQ$2:$BQ$883)","v":1},null,null,53,53,53,53]
[153,"Weidus, Alcuin",153,null,0,0,0,0,0,0,0,0,0,{"$f":"SUMIF('X-DSP-ALL'!$E$2:$E$883,A78,'X-DSP-ALL'!$L$2:$L$883)","v":0},{"$f":"SUMIF('X-DSP-ALL'!$E$2:$E$883,A78,'X-DSP-ALL'!$M$2:$M$883)","v":0},{"$f":"SUMIF('X-DSP-ALL'!$E$2:$E$883,A78,'X-DSP-ALL'!$N$2:$N$883)","v":0},{"$f":"SUMIF('X-DSP-ALL'!$E$2:$E$883,A78,'X-DSP-ALL'!$O$2:$O$883)","v":0},{"$f":"SUMIF('X-DSP-ALL'!$E$2:$E$883,A78,'X-DSP-ALL'!$P$2:$P$883)","v":0},{"$f":"SUMIF('X-DSP-ALL'!$E$2:$E$883,A78,'X-DSP-ALL'!$Q$2:$Q$883)","v":0},{"$f":"IF(A78=0,0,SUMIF('X-DSP-ALL'!$F$2:$F$883,A78,'X-DSP-ALL'!$BE$2:$BE$883))","v":0},{"$f":"IF(A78=0,0,(N78*Setup!$J$17)+(O78*Setup!$J$18)+(P78*Setup!$J$19)+(Q78*Setup!$J$22)+(R78*Setup!$J$23)+(S78*Setup!$J$24)+(T78))","v":0},{"$f":"SUMIF('X-DSP-ALL'!$E$2:$E$883,A78,'X-DSP-ALL'!$BO$2:$BO$883)","v":0},{"$f":"SUMIF('X-DSP-ALL'!$E$2:$E$883,A78,'X-DSP-ALL'!$BP$2:$BP$883)","v":0},{"$f":"SUMIF('X-DSP-ALL'!$E$2:$E$883,A78,'X-DSP-ALL'!$BQ$2:$BQ$883)","v":0}]
[154,"Cunningham, Bryant",154,null,0,0,0,0,0,0,0,0,0,{"$f":"SUMIF('X-DSP-ALL'!$E$2:$E$883,A79,'X-DSP-ALL'!$L$2:$L$883)","v":0},{"$f":"SUMIF('X-DSP-ALL'!$E$2:$E$883,A79,'X-DSP-ALL'!$M$2:$M$883)","v":0},{"$f":"SUMIF('X-DSP-ALL'!$E$2:$E$883,A79,'X-DSP-ALL'!$N$2:$N$883)","v":0},{"$f":"SUMIF('X-DSP-ALL'!$E$2:$E$883,A79,'X-DSP-ALL'!$O$2:$O$883)","v":0},{"$f":"SUMIF('X-DSP-ALL'!$E$2:$E$883,A79,'X-DSP-ALL'!$P$2:$P$883)","v":0},{"$f":"SUMIF('X-DSP-ALL'!$E$2:$E$883,A79,'X-DSP-ALL'!$Q$2:$Q$883)","v":0},{"$f":"IF(A79=0,0,SUMIF('X-DSP-ALL'!$F$2:$F$883,A79,'X-DSP-ALL'!$BE$2:$BE$883))","v":0},{"$f":"IF(A79=0,0,(N79*Setup!$J$17)+(O79*Setup!$J$18)+(P79*Setup!$J$19)+(Q79*Setup!$J$22)+(R79*Setup!$J$23)+(S79*Setup!$J$24)+(T79))","v":0},{"$f":"SUMIF('X-DSP-ALL'!$E$2:$E$883,A79,'X-DSP-ALL'!$BO$2:$BO$883)","v":0},{"$f":"SUMIF('X-DSP-ALL'!$E$2:$E$883,A79,'X-DSP-ALL'!$BP$2:$BP$883)","v":0},{"$f":"SUMIF('X-DSP-ALL'!$E$2:$E$883,A79,'X-DSP-ALL'!$BQ$2:$BQ$883)","v":0}]
[155,"Sprague, Lance",155,null,0,0,0,0,0,0,0,0,0,{"$f":"SUMIF('X-DSP-ALL'!$E$2:$E$883,A80,'X-DSP-ALL'!$L$2:$L$883)","v":0},{"$f":"SUMIF('X-DSP-ALL'!$E$2:$E$883,A80,'X-DSP-ALL'!$M$2:$M$883)","v":0},{"$f":"SUMIF('X-DSP-ALL'!$E$2:$E$883,A80,'X-DSP-ALL'!$N$2:$N$883)","v":0},{"$f":"SUMIF('X-DSP-ALL'!$E$2:$E$883,A80,'X-DSP-ALL'!$O$2:$O$883)","v":0},{"$f":"SUMIF('X-DSP-ALL'!$E$2:$E$883,A80,'X-DSP-ALL'!$P$2:$P$883)","v":0},{"$f":"SUMIF('X-DSP-ALL'!$E$2:$E$883,A80,'X-DSP-ALL'!$Q$2:$Q$883)","v":0},{"$f":"IF(A80=0,0,SUMIF('X-DSP-ALL'!$F$2:$F$883,A80,'X-DSP-ALL'!$BE$2:$BE$883))","v":0},{"$f":"IF(A80=0,0,(N80*Setup!$J$17)+(O80*Setup!$J$18)+(P80*Setup!$J$19)+(Q80*Setup!$J$22)+(R80*Setup!$J$23)+(S80*Setup!$J$24)+(T80))","v":0},{"$f":"SUMIF('X-DSP-ALL'!$E$2:$E$883,A80,'X-DSP-ALL'!$BO$2:$BO$883)","v":0},{"$f":"SUMIF('X-DSP-ALL'!$E$2:$E$883,A80,'X-DSP-ALL'!$BP$2:$BP$883)","v":0},{"$f":"SUMIF('X-DSP-ALL'!$E$2:$E$883,A80,'X-DSP-ALL'!$BQ$2:$BQ$883)","v":0}]
[156,"Dehner, John",156,null,0,0,0,0,0,0,0,0,0,{"$f":"SUMIF('X-DSP-ALL'!$E$2:$E$883,A81,'X-DSP-ALL'!$L$2:$L$883)","v":0},{"$f":"SUMIF('X-DSP-ALL'!$E$2:$E$883,A81,'X-DSP-ALL'!$M$2:$M$883)","v":0},{"$f":"SUMIF('X-DSP-ALL'!$E$2:$E$883,A81,'X-DSP-ALL'!$N$2:$N$883)","v":0},{"$f":"SUMIF('X-DSP-ALL'!$E$2:$E$883,A81,'X-DSP-ALL'!$O$2:$O$883)","v":0},{"$f":"SUMIF('X-DSP-ALL'!$E$2:$E$883,A81,'X-DSP-ALL'!$P$2:$P$883)","v":0},{"$f":"SUMIF('X-DSP-ALL'!$E$2:$E$883,A81,'X-DSP-ALL'!$Q$2:$Q$883)","v":0},{"$f":"IF(A81=0,0,SUMIF('X-DSP-ALL'!$F$2:$F$883,A81,'X-DSP-ALL'!$BE$2:$BE$883))","v":0},{"$f":"IF(A81=0,0,(N81*Setup!$J$17)+(O81*Setup!$J$18)+(P81*Setup!$J$19)+(Q81*Setup!$J$22)+(R81*Setup!$J$23)+(S81*Setup!$J$24)+(T81))","v":0},{"$f":"SUMIF('X-DSP-ALL'!$E$2:$E$883,A81,'X-DSP-ALL'!$BO$2:$BO$883)","v":0},{"$f":"SUMIF('X-DSP-ALL'!$E$2:$E$883,A81,'X-DSP-ALL'!$BP$2:$BP$883)","v":0},{"$f":"SUMIF('X-DSP-ALL'!$E$2:$E$883,A81,'X-DSP-ALL'!$BQ$2:$BQ$883)","v":0}]
[157,"Kimmet, Ben",157,null,1,41,1,0,0,41,1,41,4.8000000000000007,{"$f":"SUMIF('X-DSP-ALL'!$E$2:$E$883,A82,'X-DSP-ALL'!$L$2:$L$883)","v":5},{"$f":"SUMIF('X-DSP-ALL'!$E$2:$E$883,A82,'X-DSP-ALL'!$M$2:$M$883)","v":2},{"$f":"SUMIF('X-DSP-ALL'!$E$2:$E$883,A82,'X-DSP-ALL'!$N$2:$N$883)","v":2},{"$f":"SUMIF('X-DSP-ALL'!$E$2:$E$883,A82,'X-DSP-ALL'!$O$2:$O$883)","v":1},{"$f":"SUMIF('X-DSP-ALL'!$E$2:$E$883,A82,'X-DSP-ALL'!$P$2:$P$883)","v":0},{"$f":"SUMIF('X-DSP-ALL'!$E$2:$E$883,A82,'X-DSP-ALL'!$Q$2:$Q$883)","v":0},{"$f":"IF(A82=0,0,SUMIF('X-DSP-ALL'!$F$2:$F$883,A82,'X-DSP-ALL'!$BE$2:$BE$883))","v":0},{"$f":"IF(A82=0,0,(N82*Setup!$J$17)+(O82*Setup!$J$18)+(P82*Setup!$J$19)+(Q82*Setup!$J$22)+(R82*Setup!$J$23)+(S82*Setup!$J$24)+(T82))","v":16},{"$f":"SUMIF('X-DSP-ALL'!$E$2:$E$883,A82,'X-DSP-ALL'!$BO$2:$BO$883)","v":0},{"$f":"SUMIF('X-DSP-ALL'!$E$2:$E$883,A82,'X-DSP-ALL'!$BP$2:$BP$883)","v":1},{"$f":"SUMIF('X-DSP-ALL'!$E$2:$E$883,A82,'X-DSP-ALL'!$BQ$2:$BQ$883)","v":3},null,null,null,null,null,null,41,41]
[null,null,0,null,0,0,0,0,0,0,0,0,0,{"$f":"SUMIF('X-DSP-ALL'!$E$2:$E$883,A83,'X-DSP-ALL'!$L$2:$L$883)","v":0},{"$f":"SUMIF('X-DSP-ALL'!$E$2:$E$883,A83,'X-DSP-ALL'!$M$2:$M$883)","v":0},{"$f":"SUMIF('X-DSP-ALL'!$E$2:$E$883,A83,'X-DSP-ALL'!$N$2:$N$883)","v":0},{"$f":"SUMIF('X-DSP-ALL'!$E$2:$E$883,A83,'X-DSP-ALL'!$O$2:$O$883)","v":31},{"$f":"SUMIF('X-DSP-ALL'!$E$2:$E$883,A83,'X-DSP-ALL'!$P$2:$P$883)","v":29},{"$f":"SUMIF('X-DSP-ALL'!$E$2:$E$883,A83,'X-DSP-ALL'!$Q$2:$Q$883)","v":2},{"$f":"IF(A83=0,0,SUMIF('X-DSP-ALL'!$F$2:$F$883,A83,'X-DSP-ALL'!$BE$2:$BE$883))","v":0},{"$f":"IF(A83=0,0,(N83*Setup!$J$17)+(O83*Setup!$J$18)+(P83*Setup!$J$19)+(Q83*Setup!$J$22)+(R83*Setup!$J$23)+(S83*Setup!$J$24)+(T83))","v":0},{"$f":"SUMIF('X-DSP-ALL'!$E$2:$E$883,A83,'X-DSP-ALL'!$BO$2:$BO$883)","v":0},{"$f":"SUMIF('X-DSP-ALL'!$E$2:$E$883,A83,'X-DSP-ALL'!$BP$2:$BP$883)","v":0},{"$f":"SUMIF('X-DSP-ALL'!$E$2:$E$883,A83,'X-DSP-ALL'!$BQ$2:$BQ$883)","v":0}]
[null,null,0,null,0,0,0,0,0,0,0,0,0,{"$f":"SUMIF('X-DSP-ALL'!$E$2:$E$883,A84,'X-DSP-ALL'!$L$2:$L$883)","v":0},{"$f":"SUMIF('X-DSP-ALL'!$E$2:$E$883,A84,'X-DSP-ALL'!$M$2:$M$883)","v":0},{"$f":"SUMIF('X-DSP-ALL'!$E$2:$E$883,A84,'X-DSP-ALL'!$N$2:$N$883)","v":0},{"$f":"SUMIF('X-DSP-ALL'!$E$2:$E$883,A84,'X-DSP-ALL'!$O$2:$O$883)","v":31},{"$f":"SUMIF('X-DSP-ALL'!$E$2:$E$883,A84,'X-DSP-ALL'!$P$2:$P$883)","v":29},{"$f":"SUMIF('X-DSP-ALL'!$E$2:$E$883,A84,'X-DSP-ALL'!$Q$2:$Q$883)","v":2},{"$f":"IF(A84=0,0,SUMIF('X-DSP-ALL'!$F$2:$F$883,A84,'X-DSP-ALL'!$BE$2:$BE$883))","v":0},{"$f":"IF(A84=0,0,(N84*Setup!$J$17)+(O84*Setup!$J$18)+(P84*Setup!$J$19)+(Q84*Setup!$J$22)+(R84*Setup!$J$23)+(S84*Setup!$J$24)+(T84))","v":0},{"$f":"SUMIF('X-DSP-ALL'!$E$2:$E$883,A84,'X-DSP-ALL'!$BO$2:$BO$883)","v":0},{"$f":"SUMIF('X-DSP-ALL'!$E$2:$E$883,A84,'X-DSP-ALL'!$BP$2:$BP$883)","v":0},{"$f":"SUMIF('X-DSP-ALL'!$E$2:$E$883,A84,'X-DSP-ALL'!$BQ$2:$BQ$883)","v":0}]
[null,null,0,null,0,0,0,0,0,0,0,0,0,{"$f":"SUMIF('X-DSP-ALL'!$E$2:$E$883,A85,'X-DSP-ALL'!$L$2:$L$883)","v":0},{"$f":"SUMIF('X-DSP-ALL'!$E$2:$E$883,A85,'X-DSP-ALL'!$M$2:$M$883)","v":0},{"$f":"SUMIF('X-DSP-ALL'!$E$2:$E$883,A85,'X-DSP-ALL'!$N$2:$N$883)","v":0},{"$f":"SUMIF('X-DSP-ALL'!$E$2:$E$883,A85,'X-DSP-ALL'!$O$2:$O$883)","v":31},{"$f":"SUMIF('X-DSP-ALL'!$E$2:$E$883,A85,'X-DSP-ALL'!$P$2:$P$883)","v":29},{"$f":"SUMIF('X-DSP-ALL'!$E$2:$E$883,A85,'X-DSP-ALL'!$Q$2:$Q$883)","v":2},{"$f":"IF(A85=0,0,SUMIF('X-DSP-ALL'!$F$2:$F$883,A85,'X-DSP-ALL'!$BE$2:$BE$883))","v":0},{"$f":"IF(A85=0,0,(N85*Setup!$J$17)+(O85*Setup!$J$18)+(P85*Setup!$J$19)+(Q85*Setup!$J$22)+(R85*Setup!$J$23)+(S85*Setup!$J$24)+(T85))","v":0},{"$f":"SUMIF('X-DSP-ALL'!$E$2:$E$883,A85,'X-DSP-ALL'!$BO$2:$BO$883)","v":0},{"$f":"SUMIF('X-DSP-ALL'!$E$2:$E$883,A85,'X-DSP-ALL'!$BP$2:$BP$883)","v":0},{"$f":"SUMIF('X-DSP-ALL'!$E$2:$E$883,A85,'X-DSP-ALL'!$BQ$2:$BQ$883)","v":0}]
[null,null,0,null,0,0,0,0,0,0,0,0,0,{"$f":"SUMIF('X-DSP-ALL'!$E$2:$E$883,A86,'X-DSP-ALL'!$L$2:$L$883)","v":0},{"$f":"SUMIF('X-DSP-ALL'!$E$2:$E$883,A86,'X-DSP-ALL'!$M$2:$M$883)","v":0},{"$f":"SUMIF('X-DSP-ALL'!$E$2:$E$883,A86,'X-DSP-ALL'!$N$2:$N$883)","v":0},{"$f":"SUMIF('X-DSP-ALL'!$E$2:$E$883,A86,'X-DSP-ALL'!$O$2:$O$883)","v":31},{"$f":"SUMIF('X-DSP-ALL'!$E$2:$E$883,A86,'X-DSP-ALL'!$P$2:$P$883)","v":29},{"$f":"SUMIF('X-DSP-ALL'!$E$2:$E$883,A86,'X-DSP-ALL'!$Q$2:$Q$883)","v":2},{"$f":"IF(A86=0,0,SUMIF('X-DSP-ALL'!$F$2:$F$883,A86,'X-DSP-ALL'!$BE$2:$BE$883))","v":0},{"$f":"IF(A86=0,0,(N86*Setup!$J$17)+(O86*Setup!$J$18)+(P86*Setup!$J$19)+(Q86*Setup!$J$22)+(R86*Setup!$J$23)+(S86*Setup!$J$24)+(T86))","v":0},{"$f":"SUMIF('X-DSP-ALL'!$E$2:$E$883,A86,'X-DSP-ALL'!$BO$2:$BO$883)","v":0},{"$f":"SUMIF('X-DSP-ALL'!$E$2:$E$883,A86,'X-DSP-ALL'!$BP$2:$BP$883)","v":0},{"$f":"SUMIF('X-DSP-ALL'!$E$2:$E$883,A86,'X-DSP-ALL'!$BQ$2:$BQ$883)","v":0}]
[null,null,0,null,0,0,0,0,0,0,0,0,0,{"$f":"SUMIF('X-DSP-ALL'!$E$2:$E$883,A87,'X-DSP-ALL'!$L$2:$L$883)","v":0},{"$f":"SUMIF('X-DSP-ALL'!$E$2:$E$883,A87,'X-DSP-ALL'!$M$2:$M$883)","v":0},{"$f":"SUMIF('X-DSP-ALL'!$E$2:$E$883,A87,'X-DSP-ALL'!$N$2:$N$883)","v":0},{"$f":"SUMIF('X-DSP-ALL'!$E$2:$E$883,A87,'X-DSP-ALL'!$O$2:$O$883)","v":31},{"$f":"SUMIF('X-DSP-ALL'!$E$2:$E$883,A87,'X-DSP-ALL'!$P$2:$P$883)","v":29},{"$f":"SUMIF('X-DSP-ALL'!$E$2:$E$883,A87,'X-DSP-ALL'!$Q$2:$Q$883)","v":2},{"$f":"IF(A87=0,0,SUMIF('X-DSP-ALL'!$F$2:$F$883,A87,'X-DSP-ALL'!$BE$2:$BE$883))","v":0},{"$f":"IF(A87=0,0,(N87*Setup!$J$17)+(O87*Setup!$J$18)+(P87*Setup!$J$19)+(Q87*Setup!$J$22)+(R87*Setup!$J$23)+(S87*Setup!$J$24)+(T87))","v":0},{"$f":"SUMIF('X-DSP-ALL'!$E$2:$E$883,A87,'X-DSP-ALL'!$BO$2:$BO$883)","v":0},{"$f":"SUMIF('X-DSP-ALL'!$E$2:$E$883,A87,'X-DSP-ALL'!$BP$2:$BP$883)","v":0},{"$f":"SUMIF('X-DSP-ALL'!$E$2:$E$883,A87,'X-DSP-ALL'!$BQ$2:$BQ$883)","v":0}]
[null,null,0,null,0,0,0,0,0,0,0,0,0,{"$f":"SUMIF('X-DSP-ALL'!$E$2:$E$883,A88,'X-DSP-ALL'!$L$2:$L$883)","v":0},{"$f":"SUMIF('X-DSP-ALL'!$E$2:$E$883,A88,'X-DSP-ALL'!$M$2:$M$883)","v":0},{"$f":"SUMIF('X-DSP-ALL'!$E$2:$E$883,A88,'X-DSP-ALL'!$N$2:$N$883)","v":0},{"$f":"SUMIF('X-DSP-ALL'!$E$2:$E$883,A88,'X-DSP-ALL'!$O$2:$O$883)","v":31},{"$f":"SUMIF('X-DSP-ALL'!$E$2:$E$883,A88,'X-DSP-ALL'!$P$2:$P$883)","v":29},{"$f":"SUMIF('X-DSP-ALL'!$E$2:$E$883,A88,'X-DSP-ALL'!$Q$2:$Q$883)","v":2},{"$f":"IF(A88=0,0,SUMIF('X-DSP-ALL'!$F$2:$F$883,A88,'X-DSP-ALL'!$BE$2:$BE$883))","v":0},{"$f":"IF(A88=0,0,(N88*Setup!$J$17)+(O88*Setup!$J$18)+(P88*Setup!$J$19)+(Q88*Setup!$J$22)+(R88*Setup!$J$23)+(S88*Setup!$J$24)+(T88))","v":0},{"$f":"SUMIF('X-DSP-ALL'!$E$2:$E$883,A88,'X-DSP-ALL'!$BO$2:$BO$883)","v":0},{"$f":"SUMIF('X-DSP-ALL'!$E$2:$E$883,A88,'X-DSP-ALL'!$BP$2:$BP$883)","v":0},{"$f":"SUMIF('X-DSP-ALL'!$E$2:$E$883,A88,'X-DSP-ALL'!$BQ$2:$BQ$883)","v":0}]
[null,null,0,null,0,0,0,0,0,0,0,0,0,{"$f":"SUMIF('X-DSP-ALL'!$E$2:$E$883,A89,'X-DSP-ALL'!$L$2:$L$883)","v":0},{"$f":"SUMIF('X-DSP-ALL'!$E$2:$E$883,A89,'X-DSP-ALL'!$M$2:$M$883)","v":0},{"$f":"SUMIF('X-DSP-ALL'!$E$2:$E$883,A89,'X-DSP-ALL'!$N$2:$N$883)","v":0},{"$f":"SUMIF('X-DSP-ALL'!$E$2:$E$883,A89,'X-DSP-ALL'!$O$2:$O$883)","v":31},{"$f":"SUMIF('X-DSP-ALL'!$E$2:$E$883,A89,'X-DSP-ALL'!$P$2:$P$883)","v":29},{"$f":"SUMIF('X-DSP-ALL'!$E$2:$E$883,A89,'X-DSP-ALL'!$Q$2:$Q$883)","v":2},{"$f":"IF(A89=0,0,SUMIF('X-DSP-ALL'!$F$2:$F$883,A89,'X-DSP-ALL'!$BE$2:$BE$883))","v":0},{"$f":"IF(A89=0,0,(N89*Setup!$J$17)+(O89*Setup!$J$18)+(P89*Setup!$J$19)+(Q89*Setup!$J$22)+(R89*Setup!$J$23)+(S89*Setup!$J$24)+(T89))","v":0},{"$f":"SUMIF('X-DSP-ALL'!$E$2:$E$883,A89,'X-DSP-ALL'!$BO$2:$BO$883)","v":0},{"$f":"SUMIF('X-DSP-ALL'!$E$2:$E$883,A89,'X-DSP-ALL'!$BP$2:$BP$883)","v":0},{"$f":"SUMIF('X-DSP-ALL'!$E$2:$E$883,A89,'X-DSP-ALL'!$BQ$2:$BQ$883)","v":0}]
[null,null,0,null,0,0,0,0,0,0,0,0,0,{"$f":"SUMIF('X-DSP-ALL'!$E$2:$E$883,A90,'X-DSP-ALL'!$L$2:$L$883)","v":0},{"$f":"SUMIF('X-DSP-ALL'!$E$2:$E$883,A90,'X-DSP-ALL'!$M$2:$M$883)","v":0},{"$f":"SUMIF('X-DSP-ALL'!$E$2:$E$883,A90,'X-DSP-ALL'!$N$2:$N$883)","v":0},{"$f":"SUMIF('X-DSP-ALL'!$E$2:$E$883,A90,'X-DSP-ALL'!$O$2:$O$883)","v":31},{"$f":"SUMIF('X-DSP-ALL'!$E$2:$E$883,A90,'X-DSP-ALL'!$P$2:$P$883)","v":29},{"$f":"SUMIF('X-DSP-ALL'!$E$2:$E$883,A90,'X-DSP-ALL'!$Q$2:$Q$883)","v":2},{"$f":"IF(A90=0,0,SUMIF('X-DSP-ALL'!$F$2:$F$883,A90,'X-DSP-ALL'!$BE$2:$BE$883))","v":0},{"$f":"IF(A90=0,0,(N90*Setup!$J$17)+(O90*Setup!$J$18)+(P90*Setup!$J$19)+(Q90*Setup!$J$22)+(R90*Setup!$J$23)+(S90*Setup!$J$24)+(T90))","v":0},{"$f":"SUMIF('X-DSP-ALL'!$E$2:$E$883,A90,'X-DSP-ALL'!$BO$2:$BO$883)","v":0},{"$f":"SUMIF('X-DSP-ALL'!$E$2:$E$883,A90,'X-DSP-ALL'!$BP$2:$BP$883)","v":0},{"$f":"SUMIF('X-DSP-ALL'!$E$2:$E$883,A90,'X-DSP-ALL'!$BQ$2:$BQ$883)","v":0}]
[null,null,0,null,0,0,0,0,0,0,0,0,0,{"$f":"SUMIF('X-DSP-ALL'!$E$2:$E$883,A91,'X-DSP-ALL'!$L$2:$L$883)","v":0},{"$f":"SUMIF('X-DSP-ALL'!$E$2:$E$883,A91,'X-DSP-ALL'!$M$2:$M$883)","v":0},{"$f":"SUMIF('X-DSP-ALL'!$E$2:$E$883,A91,'X-DSP-ALL'!$N$2:$N$883)","v":0},{"$f":"SUMIF('X-DSP-ALL'!$E$2:$E$883,A91,'X-DSP-ALL'!$O$2:$O$883)","v":31},{"$f":"SUMIF('X-DSP-ALL'!$E$2:$E$883,A91,'X-DSP-ALL'!$P$2:$P$883)","v":29},{"$f":"SUMIF('X-DSP-ALL'!$E$2:$E$883,A91,'X-DSP-ALL'!$Q$2:$Q$883)","v":2},{"$f":"IF(A91=0,0,SUMIF('X-DSP-ALL'!$F$2:$F$883,A91,'X-DSP-ALL'!$BE$2:$BE$883))","v":0},{"$f":"IF(A91=0,0,(N91*Setup!$J$17)+(O91*Setup!$J$18)+(P91*Setup!$J$19)+(Q91*Setup!$J$22)+(R91*Setup!$J$23)+(S91*Setup!$J$24)+(T91))","v":0},{"$f":"SUMIF('X-DSP-ALL'!$E$2:$E$883,A91,'X-DSP-ALL'!$BO$2:$BO$883)","v":0},{"$f":"SUMIF('X-DSP-ALL'!$E$2:$E$883,A91,'X-DSP-ALL'!$BP$2:$BP$883)","v":0},{"$f":"SUMIF('X-DSP-ALL'!$E$2:$E$883,A91,'X-DSP-ALL'!$BQ$2:$BQ$883)","v":0}]
[null,null,0,null,0,0,0,0,0,0,0,0,0,{"$f":"SUMIF('X-DSP-ALL'!$E$2:$E$883,A92,'X-DSP-ALL'!$L$2:$L$883)","v":0},{"$f":"SUMIF('X-DSP-ALL'!$E$2:$E$883,A92,'X-DSP-ALL'!$M$2:$M$883)","v":0},{"$f":"SUMIF('X-DSP-ALL'!$E$2:$E$883,A92,'X-DSP-ALL'!$N$2:$N$883)","v":0},{"$f":"SUMIF('X-DSP-ALL'!$E$2:$E$883,A92,'X-DSP-ALL'!$O$2:$O$883)","v":31},{"$f":"SUMIF('X-DSP-ALL'!$E$2:$E$883,A92,'X-DSP-ALL'!$P$2:$P$883)","v":29},{"$f":"SUMIF('X-DSP-ALL'!$E$2:$E$883,A92,'X-DSP-ALL'!$Q$2:$Q$883)","v":2},{"$f":"IF(A92=0,0,SUMIF('X-DSP-ALL'!$F$2:$F$883,A92,'X-DSP-ALL'!$BE$2:$BE$883))","v":0},{"$f":"IF(A92=0,0,(N92*Setup!$J$17)+(O92*Setup!$J$18)+(P92*Setup!$J$19)+(Q92*Setup!$J$22)+(R92*Setup!$J$23)+(S92*Setup!$J$24)+(T92))","v":0},{"$f":"SUMIF('X-DSP-ALL'!$E$2:$E$883,A92,'X-DSP-ALL'!$BO$2:$BO$883)","v":0},{"$f":"SUMIF('X-DSP-ALL'!$E$2:$E$883,A92,'X-DSP-ALL'!$BP$2:$BP$883)","v":0},{"$f":"SUMIF('X-DSP-ALL'!$E$2:$E$883,A92,'X-DSP-ALL'!$BQ$2:$BQ$883)","v":0}]
[null,null,0,null,0,0,0,0,0,0,0,0,0,{"$f":"SUMIF('X-DSP-ALL'!$E$2:$E$883,A93,'X-DSP-ALL'!$L$2:$L$883)","v":0},{"$f":"SUMIF('X-DSP-ALL'!$E$2:$E$883,A93,'X-DSP-ALL'!$M$2:$M$883)","v":0},{"$f":"SUMIF('X-DSP-ALL'!$E$2:$E$883,A93,'X-DSP-ALL'!$N$2:$N$883)","v":0},{"$f":"SUMIF('X-DSP-ALL'!$E$2:$E$883,A93,'X-DSP-ALL'!$O$2:$O$883)","v":31},{"$f":"SUMIF('X-DSP-ALL'!$E$2:$E$883,A93,'X-DSP-ALL'!$P$2:$P$883)","v":29},{"$f":"SUMIF('X-DSP-ALL'!$E$2:$E$883,A93,'X-DSP-ALL'!$Q$2:$Q$883)","v":2},{"$f":"IF(A93=0,0,SUMIF('X-DSP-ALL'!$F$2:$F$883,A93,'X-DSP-ALL'!$BE$2:$BE$883))","v":0},{"$f":"IF(A93=0,0,(N93*Setup!$J$17)+(O93*Setup!$J$18)+(P93*Setup!$J$19)+(Q93*Setup!$J$22)+(R93*Setup!$J$23)+(S93*Setup!$J$24)+(T93))","v":0},{"$f":"SUMIF('X-DSP-ALL'!$E$2:$E$883,A93,'X-DSP-ALL'!$BO$2:$BO$883)","v":0},{"$f":"SUMIF('X-DSP-ALL'!$E$2:$E$883,A93,'X-DSP-ALL'!$BP$2:$BP$883)","v":0},{"$f":"SUMIF('X-DSP-ALL'!$E$2:$E$883,A93,'X-DSP-ALL'!$BQ$2:$BQ$883)","v":0}]
[null,null,0,null,0,0,0,0,0,0,0,0,0,{"$f":"SUMIF('X-DSP-ALL'!$E$2:$E$883,A94,'X-DSP-ALL'!$L$2:$L$883)","v":0},{"$f":"SUMIF('X-DSP-ALL'!$E$2:$E$883,A94,'X-DSP-ALL'!$M$2:$M$883)","v":0},{"$f":"SUMIF('X-DSP-ALL'!$E$2:$E$883,A94,'X-DSP-ALL'!$N$2:$N$883)","v":0},{"$f":"SUMIF('X-DSP-ALL'!$E$2:$E$883,A94,'X-DSP-ALL'!$O$2:$O$883)","v":31},{"$f":"SUMIF('X-DSP-ALL'!$E$2:$E$883,A94,'X-DSP-ALL'!$P$2:$P$883)","v":29},{"$f":"SUMIF('X-DSP-ALL'!$E$2:$E$883,A94,'X-DSP-ALL'!$Q$2:$Q$883)","v":2},{"$f":"IF(A94=0,0,SUMIF('X-DSP-ALL'!$F$2:$F$883,A94,'X-DSP-ALL'!$BE$2:$BE$883))","v":0},{"$f":"IF(A94=0,0,(N94*Setup!$J$17)+(O94*Setup!$J$18)+(P94*Setup!$J$19)+(Q94*Setup!$J$22)+(R94*Setup!$J$23)+(S94*Setup!$J$24)+(T94))","v":0},{"$f":"SUMIF('X-DSP-ALL'!$E$2:$E$883,A94,'X-DSP-ALL'!$BO$2:$BO$883)","v":0},{"$f":"SUMIF('X-DSP-ALL'!$E$2:$E$883,A94,'X-DSP-ALL'!$BP$2:$BP$883)","v":0},{"$f":"SUMIF('X-DSP-ALL'!$E$2:$E$883,A94,'X-DSP-ALL'!$BQ$2:$BQ$883)","v":0}]
[null,null,0,null,0,0,0,0,0,0,0,0,0,{"$f":"SUMIF('X-DSP-ALL'!$E$2:$E$883,A95,'X-DSP-ALL'!$L$2:$L$883)","v":0},{"$f":"SUMIF('X-DSP-ALL'!$E$2:$E$883,A95,'X-DSP-ALL'!$M$2:$M$883)","v":0},{"$f":"SUMIF('X-DSP-ALL'!$E$2:$E$883,A95,'X-DSP-ALL'!$N$2:$N$883)","v":0},{"$f":"SUMIF('X-DSP-ALL'!$E$2:$E$883,A95,'X-DSP-ALL'!$O$2:$O$883)","v":31},{"$f":"SUMIF('X-DSP-ALL'!$E$2:$E$883,A95,'X-DSP-ALL'!$P$2:$P$883)","v":29},{"$f":"SUMIF('X-DSP-ALL'!$E$2:$E$883,A95,'X-DSP-ALL'!$Q$2:$Q$883)","v":2},{"$f":"IF(A95=0,0,SUMIF('X-DSP-ALL'!$F$2:$F$883,A95,'X-DSP-ALL'!$BE$2:$BE$883))","v":0},{"$f":"IF(A95=0,0,(N95*Setup!$J$17)+(O95*Setup!$J$18)+(P95*Setup!$J$19)+(Q95*Setup!$J$22)+(R95*Setup!$J$23)+(S95*Setup!$J$24)+(T95))","v":0},{"$f":"SUMIF('X-DSP-ALL'!$E$2:$E$883,A95,'X-DSP-ALL'!$BO$2:$BO$883)","v":0},{"$f":"SUMIF('X-DSP-ALL'!$E$2:$E$883,A95,'X-DSP-ALL'!$BP$2:$BP$883)","v":0},{"$f":"SUMIF('X-DSP-ALL'!$E$2:$E$883,A95,'X-DSP-ALL'!$BQ$2:$BQ$883)","v":0}]
[null,null,0,null,0,0,0,0,0,0,0,0,0,{"$f":"SUMIF('X-DSP-ALL'!$E$2:$E$883,A96,'X-DSP-ALL'!$L$2:$L$883)","v":0},{"$f":"SUMIF('X-DSP-ALL'!$E$2:$E$883,A96,'X-DSP-ALL'!$M$2:$M$883)","v":0},{"$f":"SUMIF('X-DSP-ALL'!$E$2:$E$883,A96,'X-DSP-ALL'!$N$2:$N$883)","v":0},{"$f":"SUMIF('X-DSP-ALL'!$E$2:$E$883,A96,'X-DSP-ALL'!$O$2:$O$883)","v":31},{"$f":"SUMIF('X-DSP-ALL'!$E$2:$E$883,A96,'X-DSP-ALL'!$P$2:$P$883)","v":29},{"$f":"SUMIF('X-DSP-ALL'!$E$2:$E$883,A96,'X-DSP-ALL'!$Q$2:$Q$883)","v":2},{"$f":"IF(A96=0,0,SUMIF('X-DSP-ALL'!$F$2:$F$883,A96,'X-DSP-ALL'!$BE$2:$BE$883))","v":0},{"$f":"IF(A96=0,0,(N96*Setup!$J$17)+(O96*Setup!$J$18)+(P96*Setup!$J$19)+(Q96*Setup!$J$22)+(R96*Setup!$J$23)+(S96*Setup!$J$24)+(T96))","v":0},{"$f":"SUMIF('X-DSP-ALL'!$E$2:$E$883,A96,'X-DSP-ALL'!$BO$2:$BO$883)","v":0},{"$f":"SUMIF('X-DSP-ALL'!$E$2:$E$883,A96,'X-DSP-ALL'!$BP$2:$BP$883)","v":0},{"$f":"SUMIF('X-DSP-ALL'!$E$2:$E$883,A96,'X-DSP-ALL'!$BQ$2:$BQ$883)","v":0}]
[null,null,0,null,0,0,0,0,0,0,0,0,0,{"$f":"SUMIF('X-DSP-ALL'!$E$2:$E$883,A97,'X-DSP-ALL'!$L$2:$L$883)","v":0},{"$f":"SUMIF('X-DSP-ALL'!$E$2:$E$883,A97,'X-DSP-ALL'!$M$2:$M$883)","v":0},{"$f":"SUMIF('X-DSP-ALL'!$E$2:$E$883,A97,'X-DSP-ALL'!$N$2:$N$883)","v":0},{"$f":"SUMIF('X-DSP-ALL'!$E$2:$E$883,A97,'X-DSP-ALL'!$O$2:$O$883)","v":31},{"$f":"SUMIF('X-DSP-ALL'!$E$2:$E$883,A97,'X-DSP-ALL'!$P$2:$P$883)","v":29},{"$f":"SUMIF('X-DSP-ALL'!$E$2:$E$883,A97,'X-DSP-ALL'!$Q$2:$Q$883)","v":2},{"$f":"IF(A97=0,0,SUMIF('X-DSP-ALL'!$F$2:$F$883,A97,'X-DSP-ALL'!$BE$2:$BE$883))","v":0},{"$f":"IF(A97=0,0,(N97*Setup!$J$17)+(O97*Setup!$J$18)+(P97*Setup!$J$19)+(Q97*Setup!$J$22)+(R97*Setup!$J$23)+(S97*Setup!$J$24)+(T97))","v":0},{"$f":"SUMIF('X-DSP-ALL'!$E$2:$E$883,A97,'X-DSP-ALL'!$BO$2:$BO$883)","v":0},{"$f":"SUMIF('X-DSP-ALL'!$E$2:$E$883,A97,'X-DSP-ALL'!$BP$2:$BP$883)","v":0},{"$f":"SUMIF('X-DSP-ALL'!$E$2:$E$883,A97,'X-DSP-ALL'!$BQ$2:$BQ$883)","v":0}]
[null,null,0,null,0,0,0,{"$f":"IF(G98>=6,MIN(Z98,AB98,AD98,AF98,AH98,AJ98,AL98,AN98,AP98,AR98,AT98,AV98,AX98,AZ98,BB98,BD98,BF98,BH98,BJ98,BL98),0)","v":0},0,0,0,0,0,{"$f":"SUMIF('X-DSP-ALL'!$E$2:$E$883,A98,'X-DSP-ALL'!$L$2:$L$883)","v":0},{"$f":"SUMIF('X-DSP-ALL'!$E$2:$E$883,A98,'X-DSP-ALL'!$M$2:$M$883)","v":0},{"$f":"SUMIF('X-DSP-ALL'!$E$2:$E$883,A98,'X-DSP-ALL'!$N$2:$N$883)","v":0},{"$f":"SUMIF('X-DSP-ALL'!$E$2:$E$883,A98,'X-DSP-ALL'!$O$2:$O$883)","v":31},{"$f":"SUMIF('X-DSP-ALL'!$E$2:$E$883,A98,'X-DSP-ALL'!$P$2:$P$883)","v":29},{"$f":"SUMIF('X-DSP-ALL'!$E$2:$E$883,A98,'X-DSP-ALL'!$Q$2:$Q$883)","v":2},{"$f":"IF(A98=0,0,SUMIF('X-DSP-ALL'!$F$2:$F$883,A98,'X-DSP-ALL'!$BE$2:$BE$883))","v":0},{"$f":"IF(A98=0,0,(N98*Setup!$J$17)+(O98*Setup!$J$18)+(P98*Setup!$J$19)+(Q98*Setup!$J$22)+(R98*Setup!$J$23)+(S98*Setup!$J$24)+(T98))","v":0},{"$f":"SUMIF('X-DSP-ALL'!$E$2:$E$883,A98,'X-DSP-ALL'!$BO$2:$BO$883)","v":0},{"$f":"SUMIF('X-DSP-ALL'!$E$2:$E$883,A98,'X-DSP-ALL'!$BP$2:$BP$883)","v":0},{"$f":"SUMIF('X-DSP-ALL'!$E$2:$E$883,A98,'X-DSP-ALL'!$BQ$2:$BQ$883)","v":0}]
[null,null,0,null,0,0,0,0,0,0,0,0,0,{"$f":"SUMIF('X-DSP-ALL'!$E$2:$E$883,A99,'X-DSP-ALL'!$L$2:$L$883)","v":0},{"$f":"SUMIF('X-DSP-ALL'!$E$2:$E$883,A99,'X-DSP-ALL'!$M$2:$M$883)","v":0},{"$f":"SUMIF('X-DSP-ALL'!$E$2:$E$883,A99,'X-DSP-ALL'!$N$2:$N$883)","v":0},{"$f":"SUMIF('X-DSP-ALL'!$E$2:$E$883,A99,'X-DSP-ALL'!$O$2:$O$883)","v":31},{"$f":"SUMIF('X-DSP-ALL'!$E$2:$E$883,A99,'X-DSP-ALL'!$P$2:$P$883)","v":29},{"$f":"SUMIF('X-DSP-ALL'!$E$2:$E$883,A99,'X-DSP-ALL'!$Q$2:$Q$883)","v":2},{"$f":"IF(A99=0,0,SUMIF('X-DSP-ALL'!$F$2:$F$883,A99,'X-DSP-ALL'!$BE$2:$BE$883))","v":0},{"$f":"IF(A99=0,0,(N99*Setup!$J$17)+(O99*Setup!$J$18)+(P99*Setup!$J$19)+(Q99*Setup!$J$22)+(R99*Setup!$J$23)+(S99*Setup!$J$24)+(T99))","v":0},{"$f":"SUMIF('X-DSP-ALL'!$E$2:$E$883,A99,'X-DSP-ALL'!$BO$2:$BO$883)","v":0},{"$f":"SUMIF('X-DSP-ALL'!$E$2:$E$883,A99,'X-DSP-ALL'!$BP$2:$BP$883)","v":0},{"$f":"SUMIF('X-DSP-ALL'!$E$2:$E$883,A99,'X-DSP-ALL'!$BQ$2:$BQ$883)","v":0}]
[null,null,0,null,0,0,0,0,0,0,0,0,0,{"$f":"SUMIF('X-DSP-ALL'!$E$2:$E$883,A100,'X-DSP-ALL'!$L$2:$L$883)","v":0},{"$f":"SUMIF('X-DSP-ALL'!$E$2:$E$883,A100,'X-DSP-ALL'!$M$2:$M$883)","v":0},{"$f":"SUMIF('X-DSP-ALL'!$E$2:$E$883,A100,'X-DSP-ALL'!$N$2:$N$883)","v":0},{"$f":"SUMIF('X-DSP-ALL'!$E$2:$E$883,A100,'X-DSP-ALL'!$O$2:$O$883)","v":31},{"$f":"SUMIF('X-DSP-ALL'!$E$2:$E$883,A100,'X-DSP-ALL'!$P$2:$P$883)","v":29},{"$f":"SUMIF('X-DSP-ALL'!$E$2:$E$883,A100,'X-DSP-ALL'!$Q$2:$Q$883)","v":2},{"$f":"IF(A100=0,0,SUMIF('X-DSP-ALL'!$F$2:$F$883,A100,'X-DSP-ALL'!$BE$2:$BE$883))","v":0},{"$f":"IF(A100=0,0,(N100*Setup!$J$17)+(O100*Setup!$J$18)+(P100*Setup!$J$19)+(Q100*Setup!$J$22)+(R100*Setup!$J$23)+(S100*Setup!$J$24)+(T100))","v":0},{"$f":"SUMIF('X-DSP-ALL'!$E$2:$E$883,A100,'X-DSP-ALL'!$BO$2:$BO$883)","v":0},{"$f":"SUMIF('X-DSP-ALL'!$E$2:$E$883,A100,'X-DSP-ALL'!$BP$2:$BP$883)","v":0},{"$f":"SUMIF('X-DSP-ALL'!$E$2:$E$883,A100,'X-DSP-ALL'!$BQ$2:$BQ$883)","v":0}]

{"sheet":"Teams1","index":3,"n_rows":24,"n_cols":11,"rows_kept":24,"cut":false,"hidden":false,"merged":[]}
[]
["Season"]
["Team ID","DBID","Team Name","Repeat ID","DBID","P1 ID","Player 1 Name","P2 ID","Player 2 Name"]
[1,34,"Alex and Carl",{"$f":"A4","v":1},34,{"$f":"VLOOKUP(G4,GE_PLayer_Name_ID,2,FALSE)","v":77},"Schock, Alex",{"$f":"VLOOKUP(I4,GE_PLayer_Name_ID,2,FALSE)","v":78},"Tenkman, Carl"]
[2,35,"Bill and John",{"$f":"A5","v":2},35,79,"Hobek, Bill",80,"Coop, John"]
[3,36,"Bob and Mike",{"$f":"A6","v":3},36,81,"Dehner, Bob",82,"Upchurch, Mike"]
[4,37,"Charles and Rob",4,37,85,"Fry, Charles",86,"Goetz, Rob"]
[5,38,"Checkin Test Cells",5,38,88,"Bridwell, Glen",89,"Jonovski, Mendo"]
[6,39,"Dave, Joe and Rick",6,39,92,"Hanna, Dave",93,"Shoaf, Joe",null,"x"]
[7,40,"Schmitts Creek",7,40,96,"Schmitt, Andy",97,"Schmitt, Peter"]
[8,41,"McAvoys",8,41,98,"Doll, Mike",99,"Recher, Jason",null,"x"]
[9,42,"Dingers Ringers",9,42,102,"Simendinger, Joe",103,"Simendinger, Joel",null,"x"]
[10,43,"Stewart Shankers",10,43,105,"Stewart, Brain",106,"Stewart, Drake"]
[11,44,"Delivery Divots",11,44,107,"Metzger, Mike",108,"Dulan, Bob"]
[12,45,"Dude Wheres My Par",12,45,109,"McGrew, Doug",110,"Tate, Melvin"]
[13,46,"Evan and Jon",13,46,111,"Graves, Evan",112,"Leonard, Jon"]
[14,47,"Hole N 8",14,47,113,"Boswell, Clyde",114,"Brook, DeeDee"]
[15,48,"Putt Buddies",15,48,115,"Kohler, Evan",116,"Kohler, Jeff"]
[16,49,"Putt Pirates",16,49,118,"Farley, Adam",119,"Young, Brandon"]
[17,50,"Reckless Drivers",17,50,121,"Lamb, David",122,"Ruter, Eric"]
[18,51,"Shootist 1",18,51,125,"Rickards, Charlie",123,"Miller, Jim",null,"x"]
[19,52,"Shootist 2",19,52,127,"Dudley, Stan",126,"Saum, Craig"]
[20,53,"Snowmen",20,53,129,"Pignone, Gary",130,"Okeefe, Kevin"]
[0,null,null,0]

{"sheet":"Schedule1","index":4,"n_rows":202,"n_cols":107,"rows_kept":202,"cut":false,"hidden":false,"merged":[[1,0,1,5]]}
["2025 GE Golf League ",null,null,null,null,null,null,null,null,null,"Team DB IDs",1,{"$f":"Teams1!E4","v":34}]
["Schedule",null,null,null,null,null,null,null,null,null,null,2,{"$f":"Teams1!E5","v":35},null,null,"Team IDs",null,null,null,null,null,null,null,null,null,null,null,null,null,null,null,null,null,null,null,"Match IDs",null,null,null,null,null,null,null,null,null,null,null,null,null,null,null,null,null,null,null,null,null,null,null,null,null,null,null,{"$f":"$M$1","v":34},{"$f":"$M$16","v":49},null,{"$f":"$M$1","v":34},{"$f":"$M$15","v":48},null,{"$f":"$M$1","v":34},{"$f":"$M$14","v":47},null,{"$f":"$M$1","v":34},{"$f":"$M$13","v":46},null,{"$f":"$M$1","v":34},{"$f":"$M$12","v":45},null,{"$f":"$M$1","v":34},{"$f":"$M$11","v":44},null,{"$f":"$M$1","v":34},{"$f":"$M$10","v":43},null,{"$f":"$M$1","v":34},{"$f":"$M$9","v":42},null,{"$f":"$M$1","v":34},{"$f":"$M$8","v":41},null,{"$f":"$M$1","v":34},{"$f":"$M$7","v":40},null,{"$f":"$M$1","v":34},{"$f":"$M$6","v":39},null,{"$f":"$M$1","v":34},{"$f":"$M$5","v":38},null,{"$f":"$M$1","v":34},{"$f":"$M$4","v":37},null,{"$f":"$M$1","v":34},{"$f":"$M$3","v":36},null,{"$f":"$M$1","v":34},{"$f":"$M$2","v":35}]
["Week",1,null,{"$f":"LOOKUP(H3,GE_Team_Number_1,GE_Team_Names_1)","v":"Bob and Mike"},"vs.",{"$f":"LOOKUP(I3,GE_Team_Number_1,GE_Team_Names_1)","v":"Evan and Jon"},1,3,13,null,null,3,{"$f":"Teams1!E6","v":36},null,"01",{"$f":"VLOOKUP(H3,$L$1:$M$20,2,FALSE)","v":36},{"$f":"VLOOKUP(I3,$L$1:$M$20,2,FALSE)","v":46},{"$f":"VLOOKUP(H4,$L$1:$M$20,2,FALSE)","v":35},{"$f":"VLOOKUP(I4,$L$1:$M$20,2,FALSE)","v":45},{"$f":"VLOOKUP(H5,$L$1:$M$20,2,FALSE)","v":42},{"$f":"VLOOKUP(I5,$L$1:$M$20,2,FALSE)","v":52},{"$f":"VLOOKUP(H6,$L$1:$M$20,2,FALSE)","v":37},{"$f":"VLOOKUP(I6,$L$1:$M$20,2,FALSE)","v":47},{"$f":"VLOOKUP(H7,$L$1:$M$20,2,FALSE)","v":34},{"$f":"VLOOKUP(I7,$L$1:$M$20,2,FALSE)","v":44},{"$f":"VLOOKUP(H8,$L$1:$M$20,2,FALSE)","v":41},{"$f":"VLOOKUP(I8,$L$1:$M$20,2,FALSE)","v":51},{"$f":"VLOOKUP(H9,$L$1:$M$20,2,FALSE)","v":38},{"$f":"VLOOKUP(I9,$L$1:$M$20,2,FALSE)","v":48},{"$f":"VLOOKUP(H10,$L$1:$M$20,2,FALSE)","v":39},{"$f":"VLOOKUP(I10,$L$1:$M$20,2,FALSE)","v":49},{"$f":"VLOOKUP(H11,$L$1:$M$20,2,FALSE)","v":40},{"$f":"VLOOKUP(I11,$L$1:$M$20,2,FALSE)","v":50},{"$f":"VLOOKUP(H12,$L$1:$M$20,2,FALSE)","v":43},{"$f":"VLOOKUP(I12,$L$1:$M$20,2,FALSE)","v":53},250,251,252,253,254,255,256,257,258,259,"F","B","F","B","F","B","F","B","F","B",null,null,null,null,null,null,null,null,{"$f":"$M$2","v":35},{"$f":"$M$15","v":48},null,{"$f":"$M$16","v":49},{"$f":"$M$14","v":47},null,{"$f":"$M$15","v":48},{"$f":"$M$13","v":46},null,{"$f":"$M$14","v":47},{"$f":"$M$12","v":45},null,{"$f":"$M$13","v":46},{"$f":"$M$11","v":44},null,{"$f":"$M$12","v":45},{"$f":"$M$10","v":43},null,{"$f":"$M$11","v":44},{"$f":"$M$9","v":42},null,{"$f":"$M$10","v":43},{"$f":"$M$8","v":41},null,{"$f":"$M$9","v":42},{"$f":"$M$7","v":40},null,{"$f":"$M$8","v":41},{"$f":"$M$6","v":39},null,{"$f":"$M$7","v":40},{"$f":"$M$5","v":38},null,{"$f":"$M$6","v":39},{"$f":"$M$4","v":37},null,{"$f":"$M$5","v":38},{"$f":"$M$3","v":36},null,{"$f":"$M$4","v":37},{"$f":"$M$2","v":35},null,{"$f":"$M$3","v":36},{"$f":"$M$16","v":49}]
[{"$f":"LOOKUP(B3,Weeks,LeagueDates)","v":"2025-04-08"},null,null,{"$f":"LOOKUP(H4,GE_Team_Number_1,GE_Team_Names_1)","v":"Bill and John"},"vs.",{"$f":"LOOKUP(I4,GE_Team_Number_1,GE_Team_Names_1)","v":"Dude Wheres My Par"},null,2,12,null,null,4,{"$f":"Teams1!E7","v":37},null,"02",{"$f":"VLOOKUP(H13,$L$1:$M$20,2,FALSE)","v":37},{"$f":"VLOOKUP(I13,$L$1:$M$20,2,FALSE)","v":49},{"$f":"VLOOKUP(H14,$L$1:$M$20,2,FALSE)","v":38},{"$f":"VLOOKUP(I14,$L$1:$M$20,2,FALSE)","v":50},{"$f":"VLOOKUP(H15,$L$1:$M$20,2,FALSE)","v":41},{"$f":"VLOOKUP(I15,$L$1:$M$20,2,FALSE)","v":53},{"$f":"VLOOKUP(H16,$L$1:$M$20,2,FALSE)","v":40},{"$f":"VLOOKUP(I16,$L$1:$M$20,2,FALSE)","v":52},{"$f":"VLOOKUP(H17,$L$1:$M$20,2,FALSE)","v":35},{"$f":"VLOOKUP(I17,$L$1:$M$20,2,FALSE)","v":47},{"$f":"VLOOKUP(H18,$L$1:$M$20,2,FALSE)","v":36},{"$f":"VLOOKUP(I18,$L$1:$M$20,2,FALSE)","v":48},{"$f":"VLOOKUP(H19,$L$1:$M$20,2,FALSE)","v":39},{"$f":"VLOOKUP(I19,$L$1:$M$20,2,FALSE)","v":51},{"$f":"VLOOKUP(H20,$L$1:$M$20,2,FALSE)","v":42},{"$f":"VLOOKUP(I20,$L$1:$M$20,2,FALSE)","v":44},{"$f":"VLOOKUP(H21,$L$1:$M$20,2,FALSE)","v":43},{"$f":"VLOOKUP(I21,$L$1:$M$20,2,FALSE)","v":45},{"$f":"VLOOKUP(H22,$L$1:$M$20,2,FALSE)","v":34},{"$f":"VLOOKUP(I22,$L$1:$M$20,2,FALSE)","v":46},260,261,262,263,264,265,266,267,268,269,"F","B","F","B","F","B","F","B","F","B",null,null,null,null,null,null,null,null,{"$f":"$M$3","v":36},{"$f":"$M$14","v":47},null,{"$f":"$M$2","v":35},{"$f":"$M$13","v":46},null,{"$f":"$M$16","v":49},{"$f":"$M$12","v":45},null,{"$f":"$M$15","v":48},{"$f":"$M$11","v":44},null,{"$f":"$M$14","v":47},{"$f":"$M$10","v":43},null,{"$f":"$M$13","v":46},{"$f":"$M$9","v":42},null,{"$f":"$M$12","v":45},{"$f":"$M$8","v":41},null,{"$f":"$M$11","v":44},{"$f":"$M$7","v":40},null,{"$f":"$M$10","v":43},{"$f":"$M$6","v":39},null,{"$f":"$M$9","v":42},{"$f":"$M$5","v":38},null,{"$f":"$M$8","v":41},{"$f":"$M$4","v":37},null,{"$f":"$M$7","v":40},{"$f":"$M$3","v":36},null,{"$f":"$M$6","v":39},{"$f":"$M$2","v":35},null,{"$f":"$M$5","v":38},{"$f":"$M$16","v":49},null,{"$f":"$M$4","v":37},{"$f":"$M$15","v":48}]
[null,null,null,"Dingers Ringers","vs.","Shootist 2",null,9,19,null,null,5,{"$f":"Teams1!E8","v":38},null,"03",{"$f":"VLOOKUP(H23,$L$1:$M$20,2,FALSE)","v":42},{"$f":"VLOOKUP(I23,$L$1:$M$20,2,FALSE)","v":46},{"$f":"VLOOKUP(H24,$L$1:$M$20,2,FALSE)","v":39},{"$f":"VLOOKUP(I24,$L$1:$M$20,2,FALSE)","v":53},{"$f":"VLOOKUP(H25,$L$1:$M$20,2,FALSE)","v":34},{"$f":"VLOOKUP(I25,$L$1:$M$20,2,FALSE)","v":48},{"$f":"VLOOKUP(H26,$L$1:$M$20,2,FALSE)","v":43},{"$f":"VLOOKUP(I26,$L$1:$M$20,2,FALSE)","v":47},{"$f":"VLOOKUP(H27,$L$1:$M$20,2,FALSE)","v":40},{"$f":"VLOOKUP(I27,$L$1:$M$20,2,FALSE)","v":44},{"$f":"VLOOKUP(H28,$L$1:$M$20,2,FALSE)","v":37},{"$f":"VLOOKUP(I28,$L$1:$M$20,2,FALSE)","v":51},{"$f":"VLOOKUP(H29,$L$1:$M$20,2,FALSE)","v":38},{"$f":"VLOOKUP(I29,$L$1:$M$20,2,FALSE)","v":52},{"$f":"VLOOKUP(H30,$L$1:$M$20,2,FALSE)","v":41},{"$f":"VLOOKUP(I30,$L$1:$M$20,2,FALSE)","v":45},{"$f":"VLOOKUP(H31,$L$1:$M$20,2,FALSE)","v":36},{"$f":"VLOOKUP(I31,$L$1:$M$20,2,FALSE)","v":50},{"$f":"VLOOKUP(H32,$L$1:$M$20,2,FALSE)","v":35},{"$f":"VLOOKUP(I32,$L$1:$M$20,2,FALSE)","v":49},270,271,272,273,274,275,276,277,278,279,"F","B","F","B","F","B","F","B","F","B",null,null,null,null,null,null,null,null,{"$f":"$M$4","v":37},{"$f":"$M$13","v":46},null,{"$f":"$M$3","v":36},{"$f":"$M$12","v":45},null,{"$f":"$M$2","v":35},{"$f":"$M$11","v":44},null,{"$f":"$M$16","v":49},{"$f":"$M$10","v":43},null,{"$f":"$M$15","v":48},{"$f":"$M$9","v":42},null,{"$f":"$M$14","v":47},{"$f":"$M$8","v":41},null,{"$f":"$M$13","v":46},{"$f":"$M$7","v":40},null,{"$f":"$M$12","v":45},{"$f":"$M$6","v":39},null,{"$f":"$M$11","v":44},{"$f":"$M$5","v":38},null,{"$f":"$M$10","v":43},{"$f":"$M$4","v":37},null,{"$f":"$M$9","v":42},{"$f":"$M$3","v":36},null,{"$f":"$M$8","v":41},{"$f":"$M$2","v":35},null,{"$f":"$M$7","v":40},{"$f":"$M$16","v":49},null,{"$f":"$M$6","v":39},{"$f":"$M$15","v":48},null,{"$f":"$M$5","v":38},{"$f":"$M$14","v":47}]
[null,null,null,"Charles and Rob","vs.","Hole N 8",null,4,14,null,null,6,{"$f":"Teams1!E9","v":39},null,"04",{"$f":"VLOOKUP(H33,$L$1:$M$20,2,FALSE)","v":43},{"$f":"VLOOKUP(I33,$L$1:$M$20,2,FALSE)","v":49},{"$f":"VLOOKUP(H34,$L$1:$M$20,2,FALSE)","v":38},{"$f":"VLOOKUP(I34,$L$1:$M$20,2,FALSE)","v":44},{"$f":"VLOOKUP(H35,$L$1:$M$20,2,FALSE)","v":35},{"$f":"VLOOKUP(I35,$L$1:$M$20,2,FALSE)","v":51},{"$f":"VLOOKUP(H36,$L$1:$M$20,2,FALSE)","v":34},{"$f":"VLOOKUP(I36,$L$1:$M$20,2,FALSE)","v":50},41,{"$f":"VLOOKUP(I37,$L$1:$M$20,2,FALSE)","v":47},{"$f":"VLOOKUP(H38,$L$1:$M$20,2,FALSE)","v":36},{"$f":"VLOOKUP(I38,$L$1:$M$20,2,FALSE)","v":52},{"$f":"VLOOKUP(H39,$L$1:$M$20,2,FALSE)","v":37},{"$f":"VLOOKUP(I39,$L$1:$M$20,2,FALSE)","v":53},{"$f":"VLOOKUP(H40,$L$1:$M$20,2,FALSE)","v":42},{"$f":"VLOOKUP(I40,$L$1:$M$20,2,FALSE)","v":48},{"$f":"VLOOKUP(H41,$L$1:$M$20,2,FALSE)","v":39},{"$f":"VLOOKUP(I41,$L$1:$M$20,2,FALSE)","v":45},{"$f":"VLOOKUP(H42,$L$1:$M$20,2,FALSE)","v":40},{"$f":"VLOOKUP(I42,$L$1:$M$20,2,FALSE)","v":46},280,281,282,283,284,285,286,287,288,289,"F","B","F","B","F","B","F","B","F","B",null,null,null,null,null,null,null,null,{"$f":"$M$5","v":38},{"$f":"$M$12","v":45},null,{"$f":"$M$4","v":37},{"$f":"$M$11","v":44},null,{"$f":"$M$3","v":36},{"$f":"$M$10","v":43},null,{"$f":"$M$2","v":35},{"$f":"$M$9","v":42},null,{"$f":"$M$16","v":49},{"$f":"$M$8","v":41},null,{"$f":"$M$15","v":48},{"$f":"$M$7","v":40},null,{"$f":"$M$14","v":47},{"$f":"$M$6","v":39},null,{"$f":"$M$13","v":46},{"$f":"$M$5","v":38},null,{"$f":"$M$12","v":45},{"$f":"$M$4","v":37},null,{"$f":"$M$11","v":44},{"$f":"$M$3","v":36},null,{"$f":"$M$10","v":43},{"$f":"$M$2","v":35},null,{"$f":"$M$9","v":42},{"$f":"$M$16","v":49},null,{"$f":"$M$8","v":41},{"$f":"$M$15","v":48},null,{"$f":"$M$7","v":40},{"$f":"$M$14","v":47},null,{"$f":"$M$6","v":39},{"$f":"$M$13","v":46}]
[null,null,null,"Alex and Carl","vs.","Delivery Divots",null,1,11,null,null,7,{"$f":"Teams1!E10","v":40},null,"05",{"$f":"VLOOKUP(H43,$L$1:$M$20,2,FALSE)","v":40},{"$f":"VLOOKUP(I43,$L$1:$M$20,2,FALSE)","v":48},{"$f":"VLOOKUP(H44,$L$1:$M$20,2,FALSE)","v":37},{"$f":"VLOOKUP(I44,$L$1:$M$20,2,FALSE)","v":45},{"$f":"VLOOKUP(H45,$L$1:$M$20,2,FALSE)","v":34},{"$f":"VLOOKUP(I45,$L$1:$M$20,2,FALSE)","v":52},{"$f":"VLOOKUP(H46,$L$1:$M$20,2,FALSE)","v":39},{"$f":"VLOOKUP(I46,$L$1:$M$20,2,FALSE)","v":47},{"$f":"VLOOKUP(H47,$L$1:$M$20,2,FALSE)","v":42},{"$f":"VLOOKUP(I47,$L$1:$M$20,2,FALSE)","v":50},{"$f":"VLOOKUP(H48,$L$1:$M$20,2,FALSE)","v":43},{"$f":"VLOOKUP(I48,$L$1:$M$20,2,FALSE)","v":51},{"$f":"VLOOKUP(H49,$L$1:$M$20,2,FALSE)","v":38},{"$f":"VLOOKUP(I49,$L$1:$M$20,2,FALSE)","v":46},{"$f":"VLOOKUP(H50,$L$1:$M$20,2,FALSE)","v":35},{"$f":"VLOOKUP(I50,$L$1:$M$20,2,FALSE)","v":53},{"$f":"VLOOKUP(H51,$L$1:$M$20,2,FALSE)","v":36},{"$f":"VLOOKUP(I51,$L$1:$M$20,2,FALSE)","v":44},{"$f":"VLOOKUP(H52,$L$1:$M$20,2,FALSE)","v":41},{"$f":"VLOOKUP(I52,$L$1:$M$20,2,FALSE)","v":49},290,291,292,293,294,295,296,297,298,299,"F","B","F","B","F","B","F","B","F","B",null,null,null,null,null,null,null,null,{"$f":"$M$6","v":39},{"$f":"$M$11","v":44},null,{"$f":"$M$5","v":38},{"$f":"$M$10","v":43},null,{"$f":"$M$4","v":37},{"$f":"$M$9","v":42},null,{"$f":"$M$3","v":36},{"$f":"$M$8","v":41},null,{"$f":"$M$2","v":35},{"$f":"$M$7","v":40},null,{"$f":"$M$16","v":49},{"$f":"$M$6","v":39},null,{"$f":"$M$15","v":48},{"$f":"$M$5","v":38},null,{"$f":"$M$14","v":47},{"$f":"$M$4","v":37},null,{"$f":"$M$13","v":46},{"$f":"$M$3","v":36},null,{"$f":"$M$12","v":45},{"$f":"$M$2","v":35},null,{"$f":"$M$11","v":44},{"$f":"$M$16","v":49},null,{"$f":"$M$10","v":43},{"$f":"$M$15","v":48},null,{"$f":"$M$9","v":42},{"$f":"$M$14","v":47},null,{"$f":"$M$8","v":41},{"$f":"$M$13","v":46},null,{"$f":"$M$7","v":40},{"$f":"$M$12","v":45}]
[null,null,null,"McAvoys","vs.","Shootist 1",null,8,18,null,null,8,{"$f":"Teams1!E11","v":41},null,"06",{"$f":"VLOOKUP(H53,$L$1:$M$20,2,FALSE)","v":34},{"$f":"VLOOKUP(I53,$L$1:$M$20,2,FALSE)","v":43},{"$f":"VLOOKUP(H54,$L$1:$M$20,2,FALSE)","v":44},{"$f":"VLOOKUP(I54,$L$1:$M$20,2,FALSE)","v":53},{"$f":"VLOOKUP(H55,$L$1:$M$20,2,FALSE)","v":35},{"$f":"VLOOKUP(I55,$L$1:$M$20,2,FALSE)","v":42},{"$f":"VLOOKUP(H56,$L$1:$M$20,2,FALSE)","v":45},{"$f":"VLOOKUP(I56,$L$1:$M$20,2,FALSE)","v":52},{"$f":"VLOOKUP(H57,$L$1:$M$20,2,FALSE)","v":36},{"$f":"VLOOKUP(I57,$L$1:$M$20,2,FALSE)","v":41},{"$f":"VLOOKUP(H58,$L$1:$M$20,2,FALSE)","v":46},{"$f":"VLOOKUP(I58,$L$1:$M$20,2,FALSE)","v":51},{"$f":"VLOOKUP(H59,$L$1:$M$20,2,FALSE)","v":37},{"$f":"VLOOKUP(I59,$L$1:$M$20,2,FALSE)","v":40},{"$f":"VLOOKUP(H60,$L$1:$M$20,2,FALSE)","v":47},{"$f":"VLOOKUP(I60,$L$1:$M$20,2,FALSE)","v":50},{"$f":"VLOOKUP(H61,$L$1:$M$20,2,FALSE)","v":38},{"$f":"VLOOKUP(I61,$L$1:$M$20,2,FALSE)","v":39},{"$f":"VLOOKUP(H62,$L$1:$M$20,2,FALSE)","v":48},{"$f":"VLOOKUP(I62,$L$1:$M$20,2,FALSE)","v":49},300,301,302,303,304,305,306,307,308,309,"F","B","F","B","F","B","F","B","F","B",null,null,null,null,null,null,null,null,{"$f":"$M$7","v":40},{"$f":"$M$10","v":43},null,{"$f":"$M$6","v":39},{"$f":"$M$9","v":42},null,{"$f":"$M$5","v":38},{"$f":"$M$8","v":41},null,{"$f":"$M$4","v":37},{"$f":"$M$7","v":40},null,{"$f":"$M$3","v":36},{"$f":"$M$6","v":39},null,{"$f":"$M$2","v":35},{"$f":"$M$5","v":38},null,{"$f":"$M$16","v":49},{"$f":"$M$4","v":37},null,{"$f":"$M$15","v":48},{"$f":"$M$3","v":36},null,{"$f":"$M$14","v":47},{"$f":"$M$2","v":35},null,{"$f":"$M$13","v":46},{"$f":"$M$16","v":49},null,{"$f":"$M$12","v":45},{"$f":"$M$15","v":48},null,{"$f":"$M$11","v":44},{"$f":"$M$14","v":47},null,{"$f":"$M$10","v":43},{"$f":"$M$13","v":46},null,{"$f":"$M$9","v":42},{"$f":"$M$12","v":45},null,{"$f":"$M$8","v":41},{"$f":"$M$11","v":44}]
[null,null,null,"Checkin Test Cells","vs.","Putt Buddies",null,5,15,null,null,9,{"$f":"Teams1!E12","v":42},null,"07",{"$f":"VLOOKUP(H63,$L$1:$M$20,2,FALSE)","v":48},{"$f":"VLOOKUP(I63,$L$1:$M$20,2,FALSE)","v":47},{"$f":"VLOOKUP(H64,$L$1:$M$20,2,FALSE)","v":38},{"$f":"VLOOKUP(I64,$L$1:$M$20,2,FALSE)","v":37},{"$f":"VLOOKUP(H65,$L$1:$M$20,2,FALSE)","v":49},{"$f":"VLOOKUP(I65,$L$1:$M$20,2,FALSE)","v":46},{"$f":"VLOOKUP(H66,$L$1:$M$20,2,FALSE)","v":39},{"$f":"VLOOKUP(I66,$L$1:$M$20,2,FALSE)","v":36},{"$f":"VLOOKUP(H67,$L$1:$M$20,2,FALSE)","v":50},{"$f":"VLOOKUP(I67,$L$1:$M$20,2,FALSE)","v":45},{"$f":"VLOOKUP(H68,$L$1:$M$20,2,FALSE)","v":40},{"$f":"VLOOKUP(I68,$L$1:$M$20,2,FALSE)","v":35},{"$f":"VLOOKUP(H69,$L$1:$M$20,2,FALSE)","v":51},{"$f":"VLOOKUP(I69,$L$1:$M$20,2,FALSE)","v":53},{"$f":"VLOOKUP(H70,$L$1:$M$20,2,FALSE)","v":41},{"$f":"VLOOKUP(I70,$L$1:$M$20,2,FALSE)","v":43},{"$f":"VLOOKUP(H71,$L$1:$M$20,2,FALSE)","v":52},{"$f":"VLOOKUP(I71,$L$1:$M$20,2,FALSE)","v":44},{"$f":"VLOOKUP(H72,$L$1:$M$20,2,FALSE)","v":42},{"$f":"VLOOKUP(I72,$L$1:$M$20,2,FALSE)","v":34},310,311,312,313,314,315,316,317,318,319,"F","B","F","B","F","B","F","B","F","B",null,null,null,null,null,null,null,null,{"$f":"$M$8","v":41},{"$f":"$M$9","v":42},null,{"$f":"$M$7","v":40},{"$f":"$M$8","v":41},null,{"$f":"$M$6","v":39},{"$f":"$M$7","v":40},null,{"$f":"$M$5","v":38},{"$f":"$M$6","v":39},null,{"$f":"$M$4","v":37},{"$f":"$M$5","v":38},null,{"$f":"$M$3","v":36},{"$f":"$M$4","v":37},null,{"$f":"$M$2","v":35},{"$f":"$M$3","v":36},null,{"$f":"$M$16","v":49},{"$f":"$M$2","v":35},null,{"$f":"$M$15","v":48},{"$f":"$M$16","v":49},null,{"$f":"$M$14","v":47},{"$f":"$M$15","v":48},null,{"$f":"$M$13","v":46},{"$f":"$M$14","v":47},null,{"$f":"$M$12","v":45},{"$f":"$M$13","v":46},null,{"$f":"$M$11","v":44},{"$f":"$M$12","v":45},null,{"$f":"$M$10","v":43},{"$f":"$M$11","v":44},null,{"$f":"$M$9","v":42},{"$f":"$M$10","v":43}]
[null,null,null,"Dave, Joe and Rick","vs.","Putt Pirates",null,6,16,null,null,10,{"$f":"Teams1!E13","v":43},null,"08",{"$f":"VLOOKUP(H73,$L$1:$M$20,2,FALSE)","v":42},{"$f":"VLOOKUP(I73,$L$1:$M$20,2,FALSE)","v":40},{"$f":"VLOOKUP(H74,$L$1:$M$20,2,FALSE)","v":52},{"$f":"VLOOKUP(I74,$L$1:$M$20,2,FALSE)","v":50},{"$f":"VLOOKUP(H75,$L$1:$M$20,2,FALSE)","v":34},{"$f":"VLOOKUP(I75,$L$1:$M$20,2,FALSE)","v":41},{"$f":"VLOOKUP(H76,$L$1:$M$20,2,FALSE)","v":44},{"$f":"VLOOKUP(I76,$L$1:$M$20,2,FALSE)","v":51},{"$f":"VLOOKUP(H77,$L$1:$M$20,2,FALSE)","v":43},{"$f":"VLOOKUP(I77,$L$1:$M$20,2,FALSE)","v":39},{"$f":"VLOOKUP(H78,$L$1:$M$20,2,FALSE)","v":53},{"$f":"VLOOKUP(I78,$L$1:$M$20,2,FALSE)","v":49},{"$f":"VLOOKUP(H79,$L$1:$M$20,2,FALSE)","v":35},{"$f":"VLOOKUP(I79,$L$1:$M$20,2,FALSE)","v":38},{"$f":"VLOOKUP(H80,$L$1:$M$20,2,FALSE)","v":45},{"$f":"VLOOKUP(I80,$L$1:$M$20,2,FALSE)","v":48},{"$f":"VLOOKUP(H81,$L$1:$M$20,2,FALSE)","v":36},{"$f":"VLOOKUP(I81,$L$1:$M$20,2,FALSE)","v":37},{"$f":"VLOOKUP(H82,$L$1:$M$20,2,FALSE)","v":46},{"$f":"VLOOKUP(I82,$L$1:$M$20,2,FALSE)","v":47},320,321,322,323,324,325,326,327,328,329,"F","B","F","B","F","B","F","B","F","B"]
[null,null,null,"Schmitts Creek","vs.","Reckless Drivers",null,7,17,null,null,11,{"$f":"Teams1!E14","v":44},null,"09",{"$f":"VLOOKUP(H83,$L$1:$M$20,2,FALSE)","v":49},{"$f":"VLOOKUP(I83,$L$1:$M$20,2,FALSE)","v":51},{"$f":"VLOOKUP(H84,$L$1:$M$20,2,FALSE)","v":39},{"$f":"VLOOKUP(I84,$L$1:$M$20,2,FALSE)","v":41},{"$f":"VLOOKUP(H85,$L$1:$M$20,2,FALSE)","v":48},{"$f":"VLOOKUP(I85,$L$1:$M$20,2,FALSE)","v":52},{"$f":"VLOOKUP(H86,$L$1:$M$20,2,FALSE)","v":38},{"$f":"VLOOKUP(I86,$L$1:$M$20,2,FALSE)","v":42},{"$f":"VLOOKUP(H87,$L$1:$M$20,2,FALSE)","v":47},{"$f":"VLOOKUP(I87,$L$1:$M$20,2,FALSE)","v":53},{"$f":"VLOOKUP(H88,$L$1:$M$20,2,FALSE)","v":37},{"$f":"VLOOKUP(I88,$L$1:$M$20,2,FALSE)","v":43},{"$f":"VLOOKUP(H89,$L$1:$M$20,2,FALSE)","v":46},{"$f":"VLOOKUP(I89,$L$1:$M$20,2,FALSE)","v":45},{"$f":"VLOOKUP(H90,$L$1:$M$20,2,FALSE)","v":36},{"$f":"VLOOKUP(I90,$L$1:$M$20,2,FALSE)","v":35},{"$f":"VLOOKUP(H91,$L$1:$M$20,2,FALSE)","v":50},{"$f":"VLOOKUP(I91,$L$1:$M$20,2,FALSE)","v":44},{"$f":"VLOOKUP(H92,$L$1:$M$20,2,FALSE)","v":40},{"$f":"VLOOKUP(I92,$L$1:$M$20,2,FALSE)","v":34},330,331,332,333,334,335,336,337,338,339,"F","B","F","B","F","B","F","B","F","B"]
[null,null,null,"Stewart Shankers","vs.","Snowmen",null,10,20,null,null,12,{"$f":"Teams1!E15","v":45},null,"10",{"$f":"VLOOKUP(H93,$L$1:$M$20,2,FALSE)","v":42},{"$f":"VLOOKUP(I93,$L$1:$M$20,2,FALSE)","v":36},{"$f":"VLOOKUP(H94,$L$1:$M$20,2,FALSE)","v":52},{"$f":"VLOOKUP(I94,$L$1:$M$20,2,FALSE)","v":46},{"$f":"VLOOKUP(H95,$L$1:$M$20,2,FALSE)","v":40},{"$f":"VLOOKUP(I95,$L$1:$M$20,2,FALSE)","v":38},{"$f":"VLOOKUP(H96,$L$1:$M$20,2,FALSE)","v":50},{"$f":"VLOOKUP(I96,$L$1:$M$20,2,FALSE)","v":48},{"$f":"VLOOKUP(H97,$L$1:$M$20,2,FALSE)","v":41},{"$f":"VLOOKUP(I97,$L$1:$M$20,2,FALSE)","v":37},{"$f":"VLOOKUP(H98,$L$1:$M$20,2,FALSE)","v":51},{"$f":"VLOOKUP(I98,$L$1:$M$20,2,FALSE)","v":47},{"$f":"VLOOKUP(H99,$L$1:$M$20,2,FALSE)","v":34},{"$f":"VLOOKUP(I99,$L$1:$M$20,2,FALSE)","v":39},{"$f":"VLOOKUP(H100,$L$1:$M$20,2,FALSE)","v":44},{"$f":"VLOOKUP(I100,$L$1:$M$20,2,FALSE)","v":49},{"$f":"VLOOKUP(H101,$L$1:$M$20,2,FALSE)","v":43},{"$f":"VLOOKUP(I101,$L$1:$M$20,2,FALSE)","v":35},{"$f":"VLOOKUP(H102,$L$1:$M$20,2,FALSE)","v":53},{"$f":"VLOOKUP(I102,$L$1:$M$20,2,FALSE)","v":45},340,341,342,343,344,345,346,347,348,349,"F","B","F","B","F","B","F","B","F","B"]
["Week",2,null,"Charles and Rob","vs.","Putt Pirates",2,4,16,null,null,13,{"$f":"Teams1!E16","v":46},null,"11",{"$f":"VLOOKUP(H103,$L$1:$M$20,2,FALSE)","v":45},{"$f":"VLOOKUP(I103,$L$1:$M$20,2,FALSE)","v":51},{"$f":"VLOOKUP(H104,$L$1:$M$20,2,FALSE)","v":35},{"$f":"VLOOKUP(I104,$L$1:$M$20,2,FALSE)","v":41},{"$f":"VLOOKUP(H105,$L$1:$M$20,2,FALSE)","v":46},{"$f":"VLOOKUP(I105,$L$1:$M$20,2,FALSE)","v":50},{"$f":"VLOOKUP(H106,$L$1:$M$20,2,FALSE)","v":36},{"$f":"VLOOKUP(I106,$L$1:$M$20,2,FALSE)","v":40},{"$f":"VLOOKUP(H107,$L$1:$M$20,2,FALSE)","v":48},{"$f":"VLOOKUP(I107,$L$1:$M$20,2,FALSE)","v":44},{"$f":"VLOOKUP(H108,$L$1:$M$20,2,FALSE)","v":38},{"$f":"VLOOKUP(I108,$L$1:$M$20,2,FALSE)","v":34},{"$f":"VLOOKUP(H109,$L$1:$M$20,2,FALSE)","v":53},{"$f":"VLOOKUP(I109,$L$1:$M$20,2,FALSE)","v":52},{"$f":"VLOOKUP(H110,$L$1:$M$20,2,FALSE)","v":43},{"$f":"VLOOKUP(I110,$L$1:$M$20,2,FALSE)","v":42},{"$f":"VLOOKUP(H111,$L$1:$M$20,2,FALSE)","v":47},{"$f":"VLOOKUP(I111,$L$1:$M$20,2,FALSE)","v":49},{"$f":"VLOOKUP(H112,$L$1:$M$20,2,FALSE)","v":37},{"$f":"VLOOKUP(I112,$L$1:$M$20,2,FALSE)","v":39},350,351,352,353,354,355,356,357,358,359,"F","B","F","B","F","B","F","B","F","B"]
[{"$f":"LOOKUP(B13,Weeks,LeagueDates)","v":"2025-04-15"},null,null,{"$f":"LOOKUP(H14,GE_Team_Number_1,GE_Team_Names_1)","v":"Checkin Test Cells"},"vs.",{"$f":"LOOKUP(I14,GE_Team_Number_1,GE_Team_Names_1)","v":"Reckless Drivers"},null,5,17,null,null,14,{"$f":"Teams1!E17","v":47},null,"12",{"$f":"VLOOKUP(H113,$L$1:$M$20,2,FALSE)","v":34},{"$f":"VLOOKUP(I113,$L$1:$M$20,2,FALSE)","v":37},{"$f":"VLOOKUP(H114,$L$1:$M$20,2,FALSE)","v":44},{"$f":"VLOOKUP(I114,$L$1:$M$20,2,FALSE)","v":47},{"$f":"VLOOKUP(H115,$L$1:$M$20,2,FALSE)","v":39},{"$f":"VLOOKUP(I115,$L$1:$M$20,2,FALSE)","v":35},{"$f":"VLOOKUP(H116,$L$1:$M$20,2,FALSE)","v":49},{"$f":"VLOOKUP(I116,$L$1:$M$20,2,FALSE)","v":45},{"$f":"VLOOKUP(H117,$L$1:$M$20,2,FALSE)","v":38},{"$f":"VLOOKUP(I117,$L$1:$M$20,2,FALSE)","v":36},{"$f":"VLOOKUP(H118,$L$1:$M$20,2,FALSE)","v":48},{"$f":"VLOOKUP(I118,$L$1:$M$20,2,FALSE)","v":46},{"$f":"VLOOKUP(H119,$L$1:$M$20,2,FALSE)","v":40},{"$f":"VLOOKUP(I119,$L$1:$M$20,2,FALSE)","v":43},{"$f":"VLOOKUP(H120,$L$1:$M$20,2,FALSE)","v":50},{"$f":"VLOOKUP(I120,$L$1:$M$20,2,FALSE)","v":53},{"$f":"VLOOKUP(H121,$L$1:$M$20,2,FALSE)","v":41},{"$f":"VLOOKUP(I121,$L$1:$M$20,2,FALSE)","v":42},{"$f":"VLOOKUP(H122,$L$1:$M$20,2,FALSE)","v":51},{"$f":"VLOOKUP(I122,$L$1:$M$20,2,FALSE)","v":52},360,361,362,363,364,365,366,367,368,369,"F","B","F","B","F","B","F","B","F","B",null,null,null,null,null,null,null,null,{"$f":"$M$1","v":34},{"$f":"$M$16","v":49},null,{"$f":"$M$8","v":41},{"$f":"$M$7","v":40},null,{"$f":"$M$4","v":37},{"$f":"$M$9","v":42},null,{"$f":"$M$12","v":45},{"$f":"$M$14","v":47},null,{"$f":"$M$15","v":48},{"$f":"$M$9","v":42},null,{"$f":"$M$6","v":39},{"$f":"$M$16","v":49},null,{"$f":"$M$13","v":46},{"$f":"$M$7","v":40},null,{"$f":"$M$7","v":40},{"$f":"$M$11","v":44},null,{"$f":"$M$14","v":47},{"$f":"$M$2","v":35},null,{"$f":"$M$6","v":39},{"$f":"$M$8","v":41},null,{"$f":"$M$1","v":34},{"$f":"$M$6","v":39},null,{"$f":"$M$2","v":35},{"$f":"$M$8","v":41},null,{"$f":"$M$9","v":42},{"$f":"$M$14","v":47},null,{"$f":"$M$14","v":47},{"$f":"$M$7","v":40},null,{"$f":"$M$6","v":39},{"$f":"$M$13","v":46}]
[null,null,null,"McAvoys","vs.","Snowmen",null,8,20,null,null,15,{"$f":"Teams1!E18","v":48},null,"13",{"$f":"VLOOKUP(H123,$L$1:$M$20,2,FALSE)","v":{"$error":"#N/A"}},{"$f":"VLOOKUP(I123,$L$1:$M$20,2,FALSE)","v":{"$error":"#N/A"}},{"$f":"VLOOKUP(H124,$L$1:$M$20,2,FALSE)","v":{"$error":"#N/A"}},{"$f":"VLOOKUP(I124,$L$1:$M$20,2,FALSE)","v":{"$error":"#N/A"}},{"$f":"VLOOKUP(H125,$L$1:$M$20,2,FALSE)","v":{"$error":"#N/A"}},{"$f":"VLOOKUP(I125,$L$1:$M$20,2,FALSE)","v":{"$error":"#N/A"}},{"$f":"VLOOKUP(H126,$L$1:$M$20,2,FALSE)","v":{"$error":"#N/A"}},{"$f":"VLOOKUP(I126,$L$1:$M$20,2,FALSE)","v":{"$error":"#N/A"}},{"$f":"VLOOKUP(H127,$L$1:$M$20,2,FALSE)","v":{"$error":"#N/A"}},{"$f":"VLOOKUP(I127,$L$1:$M$20,2,FALSE)","v":{"$error":"#N/A"}},{"$f":"VLOOKUP(H128,$L$1:$M$20,2,FALSE)","v":{"$error":"#N/A"}},{"$f":"VLOOKUP(I128,$L$1:$M$20,2,FALSE)","v":{"$error":"#N/A"}},{"$f":"VLOOKUP(H129,$L$1:$M$20,2,FALSE)","v":{"$error":"#N/A"}},{"$f":"VLOOKUP(I129,$L$1:$M$20,2,FALSE)","v":{"$error":"#N/A"}},{"$f":"VLOOKUP(H130,$L$1:$M$20,2,FALSE)","v":{"$error":"#N/A"}},{"$f":"VLOOKUP(I130,$L$1:$M$20,2,FALSE)","v":{"$error":"#N/A"}},{"$f":"VLOOKUP(H131,$L$1:$M$20,2,FALSE)","v":{"$error":"#N/A"}},{"$f":"VLOOKUP(I131,$L$1:$M$20,2,FALSE)","v":{"$error":"#N/A"}},{"$f":"VLOOKUP(H132,$L$1:$M$20,2,FALSE)","v":{"$error":"#N/A"}},{"$f":"VLOOKUP(I132,$L$1:$M$20,2,FALSE)","v":{"$error":"#N/A"}},null,null,null,null,null,null,null,null,null,null,"F","B","F","B","F","B","F","B","F","B",null,null,null,null,null,null,null,null,{"$f":"$M$2","v":35},{"$f":"$M$15","v":48},null,{"$f":"$M$9","v":42},{"$f":"$M$6","v":39},null,{"$f":"$M$3","v":36},{"$f":"$M$10","v":43},null,{"$f":"$M$8","v":41},{"$f":"$M$3","v":36},null,{"$f":"$M$3","v":36},{"$f":"$M$6","v":39},null,{"$f":"$M$10","v":43},{"$f":"$M$12","v":45},null,{"$f":"$M$12","v":45},{"$f":"$M$8","v":41},null,{"$f":"$M$9","v":42},{"$f":"$M$1","v":34},null,{"$f":"$M$10","v":43},{"$f":"$M$6","v":39},null,{"$f":"$M$16","v":49},{"$f":"$M$13","v":46},null,{"$f":"$M$9","v":42},{"$f":"$M$3","v":36},null,{"$f":"$M$13","v":46},{"$f":"$M$12","v":45},null,{"$f":"$M$1","v":34},{"$f":"$M$4","v":37},null,{"$f":"$M$16","v":49},{"$f":"$M$5","v":38},null,{"$f":"$M$1","v":34},{"$f":"$M$2","v":35}]
[null,null,null,"Schmitts Creek","vs.","Shootist 2",null,7,19,null,null,16,{"$f":"Teams1!E19","v":49},null,"14",{"$f":"VLOOKUP(H133,$L$1:$M$20,2,FALSE)","v":53},{"$f":"VLOOKUP(I133,$L$1:$M$20,2,FALSE)","v":48},{"$f":"VLOOKUP(H134,$L$1:$M$20,2,FALSE)","v":43},{"$f":"VLOOKUP(I134,$L$1:$M$20,2,FALSE)","v":38},{"$f":"VLOOKUP(H135,$L$1:$M$20,2,FALSE)","v":45},{"$f":"VLOOKUP(I135,$L$1:$M$20,2,FALSE)","v":47},{"$f":"VLOOKUP(H136,$L$1:$M$20,2,FALSE)","v":35},{"$f":"VLOOKUP(I136,$L$1:$M$20,2,FALSE)","v":37},{"$f":"VLOOKUP(H137,$L$1:$M$20,2,FALSE)","v":51},{"$f":"VLOOKUP(I137,$L$1:$M$20,2,FALSE)","v":50},{"$f":"VLOOKUP(H138,$L$1:$M$20,2,FALSE)","v":41},{"$f":"VLOOKUP(I138,$L$1:$M$20,2,FALSE)","v":40},{"$f":"VLOOKUP(H139,$L$1:$M$20,2,FALSE)","v":52},{"$f":"VLOOKUP(I139,$L$1:$M$20,2,FALSE)","v":49},{"$f":"VLOOKUP(H140,$L$1:$M$20,2,FALSE)","v":42},{"$f":"VLOOKUP(I140,$L$1:$M$20,2,FALSE)","v":39},{"$f":"VLOOKUP(H141,$L$1:$M$20,2,FALSE)","v":46},{"$f":"VLOOKUP(I141,$L$1:$M$20,2,FALSE)","v":44},{"$f":"VLOOKUP(H142,$L$1:$M$20,2,FALSE)","v":36},{"$f":"VLOOKUP(I142,$L$1:$M$20,2,FALSE)","v":34},370,371,372,373,374,375,376,377,378,379,"F","B","F","B","F","B","F","B","F","B",null,null,null,null,null,null,null,null,{"$f":"$M$3","v":36},{"$f":"$M$14","v":47},null,{"$f":"$M$10","v":43},{"$f":"$M$5","v":38},null,{"$f":"$M$2","v":35},{"$f":"$M$11","v":44},null,{"$f":"$M$7","v":40},{"$f":"$M$4","v":37},null,{"$f":"$M$13","v":46},{"$f":"$M$11","v":44},null,{"$f":"$M$8","v":41},{"$f":"$M$14","v":47},null,{"$f":"$M$15","v":48},{"$f":"$M$5","v":38},null,{"$f":"$M$2","v":35},{"$f":"$M$16","v":49},null,{"$f":"$M$15","v":48},{"$f":"$M$16","v":49},null,{"$f":"$M$4","v":37},{"$f":"$M$10","v":43},null,{"$f":"$M$12","v":45},{"$f":"$M$15","v":48},null,{"$f":"$M$14","v":47},{"$f":"$M$11","v":44},null,{"$f":"$M$5","v":38},{"$f":"$M$3","v":36},null,{"$f":"$M$2","v":35},{"$f":"$M$4","v":37},null,{"$f":"$M$4","v":37},{"$f":"$M$15","v":48}]
[null,null,null,"Bill and John","vs.","Hole N 8",null,2,14,null,null,17,{"$f":"Teams1!E20","v":50},null,"15",{"$f":"VLOOKUP(H143,$L$1:$M$20,2,FALSE)","v":39},{"$f":"VLOOKUP(I142,$L$1:$M$20,2,FALSE)","v":34},{"$f":"VLOOKUP(H144,$L$1:$M$20,2,FALSE)","v":49},{"$f":"VLOOKUP(I144,$L$1:$M$20,2,FALSE)","v":50},{"$f":"VLOOKUP(H145,$L$1:$M$20,2,FALSE)","v":36},{"$f":"VLOOKUP(I145,$L$1:$M$20,2,FALSE)","v":43},{"$f":"VLOOKUP(H146,$L$1:$M$20,2,FALSE)","v":46},{"$f":"VLOOKUP(I146,$L$1:$M$20,2,FALSE)","v":53},{"$f":"VLOOKUP(H147,$L$1:$M$20,2,FALSE)","v":34},{"$f":"VLOOKUP(I147,$L$1:$M$20,2,FALSE)","v":35},{"$f":"VLOOKUP(H148,$L$1:$M$20,2,FALSE)","v":44},{"$f":"VLOOKUP(I148,$L$1:$M$20,2,FALSE)","v":45},{"$f":"VLOOKUP(H149,$L$1:$M$20,2,FALSE)","v":38},{"$f":"VLOOKUP(I149,$L$1:$M$20,2,FALSE)","v":41},{"$f":"VLOOKUP(H150,$L$1:$M$20,2,FALSE)","v":48},{"$f":"VLOOKUP(I150,$L$1:$M$20,2,FALSE)","v":51},{"$f":"VLOOKUP(H151,$L$1:$M$20,2,FALSE)","v":37},{"$f":"VLOOKUP(I151,$L$1:$M$20,2,FALSE)","v":42},{"$f":"VLOOKUP(H152,$L$1:$M$20,2,FALSE)","v":47},{"$f":"VLOOKUP(I152,$L$1:$M$20,2,FALSE)","v":52},380,381,382,383,384,385,386,387,388,389,"F","B","F","B","F","B","F","B","F","B",null,null,null,null,null,null,null,null,{"$f":"$M$4","v":37},{"$f":"$M$13","v":46},null,{"$f":"$M$11","v":44},{"$f":"$M$4","v":37},null,{"$f":"$M$16","v":49},{"$f":"$M$12","v":45},null,{"$f":"$M$6","v":39},{"$f":"$M$5","v":38},null,{"$f":"$M$1","v":34},{"$f":"$M$12","v":45},null,{"$f":"$M$5","v":38},{"$f":"$M$2","v":35},null,{"$f":"$M$1","v":34},{"$f":"$M$10","v":43},null,{"$f":"$M$4","v":37},{"$f":"$M$14","v":47},null,{"$f":"$M$9","v":42},{"$f":"$M$7","v":40},null,{"$f":"$M$5","v":38},{"$f":"$M$9","v":42},null,{"$f":"$M$8","v":41},{"$f":"$M$4","v":37},null,{"$f":"$M$5","v":38},{"$f":"$M$1","v":34},null,{"$f":"$M$10","v":43},{"$f":"$M$13","v":46},null,{"$f":"$M$15","v":48},{"$f":"$M$6","v":39},null,{"$f":"$M$8","v":41},{"$f":"$M$11","v":44}]
[null,null,null,"Bob and Mike","vs.","Putt Buddies",null,3,15,null,null,18,{"$f":"Teams1!E21","v":51},null,"16",{"$f":"VLOOKUP(H153,$L$1:$M$20,2,FALSE)","v":{"$error":"#N/A"}},{"$f":"VLOOKUP(I153,$L$1:$M$20,2,FALSE)","v":{"$error":"#N/A"}},{"$f":"VLOOKUP(H154,$L$1:$M$20,2,FALSE)","v":{"$error":"#N/A"}},{"$f":"VLOOKUP(I154,$L$1:$M$20,2,FALSE)","v":{"$error":"#N/A"}},{"$f":"VLOOKUP(H155,$L$1:$M$20,2,FALSE)","v":{"$error":"#N/A"}},{"$f":"VLOOKUP(I155,$L$1:$M$20,2,FALSE)","v":{"$error":"#N/A"}},{"$f":"VLOOKUP(H156,$L$1:$M$20,2,FALSE)","v":{"$error":"#N/A"}},{"$f":"VLOOKUP(I156,$L$1:$M$20,2,FALSE)","v":{"$error":"#N/A"}},{"$f":"VLOOKUP(H157,$L$1:$M$20,2,FALSE)","v":{"$error":"#N/A"}},{"$f":"VLOOKUP(I157,$L$1:$M$20,2,FALSE)","v":{"$error":"#N/A"}},{"$f":"VLOOKUP(H158,$L$1:$M$20,2,FALSE)","v":{"$error":"#N/A"}},{"$f":"VLOOKUP(I158,$L$1:$M$20,2,FALSE)","v":{"$error":"#N/A"}},{"$f":"VLOOKUP(H159,$L$1:$M$20,2,FALSE)","v":{"$error":"#N/A"}},{"$f":"VLOOKUP(I159,$L$1:$M$20,2,FALSE)","v":{"$error":"#N/A"}},{"$f":"VLOOKUP(H160,$L$1:$M$20,2,FALSE)","v":{"$error":"#N/A"}},{"$f":"VLOOKUP(I160,$L$1:$M$20,2,FALSE)","v":{"$error":"#N/A"}},{"$f":"VLOOKUP(H161,$L$1:$M$20,2,FALSE)","v":{"$error":"#N/A"}},{"$f":"VLOOKUP(I161,$L$1:$M$20,2,FALSE)","v":{"$error":"#N/A"}},{"$f":"VLOOKUP(H162,$L$1:$M$20,2,FALSE)","v":{"$error":"#N/A"}},{"$f":"VLOOKUP(I162,$L$1:$M$20,2,FALSE)","v":{"$error":"#N/A"}},null,null,null,null,null,null,null,null,null,null,"F","B","F","B","F","B","F","B","F","B",null,null,null,null,null,null,null,null,{"$f":"$M$5","v":38},{"$f":"$M$12","v":45},null,{"$f":"$M$12","v":45},{"$f":"$M$3","v":36},null,{"$f":"$M$15","v":48},{"$f":"$M$13","v":46},null,{"$f":"$M$13","v":46},{"$f":"$M$1","v":34},null,{"$f":"$M$2","v":35},{"$f":"$M$7","v":40},null,{"$f":"$M$11","v":44},{"$f":"$M$1","v":34},null,{"$f":"$M$16","v":49},{"$f":"$M$4","v":37},null,{"$f":"$M$5","v":38},{"$f":"$M$13","v":46},null,{"$f":"$M$11","v":44},{"$f":"$M$5","v":38},null,{"$f":"$M$3","v":36},{"$f":"$M$11","v":44},null,{"$f":"$M$7","v":40},{"$f":"$M$5","v":38},null,{"$f":"$M$15","v":48},{"$f":"$M$10","v":43},null,{"$f":"$M$11","v":44},{"$f":"$M$12","v":45},null,{"$f":"$M$11","v":44},{"$f":"$M$10","v":43},null,{"$f":"$M$3","v":36},{"$f":"$M$16","v":49}]
[null,null,null,"Dave, Joe and Rick","vs.","Shootist 1",null,6,18,null,null,19,{"$f":"Teams1!E22","v":52},null,"17",{"$f":"VLOOKUP(H163,$L$1:$M$20,2,FALSE)","v":{"$error":"#N/A"}},{"$f":"VLOOKUP(I163,$L$1:$M$20,2,FALSE)","v":{"$error":"#N/A"}},{"$f":"VLOOKUP(H164,$L$1:$M$20,2,FALSE)","v":{"$error":"#N/A"}},{"$f":"VLOOKUP(I164,$L$1:$M$20,2,FALSE)","v":{"$error":"#N/A"}},{"$f":"VLOOKUP(H165,$L$1:$M$20,2,FALSE)","v":{"$error":"#N/A"}},{"$f":"VLOOKUP(I165,$L$1:$M$20,2,FALSE)","v":{"$error":"#N/A"}},{"$f":"VLOOKUP(H166,$L$1:$M$20,2,FALSE)","v":{"$error":"#N/A"}},{"$f":"VLOOKUP(I166,$L$1:$M$20,2,FALSE)","v":{"$error":"#N/A"}},{"$f":"VLOOKUP(H167,$L$1:$M$20,2,FALSE)","v":{"$error":"#N/A"}},{"$f":"VLOOKUP(I167,$L$1:$M$20,2,FALSE)","v":{"$error":"#N/A"}},{"$f":"VLOOKUP(H168,$L$1:$M$20,2,FALSE)","v":{"$error":"#N/A"}},{"$f":"VLOOKUP(I168,$L$1:$M$20,2,FALSE)","v":{"$error":"#N/A"}},{"$f":"VLOOKUP(H169,$L$1:$M$20,2,FALSE)","v":{"$error":"#N/A"}},{"$f":"VLOOKUP(I169,$L$1:$M$20,2,FALSE)","v":{"$error":"#N/A"}},{"$f":"VLOOKUP(H170,$L$1:$M$20,2,FALSE)","v":{"$error":"#N/A"}},{"$f":"VLOOKUP(I170,$L$1:$M$20,2,FALSE)","v":{"$error":"#N/A"}},{"$f":"VLOOKUP(H171,$L$1:$M$20,2,FALSE)","v":{"$error":"#N/A"}},{"$f":"VLOOKUP(I171,$L$1:$M$20,2,FALSE)","v":{"$error":"#N/A"}},{"$f":"VLOOKUP(H172,$L$1:$M$20,2,FALSE)","v":{"$error":"#N/A"}},{"$f":"VLOOKUP(I172,$L$1:$M$20,2,FALSE)","v":{"$error":"#N/A"}},null,null,null,null,null,null,null,null,null,null,"F","B","F","B","F","B","F","B","F","B",null,null,null,null,null,null,null,null,{"$f":"$M$6","v":39},{"$f":"$M$11","v":44},null,{"$f":"$M$13","v":46},{"$f":"$M$2","v":35},null,{"$f":"$M$1","v":34},{"$f":"$M$14","v":47},null,{"$f":"$M$11","v":44},{"$f":"$M$15","v":48},null,{"$f":"$M$4","v":37},{"$f":"$M$5","v":38},null,{"$f":"$M$7","v":40},{"$f":"$M$15","v":48},null,{"$f":"$M$2","v":35},{"$f":"$M$3","v":36},null,{"$f":"$M$8","v":41},{"$f":"$M$10","v":43},null,{"$f":"$M$1","v":34},{"$f":"$M$8","v":41},null,{"$f":"$M$15","v":48},{"$f":"$M$14","v":47},null,{"$f":"$M$11","v":44},{"$f":"$M$16","v":49},null,{"$f":"$M$4","v":37},{"$f":"$M$6","v":39},null,{"$f":"$M$8","v":41},{"$f":"$M$15","v":48},null,{"$f":"$M$3","v":36},{"$f":"$M$1","v":34},null,{"$f":"$M$7","v":40},{"$f":"$M$12","v":45}]
[null,null,null,"Dingers Ringers","vs.","Delivery Divots",null,9,11,null,null,20,{"$f":"Teams1!E23","v":53},null,"18",{"$f":"VLOOKUP(H173,$L$1:$M$20,2,FALSE)","v":{"$error":"#N/A"}},{"$f":"VLOOKUP(I173,$L$1:$M$20,2,FALSE)","v":{"$error":"#N/A"}},{"$f":"VLOOKUP(H174,$L$1:$M$20,2,FALSE)","v":{"$error":"#N/A"}},{"$f":"VLOOKUP(I174,$L$1:$M$20,2,FALSE)","v":{"$error":"#N/A"}},{"$f":"VLOOKUP(H175,$L$1:$M$20,2,FALSE)","v":{"$error":"#N/A"}},{"$f":"VLOOKUP(I175,$L$1:$M$20,2,FALSE)","v":{"$error":"#N/A"}},{"$f":"VLOOKUP(H176,$L$1:$M$20,2,FALSE)","v":{"$error":"#N/A"}},{"$f":"VLOOKUP(I176,$L$1:$M$20,2,FALSE)","v":{"$error":"#N/A"}},{"$f":"VLOOKUP(H177,$L$1:$M$20,2,FALSE)","v":{"$error":"#N/A"}},{"$f":"VLOOKUP(I177,$L$1:$M$20,2,FALSE)","v":{"$error":"#N/A"}},{"$f":"VLOOKUP(H178,$L$1:$M$20,2,FALSE)","v":{"$error":"#N/A"}},{"$f":"VLOOKUP(I178,$L$1:$M$20,2,FALSE)","v":{"$error":"#N/A"}},{"$f":"VLOOKUP(H179,$L$1:$M$20,2,FALSE)","v":{"$error":"#N/A"}},{"$f":"VLOOKUP(I179,$L$1:$M$20,2,FALSE)","v":{"$error":"#N/A"}},{"$f":"VLOOKUP(H180,$L$1:$M$20,2,FALSE)","v":{"$error":"#N/A"}},{"$f":"VLOOKUP(I180,$L$1:$M$20,2,FALSE)","v":{"$error":"#N/A"}},{"$f":"VLOOKUP(H181,$L$1:$M$20,2,FALSE)","v":{"$error":"#N/A"}},{"$f":"VLOOKUP(I181,$L$1:$M$20,2,FALSE)","v":{"$error":"#N/A"}},{"$f":"VLOOKUP(H182,$L$1:$M$20,2,FALSE)","v":{"$error":"#N/A"}},{"$f":"VLOOKUP(I182,$L$1:$M$20,2,FALSE)","v":{"$error":"#N/A"}},null,null,null,null,null,null,null,null,null,null,"F","B","F","B","F","B","F","B","F","B",null,null,null,null,null,null,null,null,{"$f":"$M$7","v":40},{"$f":"$M$10","v":43},null,{"$f":"$M$14","v":47},{"$f":"$M$16","v":49},null,{"$f":"$M$5","v":38},{"$f":"$M$8","v":41},null,{"$f":"$M$10","v":43},{"$f":"$M$16","v":49},null,{"$f":"$M$14","v":47},{"$f":"$M$10","v":43},null,{"$f":"$M$9","v":42},{"$f":"$M$13","v":46},null,{"$f":"$M$14","v":47},{"$f":"$M$6","v":39},null,{"$f":"$M$3","v":36},{"$f":"$M$15","v":48},null,{"$f":"$M$13","v":46},{"$f":"$M$3","v":36},null,{"$f":"$M$7","v":40},{"$f":"$M$1","v":34},null,{"$f":"$M$10","v":43},{"$f":"$M$2","v":35},null,{"$f":"$M$3","v":36},{"$f":"$M$7","v":40},null,{"$f":"$M$7","v":40},{"$f":"$M$16","v":49},null,{"$f":"$M$13","v":46},{"$f":"$M$8","v":41},null,{"$f":"$M$9","v":42},{"$f":"$M$10","v":43}]
[null,null,null,"Stewart Shankers","vs.","Dude Wheres My Par",null,10,12,null,null,0,0,null,"19",{"$f":"VLOOKUP(H183,$L$1:$M$20,2,FALSE)","v":{"$error":"#N/A"}},{"$f":"VLOOKUP(I183,$L$1:$M$20,2,FALSE)","v":{"$error":"#N/A"}},{"$f":"VLOOKUP(H184,$L$1:$M$20,2,FALSE)","v":{"$error":"#N/A"}},{"$f":"VLOOKUP(I184,$L$1:$M$20,2,FALSE)","v":{"$error":"#N/A"}},{"$f":"VLOOKUP(H185,$L$1:$M$20,2,FALSE)","v":{"$error":"#N/A"}},{"$f":"VLOOKUP(I185,$L$1:$M$20,2,FALSE)","v":{"$error":"#N/A"}},{"$f":"VLOOKUP(H186,$L$1:$M$20,2,FALSE)","v":{"$error":"#N/A"}},{"$f":"VLOOKUP(I186,$L$1:$M$20,2,FALSE)","v":{"$error":"#N/A"}},{"$f":"VLOOKUP(H187,$L$1:$M$20,2,FALSE)","v":{"$error":"#N/A"}},{"$f":"VLOOKUP(I187,$L$1:$M$20,2,FALSE)","v":{"$error":"#N/A"}},{"$f":"VLOOKUP(H188,$L$1:$M$20,2,FALSE)","v":{"$error":"#N/A"}},{"$f":"VLOOKUP(I188,$L$1:$M$20,2,FALSE)","v":{"$error":"#N/A"}},{"$f":"VLOOKUP(H189,$L$1:$M$20,2,FALSE)","v":{"$error":"#N/A"}},{"$f":"VLOOKUP(I189,$L$1:$M$20,2,FALSE)","v":{"$error":"#N/A"}},{"$f":"VLOOKUP(H190,$L$1:$M$20,2,FALSE)","v":{"$error":"#N/A"}},{"$f":"VLOOKUP(I190,$L$1:$M$20,2,FALSE)","v":{"$error":"#N/A"}},{"$f":"VLOOKUP(H191,$L$1:$M$20,2,FALSE)","v":{"$error":"#N/A"}},{"$f":"VLOOKUP(I911,$L$1:$M$20,2,FALSE)","v":{"$error":"#N/A"}},{"$f":"VLOOKUP(H192,$L$1:$M$20,2,FALSE)","v":{"$error":"#N/A"}},{"$f":"VLOOKUP(I192,$L$1:$M$20,2,FALSE)","v":{"$error":"#N/A"}},null,null,null,null,null,null,null,null,null,null,"F","B","F","B","F","B","F","B","F","B",null,null,null,null,null,null,null,null,{"$f":"$M$8","v":41},{"$f":"$M$9","v":42},null,{"$f":"$M$15","v":48},{"$f":"$M$1","v":34},null,{"$f":"$M$6","v":39},{"$f":"$M$7","v":40},null,{"$f":"$M$9","v":42},{"$f":"$M$2","v":35},null,{"$f":"$M$16","v":49},{"$f":"$M$8","v":41},null,{"$f":"$M$3","v":36},{"$f":"$M$4","v":37},null,{"$f":"$M$11","v":44},{"$f":"$M$9","v":42},null,{"$f":"$M$6","v":39},{"$f":"$M$12","v":45},null,{"$f":"$M$12","v":45},{"$f":"$M$4","v":37},null,{"$f":"$M$2","v":35},{"$f":"$M$12","v":45},null,{"$f":"$M$13","v":46},{"$f":"$M$14","v":47},null,{"$f":"$M$16","v":49},{"$f":"$M$9","v":42},null,{"$f":"$M$6","v":39},{"$f":"$M$2","v":35},null,{"$f":"$M$12","v":45},{"$f":"$M$9","v":42},null,{"$f":"$M$5","v":38},{"$f":"$M$14","v":47}]
[null,null,null,"Alex and Carl","vs.","Evan and Jon",null,1,13,null,null,null,null,null,"20",{"$f":"VLOOKUP(H193,$L$1:$M$20,2,FALSE)","v":{"$error":"#N/A"}},{"$f":"VLOOKUP(I193,$L$1:$M$20,2,FALSE)","v":{"$error":"#N/A"}},{"$f":"VLOOKUP(H194,$L$1:$M$20,2,FALSE)","v":{"$error":"#N/A"}},{"$f":"VLOOKUP(I194,$L$1:$M$20,2,FALSE)","v":{"$error":"#N/A"}},{"$f":"VLOOKUP(H195,$L$1:$M$20,2,FALSE)","v":{"$error":"#N/A"}},{"$f":"VLOOKUP(I195,$L$1:$M$20,2,FALSE)","v":{"$error":"#N/A"}},{"$f":"VLOOKUP(H196,$L$1:$M$20,2,FALSE)","v":{"$error":"#N/A"}},{"$f":"VLOOKUP(I196,$L$1:$M$20,2,FALSE)","v":{"$error":"#N/A"}},{"$f":"VLOOKUP(H197,$L$1:$M$20,2,FALSE)","v":{"$error":"#N/A"}},{"$f":"VLOOKUP(I197,$L$1:$M$20,2,FALSE)","v":{"$error":"#N/A"}},{"$f":"VLOOKUP(H198,$L$1:$M$20,2,FALSE)","v":{"$error":"#N/A"}},{"$f":"VLOOKUP(I198,$L$1:$M$20,2,FALSE)","v":{"$error":"#N/A"}},{"$f":"VLOOKUP(H199,$L$1:$M$20,2,FALSE)","v":{"$error":"#N/A"}},{"$f":"VLOOKUP(I199,$L$1:$M$20,2,FALSE)","v":{"$error":"#N/A"}},{"$f":"VLOOKUP(H200,$L$1:$M$20,2,FALSE)","v":{"$error":"#N/A"}},{"$f":"VLOOKUP(I200,$L$1:$M$20,2,FALSE)","v":{"$error":"#N/A"}},{"$f":"VLOOKUP(H201,$L$1:$M$20,2,FALSE)","v":{"$error":"#N/A"}},{"$f":"VLOOKUP(I201,$L$1:$M$20,2,FALSE)","v":{"$error":"#N/A"}},{"$f":"VLOOKUP(H202,$L$1:$M$20,2,FALSE)","v":{"$error":"#N/A"}},{"$f":"VLOOKUP(I202,$L$1:$M$20,2,FALSE)","v":{"$error":"#N/A"}},null,null,null,null,null,null,null,null,null,null,"F","B","F","B","F","B","F","B","F","B"]
["Week",3,null,{"$f":"LOOKUP(H23,GE_Team_Number_1,GE_Team_Names_1)","v":"Dingers Ringers"},"vs.",{"$f":"LOOKUP(I23,GE_Team_Number_1,GE_Team_Names_1)","v":"Evan and Jon"},3,9,13]
[{"$f":"LOOKUP(B23,Weeks,LeagueDates)","v":"2025-04-22"},null,null,{"$f":"LOOKUP(H24,GE_Team_Number_1,GE_Team_Names_1)","v":"Dave, Joe and Rick"},"vs.",{"$f":"LOOKUP(I24,GE_Team_Number_1,GE_Team_Names_1)","v":"Snowmen"},null,6,20]
[null,null,null,"Alex and Carl","vs.","Putt Buddies",null,1,15]
[null,null,null,"Stewart Shankers","vs.","Hole N 8",null,10,14]
[null,null,null,"Schmitts Creek","vs.","Delivery Divots",null,7,11]
[null,null,null,"Charles and Rob","vs.","Shootist 1",null,4,18,null,null,null,null,null,null,null,null,null,null,null,null,null,null,null,null,null,null,null,null,null,null,null,null,null,null,null,null,null,null,null,null,null,null,null,null,null,null,null,null,null,null,null,null,null,null,null,null,null,null,null,null,null,null,null,"Tm","Tot",1,2,3,4,5,6,7,8,9,10,11,12,13,14,15]
[null,null,null,"Checkin Test Cells","vs.","Shootist 2",null,5,19,null,null,null,null,null,null,null,null,null,null,null,null,null,null,null,null,null,null,null,null,null,null,null,null,null,null,null,null,null,null,null,null,null,null,null,null,null,null,null,null,null,null,null,null,null,null,null,null,null,null,null,null,null,null,null,12,{"$f":"SUM(BO29:CC29)","v":71},5,5,4,1,4,2,2,8,8,8,3,2,5,8,6,{"$f":"MIN(BO29:CC29)","v":1},{"$f":"MAX(BO29:CC29)","v":8}]
[null,null,null,"McAvoys","vs.","Dude Wheres My Par",null,8,12,null,null,null,null,null,null,null,null,null,null,null,null,null,null,null,null,null,null,null,null,null,null,null,null,null,null,null,null,null,null,null,null,null,null,null,null,null,null,null,null,null,null,null,null,null,null,null,null,null,null,null,null,null,null,null,10,71,7,3,2,7,7,2,4,6,2,3,7,5,4,5,7,{"$f":"MIN(BO30:CC30)","v":2},{"$f":"MAX(BO30:CC30)","v":7}]
[null,null,null,"Bob and Mike","vs.","Reckless Drivers",null,3,17,null,null,null,null,null,null,null,null,null,null,null,null,null,null,null,null,null,null,null,null,null,null,null,null,null,null,null,null,null,null,null,null,null,null,null,null,null,null,null,null,null,null,null,null,null,null,null,null,null,null,null,null,null,null,null,9,71,8,2,1,8,1,7,8,2,4,4,2,8,1,8,7,1,8]
[null,null,null,"Bill and John","vs.","Putt Pirates",null,2,16,null,null,null,null,null,null,null,null,null,null,null,null,null,null,null,null,null,null,null,null,null,null,null,null,null,null,null,null,null,null,null,null,null,null,null,null,null,null,null,null,null,null,null,null,null,null,null,null,null,null,null,null,null,null,null,3,70,3,5,2,2,2,8,6,7,7,5,2,7,3,6,5,2,8]
["Week",4,null,"Stewart Shankers","vs.","Putt Pirates",4,10,16,null,null,null,null,null,null,null,null,null,null,null,null,null,null,null,null,null,null,null,null,null,null,null,null,null,null,null,null,null,null,null,null,null,null,null,null,null,null,null,null,null,null,null,null,null,null,null,null,null,null,null,null,null,null,null,11,69,6,4,3,6,3,5,8,1,5,5,6,3,5,5,4,1,8]
[{"$f":"LOOKUP(B33,Weeks,LeagueDates)","v":"2025-04-29"},null,null,{"$f":"LOOKUP(H34,GE_Team_Number_1,GE_Team_Names_1)","v":"Checkin Test Cells"},"vs.",{"$f":"LOOKUP(I34,GE_Team_Number_1,GE_Team_Names_1)","v":"Delivery Divots"},null,5,11,null,null,null,null,null,null,null,null,null,null,null,null,null,null,null,null,null,null,null,null,null,null,null,null,null,null,null,null,null,null,null,null,null,null,null,null,null,null,null,null,null,null,null,null,null,null,null,null,null,null,null,null,null,null,null,16,69,1,7,4,7,8,1,5,3,3,2,6,8,7,2,5,1,8]
[null,null,null,"Bill and John","vs.","Shootist 1",null,2,18,null,null,null,null,null,null,null,null,null,null,null,null,null,null,null,null,null,null,null,null,null,null,null,null,null,null,null,null,null,null,null,null,null,null,null,null,null,null,null,null,null,null,null,null,null,null,null,null,null,null,null,null,null,null,null,7,69,7,1,8,3,5,6,1,1,4,7,5,7,7,1,6,1,8]
[null,null,null,"Alex and Carl","vs.","Reckless Drivers",null,1,17,null,null,null,null,null,null,null,null,null,null,null,null,null,null,null,null,null,null,null,null,null,null,null,null,null,null,null,null,null,null,null,null,null,null,null,null,null,null,null,null,null,null,null,null,null,null,null,null,null,null,null,null,null,null,null,15,68,2,8,5,6,1,6,3,7,3,6,3,5,6,4,3,1,8]
[null,null,null,"McAvoys","vs.","Hole N 8",null,8,14,null,null,null,null,null,null,null,null,null,null,null,null,null,null,null,null,null,null,null,null,null,null,null,null,null,null,null,null,null,null,null,null,null,null,null,null,null,null,null,null,null,null,null,null,null,null,null,null,null,null,null,null,null,null,null,5,68,5,3,7,4,6,4,3,5,5,4,5,4,3,2,8,2,8]
[null,null,null,"Bob and Mike","vs.","Shootist 2",null,3,19,null,null,null,null,null,null,null,null,null,null,null,null,null,null,null,null,null,null,null,null,null,null,null,null,null,null,null,null,null,null,null,null,null,null,null,null,null,null,null,null,null,null,null,null,null,null,null,null,null,null,null,null,null,null,null,13,67,4,6,5,5,3,7,1,5,7,2,8,2,4,7,1,1,8]
[null,null,null,"Charles and Rob","vs.","Snowmen",null,4,20,null,null,null,null,null,null,null,null,null,null,null,null,null,null,null,null,null,null,null,null,null,null,null,null,null,null,null,null,null,null,null,null,null,null,null,null,null,null,null,null,null,null,null,null,null,null,null,null,null,null,null,null,null,null,null,2,67,2,6,3,8,5,4,6,3,1,8,7,1,8,3,2,1,8]
[null,null,null,"Dingers Ringers","vs.","Putt Buddies",null,9,15,null,null,null,null,null,null,null,null,null,null,null,null,null,null,null,null,null,null,null,null,null,null,null,null,null,null,null,null,null,null,null,null,null,null,null,null,null,null,null,null,null,null,null,null,null,null,null,null,null,null,null,null,null,null,null,8,66,8,1,7,2,8,3,2,6,6,1,4,1,6,7,4,1,8]
[null,null,null,"Dave, Joe and Rick","vs.","Dude Wheres My Par",null,6,12,null,null,null,null,null,null,null,null,null,null,null,null,null,null,null,null,null,null,null,null,null,null,null,null,null,null,null,null,null,null,null,null,null,null,null,null,null,null,null,null,null,null,null,null,null,null,null,null,null,null,null,null,null,null,null,14,66,3,7,6,1,7,3,7,4,1,6,8,3,1,1,8,1,8]
[null,null,null,"Schmitts Creek","vs.","Evan and Jon",null,7,13,null,null,null,null,null,null,null,null,null,null,null,null,null,null,null,null,null,null,null,null,null,null,null,null,null,null,null,null,null,null,null,null,null,null,null,null,null,null,null,null,null,null,null,null,null,null,null,null,null,null,null,null,null,null,null,4,64,4,4,1,3,6,8,5,4,8,3,4,6,2,3,3,1,8]
["Week",5,null,{"$f":"LOOKUP(H43,GE_Team_Number_1,GE_Team_Names_1)","v":"Schmitts Creek"},"vs.",{"$f":"LOOKUP(I43,GE_Team_Number_1,GE_Team_Names_1)","v":"Putt Buddies"},5,7,15,null,null,null,null,null,null,null,null,null,null,null,null,null,null,null,null,null,null,null,null,null,null,null,null,null,null,null,null,null,null,null,null,null,null,null,null,null,null,null,null,null,null,null,null,null,null,null,null,null,null,null,null,null,null,null,1,63,1,8,6,5,4,5,4,2,6,7,1,4,2,6,2,1,8]
[{"$f":"LOOKUP(B43,Weeks,LeagueDates)","v":"2025-05-06"},null,null,{"$f":"LOOKUP(H44,GE_Team_Number_1,GE_Team_Names_1)","v":"Charles and Rob"},"vs.",{"$f":"LOOKUP(I44,GE_Team_Number_1,GE_Team_Names_1)","v":"Dude Wheres My Par"},null,4,12,null,null,null,null,null,null,null,null,null,null,null,null,null,null,null,null,null,null,null,null,null,null,null,null,null,null,null,null,null,null,null,null,null,null,null,null,null,null,null,null,null,null,null,null,null,null,null,null,null,null,null,null,null,null,null,6,61,6,2,8,4,2,1,7,8,2,1,1,6,8,4,1,1,8]
[null,null,null,"Alex and Carl","vs.","Shootist 2",null,1,19]
[null,null,null,"Dave, Joe and Rick","vs.","Hole N 8",null,6,14]
[null,null,null,"Dingers Ringers","vs.","Reckless Drivers",null,9,17]
[null,null,null,"Stewart Shankers","vs.","Shootist 1",null,10,18]
[null,null,null,"Checkin Test Cells","vs.","Evan and Jon",null,5,13]
[null,null,null,"Bill and John","vs.","Snowmen",null,2,20]
[null,null,null,"Bob and Mike","vs.","Delivery Divots",null,3,11]
[null,null,null,"McAvoys","vs.","Putt Pirates",null,8,16]
["Week",6,null,"Alex and Carl","vs.","Stewart Shankers",6,1,10]
[{"$f":"LOOKUP(B53,Weeks,LeagueDates)","v":"2025-05-13"},null,null,{"$f":"LOOKUP(H54,GE_Team_Number_1,GE_Team_Names_1)","v":"Delivery Divots"},"vs.",{"$f":"LOOKUP(I54,GE_Team_Number_1,GE_Team_Names_1)","v":"Snowmen"},null,11,20]
[null,null,null,"Bill and John","vs.","Dingers Ringers",null,2,9]
[null,null,null,"Dude Wheres My Par","vs.","Shootist 2",null,12,19]
[null,null,null,"Bob and Mike","vs.","McAvoys",null,3,8]
[null,null,null,"Evan and Jon","vs.","Shootist 1",null,13,18]
[null,null,null,"Charles and Rob","vs.","Schmitts Creek",null,4,7]
[null,null,null,"Hole N 8","vs.","Reckless Drivers",null,14,17]
[null,null,null,"Checkin Test Cells","vs.","Dave, Joe and Rick",null,5,6]
[null,null,null,"Putt Buddies","vs.","Putt Pirates",null,15,16]
["Week",7,null,"Putt Buddies","vs.","Hole N 8",7,15,14]
[{"$f":"LOOKUP(B63,Weeks,LeagueDates)","v":"2025-05-20"},null,null,{"$f":"LOOKUP(H64,GE_Team_Number_1,GE_Team_Names_1)","v":"Checkin Test Cells"},"vs.",{"$f":"LOOKUP(I64,GE_Team_Number_1,GE_Team_Names_1)","v":"Charles and Rob"},null,5,4]
[null,null,null,"Putt Pirates","vs.","Evan and Jon",null,16,13]
[null,null,null,"Dave, Joe and Rick","vs.","Bob and Mike",null,6,3]
[null,null,null,"Reckless Drivers","vs.","Dude Wheres My Par",null,17,12]
[null,null,null,"Schmitts Creek","vs.","Bill and John",null,7,2]
[null,null,null,"Shootist 1","vs.","Snowmen",null,18,20]
[null,null,null,"McAvoys","vs.","Stewart Shankers",null,8,10]
[null,null,null,"Shootist 2","vs.","Delivery Divots",null,19,11]
[null,null,null,"Dingers Ringers","vs.","Alex and Carl",null,9,1]
["Week",8,null,"Dingers Ringers","vs.","Schmitts Creek",8,9,7]
[{"$f":"LOOKUP(B73,Weeks,LeagueDates)","v":"2025-05-27"},null,null,{"$f":"LOOKUP(H74,GE_Team_Number_1,GE_Team_Names_1)","v":"Shootist 2"},"vs.",{"$f":"LOOKUP(I74,GE_Team_Number_1,GE_Team_Names_1)","v":"Reckless Drivers"},null,19,17]
[null,null,null,"Alex and Carl","vs.","McAvoys",null,1,8]
[null,null,null,"Delivery Divots","vs.","Shootist 1",null,11,18]
[null,null,null,"Stewart Shankers","vs.","Dave, Joe and Rick",null,10,6]
[null,null,null,"Snowmen","vs.","Putt Pirates",null,20,16]
[null,null,null,"Bill and John","vs.","Checkin Test Cells",null,2,5]
[null,null,null,"Dude Wheres My Par","vs.","Putt Buddies",null,12,15]
[null,null,null,"Bob and Mike","vs.","Charles and Rob",null,3,4]
[null,null,null,"Evan and Jon","vs.","Hole N 8",null,13,14]
["Week",9,null,"Putt Pirates","vs.","Shootist 1",9,16,18]
[{"$f":"LOOKUP(B83,Weeks,LeagueDates)","v":"2025-06-03"},null,null,{"$f":"LOOKUP(H84,GE_Team_Number_1,GE_Team_Names_1)","v":"Dave, Joe and Rick"},"vs.",{"$f":"LOOKUP(I84,GE_Team_Number_1,GE_Team_Names_1)","v":"McAvoys"},null,6,8]
[null,null,null,"Putt Buddies","vs.","Shootist 2",null,15,19]
[null,null,null,"Checkin Test Cells","vs.","Dingers Ringers",null,5,9]
[null,null,null,"Hole N 8","vs.","Snowmen",null,14,20]
[null,null,null,"Charles and Rob","vs.","Stewart Shankers",null,4,10]
[null,null,null,"Evan and Jon","vs.","Dude Wheres My Par",null,13,12]
[null,null,null,"Bob and Mike","vs.","Bill and John",null,3,2]
[null,null,null,"Reckless Drivers","vs.","Delivery Divots",null,17,11]
[null,null,null,"Schmitts Creek","vs.","Alex and Carl",null,7,1]
["Week",10,null,"Dingers Ringers","vs.","Bob and Mike",10,9,3]
[{"$f":"LOOKUP(B93,Weeks,LeagueDates)","v":"2025-06-10"},null,null,{"$f":"LOOKUP(H94,GE_Team_Number_1,GE_Team_Names_1)","v":"Shootist 2"},"vs.",{"$f":"LOOKUP(I94,GE_Team_Number_1,GE_Team_Names_1)","v":"Evan and Jon"},null,19,13]
[null,null,null,"Schmitts Creek","vs.","Checkin Test Cells",null,7,5]
[null,null,null,"Reckless Drivers","vs.","Putt Buddies",null,17,15]
[null,null,null,"McAvoys","vs.","Charles and Rob",null,8,4]
[null,null,null,"Shootist 1","vs.","Hole N 8",null,18,14]
[null,null,null,"Alex and Carl","vs.","Dave, Joe and Rick",null,1,6]
[null,null,null,"Delivery Divots","vs.","Putt Pirates",null,11,16]
[null,null,null,"Stewart Shankers","vs.","Bill and John",null,10,2]
[null,null,null,"Snowmen","vs.","Dude Wheres My Par",null,20,12]
["Week",11,null,"Dude Wheres My Par","vs.","Shootist 1",11,12,18]
[{"$f":"LOOKUP(B103,Weeks,LeagueDates)","v":"2025-06-17"},null,null,{"$f":"LOOKUP(H104,GE_Team_Number_1,GE_Team_Names_1)","v":"Bill and John"},"vs.",{"$f":"LOOKUP(I104,GE_Team_Number_1,GE_Team_Names_1)","v":"McAvoys"},null,2,8]
[null,null,null,"Evan and Jon","vs.","Reckless Drivers",null,13,17]
[null,null,null,"Bob and Mike","vs.","Schmitts Creek",null,3,7]
[null,null,null,"Putt Buddies","vs.","Delivery Divots",null,15,11]
[null,null,null,"Checkin Test Cells","vs.","Alex and Carl",null,5,1]
[null,null,null,"Snowmen","vs.","Shootist 2",null,20,19]
[null,null,null,"Stewart Shankers","vs.","Dingers Ringers",null,10,9]
[null,null,null,"Hole N 8","vs.","Putt Pirates",null,14,16]
[null,null,null,"Charles and Rob","vs.","Dave, Joe and Rick",null,4,6]
["Week",12,null,"Alex and Carl","vs.","Charles and Rob",12,1,4]
[{"$f":"LOOKUP(B113,Weeks,LeagueDates)","v":"2025-06-24"},null,null,{"$f":"LOOKUP(H114,GE_Team_Number_1,GE_Team_Names_1)","v":"Delivery Divots"},"vs.",{"$f":"LOOKUP(I114,GE_Team_Number_1,GE_Team_Names_1)","v":"Hole N 8"},null,11,14]
[null,null,null,"Dave, Joe and Rick","vs.","Bill and John",null,6,2]
[null,null,null,"Putt Pirates","vs.","Dude Wheres My Par",null,16,12]
[null,null,null,"Checkin Test Cells","vs.","Bob and Mike",null,5,3]
[null,null,null,"Putt Buddies","vs.","Evan and Jon",null,15,13]
[null,null,null,"Schmitts Creek","vs.","Stewart Shankers",null,7,10]
[null,null,null,"Reckless Drivers","vs.","Snowmen",null,17,20]
[null,null,null,"McAvoys","vs.","Dingers Ringers",null,8,9]
[null,null,null,"Shootist 1","vs.","Shootist 2",null,18,19]
["Week",13,null,{"$error":"#N/A"},"vs.",{"$error":"#N/A"},13,0,0]
[{"$f":"LOOKUP(B123,Weeks,LeagueDates)","v":"2025-07-01"},null,null,{"$f":"LOOKUP(H124,GE_Team_Number_1,GE_Team_Names_1)","v":{"$error":"#N/A"}},"vs.",{"$f":"LOOKUP(I124,GE_Team_Number_1,GE_Team_Names_1)","v":{"$error":"#N/A"}},null,0,0]
[null,null,null,{"$error":"#N/A"},"vs.",{"$error":"#N/A"},null,0,0]
[null,null,null,{"$error":"#N/A"},"vs.",{"$error":"#N/A"},null,0,0]
[null,null,null,{"$error":"#N/A"},"vs.",{"$error":"#N/A"},null,0,0]
[null,null,null,{"$error":"#N/A"},"vs.",{"$error":"#N/A"},null,0,0]
[null,null,null,{"$error":"#N/A"},"vs.",{"$error":"#N/A"},null,0,0]
[null,null,null,{"$error":"#N/A"},"vs.",{"$error":"#N/A"},null,0,0]
[null,null,null,{"$error":"#N/A"},"vs.",{"$error":"#N/A"},null,0,0]
[null,null,null,{"$error":"#N/A"},"vs.",{"$error":"#N/A"},null,0,0]
["Week",14,null,"Snowmen","vs.","Putt Buddies",14,20,15]
[{"$f":"LOOKUP(B133,Weeks,LeagueDates)","v":"2025-07-08"},null,null,{"$f":"LOOKUP(H134,GE_Team_Number_1,GE_Team_Names_1)","v":"Stewart Shankers"},"vs.",{"$f":"LOOKUP(I134,GE_Team_Number_1,GE_Team_Names_1)","v":"Checkin Test Cells"},null,10,5]
[null,null,null,"Dude Wheres My Par","vs.","Hole N 8",null,12,14]
[null,null,null,"Bill and John","vs.","Charles and Rob",null,2,4]
[null,null,null,"Shootist 1","vs.","Reckless Drivers",null,18,17]
[null,null,null,"McAvoys","vs.","Schmitts Creek",null,8,7]
[null,null,null,"Shootist 2","vs.","Putt Pirates",null,19,16]
[null,null,null,"Dingers Ringers","vs.","Dave, Joe and Rick",null,9,6]
[null,null,null,"Evan and Jon","vs.","Delivery Divots",null,13,11]
[null,null,null,"Bob and Mike","vs.","Alex and Carl",null,3,1]
["Week",15,null,"Dave, Joe and Rick","vs.","Schmitts Creek",15,6,7]
[{"$f":"LOOKUP(B143,Weeks,LeagueDates)","v":"2025-07-15"},null,null,{"$f":"LOOKUP(H144,GE_Team_Number_1,GE_Team_Names_1)","v":"Putt Pirates"},"vs.",{"$f":"LOOKUP(I144,GE_Team_Number_1,GE_Team_Names_1)","v":"Reckless Drivers"},null,16,17]
[null,null,null,"Bob and Mike","vs.","Stewart Shankers",null,3,10]
[null,null,null,"Evan and Jon","vs.","Snowmen",null,13,20]
[null,null,null,"Alex and Carl","vs.","Bill and John",null,1,2]
[null,null,null,"Delivery Divots","vs.","Dude Wheres My Par",null,11,12]
[null,null,null,"Checkin Test Cells","vs.","McAvoys",null,5,8]
[null,null,null,"Putt Buddies","vs.","Shootist 1",null,15,18]
[null,null,null,"Charles and Rob","vs.","Dingers Ringers",null,4,9]
[null,null,null,"Hole N 8","vs.","Shootist 2",null,14,19]
["Week",16,null,{"$error":"#N/A"},"vs.",{"$error":"#N/A"},16]
[{"$f":"LOOKUP(B153,Weeks,LeagueDates)","v":"2025-07-22"},null,null,{"$f":"LOOKUP(H154,GE_Team_Number_1,GE_Team_Names_1)","v":{"$error":"#N/A"}},"vs.",{"$f":"LOOKUP(I154,GE_Team_Number_1,GE_Team_Names_1)","v":{"$error":"#N/A"}}]
[null,null,null,{"$error":"#N/A"},"vs.",{"$error":"#N/A"}]
[null,null,null,{"$error":"#N/A"},"vs.",{"$error":"#N/A"}]
[null,null,null,{"$error":"#N/A"},"vs.",{"$error":"#N/A"}]
[null,null,null,{"$error":"#N/A"},"vs.",{"$error":"#N/A"}]
[null,null,null,{"$error":"#N/A"},"vs.",{"$error":"#N/A"}]
[null,null,null,{"$error":"#N/A"},"vs.",{"$error":"#N/A"}]
[null,null,null,{"$error":"#N/A"},"vs.",{"$error":"#N/A"}]
[null,null,null,{"$error":"#N/A"},"vs.",{"$error":"#N/A"}]
["Week",17,null,{"$error":"#N/A"},"vs.",{"$error":"#N/A"},17]
[{"$f":"LOOKUP(B163,Weeks,LeagueDates)","v":"2025-07-29"},null,null,{"$f":"LOOKUP(H164,GE_Team_Number_1,GE_Team_Names_1)","v":{"$error":"#N/A"}},"vs.",{"$f":"LOOKUP(I164,GE_Team_Number_1,GE_Team_Names_1)","v":{"$error":"#N/A"}}]
[null,null,null,{"$error":"#N/A"},"vs.",{"$error":"#N/A"}]
[null,null,null,{"$error":"#N/A"},"vs.",{"$error":"#N/A"}]
[null,null,null,{"$error":"#N/A"},"vs.",{"$error":"#N/A"}]
[null,null,null,{"$error":"#N/A"},"vs.",{"$error":"#N/A"}]
[null,null,null,{"$error":"#N/A"},"vs.",{"$error":"#N/A"}]
[null,null,null,{"$error":"#N/A"},"vs.",{"$error":"#N/A"}]
[null,null,null,{"$error":"#N/A"},"vs.",{"$error":"#N/A"}]
[null,null,null,{"$error":"#N/A"},"vs.",{"$error":"#N/A"}]
["Week",18,null,{"$error":"#N/A"},"vs.",{"$error":"#N/A"},18]
[{"$f":"LOOKUP(B173,Weeks,LeagueDates)","v":"2025-08-05"},null,null,{"$f":"LOOKUP(H174,GE_Team_Number_1,GE_Team_Names_1)","v":{"$error":"#N/A"}},"vs.",{"$f":"LOOKUP(I174,GE_Team_Number_1,GE_Team_Names_1)","v":{"$error":"#N/A"}}]
[null,null,null,{"$error":"#N/A"},"vs.",{"$error":"#N/A"}]
[null,null,null,{"$error":"#N/A"},"vs.",{"$error":"#N/A"}]
[null,null,null,{"$error":"#N/A"},"vs.",{"$error":"#N/A"}]
[null,null,null,{"$error":"#N/A"},"vs.",{"$error":"#N/A"}]
[null,null,null,{"$error":"#N/A"},"vs.",{"$error":"#N/A"}]
[null,null,null,{"$error":"#N/A"},"vs.",{"$error":"#N/A"}]
[null,null,null,{"$error":"#N/A"},"vs.",{"$error":"#N/A"}]
[null,null,null,{"$error":"#N/A"},"vs.",{"$error":"#N/A"}]
["Week",19,null,{"$error":"#N/A"},"vs.",{"$error":"#N/A"},19]
[{"$f":"LOOKUP(B183,Weeks,LeagueDates)","v":"2025-08-12"},null,null,{"$error":"#N/A"},"vs.",{"$error":"#N/A"}]
[null,null,null,{"$error":"#N/A"},"vs.",{"$error":"#N/A"}]
[null,null,null,{"$error":"#N/A"},"vs.",{"$error":"#N/A"}]
[null,null,null,{"$error":"#N/A"},"vs.",{"$error":"#N/A"}]
[null,null,null,{"$error":"#N/A"},"vs.",{"$error":"#N/A"}]
[null,null,null,{"$error":"#N/A"},"vs.",{"$error":"#N/A"}]
[null,null,null,{"$error":"#N/A"},"vs.",{"$error":"#N/A"}]
[null,null,null,{"$error":"#N/A"},"vs.",{"$error":"#N/A"}]
[null,null,null,{"$error":"#N/A"},"vs.",{"$error":"#N/A"}]
["Week",20,null,{"$error":"#N/A"},"vs.",{"$error":"#N/A"},20]
[{"$f":"LOOKUP(B193,Weeks,LeagueDates)","v":"2025-08-19"},null,null,{"$f":"LOOKUP(H194,GE_Team_Number_1,GE_Team_Names_1)","v":{"$error":"#N/A"}},"vs.",{"$f":"LOOKUP(I194,GE_Team_Number_1,GE_Team_Names_1)","v":{"$error":"#N/A"}}]
[null,null,null,{"$error":"#N/A"},"vs.",{"$error":"#N/A"}]
[null,null,null,{"$error":"#N/A"},"vs.",{"$error":"#N/A"}]
[null,null,null,{"$error":"#N/A"},"vs.",{"$error":"#N/A"}]
[null,null,null,{"$error":"#N/A"},"vs.",{"$error":"#N/A"}]
[null,null,null,{"$error":"#N/A"},"vs.",{"$error":"#N/A"}]
[null,null,null,{"$error":"#N/A"},"vs.",{"$error":"#N/A"}]
[null,null,null,{"$error":"#N/A"},"vs.",{"$error":"#N/A"}]
[null,null,null,{"$error":"#N/A"},"vs.",{"$error":"#N/A"}]

{"sheet":"DS1","index":5,"n_rows":61,"n_cols":69,"rows_kept":61,"cut":false,"hidden":false,"merged":[]}
["SeasonID","MatchID","Week","CourseID","SeasonGolferID","FTID","DNP","TeamID","OppID","Hdcp","ABPlayer","HolesWon","HolesLost","HolesTied","MatchWon","MatchLost","MatchTied","Score1","Score2","Score3","Score4","Score5","Score6","Score7","Score8","Score9","ScoreTotal","Strokes1","Strokes2","Strokes3","Strokes4","Strokes5","Strokes6","Strokes7","Strokes8","Strokes9","StrokesTotal","Net1","Net2","Net3","Net4","Net5","Net6","Net7","Net8","Net9","NetTotal","Points1","Points2","Points3","Points4","Points5","Points6","Points7","Points8","Points9","PointTotal","STP1","STP2","STP3","STP4","STP5","STP6","STP7","STP8","STP9","Eagles","Birdies","Pars"]
[{"$f":"Setup!$C$1","v":1},{"$f":"Setup!$S$41","v":310},{"$f":"'LN1'!$B$3","v":7},{"$f":"Setup!$N$5","v":1},{"$f":"'LN1'!L8","v":116},{"$f":"'LN1'!L9","v":0},{"$f":"'LN1'!AB11","v":"P"},{"$f":"'LN1'!N8","v":48},{"$f":"'LN1'!N15","v":47},{"$f":"'LN1'!O8","v":4},{"$f":"'LN1'!L11","v":"A"},{"$f":"'LN1'!AB8","v":2},{"$f":"'LN1'!AC8","v":4},{"$f":"'LN1'!AD8","v":3},{"$f":"'LN1'!AB9","v":0},{"$f":"'LN1'!AC9","v":1},{"$f":"'LN1'!AD9","v":0},{"$f":"'LN1'!P8","v":6},{"$f":"'LN1'!Q8","v":3},{"$f":"'LN1'!R8","v":5},{"$f":"'LN1'!S8","v":6},{"$f":"'LN1'!T8","v":4},{"$f":"'LN1'!U8","v":4},{"$f":"'LN1'!V8","v":6},{"$f":"'LN1'!W8","v":5},{"$f":"'LN1'!X8","v":5},{"$f":"'LN1'!Y8","v":44},{"$f":"'LN1'!P9","v":0},{"$f":"'LN1'!Q9","v":0},{"$f":"'LN1'!R9","v":0},{"$f":"'LN1'!S9","v":0},{"$f":"'LN1'!T9","v":0},{"$f":"'LN1'!U9","v":0},{"$f":"'LN1'!V9","v":0},{"$f":"'LN1'!W9","v":0},{"$f":"'LN1'!X9","v":0},{"$f":"'LN1'!O9","v":0},{"$f":"'LN1'!P10","v":6},{"$f":"'LN1'!Q10","v":3},{"$f":"'LN1'!R10","v":5},{"$f":"'LN1'!S10","v":6},{"$f":"'LN1'!T10","v":4},{"$f":"'LN1'!U10","v":4},{"$f":"'LN1'!V10","v":6},{"$f":"'LN1'!W10","v":5},{"$f":"'LN1'!X10","v":5},{"$f":"'LN1'!Z8","v":40},{"$f":"'LN1'!P11","v":1},{"$f":"'LN1'!Q11","v":2},{"$f":"'LN1'!R11","v":1},{"$f":"'LN1'!S11","v":0},{"$f":"'LN1'!T11","v":0},{"$f":"'LN1'!U11","v":2},{"$f":"'LN1'!V11","v":0},{"$f":"'LN1'!W11","v":0},{"$f":"'LN1'!X11","v":1},{"$f":"'LN1'!AA10","v":7},{"$f":"'LN1'!P8-'LN1'!P6","v":2},{"$f":"'LN1'!Q8-'LN1'!Q6","v":0},{"$f":"'LN1'!R8-'LN1'!R6","v":1},{"$f":"'LN1'!S8-'LN1'!S6","v":2},{"$f":"'LN1'!T8-'LN1'!T6","v":0},{"$f":"'LN1'!U8-'LN1'!U6","v":0},{"$f":"'LN1'!V8-'LN1'!V6","v":2},{"$f":"'LN1'!W8-'LN1'!W6","v":2},{"$f":"'LN1'!X8-'LN1'!X6","v":0},{"$f":"COUNTIF($BF2:$BN2,-2)","v":0},{"$f":"COUNTIF($BF2:$BN2,-1)","v":0},{"$f":"COUNTIF($BF2:$BN2,0)","v":4}]
[{"$f":"Setup!$C$1","v":1},{"$f":"Setup!$S$41","v":310},{"$f":"'LN1'!$B$3","v":7},{"$f":"Setup!$N$5","v":1},{"$f":"'LN1'!L15","v":114},{"$f":"'LN1'!L14","v":0},{"$f":"'LN1'!AB12","v":"P"},{"$f":"'LN1'!N15","v":47},{"$f":"'LN1'!N8","v":48},{"$f":"'LN1'!O15","v":15},{"$f":"'LN1'!L11","v":"A"},{"$f":"'LN1'!AB15","v":4},{"$f":"'LN1'!AC15","v":2},{"$f":"'LN1'!AD15","v":3},{"$f":"'LN1'!AB14","v":1},{"$f":"'LN1'!AC14","v":0},{"$f":"'LN1'!AD14","v":0},{"$f":"'LN1'!P15","v":7},{"$f":"'LN1'!Q15","v":5},{"$f":"'LN1'!R15","v":7},{"$f":"'LN1'!S15","v":7},{"$f":"'LN1'!T15","v":4},{"$f":"'LN1'!U15","v":6},{"$f":"'LN1'!V15","v":6},{"$f":"'LN1'!W15","v":5},{"$f":"'LN1'!X15","v":6},{"$f":"'LN1'!Y15","v":53},{"$f":"'LN1'!P14","v":1},{"$f":"'LN1'!Q14","v":1},{"$f":"'LN1'!R14","v":2},{"$f":"'LN1'!S14","v":2},{"$f":"'LN1'!T14","v":1},{"$f":"'LN1'!U14","v":1},{"$f":"'LN1'!V14","v":1},{"$f":"'LN1'!W14","v":1},{"$f":"'LN1'!X14","v":1},{"$f":"'LN1'!O14","v":11},{"$f":"'LN1'!P13","v":6},{"$f":"'LN1'!Q13","v":4},{"$f":"'LN1'!R13","v":5},{"$f":"'LN1'!S13","v":5},{"$f":"'LN1'!T13","v":3},{"$f":"'LN1'!U13","v":5},{"$f":"'LN1'!V13","v":5},{"$f":"'LN1'!W13","v":4},{"$f":"'LN1'!X13","v":5},{"$f":"'LN1'!Z15","v":38},{"$f":"'LN1'!P12","v":1},{"$f":"'LN1'!Q12","v":0},{"$f":"'LN1'!R12","v":1},{"$f":"'LN1'!S12","v":2},{"$f":"'LN1'!T12","v":2},{"$f":"'LN1'!U12","v":0},{"$f":"'LN1'!V12","v":2},{"$f":"'LN1'!W12","v":2},{"$f":"'LN1'!X12","v":1},{"$f":"'LN1'!AA13","v":15},{"$f":"'LN1'!P15-'LN1'!P6","v":3},{"$f":"'LN1'!Q15-'LN1'!Q6","v":2},{"$f":"'LN1'!R15-'LN1'!R6","v":3},{"$f":"'LN1'!S15-'LN1'!S6","v":3},{"$f":"'LN1'!T15-'LN1'!T6","v":0},{"$f":"'LN1'!U15-'LN1'!U6","v":2},{"$f":"'LN1'!V15-'LN1'!V6","v":2},{"$f":"'LN1'!W15-'LN1'!W6","v":2},{"$f":"'LN1'!X15-'LN1'!X6","v":1},{"$f":"COUNTIF($BF3:$BN3,-2)","v":0},{"$f":"COUNTIF($BF3:$BN3,-1)","v":0},{"$f":"COUNTIF($BF3:$BN3,0)","v":1}]
[{"$f":"Setup!$C$1","v":1},{"$f":"Setup!$S$41","v":310},{"$f":"'LN1'!$B$3","v":7},{"$f":"Setup!$N$5","v":1},{"$f":"'LN1'!AH8","v":157},{"$f":"'LN1'!AH9","v":115},{"$f":"'LN1'!AX11","v":"P"},{"$f":"'LN1'!AJ8","v":48},{"$f":"'LN1'!AJ15","v":47},{"$f":"'LN1'!AK8","v":5},{"$f":"'LN1'!AH11","v":"B"},{"$f":"'LN1'!AX8","v":5},{"$f":"'LN1'!AY8","v":2},{"$f":"'LN1'!AZ8","v":2},{"$f":"'LN1'!AX9","v":1},{"$f":"'LN1'!AY9","v":0},{"$f":"'LN1'!AZ9","v":0},{"$f":"'LN1'!AL8","v":4},{"$f":"'LN1'!AM8","v":3},{"$f":"'LN1'!AN8","v":5},{"$f":"'LN1'!AO8","v":6},{"$f":"'LN1'!AP8","v":6},{"$f":"'LN1'!AQ8","v":4},{"$f":"'LN1'!AR8","v":5},{"$f":"'LN1'!AS8","v":4},{"$f":"'LN1'!AT8","v":4},{"$f":"'LN1'!AU8","v":41},{"$f":"'LN1'!AL9","v":0},{"$f":"'LN1'!AM9","v":0},{"$f":"'LN1'!AN9","v":0},{"$f":"'LN1'!AO9","v":0},{"$f":"'LN1'!AP9","v":0},{"$f":"'LN1'!AQ9","v":0},{"$f":"'LN1'!AR9","v":0},{"$f":"'LN1'!AS9","v":0},{"$f":"'LN1'!AT9","v":0},{"$f":"'LN1'!AK9","v":0},{"$f":"'LN1'!AL10","v":4},{"$f":"'LN1'!AM10","v":3},{"$f":"'LN1'!AN10","v":5},{"$f":"'LN1'!AO10","v":6},{"$f":"'LN1'!AP10","v":6},{"$f":"'LN1'!AQ10","v":4},{"$f":"'LN1'!AR10","v":5},{"$f":"'LN1'!AS10","v":4},{"$f":"'LN1'!AT10","v":4},{"$f":"'LN1'!AV8","v":36},{"$f":"'LN1'!AL11","v":2},{"$f":"'LN1'!AM11","v":2},{"$f":"'LN1'!AN11","v":1},{"$f":"'LN1'!AO11","v":0},{"$f":"'LN1'!AP11","v":0},{"$f":"'LN1'!AQ11","v":2},{"$f":"'LN1'!AR11","v":2},{"$f":"'LN1'!AS11","v":1},{"$f":"'LN1'!AT11","v":2},{"$f":"'LN1'!AW10","v":16},{"$f":"'LN1'!AL8-'LN1'!AL6","v":0},{"$f":"'LN1'!AM8-'LN1'!AM6","v":0},{"$f":"'LN1'!AN8-'LN1'!AN6","v":1},{"$f":"'LN1'!AO8-'LN1'!AO6","v":2},{"$f":"'LN1'!AP8-'LN1'!AP6","v":2},{"$f":"'LN1'!AQ8-'LN1'!AQ6","v":0},{"$f":"'LN1'!AR8-'LN1'!AR6","v":1},{"$f":"'LN1'!AS8-'LN1'!AS6","v":1},{"$f":"'LN1'!AT8-'LN1'!AT6","v":-1},0,1,3]
[{"$f":"Setup!$C$1","v":1},{"$f":"Setup!$S$41","v":310},{"$f":"'LN1'!$B$3","v":7},{"$f":"Setup!$N$5","v":1},{"$f":"'LN1'!AH15","v":113},{"$f":"'LN1'!AH14","v":0},{"$f":"'LN1'!AX12","v":"D"},{"$f":"'LN1'!AJ15","v":47},{"$f":"'LN1'!AJ8","v":48},{"$f":"'LN1'!AK15","v":17},{"$f":"'LN1'!AH11","v":"B"},{"$f":"'LN1'!AX15","v":0},{"$f":"'LN1'!AY15","v":0},{"$f":"'LN1'!AZ15","v":0},{"$f":"'LN1'!AX14","v":0},{"$f":"'LN1'!AY14","v":0},{"$f":"'LN1'!AZ14","v":0},{"$f":"'LN1'!AL15","v":6},{"$f":"'LN1'!AM15","v":5},{"$f":"'LN1'!AN15","v":7},{"$f":"'LN1'!AO15","v":7},{"$f":"'LN1'!AP15","v":6},{"$f":"'LN1'!AQ15","v":6},{"$f":"'LN1'!AR15","v":7},{"$f":"'LN1'!AS15","v":5},{"$f":"'LN1'!AT15","v":8},{"$f":"'LN1'!AU15","v":57},{"$f":"'LN1'!AL14","v":1},{"$f":"'LN1'!AM14","v":1},{"$f":"'LN1'!AN14","v":2},{"$f":"'LN1'!AO14","v":2},{"$f":"'LN1'!AP14","v":1},{"$f":"'LN1'!AQ14","v":1},{"$f":"'LN1'!AR14","v":1},{"$f":"'LN1'!AS14","v":1},{"$f":"'LN1'!AT14","v":2},{"$f":"'LN1'!AK14","v":12},{"$f":"'LN1'!AL13","v":5},{"$f":"'LN1'!AM13","v":4},{"$f":"'LN1'!AN13","v":5},{"$f":"'LN1'!AO13","v":5},{"$f":"'LN1'!AP13","v":5},{"$f":"'LN1'!AQ13","v":5},{"$f":"'LN1'!AR13","v":6},{"$f":"'LN1'!AS13","v":4},{"$f":"'LN1'!AT13","v":6},{"$f":"'LN1'!AV15","v":40},{"$f":"'LN1'!AL12","v":0},{"$f":"'LN1'!AM12","v":0},{"$f":"'LN1'!AN12","v":1},{"$f":"'LN1'!AO12","v":2},{"$f":"'LN1'!AP12","v":2},{"$f":"'LN1'!AQ12","v":0},{"$f":"'LN1'!AR12","v":0},{"$f":"'LN1'!AS12","v":1},{"$f":"'LN1'!AT12","v":0},{"$f":"'LN1'!AW13","v":0},{"$f":"'LN1'!AL15-'LN1'!AL6","v":2},{"$f":"'LN1'!AM15-'LN1'!AM6","v":2},{"$f":"'LN1'!AN15-'LN1'!AN6","v":3},{"$f":"'LN1'!AO15-'LN1'!AO6","v":3},{"$f":"'LN1'!AP15-'LN1'!AP6","v":2},{"$f":"'LN1'!AQ15-'LN1'!AQ6","v":2},{"$f":"'LN1'!AR15-'LN1'!AR6","v":3},{"$f":"'LN1'!AS15-'LN1'!AS6","v":2},{"$f":"'LN1'!AT15-'LN1'!AT6","v":3},0,0,0]
[{"$f":"Setup!$C$1","v":1},{"$f":"Setup!$S$42","v":311},{"$f":"'LN1'!$B$3","v":7},{"$f":"Setup!$N$5","v":1},{"$f":"'LN1'!L18","v":88},{"$f":"'LN1'!L19","v":0},{"$f":"'LN1'!AB21","v":"P"},{"$f":"'LN1'!N18","v":38},{"$f":"'LN1'!N25","v":37},{"$f":"'LN1'!O18","v":8},{"$f":"'LN1'!L21","v":"A"},{"$f":"'LN1'!AB18","v":4},{"$f":"'LN1'!AC18","v":3},{"$f":"'LN1'!AD18","v":2},{"$f":"'LN1'!AB19","v":1},{"$f":"'LN1'!AC19","v":0},{"$f":"'LN1'!AD19","v":0},{"$f":"'LN1'!P18","v":7},{"$f":"'LN1'!Q18","v":3},{"$f":"'LN1'!R18","v":5},{"$f":"'LN1'!S18","v":5},{"$f":"'LN1'!T18","v":5},{"$f":"'LN1'!U18","v":4},{"$f":"'LN1'!V18","v":7},{"$f":"'LN1'!W18","v":5},{"$f":"'LN1'!X18","v":5},{"$f":"'LN1'!Y18","v":46},{"$f":"'LN1'!P19","v":0},{"$f":"'LN1'!Q19","v":0},{"$f":"'LN1'!R19","v":0},{"$f":"'LN1'!S19","v":0},{"$f":"'LN1'!T19","v":0},{"$f":"'LN1'!U19","v":0},{"$f":"'LN1'!V19","v":0},{"$f":"'LN1'!W19","v":0},{"$f":"'LN1'!X19","v":0},{"$f":"'LN1'!O19","v":0},{"$f":"'LN1'!P20","v":7},{"$f":"'LN1'!Q20","v":3},{"$f":"'LN1'!R20","v":5},{"$f":"'LN1'!S20","v":5},{"$f":"'LN1'!T20","v":5},{"$f":"'LN1'!U20","v":4},{"$f":"'LN1'!V20","v":7},{"$f":"'LN1'!W20","v":5},{"$f":"'LN1'!X20","v":5},{"$f":"'LN1'!Z18","v":38},{"$f":"'LN1'!P21","v":1},{"$f":"'LN1'!Q21","v":2},{"$f":"'LN1'!R21","v":0},{"$f":"'LN1'!S21","v":0},{"$f":"'LN1'!T21","v":2},{"$f":"'LN1'!U21","v":2},{"$f":"'LN1'!V21","v":0},{"$f":"'LN1'!W21","v":1},{"$f":"'LN1'!X21","v":2},{"$f":"'LN1'!AA20","v":14},{"$f":"'LN1'!P18-'LN1'!P16","v":3},{"$f":"'LN1'!Q18-'LN1'!Q16","v":0},{"$f":"'LN1'!R18-'LN1'!R16","v":1},{"$f":"'LN1'!S18-'LN1'!S16","v":2},{"$f":"'LN1'!T18-'LN1'!T16","v":1},{"$f":"'LN1'!U18-'LN1'!U16","v":0},{"$f":"'LN1'!V18-'LN1'!V16","v":2},{"$f":"'LN1'!W18-'LN1'!W16","v":1},{"$f":"'LN1'!X18-'LN1'!X16","v":1},0,0,2]
[{"$f":"Setup!$C$1","v":1},{"$f":"Setup!$S$42","v":311},{"$f":"'LN1'!$B$3","v":7},{"$f":"Setup!$N$5","v":1},{"$f":"'LN1'!L25","v":87},{"$f":"'LN1'!L24","v":86},{"$f":"'LN1'!AB22","v":"P"},{"$f":"'LN1'!N25","v":37},{"$f":"'LN1'!N18","v":38},{"$f":"'LN1'!O25","v":15},{"$f":"'LN1'!L21","v":"A"},{"$f":"'LN1'!AB25","v":3},{"$f":"'LN1'!AC25","v":4},{"$f":"'LN1'!AD25","v":2},{"$f":"'LN1'!AB24","v":0},{"$f":"'LN1'!AC24","v":1},{"$f":"'LN1'!AD24","v":0},{"$f":"'LN1'!P25","v":8},{"$f":"'LN1'!Q25","v":6},{"$f":"'LN1'!R25","v":5},{"$f":"'LN1'!S25","v":4},{"$f":"'LN1'!T25","v":6},{"$f":"'LN1'!U25","v":6},{"$f":"'LN1'!V25","v":6},{"$f":"'LN1'!W25","v":6},{"$f":"'LN1'!X25","v":7},{"$f":"'LN1'!Y25","v":54},{"$f":"'LN1'!P24","v":1},{"$f":"'LN1'!Q24","v":1},{"$f":"'LN1'!R24","v":1},{"$f":"'LN1'!S24","v":0},{"$f":"'LN1'!T24","v":0},{"$f":"'LN1'!U24","v":1},{"$f":"'LN1'!V24","v":1},{"$f":"'LN1'!W24","v":1},{"$f":"'LN1'!X24","v":1},{"$f":"'LN1'!O24","v":7},{"$f":"'LN1'!P23","v":7},{"$f":"'LN1'!Q23","v":5},{"$f":"'LN1'!R23","v":4},{"$f":"'LN1'!S23","v":4},{"$f":"'LN1'!T23","v":6},{"$f":"'LN1'!U23","v":5},{"$f":"'LN1'!V23","v":5},{"$f":"'LN1'!W23","v":5},{"$f":"'LN1'!X23","v":6},{"$f":"'LN1'!Z25","v":39},{"$f":"'LN1'!P22","v":1},{"$f":"'LN1'!Q22","v":0},{"$f":"'LN1'!R22","v":2},{"$f":"'LN1'!S22","v":2},{"$f":"'LN1'!T22","v":0},{"$f":"'LN1'!U22","v":0},{"$f":"'LN1'!V22","v":2},{"$f":"'LN1'!W22","v":1},{"$f":"'LN1'!X22","v":0},{"$f":"'LN1'!AA23","v":8},{"$f":"'LN1'!P25-'LN1'!P16","v":4},{"$f":"'LN1'!Q25-'LN1'!Q16","v":3},{"$f":"'LN1'!R25-'LN1'!R16","v":1},{"$f":"'LN1'!S25-'LN1'!S16","v":1},{"$f":"'LN1'!T25-'LN1'!T16","v":2},{"$f":"'LN1'!U25-'LN1'!U16","v":2},{"$f":"'LN1'!V25-'LN1'!V16","v":1},{"$f":"'LN1'!W25-'LN1'!W16","v":2},{"$f":"'LN1'!X25-'LN1'!X16","v":3},0,0,0]
[{"$f":"Setup!$C$1","v":1},{"$f":"Setup!$S$42","v":311},{"$f":"'LN1'!$B$3","v":7},{"$f":"Setup!$N$5","v":1},{"$f":"'LN1'!AH18","v":89},{"$f":"'LN1'!AH19","v":0},{"$f":"'LN1'!AX21","v":"P"},{"$f":"'LN1'!AJ18","v":38},{"$f":"'LN1'!AJ25","v":37},{"$f":"'LN1'!AK18","v":18},{"$f":"'LN1'!AH21","v":"B"},{"$f":"'LN1'!AX18","v":2},{"$f":"'LN1'!AY18","v":3},{"$f":"'LN1'!AZ18","v":4},{"$f":"'LN1'!AX19","v":0},{"$f":"'LN1'!AY19","v":0},{"$f":"'LN1'!AZ19","v":1},{"$f":"'LN1'!AL18","v":6},{"$f":"'LN1'!AM18","v":6},{"$f":"'LN1'!AN18","v":5},{"$f":"'LN1'!AO18","v":6},{"$f":"'LN1'!AP18","v":7},{"$f":"'LN1'!AQ18","v":8},{"$f":"'LN1'!AR18","v":6},{"$f":"'LN1'!AS18","v":7},{"$f":"'LN1'!AT18","v":8},{"$f":"'LN1'!AU18","v":59},{"$f":"'LN1'!AL19","v":0},{"$f":"'LN1'!AM19","v":0},{"$f":"'LN1'!AN19","v":0},{"$f":"'LN1'!AO19","v":0},{"$f":"'LN1'!AP19","v":0},{"$f":"'LN1'!AQ19","v":0},{"$f":"'LN1'!AR19","v":0},{"$f":"'LN1'!AS19","v":0},{"$f":"'LN1'!AT19","v":0},{"$f":"'LN1'!AK19","v":0},{"$f":"'LN1'!AL20","v":6},{"$f":"'LN1'!AM20","v":6},{"$f":"'LN1'!AN20","v":5},{"$f":"'LN1'!AO20","v":6},{"$f":"'LN1'!AP20","v":7},{"$f":"'LN1'!AQ20","v":8},{"$f":"'LN1'!AR20","v":6},{"$f":"'LN1'!AS20","v":7},{"$f":"'LN1'!AT20","v":8},{"$f":"'LN1'!AV18","v":41},{"$f":"'LN1'!AL21","v":1},{"$f":"'LN1'!AM21","v":1},{"$f":"'LN1'!AN21","v":2},{"$f":"'LN1'!AO21","v":1},{"$f":"'LN1'!AP21","v":1},{"$f":"'LN1'!AQ21","v":0},{"$f":"'LN1'!AR21","v":2},{"$f":"'LN1'!AS21","v":0},{"$f":"'LN1'!AT21","v":0},{"$f":"'LN1'!AW20","v":10},{"$f":"'LN1'!AL18-'LN1'!AL16","v":2},{"$f":"'LN1'!AM18-'LN1'!AM16","v":3},{"$f":"'LN1'!AN18-'LN1'!AN16","v":1},{"$f":"'LN1'!AO18-'LN1'!AO16","v":3},{"$f":"'LN1'!AP18-'LN1'!AP16","v":3},{"$f":"'LN1'!AQ18-'LN1'!AQ16","v":4},{"$f":"'LN1'!AR18-'LN1'!AR16","v":1},{"$f":"'LN1'!AS18-'LN1'!AS16","v":3},{"$f":"'LN1'!AT18-'LN1'!AT16","v":4},0,0,0]
[{"$f":"Setup!$C$1","v":1},{"$f":"Setup!$S$42","v":311},{"$f":"'LN1'!$B$3","v":7},{"$f":"Setup!$N$5","v":1},{"$f":"'LN1'!AH25","v":85},{"$f":"'LN1'!AH24","v":0},{"$f":"'LN1'!AX22","v":"D"},{"$f":"'LN1'!AJ25","v":37},{"$f":"'LN1'!AJ18","v":38},{"$f":"'LN1'!AK25","v":23},{"$f":"'LN1'!AH21","v":"B"},{"$f":"'LN1'!AX25","v":0},{"$f":"'LN1'!AY25","v":0},{"$f":"'LN1'!AZ25","v":0},{"$f":"'LN1'!AX24","v":0},{"$f":"'LN1'!AY24","v":0},{"$f":"'LN1'!AZ24","v":0},{"$f":"'LN1'!AL25","v":7},{"$f":"'LN1'!AM25","v":6},{"$f":"'LN1'!AN25","v":7},{"$f":"'LN1'!AO25","v":6},{"$f":"'LN1'!AP25","v":7},{"$f":"'LN1'!AQ25","v":8},{"$f":"'LN1'!AR25","v":8},{"$f":"'LN1'!AS25","v":7},{"$f":"'LN1'!AT25","v":8},{"$f":"'LN1'!AU25","v":64},{"$f":"'LN1'!AL24","v":1},{"$f":"'LN1'!AM24","v":0},{"$f":"'LN1'!AN24","v":0},{"$f":"'LN1'!AO24","v":0},{"$f":"'LN1'!AP24","v":0},{"$f":"'LN1'!AQ24","v":1},{"$f":"'LN1'!AR24","v":1},{"$f":"'LN1'!AS24","v":1},{"$f":"'LN1'!AT24","v":1},{"$f":"'LN1'!AK24","v":5},{"$f":"'LN1'!AL23","v":6},{"$f":"'LN1'!AM23","v":6},{"$f":"'LN1'!AN23","v":7},{"$f":"'LN1'!AO23","v":6},{"$f":"'LN1'!AP23","v":7},{"$f":"'LN1'!AQ23","v":7},{"$f":"'LN1'!AR23","v":7},{"$f":"'LN1'!AS23","v":6},{"$f":"'LN1'!AT23","v":7},{"$f":"'LN1'!AV25","v":41},{"$f":"'LN1'!AL22","v":1},{"$f":"'LN1'!AM22","v":1},{"$f":"'LN1'!AN22","v":0},{"$f":"'LN1'!AO22","v":1},{"$f":"'LN1'!AP22","v":1},{"$f":"'LN1'!AQ22","v":2},{"$f":"'LN1'!AR22","v":0},{"$f":"'LN1'!AS22","v":2},{"$f":"'LN1'!AT22","v":2},{"$f":"'LN1'!AW23","v":0},{"$f":"'LN1'!AL25-'LN1'!AL16","v":3},{"$f":"'LN1'!AM25-'LN1'!AM16","v":3},{"$f":"'LN1'!AN25-'LN1'!AN16","v":3},{"$f":"'LN1'!AO25-'LN1'!AO16","v":3},{"$f":"'LN1'!AP25-'LN1'!AP16","v":3},{"$f":"'LN1'!AQ25-'LN1'!AQ16","v":4},{"$f":"'LN1'!AR25-'LN1'!AR16","v":3},{"$f":"'LN1'!AS25-'LN1'!AS16","v":3},{"$f":"'LN1'!AT25-'LN1'!AT16","v":4},0,0,0]
[{"$f":"Setup!$C$1","v":1},{"$f":"Setup!$S$43","v":312},{"$f":"'LN1'!$B$3","v":7},{"$f":"Setup!$N$5","v":1},{"$f":"'LN1'!L28","v":118},{"$f":"'LN1'!L29","v":0},{"$f":"'LN1'!AB31","v":"P"},{"$f":"'LN1'!N28","v":49},{"$f":"'LN1'!N35","v":46},{"$f":"'LN1'!O28","v":5},{"$f":"'LN1'!L31","v":"A"},{"$f":"'LN1'!AB28","v":2},{"$f":"'LN1'!AC28","v":4},{"$f":"'LN1'!AD28","v":3},{"$f":"'LN1'!AB29","v":0},{"$f":"'LN1'!AC29","v":0},{"$f":"'LN1'!AD29","v":1},{"$f":"'LN1'!P28","v":4},{"$f":"'LN1'!Q28","v":4},{"$f":"'LN1'!R28","v":5},{"$f":"'LN1'!S28","v":5},{"$f":"'LN1'!T28","v":6},{"$f":"'LN1'!U28","v":4},{"$f":"'LN1'!V28","v":5},{"$f":"'LN1'!W28","v":4},{"$f":"'LN1'!X28","v":5},{"$f":"'LN1'!Y28","v":42},{"$f":"'LN1'!P29","v":0},{"$f":"'LN1'!Q29","v":0},{"$f":"'LN1'!R29","v":0},{"$f":"'LN1'!S29","v":0},{"$f":"'LN1'!T29","v":0},{"$f":"'LN1'!U29","v":0},{"$f":"'LN1'!V29","v":0},{"$f":"'LN1'!W29","v":0},{"$f":"'LN1'!X29","v":0},{"$f":"'LN1'!O29","v":0},{"$f":"'LN1'!P30","v":4},{"$f":"'LN1'!Q30","v":4},{"$f":"'LN1'!R30","v":5},{"$f":"'LN1'!S30","v":5},{"$f":"'LN1'!T30","v":6},{"$f":"'LN1'!U30","v":4},{"$f":"'LN1'!V30","v":5},{"$f":"'LN1'!W30","v":4},{"$f":"'LN1'!X30","v":5},{"$f":"'LN1'!Z28","v":37},{"$f":"'LN1'!P31","v":2},{"$f":"'LN1'!Q31","v":0},{"$f":"'LN1'!R31","v":0},{"$f":"'LN1'!S31","v":1},{"$f":"'LN1'!T31","v":0},{"$f":"'LN1'!U31","v":1},{"$f":"'LN1'!V31","v":0},{"$f":"'LN1'!W31","v":1},{"$f":"'LN1'!X31","v":2},{"$f":"'LN1'!AA30","v":9},{"$f":"'LN1'!P28-'LN1'!P26","v":0},{"$f":"'LN1'!Q28-'LN1'!Q26","v":1},{"$f":"'LN1'!R28-'LN1'!R26","v":1},{"$f":"'LN1'!S28-'LN1'!S26","v":1},{"$f":"'LN1'!T28-'LN1'!T26","v":2},{"$f":"'LN1'!U28-'LN1'!U26","v":0},{"$f":"'LN1'!V28-'LN1'!V26","v":1},{"$f":"'LN1'!W28-'LN1'!W26","v":1},{"$f":"'LN1'!X28-'LN1'!X26","v":0},0,0,3]
[{"$f":"Setup!$C$1","v":1},{"$f":"Setup!$S$43","v":312},{"$f":"'LN1'!$B$3","v":7},{"$f":"Setup!$N$5","v":1},{"$f":"'LN1'!L35","v":111},{"$f":"'LN1'!L34","v":0},{"$f":"'LN1'!AB32","v":"P"},{"$f":"'LN1'!N35","v":46},{"$f":"'LN1'!N28","v":49},{"$f":"'LN1'!O35","v":11},{"$f":"'LN1'!L31","v":"A"},{"$f":"'LN1'!AB35","v":4},{"$f":"'LN1'!AC35","v":2},{"$f":"'LN1'!AD35","v":3},{"$f":"'LN1'!AB34","v":0},{"$f":"'LN1'!AC34","v":0},{"$f":"'LN1'!AD34","v":1},{"$f":"'LN1'!P35","v":6},{"$f":"'LN1'!Q35","v":4},{"$f":"'LN1'!R35","v":5},{"$f":"'LN1'!S35","v":6},{"$f":"'LN1'!T35","v":5},{"$f":"'LN1'!U35","v":5},{"$f":"'LN1'!V35","v":5},{"$f":"'LN1'!W35","v":4},{"$f":"'LN1'!X35","v":8},{"$f":"'LN1'!Y35","v":48},{"$f":"'LN1'!P34","v":0},{"$f":"'LN1'!Q34","v":1},{"$f":"'LN1'!R34","v":1},{"$f":"'LN1'!S34","v":1},{"$f":"'LN1'!T34","v":0},{"$f":"'LN1'!U34","v":1},{"$f":"'LN1'!V34","v":1},{"$f":"'LN1'!W34","v":0},{"$f":"'LN1'!X34","v":1},{"$f":"'LN1'!O34","v":6},{"$f":"'LN1'!P33","v":6},{"$f":"'LN1'!Q33","v":3},{"$f":"'LN1'!R33","v":4},{"$f":"'LN1'!S33","v":5},{"$f":"'LN1'!T33","v":5},{"$f":"'LN1'!U33","v":4},{"$f":"'LN1'!V33","v":4},{"$f":"'LN1'!W33","v":4},{"$f":"'LN1'!X33","v":7},{"$f":"'LN1'!Z35","v":37},{"$f":"'LN1'!P32","v":0},{"$f":"'LN1'!Q32","v":2},{"$f":"'LN1'!R32","v":2},{"$f":"'LN1'!S32","v":1},{"$f":"'LN1'!T32","v":2},{"$f":"'LN1'!U32","v":1},{"$f":"'LN1'!V32","v":2},{"$f":"'LN1'!W32","v":1},{"$f":"'LN1'!X32","v":0},{"$f":"'LN1'!AA33","v":13},{"$f":"'LN1'!P35-'LN1'!P26","v":2},{"$f":"'LN1'!Q35-'LN1'!Q26","v":1},{"$f":"'LN1'!R35-'LN1'!R26","v":1},{"$f":"'LN1'!S35-'LN1'!S26","v":2},{"$f":"'LN1'!T35-'LN1'!T26","v":1},{"$f":"'LN1'!U35-'LN1'!U26","v":1},{"$f":"'LN1'!V35-'LN1'!V26","v":1},{"$f":"'LN1'!W35-'LN1'!W26","v":1},{"$f":"'LN1'!X35-'LN1'!X26","v":3},0,0,0]
[{"$f":"Setup!$C$1","v":1},{"$f":"Setup!$S$43","v":312},{"$f":"'LN1'!$B$3","v":7},{"$f":"Setup!$N$5","v":1},{"$f":"'LN1'!AH28","v":120},{"$f":"'LN1'!AH29","v":119},{"$f":"'LN1'!AX31","v":"P"},{"$f":"'LN1'!AJ28","v":49},{"$f":"'LN1'!AJ35","v":46},{"$f":"'LN1'!AK28","v":8},{"$f":"'LN1'!AH31","v":"B"},{"$f":"'LN1'!AX28","v":3},{"$f":"'LN1'!AY28","v":2},{"$f":"'LN1'!AZ28","v":4},{"$f":"'LN1'!AX29","v":1},{"$f":"'LN1'!AY29","v":0},{"$f":"'LN1'!AZ29","v":0},{"$f":"'LN1'!AL28","v":6},{"$f":"'LN1'!AM28","v":3},{"$f":"'LN1'!AN28","v":5},{"$f":"'LN1'!AO28","v":6},{"$f":"'LN1'!AP28","v":5},{"$f":"'LN1'!AQ28","v":6},{"$f":"'LN1'!AR28","v":6},{"$f":"'LN1'!AS28","v":4},{"$f":"'LN1'!AT28","v":5},{"$f":"'LN1'!AU28","v":46},{"$f":"'LN1'!AL29","v":0},{"$f":"'LN1'!AM29","v":0},{"$f":"'LN1'!AN29","v":0},{"$f":"'LN1'!AO29","v":0},{"$f":"'LN1'!AP29","v":0},{"$f":"'LN1'!AQ29","v":0},{"$f":"'LN1'!AR29","v":0},{"$f":"'LN1'!AS29","v":0},{"$f":"'LN1'!AT29","v":0},{"$f":"'LN1'!AK29","v":0},{"$f":"'LN1'!AL30","v":6},{"$f":"'LN1'!AM30","v":3},{"$f":"'LN1'!AN30","v":5},{"$f":"'LN1'!AO30","v":6},{"$f":"'LN1'!AP30","v":5},{"$f":"'LN1'!AQ30","v":6},{"$f":"'LN1'!AR30","v":6},{"$f":"'LN1'!AS30","v":4},{"$f":"'LN1'!AT30","v":5},{"$f":"'LN1'!AV28","v":38},{"$f":"'LN1'!AL31","v":0},{"$f":"'LN1'!AM31","v":2},{"$f":"'LN1'!AN31","v":1},{"$f":"'LN1'!AO31","v":0},{"$f":"'LN1'!AP31","v":1},{"$f":"'LN1'!AQ31","v":1},{"$f":"'LN1'!AR31","v":1},{"$f":"'LN1'!AS31","v":2},{"$f":"'LN1'!AT31","v":2},{"$f":"'LN1'!AW30","v":14},{"$f":"'LN1'!AL28-'LN1'!AL26","v":2},{"$f":"'LN1'!AM28-'LN1'!AM26","v":0},{"$f":"'LN1'!AN28-'LN1'!AN26","v":1},{"$f":"'LN1'!AO28-'LN1'!AO26","v":2},{"$f":"'LN1'!AP28-'LN1'!AP26","v":1},{"$f":"'LN1'!AQ28-'LN1'!AQ26","v":2},{"$f":"'LN1'!AR28-'LN1'!AR26","v":2},{"$f":"'LN1'!AS28-'LN1'!AS26","v":1},{"$f":"'LN1'!AT28-'LN1'!AT26","v":0},0,0,2]
[{"$f":"Setup!$C$1","v":1},{"$f":"Setup!$S$43","v":312},{"$f":"'LN1'!$B$3","v":7},{"$f":"Setup!$N$5","v":1},{"$f":"'LN1'!AH35","v":112},{"$f":"'LN1'!AH34","v":0},{"$f":"'LN1'!AX32","v":"D"},{"$f":"'LN1'!AJ35","v":46},{"$f":"'LN1'!AJ28","v":49},{"$f":"'LN1'!AK35","v":20},{"$f":"'LN1'!AH31","v":"B"},{"$f":"'LN1'!AX35","v":0},{"$f":"'LN1'!AY35","v":0},{"$f":"'LN1'!AZ35","v":0},{"$f":"'LN1'!AX34","v":0},{"$f":"'LN1'!AY34","v":0},{"$f":"'LN1'!AZ34","v":0},{"$f":"'LN1'!AL35","v":6},{"$f":"'LN1'!AM35","v":6},{"$f":"'LN1'!AN35","v":7},{"$f":"'LN1'!AO35","v":7},{"$f":"'LN1'!AP35","v":6},{"$f":"'LN1'!AQ35","v":7},{"$f":"'LN1'!AR35","v":7},{"$f":"'LN1'!AS35","v":6},{"$f":"'LN1'!AT35","v":8},{"$f":"'LN1'!AU35","v":60},{"$f":"'LN1'!AL34","v":1},{"$f":"'LN1'!AM34","v":1},{"$f":"'LN1'!AN34","v":2},{"$f":"'LN1'!AO34","v":2},{"$f":"'LN1'!AP34","v":1},{"$f":"'LN1'!AQ34","v":1},{"$f":"'LN1'!AR34","v":1},{"$f":"'LN1'!AS34","v":1},{"$f":"'LN1'!AT34","v":2},{"$f":"'LN1'!AK34","v":12},{"$f":"'LN1'!AL33","v":5},{"$f":"'LN1'!AM33","v":5},{"$f":"'LN1'!AN33","v":5},{"$f":"'LN1'!AO33","v":5},{"$f":"'LN1'!AP33","v":5},{"$f":"'LN1'!AQ33","v":6},{"$f":"'LN1'!AR33","v":6},{"$f":"'LN1'!AS33","v":5},{"$f":"'LN1'!AT33","v":6},{"$f":"'LN1'!AV35","v":40},{"$f":"'LN1'!AL32","v":2},{"$f":"'LN1'!AM32","v":0},{"$f":"'LN1'!AN32","v":1},{"$f":"'LN1'!AO32","v":2},{"$f":"'LN1'!AP32","v":1},{"$f":"'LN1'!AQ32","v":1},{"$f":"'LN1'!AR32","v":1},{"$f":"'LN1'!AS32","v":0},{"$f":"'LN1'!AT32","v":0},{"$f":"'LN1'!AW33","v":0},{"$f":"'LN1'!AL35-'LN1'!AL26","v":2},{"$f":"'LN1'!AM35-'LN1'!AM26","v":3},{"$f":"'LN1'!AN35-'LN1'!AN26","v":3},{"$f":"'LN1'!AO35-'LN1'!AO26","v":3},{"$f":"'LN1'!AP35-'LN1'!AP26","v":2},{"$f":"'LN1'!AQ35-'LN1'!AQ26","v":3},{"$f":"'LN1'!AR35-'LN1'!AR26","v":3},{"$f":"'LN1'!AS35-'LN1'!AS26","v":3},{"$f":"'LN1'!AT35-'LN1'!AT26","v":3},0,0,0]
[{"$f":"Setup!$C$1","v":1},{"$f":"Setup!$S$44","v":313},{"$f":"'LN1'!$B$3","v":7},{"$f":"Setup!$N$5","v":1},{"$f":"'LN1'!L38","v":92},{"$f":"'LN1'!L39","v":0},{"$f":"'LN1'!AB41","v":"D"},{"$f":"'LN1'!N38","v":39},{"$f":"'LN1'!N45","v":36},{"$f":"'LN1'!O38","v":17},{"$f":"'LN1'!L41","v":"A"},{"$f":"'LN1'!AB38","v":0},{"$f":"'LN1'!AC38","v":0},{"$f":"'LN1'!AD38","v":0},{"$f":"'LN1'!AB39","v":0},{"$f":"'LN1'!AC39","v":0},{"$f":"'LN1'!AD39","v":0},{"$f":"'LN1'!P38","v":6},{"$f":"'LN1'!Q38","v":5},{"$f":"'LN1'!R38","v":6},{"$f":"'LN1'!S38","v":5},{"$f":"'LN1'!T38","v":6},{"$f":"'LN1'!U38","v":7},{"$f":"'LN1'!V38","v":8},{"$f":"'LN1'!W38","v":6},{"$f":"'LN1'!X38","v":7},{"$f":"'LN1'!Y38","v":56},{"$f":"'LN1'!P39","v":1},{"$f":"'LN1'!Q39","v":1},{"$f":"'LN1'!R39","v":0},{"$f":"'LN1'!S39","v":0},{"$f":"'LN1'!T39","v":0},{"$f":"'LN1'!U39","v":1},{"$f":"'LN1'!V39","v":1},{"$f":"'LN1'!W39","v":1},{"$f":"'LN1'!X39","v":1},{"$f":"'LN1'!O39","v":6},{"$f":"'LN1'!P40","v":5},{"$f":"'LN1'!Q40","v":4},{"$f":"'LN1'!R40","v":6},{"$f":"'LN1'!S40","v":5},{"$f":"'LN1'!T40","v":6},{"$f":"'LN1'!U40","v":6},{"$f":"'LN1'!V40","v":7},{"$f":"'LN1'!W40","v":5},{"$f":"'LN1'!X40","v":6},{"$f":"'LN1'!Z38","v":39},{"$f":"'LN1'!P41","v":1},{"$f":"'LN1'!Q41","v":1},{"$f":"'LN1'!R41","v":1},{"$f":"'LN1'!S41","v":0},{"$f":"'LN1'!T41","v":0},{"$f":"'LN1'!U41","v":0},{"$f":"'LN1'!V41","v":1},{"$f":"'LN1'!W41","v":2},{"$f":"'LN1'!X41","v":0},{"$f":"'LN1'!AA40","v":0},{"$f":"'LN1'!P38-'LN1'!P36","v":2},{"$f":"'LN1'!Q38-'LN1'!Q36","v":2},{"$f":"'LN1'!R38-'LN1'!R36","v":2},{"$f":"'LN1'!S38-'LN1'!S36","v":2},{"$f":"'LN1'!T38-'LN1'!T36","v":2},{"$f":"'LN1'!U38-'LN1'!U36","v":3},{"$f":"'LN1'!V38-'LN1'!V36","v":3},{"$f":"'LN1'!W38-'LN1'!W36","v":2},{"$f":"'LN1'!X38-'LN1'!X36","v":3},0,0,0]
[{"$f":"Setup!$C$1","v":1},{"$f":"Setup!$S$44","v":313},{"$f":"'LN1'!$B$3","v":7},{"$f":"Setup!$N$5","v":1},{"$f":"'LN1'!L45","v":82},{"$f":"'LN1'!L44","v":0},{"$f":"'LN1'!AB42","v":"P"},{"$f":"'LN1'!N45","v":36},{"$f":"'LN1'!N38","v":39},{"$f":"'LN1'!O45","v":11},{"$f":"'LN1'!L41","v":"A"},{"$f":"'LN1'!AB45","v":4},{"$f":"'LN1'!AC45","v":1},{"$f":"'LN1'!AD45","v":4},{"$f":"'LN1'!AB44","v":1},{"$f":"'LN1'!AC44","v":0},{"$f":"'LN1'!AD44","v":0},{"$f":"'LN1'!P45","v":5},{"$f":"'LN1'!Q45","v":4},{"$f":"'LN1'!R45","v":6},{"$f":"'LN1'!S45","v":3},{"$f":"'LN1'!T45","v":5},{"$f":"'LN1'!U45","v":5},{"$f":"'LN1'!V45","v":7},{"$f":"'LN1'!W45","v":7},{"$f":"'LN1'!X45","v":5},{"$f":"'LN1'!Y45","v":47},{"$f":"'LN1'!P44","v":0},{"$f":"'LN1'!Q44","v":0},{"$f":"'LN1'!R44","v":0},{"$f":"'LN1'!S44","v":0},{"$f":"'LN1'!T44","v":0},{"$f":"'LN1'!U44","v":0},{"$f":"'LN1'!V44","v":0},{"$f":"'LN1'!W44","v":0},{"$f":"'LN1'!X44","v":0},{"$f":"'LN1'!O44","v":0},{"$f":"'LN1'!P43","v":5},{"$f":"'LN1'!Q43","v":4},{"$f":"'LN1'!R43","v":6},{"$f":"'LN1'!S43","v":3},{"$f":"'LN1'!T43","v":5},{"$f":"'LN1'!U43","v":5},{"$f":"'LN1'!V43","v":7},{"$f":"'LN1'!W43","v":7},{"$f":"'LN1'!X43","v":5},{"$f":"'LN1'!Z45","v":36},{"$f":"'LN1'!P42","v":1},{"$f":"'LN1'!Q42","v":1},{"$f":"'LN1'!R42","v":1},{"$f":"'LN1'!S42","v":2},{"$f":"'LN1'!T42","v":2},{"$f":"'LN1'!U42","v":2},{"$f":"'LN1'!V42","v":1},{"$f":"'LN1'!W42","v":0},{"$f":"'LN1'!X42","v":2},{"$f":"'LN1'!AA43","v":16},{"$f":"'LN1'!P45-'LN1'!P36","v":1},{"$f":"'LN1'!Q45-'LN1'!Q36","v":1},{"$f":"'LN1'!R45-'LN1'!R36","v":2},{"$f":"'LN1'!S45-'LN1'!S36","v":0},{"$f":"'LN1'!T45-'LN1'!T36","v":1},{"$f":"'LN1'!U45-'LN1'!U36","v":1},{"$f":"'LN1'!V45-'LN1'!V36","v":2},{"$f":"'LN1'!W45-'LN1'!W36","v":3},{"$f":"'LN1'!X45-'LN1'!X36","v":1},0,0,1]
[{"$f":"Setup!$C$1","v":1},{"$f":"Setup!$S$44","v":313},{"$f":"'LN1'!$B$3","v":7},{"$f":"Setup!$N$5","v":1},{"$f":"'LN1'!AH38","v":93},{"$f":"'LN1'!AH39","v":0},{"$f":"'LN1'!AX41","v":"D"},{"$f":"'LN1'!AJ38","v":39},{"$f":"'LN1'!AJ45","v":36},{"$f":"'LN1'!AK38","v":20},{"$f":"'LN1'!AH41","v":"B"},{"$f":"'LN1'!AX38","v":0},{"$f":"'LN1'!AY38","v":0},{"$f":"'LN1'!AZ38","v":0},{"$f":"'LN1'!AX39","v":0},{"$f":"'LN1'!AY39","v":0},{"$f":"'LN1'!AZ39","v":0},{"$f":"'LN1'!AL38","v":7},{"$f":"'LN1'!AM38","v":6},{"$f":"'LN1'!AN38","v":7},{"$f":"'LN1'!AO38","v":5},{"$f":"'LN1'!AP38","v":6},{"$f":"'LN1'!AQ38","v":7},{"$f":"'LN1'!AR38","v":8},{"$f":"'LN1'!AS38","v":7},{"$f":"'LN1'!AT38","v":7},{"$f":"'LN1'!AU38","v":60},{"$f":"'LN1'!AL39","v":0},{"$f":"'LN1'!AM39","v":0},{"$f":"'LN1'!AN39","v":0},{"$f":"'LN1'!AO39","v":0},{"$f":"'LN1'!AP39","v":0},{"$f":"'LN1'!AQ39","v":1},{"$f":"'LN1'!AR39","v":1},{"$f":"'LN1'!AS39","v":0},{"$f":"'LN1'!AT39","v":1},{"$f":"'LN1'!AK39","v":3},{"$f":"'LN1'!AL40","v":7},{"$f":"'LN1'!AM40","v":6},{"$f":"'LN1'!AN40","v":7},{"$f":"'LN1'!AO40","v":5},{"$f":"'LN1'!AP40","v":6},{"$f":"'LN1'!AQ40","v":6},{"$f":"'LN1'!AR40","v":7},{"$f":"'LN1'!AS40","v":7},{"$f":"'LN1'!AT40","v":6},{"$f":"'LN1'!AV38","v":40},{"$f":"'LN1'!AL41","v":1},{"$f":"'LN1'!AM41","v":0},{"$f":"'LN1'!AN41","v":0},{"$f":"'LN1'!AO41","v":0},{"$f":"'LN1'!AP41","v":1},{"$f":"'LN1'!AQ41","v":2},{"$f":"'LN1'!AR41","v":2},{"$f":"'LN1'!AS41","v":0},{"$f":"'LN1'!AT41","v":2},{"$f":"'LN1'!AW40","v":0},{"$f":"'LN1'!AL38-'LN1'!AL36","v":3},{"$f":"'LN1'!AM38-'LN1'!AM36","v":3},{"$f":"'LN1'!AN38-'LN1'!AN36","v":3},{"$f":"'LN1'!AO38-'LN1'!AO36","v":2},{"$f":"'LN1'!AP38-'LN1'!AP36","v":2},{"$f":"'LN1'!AQ38-'LN1'!AQ36","v":3},{"$f":"'LN1'!AR38-'LN1'!AR36","v":3},{"$f":"'LN1'!AS38-'LN1'!AS36","v":3},{"$f":"'LN1'!AT38-'LN1'!AT36","v":3},0,0,0]
[{"$f":"Setup!$C$1","v":1},{"$f":"Setup!$S$44","v":313},{"$f":"'LN1'!$B$3","v":7},{"$f":"Setup!$N$5","v":1},{"$f":"'LN1'!AH45","v":81},{"$f":"'LN1'!AH44","v":0},{"$f":"'LN1'!AX42","v":"P"},{"$f":"'LN1'!AJ45","v":36},{"$f":"'LN1'!AJ38","v":39},{"$f":"'LN1'!AK45","v":17},{"$f":"'LN1'!AH41","v":"B"},{"$f":"'LN1'!AX45","v":4},{"$f":"'LN1'!AY45","v":3},{"$f":"'LN1'!AZ45","v":2},{"$f":"'LN1'!AX44","v":1},{"$f":"'LN1'!AY44","v":0},{"$f":"'LN1'!AZ44","v":0},{"$f":"'LN1'!AL45","v":7},{"$f":"'LN1'!AM45","v":5},{"$f":"'LN1'!AN45","v":6},{"$f":"'LN1'!AO45","v":4},{"$f":"'LN1'!AP45","v":6},{"$f":"'LN1'!AQ45","v":7},{"$f":"'LN1'!AR45","v":8},{"$f":"'LN1'!AS45","v":5},{"$f":"'LN1'!AT45","v":8},{"$f":"'LN1'!AU45","v":56},{"$f":"'LN1'!AL44","v":0},{"$f":"'LN1'!AM44","v":0},{"$f":"'LN1'!AN44","v":0},{"$f":"'LN1'!AO44","v":0},{"$f":"'LN1'!AP44","v":0},{"$f":"'LN1'!AQ44","v":0},{"$f":"'LN1'!AR44","v":0},{"$f":"'LN1'!AS44","v":0},{"$f":"'LN1'!AT44","v":0},{"$f":"'LN1'!AK44","v":0},{"$f":"'LN1'!AL43","v":7},{"$f":"'LN1'!AM43","v":5},{"$f":"'LN1'!AN43","v":6},{"$f":"'LN1'!AO43","v":4},{"$f":"'LN1'!AP43","v":6},{"$f":"'LN1'!AQ43","v":7},{"$f":"'LN1'!AR43","v":8},{"$f":"'LN1'!AS43","v":5},{"$f":"'LN1'!AT43","v":8},{"$f":"'LN1'!AV45","v":39},{"$f":"'LN1'!AL42","v":1},{"$f":"'LN1'!AM42","v":2},{"$f":"'LN1'!AN42","v":2},{"$f":"'LN1'!AO42","v":2},{"$f":"'LN1'!AP42","v":1},{"$f":"'LN1'!AQ42","v":0},{"$f":"'LN1'!AR42","v":0},{"$f":"'LN1'!AS42","v":2},{"$f":"'LN1'!AT42","v":0},{"$f":"'LN1'!AW43","v":14},{"$f":"'LN1'!AL45-'LN1'!AL36","v":3},{"$f":"'LN1'!AM45-'LN1'!AM36","v":2},{"$f":"'LN1'!AN45-'LN1'!AN36","v":2},{"$f":"'LN1'!AO45-'LN1'!AO36","v":1},{"$f":"'LN1'!AP45-'LN1'!AP36","v":2},{"$f":"'LN1'!AQ45-'LN1'!AQ36","v":3},{"$f":"'LN1'!AR45-'LN1'!AR36","v":3},{"$f":"'LN1'!AS45-'LN1'!AS36","v":1},{"$f":"'LN1'!AT45-'LN1'!AT36","v":4},0,0,0]
[{"$f":"Setup!$C$1","v":1},{"$f":"Setup!$S$45","v":314},{"$f":"'LN1'!$B$3","v":7},{"$f":"Setup!$N$5","v":1},{"$f":"'LN1'!L48","v":122},{"$f":"'LN1'!L49","v":0},{"$f":"'LN1'!AB51","v":"P"},{"$f":"'LN1'!N48","v":50},{"$f":"'LN1'!N55","v":45},{"$f":"'LN1'!O48","v":9},{"$f":"'LN1'!L51","v":"A"},{"$f":"'LN1'!AB48","v":3},{"$f":"'LN1'!AC48","v":3},{"$f":"'LN1'!AD48","v":3},{"$f":"'LN1'!AB49","v":1},{"$f":"'LN1'!AC49","v":0},{"$f":"'LN1'!AD49","v":0},{"$f":"'LN1'!P48","v":4},{"$f":"'LN1'!Q48","v":5},{"$f":"'LN1'!R48","v":5},{"$f":"'LN1'!S48","v":5},{"$f":"'LN1'!T48","v":3},{"$f":"'LN1'!U48","v":4},{"$f":"'LN1'!V48","v":6},{"$f":"'LN1'!W48","v":4},{"$f":"'LN1'!X48","v":7},{"$f":"'LN1'!Y48","v":43},{"$f":"'LN1'!P49","v":0},{"$f":"'LN1'!Q49","v":0},{"$f":"'LN1'!R49","v":1},{"$f":"'LN1'!S49","v":1},{"$f":"'LN1'!T49","v":0},{"$f":"'LN1'!U49","v":0},{"$f":"'LN1'!V49","v":1},{"$f":"'LN1'!W49","v":0},{"$f":"'LN1'!X49","v":1},{"$f":"'LN1'!O49","v":4},{"$f":"'LN1'!P50","v":4},{"$f":"'LN1'!Q50","v":5},{"$f":"'LN1'!R50","v":4},{"$f":"'LN1'!S50","v":4},{"$f":"'LN1'!T50","v":3},{"$f":"'LN1'!U50","v":4},{"$f":"'LN1'!V50","v":5},{"$f":"'LN1'!W50","v":4},{"$f":"'LN1'!X50","v":6},{"$f":"'LN1'!Z48","v":34},{"$f":"'LN1'!P51","v":1},{"$f":"'LN1'!Q51","v":0},{"$f":"'LN1'!R51","v":2},{"$f":"'LN1'!S51","v":2},{"$f":"'LN1'!T51","v":2},{"$f":"'LN1'!U51","v":1},{"$f":"'LN1'!V51","v":0},{"$f":"'LN1'!W51","v":1},{"$f":"'LN1'!X51","v":0},{"$f":"'LN1'!AA50","v":13},{"$f":"'LN1'!P48-'LN1'!P46","v":0},{"$f":"'LN1'!Q48-'LN1'!Q46","v":2},{"$f":"'LN1'!R48-'LN1'!R46","v":1},{"$f":"'LN1'!S48-'LN1'!S46","v":1},{"$f":"'LN1'!T48-'LN1'!T46","v":-1},{"$f":"'LN1'!U48-'LN1'!U46","v":0},{"$f":"'LN1'!V48-'LN1'!V46","v":2},{"$f":"'LN1'!W48-'LN1'!W46","v":1},{"$f":"'LN1'!X48-'LN1'!X46","v":2},0,1,2]
[{"$f":"Setup!$C$1","v":1},{"$f":"Setup!$S$45","v":314},{"$f":"'LN1'!$B$3","v":7},{"$f":"Setup!$N$5","v":1},{"$f":"'LN1'!L55","v":109},{"$f":"'LN1'!L54","v":0},{"$f":"'LN1'!AB52","v":"P"},{"$f":"'LN1'!N55","v":45},{"$f":"'LN1'!N48","v":50},{"$f":"'LN1'!O55","v":5},{"$f":"'LN1'!L51","v":"A"},{"$f":"'LN1'!AB55","v":3},{"$f":"'LN1'!AC55","v":3},{"$f":"'LN1'!AD55","v":3},{"$f":"'LN1'!AB54","v":0},{"$f":"'LN1'!AC54","v":1},{"$f":"'LN1'!AD54","v":0},{"$f":"'LN1'!P55","v":4},{"$f":"'LN1'!Q55","v":3},{"$f":"'LN1'!R55","v":5},{"$f":"'LN1'!S55","v":5},{"$f":"'LN1'!T55","v":6},{"$f":"'LN1'!U55","v":4},{"$f":"'LN1'!V55","v":4},{"$f":"'LN1'!W55","v":4},{"$f":"'LN1'!X55","v":5},{"$f":"'LN1'!Y55","v":40},{"$f":"'LN1'!P54","v":0},{"$f":"'LN1'!Q54","v":0},{"$f":"'LN1'!R54","v":0},{"$f":"'LN1'!S54","v":0},{"$f":"'LN1'!T54","v":0},{"$f":"'LN1'!U54","v":0},{"$f":"'LN1'!V54","v":0},{"$f":"'LN1'!W54","v":0},{"$f":"'LN1'!X54","v":0},{"$f":"'LN1'!O54","v":0},{"$f":"'LN1'!P53","v":4},{"$f":"'LN1'!Q53","v":3},{"$f":"'LN1'!R53","v":5},{"$f":"'LN1'!S53","v":5},{"$f":"'LN1'!T53","v":6},{"$f":"'LN1'!U53","v":4},{"$f":"'LN1'!V53","v":4},{"$f":"'LN1'!W53","v":4},{"$f":"'LN1'!X53","v":5},{"$f":"'LN1'!Z55","v":35},{"$f":"'LN1'!P52","v":1},{"$f":"'LN1'!Q52","v":2},{"$f":"'LN1'!R52","v":0},{"$f":"'LN1'!S52","v":0},{"$f":"'LN1'!T52","v":0},{"$f":"'LN1'!U52","v":1},{"$f":"'LN1'!V52","v":2},{"$f":"'LN1'!W52","v":1},{"$f":"'LN1'!X52","v":2},{"$f":"'LN1'!AA53","v":9},{"$f":"'LN1'!P55-'LN1'!P46","v":0},{"$f":"'LN1'!Q55-'LN1'!Q46","v":0},{"$f":"'LN1'!R55-'LN1'!R46","v":1},{"$f":"'LN1'!S55-'LN1'!S46","v":1},{"$f":"'LN1'!T55-'LN1'!T46","v":2},{"$f":"'LN1'!U55-'LN1'!U46","v":0},{"$f":"'LN1'!V55-'LN1'!V46","v":0},{"$f":"'LN1'!W55-'LN1'!W46","v":1},{"$f":"'LN1'!X55-'LN1'!X46","v":0},0,0,5]
[{"$f":"Setup!$C$1","v":1},{"$f":"Setup!$S$45","v":314},{"$f":"'LN1'!$B$3","v":7},{"$f":"Setup!$N$5","v":1},{"$f":"'LN1'!AH48","v":151},{"$f":"'LN1'!AH49","v":121},{"$f":"'LN1'!AX51","v":"P"},{"$f":"'LN1'!AJ48","v":50},{"$f":"'LN1'!AJ55","v":45},{"$f":"'LN1'!AK48","v":14},{"$f":"'LN1'!AH51","v":"B"},{"$f":"'LN1'!AX48","v":3},{"$f":"'LN1'!AY48","v":5},{"$f":"'LN1'!AZ48","v":1},{"$f":"'LN1'!AX49","v":0},{"$f":"'LN1'!AY49","v":1},{"$f":"'LN1'!AZ49","v":0},{"$f":"'LN1'!AL48","v":7},{"$f":"'LN1'!AM48","v":5},{"$f":"'LN1'!AN48","v":4},{"$f":"'LN1'!AO48","v":6},{"$f":"'LN1'!AP48","v":7},{"$f":"'LN1'!AQ48","v":5},{"$f":"'LN1'!AR48","v":6},{"$f":"'LN1'!AS48","v":5},{"$f":"'LN1'!AT48","v":9},{"$f":"'LN1'!AU48","v":54},{"$f":"'LN1'!AL49","v":0},{"$f":"'LN1'!AM49","v":0},{"$f":"'LN1'!AN49","v":1},{"$f":"'LN1'!AO49","v":1},{"$f":"'LN1'!AP49","v":0},{"$f":"'LN1'!AQ49","v":0},{"$f":"'LN1'!AR49","v":0},{"$f":"'LN1'!AS49","v":0},{"$f":"'LN1'!AT49","v":1},{"$f":"'LN1'!AK49","v":3},{"$f":"'LN1'!AL50","v":7},{"$f":"'LN1'!AM50","v":5},{"$f":"'LN1'!AN50","v":3},{"$f":"'LN1'!AO50","v":5},{"$f":"'LN1'!AP50","v":7},{"$f":"'LN1'!AQ50","v":5},{"$f":"'LN1'!AR50","v":6},{"$f":"'LN1'!AS50","v":5},{"$f":"'LN1'!AT50","v":8},{"$f":"'LN1'!AV48","v":40},{"$f":"'LN1'!AL51","v":0},{"$f":"'LN1'!AM51","v":0},{"$f":"'LN1'!AN51","v":2},{"$f":"'LN1'!AO51","v":2},{"$f":"'LN1'!AP51","v":0},{"$f":"'LN1'!AQ51","v":2},{"$f":"'LN1'!AR51","v":1},{"$f":"'LN1'!AS51","v":0},{"$f":"'LN1'!AT51","v":0},{"$f":"'LN1'!AW50","v":7},{"$f":"'LN1'!AL48-'LN1'!AL46","v":3},{"$f":"'LN1'!AM48-'LN1'!AM46","v":2},{"$f":"'LN1'!AN48-'LN1'!AN46","v":0},{"$f":"'LN1'!AO48-'LN1'!AO46","v":2},{"$f":"'LN1'!AP48-'LN1'!AP46","v":3},{"$f":"'LN1'!AQ48-'LN1'!AQ46","v":1},{"$f":"'LN1'!AR48-'LN1'!AR46","v":2},{"$f":"'LN1'!AS48-'LN1'!AS46","v":2},{"$f":"'LN1'!AT48-'LN1'!AT46","v":4},0,0,1]
[{"$f":"Setup!$C$1","v":1},{"$f":"Setup!$S$45","v":314},{"$f":"'LN1'!$B$3","v":7},{"$f":"Setup!$N$5","v":1},{"$f":"'LN1'!AH55","v":110},{"$f":"'LN1'!AH54","v":0},{"$f":"'LN1'!AX52","v":"D"},{"$f":"'LN1'!AJ55","v":45},{"$f":"'LN1'!AJ48","v":50},{"$f":"'LN1'!AK55","v":11},{"$f":"'LN1'!AH51","v":"B"},{"$f":"'LN1'!AX55","v":0},{"$f":"'LN1'!AY55","v":0},{"$f":"'LN1'!AZ55","v":0},{"$f":"'LN1'!AX54","v":0},{"$f":"'LN1'!AY54","v":0},{"$f":"'LN1'!AZ54","v":0},{"$f":"'LN1'!AL55","v":5},{"$f":"'LN1'!AM55","v":4},{"$f":"'LN1'!AN55","v":6},{"$f":"'LN1'!AO55","v":6},{"$f":"'LN1'!AP55","v":5},{"$f":"'LN1'!AQ55","v":6},{"$f":"'LN1'!AR55","v":6},{"$f":"'LN1'!AS55","v":4},{"$f":"'LN1'!AT55","v":7},{"$f":"'LN1'!AU55","v":49},{"$f":"'LN1'!AL54","v":0},{"$f":"'LN1'!AM54","v":0},{"$f":"'LN1'!AN54","v":0},{"$f":"'LN1'!AO54","v":0},{"$f":"'LN1'!AP54","v":0},{"$f":"'LN1'!AQ54","v":0},{"$f":"'LN1'!AR54","v":0},{"$f":"'LN1'!AS54","v":0},{"$f":"'LN1'!AT54","v":0},{"$f":"'LN1'!AK54","v":0},{"$f":"'LN1'!AL53","v":5},{"$f":"'LN1'!AM53","v":4},{"$f":"'LN1'!AN53","v":6},{"$f":"'LN1'!AO53","v":6},{"$f":"'LN1'!AP53","v":5},{"$f":"'LN1'!AQ53","v":6},{"$f":"'LN1'!AR53","v":6},{"$f":"'LN1'!AS53","v":4},{"$f":"'LN1'!AT53","v":7},{"$f":"'LN1'!AV55","v":38},{"$f":"'LN1'!AL49","v":0},{"$f":"'LN1'!AM49","v":0},{"$f":"'LN1'!AN49","v":1},{"$f":"'LN1'!AO49","v":1},{"$f":"'LN1'!AP49","v":0},{"$f":"'LN1'!AQ49","v":0},{"$f":"'LN1'!AR49","v":0},{"$f":"'LN1'!AS49","v":0},{"$f":"'LN1'!AT49","v":1},{"$f":"'LN1'!AW53","v":0},{"$f":"'LN1'!AL55-'LN1'!AL46","v":1},{"$f":"'LN1'!AM55-'LN1'!AM46","v":1},{"$f":"'LN1'!AN55-'LN1'!AN46","v":2},{"$f":"'LN1'!AO55-'LN1'!AO46","v":2},{"$f":"'LN1'!AP55-'LN1'!AP46","v":1},{"$f":"'LN1'!AQ55-'LN1'!AQ46","v":2},{"$f":"'LN1'!AR55-'LN1'!AR46","v":2},{"$f":"'LN1'!AS55-'LN1'!AS46","v":1},{"$f":"'LN1'!AT55-'LN1'!AT46","v":2},0,0,0]
[{"$f":"Setup!$C$1","v":1},{"$f":"Setup!$S$46","v":315},{"$f":"'LN1'!$B$3","v":7},{"$f":"Setup!$N$5","v":1},{"$f":"'LN1'!L58","v":97},{"$f":"'LN1'!L59","v":0},{"$f":"'LN1'!AB61","v":"P"},{"$f":"'LN1'!N58","v":40},{"$f":"'LN1'!N65","v":35},{"$f":"'LN1'!O58","v":10},{"$f":"'LN1'!L61","v":"A"},{"$f":"'LN1'!AB58","v":2},{"$f":"'LN1'!AC58","v":6},{"$f":"'LN1'!AD58","v":1},{"$f":"'LN1'!AB59","v":0},{"$f":"'LN1'!AC59","v":1},{"$f":"'LN1'!AD59","v":0},{"$f":"'LN1'!P58","v":5},{"$f":"'LN1'!Q58","v":5},{"$f":"'LN1'!R58","v":7},{"$f":"'LN1'!S58","v":4},{"$f":"'LN1'!T58","v":6},{"$f":"'LN1'!U58","v":5},{"$f":"'LN1'!V58","v":6},{"$f":"'LN1'!W58","v":5},{"$f":"'LN1'!X58","v":6},{"$f":"'LN1'!Y58","v":49},{"$f":"'LN1'!P59","v":0},{"$f":"'LN1'!Q59","v":0},{"$f":"'LN1'!R59","v":0},{"$f":"'LN1'!S59","v":0},{"$f":"'LN1'!T59","v":0},{"$f":"'LN1'!U59","v":1},{"$f":"'LN1'!V59","v":0},{"$f":"'LN1'!W59","v":0},{"$f":"'LN1'!X59","v":0},{"$f":"'LN1'!O59","v":1},{"$f":"'LN1'!P60","v":5},{"$f":"'LN1'!Q60","v":5},{"$f":"'LN1'!R60","v":7},{"$f":"'LN1'!S60","v":4},{"$f":"'LN1'!T60","v":6},{"$f":"'LN1'!U60","v":4},{"$f":"'LN1'!V60","v":6},{"$f":"'LN1'!W60","v":5},{"$f":"'LN1'!X60","v":6},{"$f":"'LN1'!Z58","v":39},{"$f":"'LN1'!P61","v":2},{"$f":"'LN1'!Q61","v":0},{"$f":"'LN1'!R61","v":0},{"$f":"'LN1'!S61","v":1},{"$f":"'LN1'!T61","v":0},{"$f":"'LN1'!U61","v":2},{"$f":"'LN1'!V61","v":0},{"$f":"'LN1'!W61","v":0},{"$f":"'LN1'!X61","v":0},{"$f":"'LN1'!AA60","v":5},{"$f":"'LN1'!P58-'LN1'!P56","v":1},{"$f":"'LN1'!Q58-'LN1'!Q56","v":2},{"$f":"'LN1'!R58-'LN1'!R56","v":3},{"$f":"'LN1'!S58-'LN1'!S56","v":1},{"$f":"'LN1'!T58-'LN1'!T56","v":2},{"$f":"'LN1'!U58-'LN1'!U56","v":1},{"$f":"'LN1'!V58-'LN1'!V56","v":1},{"$f":"'LN1'!W58-'LN1'!W56","v":1},{"$f":"'LN1'!X58-'LN1'!X56","v":2},0,0,0]
[{"$f":"Setup!$C$1","v":1},{"$f":"Setup!$S$46","v":315},{"$f":"'LN1'!$B$3","v":7},{"$f":"Setup!$N$5","v":1},{"$f":"'LN1'!L65","v":79},{"$f":"'LN1'!L64","v":0},{"$f":"'LN1'!AB62","v":"P"},{"$f":"'LN1'!N65","v":35},{"$f":"'LN1'!N58","v":40},{"$f":"'LN1'!O65","v":9},{"$f":"'LN1'!L61","v":"A"},{"$f":"'LN1'!AB65","v":6},{"$f":"'LN1'!AC65","v":2},{"$f":"'LN1'!AD65","v":1},{"$f":"'LN1'!AB64","v":1},{"$f":"'LN1'!AC64","v":0},{"$f":"'LN1'!AD64","v":0},{"$f":"'LN1'!P65","v":7},{"$f":"'LN1'!Q65","v":4},{"$f":"'LN1'!R65","v":5},{"$f":"'LN1'!S65","v":4},{"$f":"'LN1'!T65","v":5},{"$f":"'LN1'!U65","v":5},{"$f":"'LN1'!V65","v":5},{"$f":"'LN1'!W65","v":4},{"$f":"'LN1'!X65","v":5},{"$f":"'LN1'!Y65","v":44},{"$f":"'LN1'!P64","v":0},{"$f":"'LN1'!Q64","v":0},{"$f":"'LN1'!R64","v":0},{"$f":"'LN1'!S64","v":0},{"$f":"'LN1'!T64","v":0},{"$f":"'LN1'!U64","v":0},{"$f":"'LN1'!V64","v":0},{"$f":"'LN1'!W64","v":0},{"$f":"'LN1'!X64","v":0},{"$f":"'LN1'!O64","v":0},{"$f":"'LN1'!P63","v":7},{"$f":"'LN1'!Q63","v":4},{"$f":"'LN1'!R63","v":5},{"$f":"'LN1'!S63","v":4},{"$f":"'LN1'!T63","v":5},{"$f":"'LN1'!U63","v":5},{"$f":"'LN1'!V63","v":5},{"$f":"'LN1'!W63","v":4},{"$f":"'LN1'!X63","v":5},{"$f":"'LN1'!Z65","v":35},{"$f":"'LN1'!P62","v":0},{"$f":"'LN1'!Q62","v":2},{"$f":"'LN1'!R62","v":2},{"$f":"'LN1'!S62","v":1},{"$f":"'LN1'!T62","v":2},{"$f":"'LN1'!U62","v":0},{"$f":"'LN1'!V62","v":2},{"$f":"'LN1'!W62","v":2},{"$f":"'LN1'!X62","v":2},{"$f":"'LN1'!AA63","v":17},{"$f":"'LN1'!P65-'LN1'!P56","v":3},{"$f":"'LN1'!Q65-'LN1'!Q56","v":1},{"$f":"'LN1'!R65-'LN1'!R56","v":1},{"$f":"'LN1'!S65-'LN1'!S56","v":1},{"$f":"'LN1'!T65-'LN1'!T56","v":1},{"$f":"'LN1'!U65-'LN1'!U56","v":1},{"$f":"'LN1'!V65-'LN1'!V56","v":0},{"$f":"'LN1'!W65-'LN1'!W56","v":0},{"$f":"'LN1'!X65-'LN1'!X56","v":1},0,0,2]
[{"$f":"Setup!$C$1","v":1},{"$f":"Setup!$S$46","v":315},{"$f":"'LN1'!$B$3","v":7},{"$f":"Setup!$N$5","v":1},{"$f":"'LN1'!AH58","v":96},{"$f":"'LN1'!AH59","v":0},{"$f":"'LN1'!AX61","v":"P"},{"$f":"'LN1'!AJ58","v":40},{"$f":"'LN1'!AJ65","v":35},{"$f":"'LN1'!AK58","v":12},{"$f":"'LN1'!AH61","v":"B"},{"$f":"'LN1'!AX58","v":1},{"$f":"'LN1'!AY58","v":6},{"$f":"'LN1'!AZ58","v":2},{"$f":"'LN1'!AX59","v":0},{"$f":"'LN1'!AY59","v":1},{"$f":"'LN1'!AZ59","v":0},{"$f":"'LN1'!AL58","v":6},{"$f":"'LN1'!AM58","v":5},{"$f":"'LN1'!AN58","v":5},{"$f":"'LN1'!AO58","v":7},{"$f":"'LN1'!AP58","v":6},{"$f":"'LN1'!AQ58","v":6},{"$f":"'LN1'!AR58","v":6},{"$f":"'LN1'!AS58","v":8},{"$f":"'LN1'!AT58","v":4},{"$f":"'LN1'!AU58","v":53},{"$f":"'LN1'!AL59","v":0},{"$f":"'LN1'!AM59","v":0},{"$f":"'LN1'!AN59","v":0},{"$f":"'LN1'!AO59","v":0},{"$f":"'LN1'!AP59","v":0},{"$f":"'LN1'!AQ59","v":0},{"$f":"'LN1'!AR59","v":0},{"$f":"'LN1'!AS59","v":0},{"$f":"'LN1'!AT59","v":0},{"$f":"'LN1'!AK59","v":0},{"$f":"'LN1'!AL60","v":6},{"$f":"'LN1'!AM60","v":5},{"$f":"'LN1'!AN60","v":5},{"$f":"'LN1'!AO60","v":7},{"$f":"'LN1'!AP60","v":6},{"$f":"'LN1'!AQ60","v":6},{"$f":"'LN1'!AR60","v":6},{"$f":"'LN1'!AS60","v":8},{"$f":"'LN1'!AT60","v":4},{"$f":"'LN1'!AV58","v":41},{"$f":"'LN1'!AL61","v":0},{"$f":"'LN1'!AM61","v":2},{"$f":"'LN1'!AN61","v":1},{"$f":"'LN1'!AO61","v":1},{"$f":"'LN1'!AP61","v":0},{"$f":"'LN1'!AQ61","v":0},{"$f":"'LN1'!AR61","v":0},{"$f":"'LN1'!AS61","v":0},{"$f":"'LN1'!AT61","v":0},{"$f":"'LN1'!AW60","v":4},{"$f":"'LN1'!AL58-'LN1'!AL56","v":2},{"$f":"'LN1'!AM58-'LN1'!AM56","v":2},{"$f":"'LN1'!AN58-'LN1'!AN56","v":1},{"$f":"'LN1'!AO58-'LN1'!AO56","v":4},{"$f":"'LN1'!AP58-'LN1'!AP56","v":2},{"$f":"'LN1'!AQ58-'LN1'!AQ56","v":2},{"$f":"'LN1'!AR58-'LN1'!AR56","v":1},{"$f":"'LN1'!AS58-'LN1'!AS56","v":4},{"$f":"'LN1'!AT58-'LN1'!AT56","v":0},0,0,1]
[{"$f":"Setup!$C$1","v":1},{"$f":"Setup!$S$46","v":315},{"$f":"'LN1'!$B$3","v":7},{"$f":"Setup!$N$5","v":1},{"$f":"'LN1'!AH65","v":145},{"$f":"'LN1'!AH64","v":80},{"$f":"'LN1'!AX62","v":"P"},{"$f":"'LN1'!AJ65","v":35},{"$f":"'LN1'!AJ58","v":40},{"$f":"'LN1'!AK65","v":17},{"$f":"'LN1'!AH61","v":"B"},{"$f":"'LN1'!AX65","v":6},{"$f":"'LN1'!AY65","v":1},{"$f":"'LN1'!AZ65","v":2},{"$f":"'LN1'!AX64","v":1},{"$f":"'LN1'!AY64","v":0},{"$f":"'LN1'!AZ64","v":0},{"$f":"'LN1'!AL65","v":6},{"$f":"'LN1'!AM65","v":6},{"$f":"'LN1'!AN65","v":5},{"$f":"'LN1'!AO65","v":7},{"$f":"'LN1'!AP65","v":5},{"$f":"'LN1'!AQ65","v":6},{"$f":"'LN1'!AR65","v":6},{"$f":"'LN1'!AS65","v":5},{"$f":"'LN1'!AT65","v":4},{"$f":"'LN1'!AU65","v":50},{"$f":"'LN1'!AL64","v":1},{"$f":"'LN1'!AM64","v":0},{"$f":"'LN1'!AN64","v":0},{"$f":"'LN1'!AO64","v":0},{"$f":"'LN1'!AP64","v":0},{"$f":"'LN1'!AQ64","v":1},{"$f":"'LN1'!AR64","v":1},{"$f":"'LN1'!AS64","v":1},{"$f":"'LN1'!AT64","v":1},{"$f":"'LN1'!AK64","v":5},{"$f":"'LN1'!AL63","v":5},{"$f":"'LN1'!AM63","v":6},{"$f":"'LN1'!AN63","v":5},{"$f":"'LN1'!AO63","v":7},{"$f":"'LN1'!AP63","v":5},{"$f":"'LN1'!AQ63","v":5},{"$f":"'LN1'!AR63","v":5},{"$f":"'LN1'!AS63","v":4},{"$f":"'LN1'!AT63","v":3},{"$f":"'LN1'!AV65","v":33},{"$f":"'LN1'!AL62","v":2},{"$f":"'LN1'!AM62","v":0},{"$f":"'LN1'!AN62","v":1},{"$f":"'LN1'!AO62","v":1},{"$f":"'LN1'!AP62","v":2},{"$f":"'LN1'!AQ62","v":2},{"$f":"'LN1'!AR62","v":2},{"$f":"'LN1'!AS62","v":2},{"$f":"'LN1'!AT62","v":2},{"$f":"'LN1'!AW63","v":18},{"$f":"'LN1'!AL65-'LN1'!AL56","v":2},{"$f":"'LN1'!AM65-'LN1'!AM56","v":3},{"$f":"'LN1'!AN65-'LN1'!AN56","v":1},{"$f":"'LN1'!AO65-'LN1'!AO56","v":4},{"$f":"'LN1'!AP65-'LN1'!AP56","v":1},{"$f":"'LN1'!AQ65-'LN1'!AQ56","v":2},{"$f":"'LN1'!AR65-'LN1'!AR56","v":1},{"$f":"'LN1'!AS65-'LN1'!AS56","v":1},{"$f":"'LN1'!AT65-'LN1'!AT56","v":0},0,0,1]
[{"$f":"Setup!$C$1","v":1},{"$f":"Setup!$S$47","v":316},{"$f":"'LN1'!$B$3","v":7},{"$f":"Setup!$N$5","v":1},{"$f":"'LN1'!L68","v":123},{"$f":"'LN1'!L69","v":0},{"$f":"'LN1'!AB71","v":"P"},{"$f":"'LN1'!N68","v":51},{"$f":"'LN1'!N75","v":53},{"$f":"'LN1'!O68","v":8},{"$f":"'LN1'!L71","v":"A"},{"$f":"'LN1'!AB68","v":4},{"$f":"'LN1'!AC68","v":3},{"$f":"'LN1'!AD68","v":2},{"$f":"'LN1'!AB69","v":0},{"$f":"'LN1'!AC69","v":0},{"$f":"'LN1'!AD69","v":1},{"$f":"'LN1'!P68","v":4},{"$f":"'LN1'!Q68","v":3},{"$f":"'LN1'!R68","v":3},{"$f":"'LN1'!S68","v":7},{"$f":"'LN1'!T68","v":5},{"$f":"'LN1'!U68","v":4},{"$f":"'LN1'!V68","v":6},{"$f":"'LN1'!W68","v":5},{"$f":"'LN1'!X68","v":8},{"$f":"'LN1'!Y68","v":45},{"$f":"'LN1'!P69","v":0},{"$f":"'LN1'!Q69","v":0},{"$f":"'LN1'!R69","v":0},{"$f":"'LN1'!S69","v":0},{"$f":"'LN1'!T69","v":0},{"$f":"'LN1'!U69","v":0},{"$f":"'LN1'!V69","v":0},{"$f":"'LN1'!W69","v":0},{"$f":"'LN1'!X69","v":0},{"$f":"'LN1'!O69","v":0},{"$f":"'LN1'!P70","v":4},{"$f":"'LN1'!Q70","v":3},{"$f":"'LN1'!R70","v":3},{"$f":"'LN1'!S70","v":7},{"$f":"'LN1'!T70","v":5},{"$f":"'LN1'!U70","v":4},{"$f":"'LN1'!V70","v":6},{"$f":"'LN1'!W70","v":5},{"$f":"'LN1'!X70","v":8},{"$f":"'LN1'!Z68","v":37},{"$f":"'LN1'!P71","v":2},{"$f":"'LN1'!Q71","v":2},{"$f":"'LN1'!R71","v":1},{"$f":"'LN1'!S71","v":0},{"$f":"'LN1'!T71","v":2},{"$f":"'LN1'!U71","v":2},{"$f":"'LN1'!V71","v":0},{"$f":"'LN1'!W71","v":1},{"$f":"'LN1'!X71","v":0},{"$f":"'LN1'!AA70","v":12},{"$f":"'LN1'!P68-'LN1'!P66","v":0},{"$f":"'LN1'!Q68-'LN1'!Q66","v":0},{"$f":"'LN1'!R68-'LN1'!R66","v":-1},{"$f":"'LN1'!S68-'LN1'!S66","v":3},{"$f":"'LN1'!T68-'LN1'!T66","v":1},{"$f":"'LN1'!U68-'LN1'!U66","v":0},{"$f":"'LN1'!V68-'LN1'!V66","v":2},{"$f":"'LN1'!W68-'LN1'!W66","v":2},{"$f":"'LN1'!X68-'LN1'!X66","v":3},0,1,3]
[{"$f":"Setup!$C$1","v":1},{"$f":"Setup!$S$47","v":316},{"$f":"'LN1'!$B$3","v":7},{"$f":"Setup!$N$5","v":1},{"$f":"'LN1'!L75","v":132},{"$f":"'LN1'!L74","v":130},{"$f":"'LN1'!AB72","v":"P"},{"$f":"'LN1'!N75","v":53},{"$f":"'LN1'!N68","v":51},{"$f":"'LN1'!O75","v":10},{"$f":"'LN1'!L71","v":"A"},{"$f":"'LN1'!AB75","v":3},{"$f":"'LN1'!AC75","v":4},{"$f":"'LN1'!AD75","v":2},{"$f":"'LN1'!AB74","v":0},{"$f":"'LN1'!AC74","v":0},{"$f":"'LN1'!AD74","v":1},{"$f":"'LN1'!P75","v":7},{"$f":"'LN1'!Q75","v":4},{"$f":"'LN1'!R75","v":4},{"$f":"'LN1'!S75","v":4},{"$f":"'LN1'!T75","v":6},{"$f":"'LN1'!U75","v":5},{"$f":"'LN1'!V75","v":5},{"$f":"'LN1'!W75","v":5},{"$f":"'LN1'!X75","v":7},{"$f":"'LN1'!Y75","v":47},{"$f":"'LN1'!P74","v":0},{"$f":"'LN1'!Q74","v":0},{"$f":"'LN1'!R74","v":1},{"$f":"'LN1'!S74","v":1},{"$f":"'LN1'!T74","v":0},{"$f":"'LN1'!U74","v":0},{"$f":"'LN1'!V74","v":0},{"$f":"'LN1'!W74","v":0},{"$f":"'LN1'!X74","v":0},{"$f":"'LN1'!O74","v":2},{"$f":"'LN1'!P73","v":7},{"$f":"'LN1'!Q73","v":4},{"$f":"'LN1'!R73","v":3},{"$f":"'LN1'!S73","v":3},{"$f":"'LN1'!T73","v":6},{"$f":"'LN1'!U73","v":5},{"$f":"'LN1'!V73","v":5},{"$f":"'LN1'!W73","v":5},{"$f":"'LN1'!X73","v":7},{"$f":"'LN1'!Z75","v":37},{"$f":"'LN1'!P72","v":0},{"$f":"'LN1'!Q72","v":0},{"$f":"'LN1'!R72","v":1},{"$f":"'LN1'!S72","v":2},{"$f":"'LN1'!T72","v":0},{"$f":"'LN1'!U72","v":0},{"$f":"'LN1'!V72","v":2},{"$f":"'LN1'!W72","v":1},{"$f":"'LN1'!X72","v":2},{"$f":"'LN1'!AA73","v":10},{"$f":"'LN1'!P75-'LN1'!P66","v":3},{"$f":"'LN1'!Q75-'LN1'!Q66","v":1},{"$f":"'LN1'!R75-'LN1'!R66","v":0},{"$f":"'LN1'!S75-'LN1'!S66","v":0},{"$f":"'LN1'!T75-'LN1'!T66","v":2},{"$f":"'LN1'!U75-'LN1'!U66","v":1},{"$f":"'LN1'!V75-'LN1'!V66","v":1},{"$f":"'LN1'!W75-'LN1'!W66","v":2},{"$f":"'LN1'!X75-'LN1'!X66","v":2},0,0,2]
[{"$f":"Setup!$C$1","v":1},{"$f":"Setup!$S$47","v":316},{"$f":"'LN1'!$B$3","v":7},{"$f":"Setup!$N$5","v":1},{"$f":"'LN1'!AH68","v":125},{"$f":"'LN1'!AH69","v":0},{"$f":"'LN1'!AX71","v":"P"},{"$f":"'LN1'!AJ68","v":51},{"$f":"'LN1'!AJ75","v":53},{"$f":"'LN1'!AK68","v":11},{"$f":"'LN1'!AH71","v":"B"},{"$f":"'LN1'!AX68","v":2},{"$f":"'LN1'!AY68","v":3},{"$f":"'LN1'!AZ68","v":4},{"$f":"'LN1'!AX69","v":0},{"$f":"'LN1'!AY69","v":1},{"$f":"'LN1'!AZ69","v":0},{"$f":"'LN1'!AL68","v":3},{"$f":"'LN1'!AM68","v":4},{"$f":"'LN1'!AN68","v":7},{"$f":"'LN1'!AO68","v":6},{"$f":"'LN1'!AP68","v":6},{"$f":"'LN1'!AQ68","v":6},{"$f":"'LN1'!AR68","v":6},{"$f":"'LN1'!AS68","v":5},{"$f":"'LN1'!AT68","v":8},{"$f":"'LN1'!AU68","v":51},{"$f":"'LN1'!AL69","v":0},{"$f":"'LN1'!AM69","v":0},{"$f":"'LN1'!AN69","v":0},{"$f":"'LN1'!AO69","v":0},{"$f":"'LN1'!AP69","v":0},{"$f":"'LN1'!AQ69","v":0},{"$f":"'LN1'!AR69","v":0},{"$f":"'LN1'!AS69","v":0},{"$f":"'LN1'!AT69","v":0},{"$f":"'LN1'!AK69","v":0},{"$f":"'LN1'!AL70","v":3},{"$f":"'LN1'!AM70","v":4},{"$f":"'LN1'!AN70","v":7},{"$f":"'LN1'!AO70","v":6},{"$f":"'LN1'!AP70","v":6},{"$f":"'LN1'!AQ70","v":6},{"$f":"'LN1'!AR70","v":6},{"$f":"'LN1'!AS70","v":5},{"$f":"'LN1'!AT70","v":8},{"$f":"'LN1'!AV68","v":40},{"$f":"'LN1'!AL71","v":2},{"$f":"'LN1'!AM71","v":1},{"$f":"'LN1'!AN71","v":0},{"$f":"'LN1'!AO71","v":2},{"$f":"'LN1'!AP71","v":1},{"$f":"'LN1'!AQ71","v":1},{"$f":"'LN1'!AR71","v":1},{"$f":"'LN1'!AS71","v":0},{"$f":"'LN1'!AT71","v":0},{"$f":"'LN1'!AW70","v":8},{"$f":"'LN1'!AL68-'LN1'!AL66","v":-1},{"$f":"'LN1'!AM68-'LN1'!AM66","v":1},{"$f":"'LN1'!AN68-'LN1'!AN66","v":3},{"$f":"'LN1'!AO68-'LN1'!AO66","v":2},{"$f":"'LN1'!AP68-'LN1'!AP66","v":2},{"$f":"'LN1'!AQ68-'LN1'!AQ66","v":2},{"$f":"'LN1'!AR68-'LN1'!AR66","v":2},{"$f":"'LN1'!AS68-'LN1'!AS66","v":2},{"$f":"'LN1'!AT68-'LN1'!AT66","v":3},0,1,0]
[{"$f":"Setup!$C$1","v":1},{"$f":"Setup!$S$47","v":316},{"$f":"'LN1'!$B$3","v":7},{"$f":"Setup!$N$5","v":1},{"$f":"'LN1'!AH75","v":129},{"$f":"'LN1'!AH74","v":0},{"$f":"'LN1'!AX72","v":"P"},{"$f":"'LN1'!AJ75","v":53},{"$f":"'LN1'!AJ68","v":51},{"$f":"'LN1'!AK75","v":12},{"$f":"'LN1'!AH71","v":"B"},{"$f":"'LN1'!AX75","v":3},{"$f":"'LN1'!AY75","v":2},{"$f":"'LN1'!AZ75","v":4},{"$f":"'LN1'!AX74","v":1},{"$f":"'LN1'!AY74","v":0},{"$f":"'LN1'!AZ74","v":0},{"$f":"'LN1'!AL75","v":5},{"$f":"'LN1'!AM75","v":4},{"$f":"'LN1'!AN75","v":5},{"$f":"'LN1'!AO75","v":8},{"$f":"'LN1'!AP75","v":6},{"$f":"'LN1'!AQ75","v":6},{"$f":"'LN1'!AR75","v":6},{"$f":"'LN1'!AS75","v":4},{"$f":"'LN1'!AT75","v":7},{"$f":"'LN1'!AU75","v":51},{"$f":"'LN1'!AL74","v":0},{"$f":"'LN1'!AM74","v":0},{"$f":"'LN1'!AN74","v":1},{"$f":"'LN1'!AO74","v":0},{"$f":"'LN1'!AP74","v":0},{"$f":"'LN1'!AQ74","v":0},{"$f":"'LN1'!AR74","v":0},{"$f":"'LN1'!AS74","v":0},{"$f":"'LN1'!AT74","v":0},{"$f":"'LN1'!AK74","v":1},{"$f":"'LN1'!AL73","v":5},{"$f":"'LN1'!AM73","v":4},{"$f":"'LN1'!AN73","v":4},{"$f":"'LN1'!AO73","v":8},{"$f":"'LN1'!AP73","v":6},{"$f":"'LN1'!AQ73","v":6},{"$f":"'LN1'!AR73","v":6},{"$f":"'LN1'!AS73","v":4},{"$f":"'LN1'!AT73","v":7},{"$f":"'LN1'!AV75","v":39},{"$f":"'LN1'!AL72","v":0},{"$f":"'LN1'!AM72","v":1},{"$f":"'LN1'!AN72","v":2},{"$f":"'LN1'!AO72","v":0},{"$f":"'LN1'!AP72","v":1},{"$f":"'LN1'!AQ72","v":1},{"$f":"'LN1'!AR72","v":1},{"$f":"'LN1'!AS72","v":2},{"$f":"'LN1'!AT72","v":2},{"$f":"'LN1'!AW73","v":14},{"$f":"'LN1'!AL75-'LN1'!AL66","v":1},{"$f":"'LN1'!AM75-'LN1'!AM66","v":1},{"$f":"'LN1'!AN75-'LN1'!AN66","v":1},{"$f":"'LN1'!AO75-'LN1'!AO66","v":4},{"$f":"'LN1'!AP75-'LN1'!AP66","v":2},{"$f":"'LN1'!AQ75-'LN1'!AQ66","v":2},{"$f":"'LN1'!AR75-'LN1'!AR66","v":2},{"$f":"'LN1'!AS75-'LN1'!AS66","v":1},{"$f":"'LN1'!AT75-'LN1'!AT66","v":2},0,0,0]
[{"$f":"Setup!$C$1","v":1},{"$f":"Setup!$S$48","v":317},{"$f":"'LN1'!$B$3","v":7},{"$f":"Setup!$N$5","v":1},{"$f":"'LN1'!L78","v":99},{"$f":"'LN1'!L79","v":0},{"$f":"'LN1'!AB81","v":"P"},{"$f":"'LN1'!N78","v":41},{"$f":"'LN1'!N85","v":43},{"$f":"'LN1'!O78","v":15},{"$f":"'LN1'!L81","v":"A"},{"$f":"'LN1'!AB78","v":5},{"$f":"'LN1'!AC78","v":3},{"$f":"'LN1'!AD78","v":1},{"$f":"'LN1'!AB79","v":0},{"$f":"'LN1'!AC79","v":1},{"$f":"'LN1'!AD79","v":0},{"$f":"'LN1'!P78","v":7},{"$f":"'LN1'!Q78","v":5},{"$f":"'LN1'!R78","v":7},{"$f":"'LN1'!S78","v":4},{"$f":"'LN1'!T78","v":6},{"$f":"'LN1'!U78","v":8},{"$f":"'LN1'!V78","v":8},{"$f":"'LN1'!W78","v":5},{"$f":"'LN1'!X78","v":6},{"$f":"'LN1'!Y78","v":56},{"$f":"'LN1'!P79","v":0},{"$f":"'LN1'!Q79","v":0},{"$f":"'LN1'!R79","v":0},{"$f":"'LN1'!S79","v":0},{"$f":"'LN1'!T79","v":0},{"$f":"'LN1'!U79","v":1},{"$f":"'LN1'!V79","v":0},{"$f":"'LN1'!W79","v":0},{"$f":"'LN1'!X79","v":0},{"$f":"'LN1'!Y79","v":0},{"$f":"'LN1'!P80","v":7},{"$f":"'LN1'!Q80","v":5},{"$f":"'LN1'!R80","v":7},{"$f":"'LN1'!S80","v":4},{"$f":"'LN1'!T80","v":6},{"$f":"'LN1'!U80","v":7},{"$f":"'LN1'!V80","v":8},{"$f":"'LN1'!W80","v":5},{"$f":"'LN1'!X80","v":6},{"$f":"'LN1'!Z78","v":41},{"$f":"'LN1'!P81","v":0},{"$f":"'LN1'!Q81","v":2},{"$f":"'LN1'!R81","v":0},{"$f":"'LN1'!S81","v":2},{"$f":"'LN1'!T81","v":0},{"$f":"'LN1'!U81","v":1},{"$f":"'LN1'!V81","v":2},{"$f":"'LN1'!W81","v":2},{"$f":"'LN1'!X81","v":2},{"$f":"'LN1'!AA80","v":11},{"$f":"'LN1'!P78-'LN1'!P76","v":3},{"$f":"'LN1'!Q78-'LN1'!Q76","v":2},{"$f":"'LN1'!R78-'LN1'!R76","v":3},{"$f":"'LN1'!S78-'LN1'!S76","v":1},{"$f":"'LN1'!T78-'LN1'!T76","v":2},{"$f":"'LN1'!U78-'LN1'!U76","v":4},{"$f":"'LN1'!V78-'LN1'!V76","v":3},{"$f":"'LN1'!W78-'LN1'!W76","v":1},{"$f":"'LN1'!X78-'LN1'!X76","v":2},0,0,0]
[{"$f":"Setup!$C$1","v":1},{"$f":"Setup!$S$48","v":317},{"$f":"'LN1'!$B$3","v":7},{"$f":"Setup!$N$5","v":1},{"$f":"'LN1'!L85","v":105},{"$f":"'LN1'!L84","v":0},{"$f":"'LN1'!AB82","v":"P"},{"$f":"'LN1'!N85","v":43},{"$f":"'LN1'!N78","v":41},{"$f":"'LN1'!O85","v":14},{"$f":"'LN1'!L81","v":"A"},{"$f":"'LN1'!AB85","v":3},{"$f":"'LN1'!AC85","v":5},{"$f":"'LN1'!AD85","v":1},{"$f":"'LN1'!AB84","v":1},{"$f":"'LN1'!AC84","v":0},{"$f":"'LN1'!AD84","v":0},{"$f":"'LN1'!P85","v":5},{"$f":"'LN1'!Q85","v":6},{"$f":"'LN1'!R85","v":5},{"$f":"'LN1'!S85","v":5},{"$f":"'LN1'!T85","v":4},{"$f":"'LN1'!U85","v":7},{"$f":"'LN1'!V85","v":9},{"$f":"'LN1'!W85","v":6},{"$f":"'LN1'!X85","v":7},{"$f":"'LN1'!Y85","v":54},{"$f":"'LN1'!P84","v":0},{"$f":"'LN1'!Q84","v":0},{"$f":"'LN1'!R84","v":0},{"$f":"'LN1'!S84","v":0},{"$f":"'LN1'!T84","v":0},{"$f":"'LN1'!U84","v":0},{"$f":"'LN1'!V84","v":0},{"$f":"'LN1'!W84","v":0},{"$f":"'LN1'!X84","v":0},{"$f":"'LN1'!Y84","v":0},{"$f":"'LN1'!P83","v":5},{"$f":"'LN1'!Q83","v":6},{"$f":"'LN1'!R83","v":5},{"$f":"'LN1'!S83","v":5},{"$f":"'LN1'!T83","v":4},{"$f":"'LN1'!U83","v":7},{"$f":"'LN1'!V83","v":9},{"$f":"'LN1'!W83","v":6},{"$f":"'LN1'!X83","v":7},{"$f":"'LN1'!Z85","v":40},{"$f":"'LN1'!P82","v":2},{"$f":"'LN1'!Q82","v":0},{"$f":"'LN1'!R82","v":2},{"$f":"'LN1'!S82","v":0},{"$f":"'LN1'!T82","v":2},{"$f":"'LN1'!U82","v":1},{"$f":"'LN1'!V82","v":0},{"$f":"'LN1'!W82","v":0},{"$f":"'LN1'!X82","v":0},{"$f":"'LN1'!AA83","v":11},{"$f":"'LN1'!P85-'LN1'!P76","v":1},{"$f":"'LN1'!Q85-'LN1'!Q76","v":3},{"$f":"'LN1'!R85-'LN1'!R76","v":1},{"$f":"'LN1'!S85-'LN1'!S76","v":2},{"$f":"'LN1'!T85-'LN1'!T76","v":0},{"$f":"'LN1'!U85-'LN1'!U76","v":3},{"$f":"'LN1'!V85-'LN1'!V76","v":4},{"$f":"'LN1'!W85-'LN1'!W76","v":2},{"$f":"'LN1'!X85-'LN1'!X76","v":3},0,0,1]
[{"$f":"Setup!$C$1","v":1},{"$f":"Setup!$S$48","v":317},{"$f":"'LN1'!$B$3","v":7},{"$f":"Setup!$N$5","v":1},{"$f":"'LN1'!AH78","v":98},{"$f":"'LN1'!AH79","v":0},{"$f":"'LN1'!AX81","v":"P"},{"$f":"'LN1'!AJ78","v":41},{"$f":"'LN1'!AJ85","v":43},{"$f":"'LN1'!AK78","v":17},{"$f":"'LN1'!AH81","v":"B"},{"$f":"'LN1'!AX78","v":3},{"$f":"'LN1'!AY78","v":2},{"$f":"'LN1'!AZ78","v":4},{"$f":"'LN1'!AX79","v":1},{"$f":"'LN1'!AY79","v":0},{"$f":"'LN1'!AZ79","v":0},{"$f":"'LN1'!AL78","v":8},{"$f":"'LN1'!AM78","v":5},{"$f":"'LN1'!AN78","v":7},{"$f":"'LN1'!AO78","v":5},{"$f":"'LN1'!AP78","v":5},{"$f":"'LN1'!AQ78","v":7},{"$f":"'LN1'!AR78","v":6},{"$f":"'LN1'!AS78","v":6},{"$f":"'LN1'!AT78","v":7},{"$f":"'LN1'!AU78","v":56},{"$f":"'LN1'!AL79","v":0},{"$f":"'LN1'!AM79","v":0},{"$f":"'LN1'!AN79","v":0},{"$f":"'LN1'!AO79","v":0},{"$f":"'LN1'!AP79","v":0},{"$f":"'LN1'!AQ79","v":0},{"$f":"'LN1'!AR79","v":0},{"$f":"'LN1'!AS79","v":0},{"$f":"'LN1'!AT79","v":0},{"$f":"'LN1'!AU79","v":0},{"$f":"'LN1'!AL80","v":8},{"$f":"'LN1'!AM80","v":5},{"$f":"'LN1'!AN80","v":7},{"$f":"'LN1'!AO80","v":5},{"$f":"'LN1'!AP80","v":5},{"$f":"'LN1'!AQ80","v":7},{"$f":"'LN1'!AR80","v":6},{"$f":"'LN1'!AS80","v":6},{"$f":"'LN1'!AT80","v":7},{"$f":"'LN1'!AV78","v":39},{"$f":"'LN1'!AL81","v":1},{"$f":"'LN1'!AM81","v":1},{"$f":"'LN1'!AN81","v":2},{"$f":"'LN1'!AO81","v":1},{"$f":"'LN1'!AP81","v":2},{"$f":"'LN1'!AQ81","v":1},{"$f":"'LN1'!AR81","v":2},{"$f":"'LN1'!AS81","v":0},{"$f":"'LN1'!AT81","v":0},{"$f":"'LN1'!AW80","v":14},{"$f":"'LN1'!AL78-'LN1'!AL76","v":4},{"$f":"'LN1'!AM78-'LN1'!AM76","v":2},{"$f":"'LN1'!AN78-'LN1'!AN76","v":3},{"$f":"'LN1'!AO78-'LN1'!AO76","v":2},{"$f":"'LN1'!AP78-'LN1'!AP76","v":1},{"$f":"'LN1'!AQ78-'LN1'!AQ76","v":3},{"$f":"'LN1'!AR78-'LN1'!AR76","v":1},{"$f":"'LN1'!AS78-'LN1'!AS76","v":2},{"$f":"'LN1'!AT78-'LN1'!AT76","v":3},0,0,0]
[{"$f":"Setup!$C$1","v":1},{"$f":"Setup!$S$48","v":317},{"$f":"'LN1'!$B$3","v":7},{"$f":"Setup!$N$5","v":1},{"$f":"'LN1'!AH85","v":106},{"$f":"'LN1'!AH84","v":0},{"$f":"'LN1'!AX82","v":"P"},{"$f":"'LN1'!AJ85","v":43},{"$f":"'LN1'!AJ78","v":41},{"$f":"'LN1'!AK85","v":17},{"$f":"'LN1'!AH81","v":"B"},{"$f":"'LN1'!AX85","v":2},{"$f":"'LN1'!AY85","v":3},{"$f":"'LN1'!AZ85","v":4},{"$f":"'LN1'!AX84","v":0},{"$f":"'LN1'!AY84","v":1},{"$f":"'LN1'!AZ84","v":0},{"$f":"'LN1'!AL85","v":8},{"$f":"'LN1'!AM85","v":5},{"$f":"'LN1'!AN85","v":8},{"$f":"'LN1'!AO85","v":5},{"$f":"'LN1'!AP85","v":8},{"$f":"'LN1'!AQ85","v":7},{"$f":"'LN1'!AR85","v":9},{"$f":"'LN1'!AS85","v":5},{"$f":"'LN1'!AT85","v":4},{"$f":"'LN1'!AU85","v":59},{"$f":"'LN1'!AL84","v":0},{"$f":"'LN1'!AM84","v":0},{"$f":"'LN1'!AN84","v":0},{"$f":"'LN1'!AO84","v":0},{"$f":"'LN1'!AP84","v":0},{"$f":"'LN1'!AQ84","v":0},{"$f":"'LN1'!AR84","v":0},{"$f":"'LN1'!AS84","v":0},{"$f":"'LN1'!AT84","v":0},{"$f":"'LN1'!AU84","v":0},{"$f":"'LN1'!AL83","v":8},{"$f":"'LN1'!AM83","v":5},{"$f":"'LN1'!AN83","v":8},{"$f":"'LN1'!AO83","v":5},{"$f":"'LN1'!AP83","v":8},{"$f":"'LN1'!AQ83","v":7},{"$f":"'LN1'!AR83","v":9},{"$f":"'LN1'!AS83","v":5},{"$f":"'LN1'!AT83","v":4},{"$f":"'LN1'!AV85","v":42},{"$f":"'LN1'!AL82","v":1},{"$f":"'LN1'!AM82","v":1},{"$f":"'LN1'!AN82","v":0},{"$f":"'LN1'!AO82","v":1},{"$f":"'LN1'!AP82","v":0},{"$f":"'LN1'!AQ82","v":1},{"$f":"'LN1'!AR82","v":0},{"$f":"'LN1'!AS82","v":2},{"$f":"'LN1'!AT82","v":2},{"$f":"'LN1'!AW83","v":8},{"$f":"'LN1'!AL85-'LN1'!AL76","v":4},{"$f":"'LN1'!AM85-'LN1'!AM76","v":2},{"$f":"'LN1'!AN85-'LN1'!AN76","v":4},{"$f":"'LN1'!AO85-'LN1'!AO76","v":2},{"$f":"'LN1'!AP85-'LN1'!AP76","v":4},{"$f":"'LN1'!AQ85-'LN1'!AQ76","v":3},{"$f":"'LN1'!AR85-'LN1'!AR76","v":4},{"$f":"'LN1'!AS85-'LN1'!AS76","v":1},{"$f":"'LN1'!AT85-'LN1'!AT76","v":0},0,0,1]
[{"$f":"Setup!$C$1","v":1},{"$f":"Setup!$S$49","v":318},{"$f":"'LN1'!$B$3","v":7},{"$f":"Setup!$N$5","v":1},{"$f":"'LN1'!L88","v":126},{"$f":"'LN1'!L89","v":0},{"$f":"'LN1'!AB91","v":"P"},{"$f":"'LN1'!N88","v":52},{"$f":"'LN1'!N95","v":44},{"$f":"'LN1'!O88","v":7},{"$f":"'LN1'!L91","v":"A"},{"$f":"'LN1'!AB88","v":4},{"$f":"'LN1'!AC88","v":3},{"$f":"'LN1'!AD88","v":2},{"$f":"'LN1'!AB89","v":0},{"$f":"'LN1'!AC89","v":1},{"$f":"'LN1'!AD89","v":0},{"$f":"'LN1'!P88","v":4},{"$f":"'LN1'!Q88","v":3},{"$f":"'LN1'!R88","v":6},{"$f":"'LN1'!S88","v":5},{"$f":"'LN1'!T88","v":5},{"$f":"'LN1'!U88","v":8},{"$f":"'LN1'!V88","v":6},{"$f":"'LN1'!W88","v":3},{"$f":"'LN1'!X88","v":6},{"$f":"'LN1'!Y88","v":46},{"$f":"'LN1'!P89","v":0},{"$f":"'LN1'!Q89","v":0},{"$f":"'LN1'!R89","v":0},{"$f":"'LN1'!S89","v":0},{"$f":"'LN1'!T89","v":0},{"$f":"'LN1'!U89","v":0},{"$f":"'LN1'!V89","v":0},{"$f":"'LN1'!W89","v":0},{"$f":"'LN1'!X89","v":0},{"$f":"'LN1'!Y89","v":0},{"$f":"'LN1'!P90","v":4},{"$f":"'LN1'!Q90","v":3},{"$f":"'LN1'!R90","v":6},{"$f":"'LN1'!S90","v":5},{"$f":"'LN1'!T90","v":5},{"$f":"'LN1'!U90","v":8},{"$f":"'LN1'!V90","v":6},{"$f":"'LN1'!W90","v":3},{"$f":"'LN1'!X90","v":6},{"$f":"'LN1'!Z88","v":39},{"$f":"'LN1'!P91","v":2},{"$f":"'LN1'!Q91","v":2},{"$f":"'LN1'!R91","v":0},{"$f":"'LN1'!S91","v":1},{"$f":"'LN1'!T91","v":1},{"$f":"'LN1'!U91","v":0},{"$f":"'LN1'!V91","v":0},{"$f":"'LN1'!W91","v":2},{"$f":"'LN1'!X91","v":2},{"$f":"'LN1'!AA90","v":10},{"$f":"'LN1'!P88-'LN1'!P86","v":0},{"$f":"'LN1'!Q88-'LN1'!Q86","v":0},{"$f":"'LN1'!R88-'LN1'!R86","v":2},{"$f":"'LN1'!S88-'LN1'!S86","v":1},{"$f":"'LN1'!T88-'LN1'!T86","v":1},{"$f":"'LN1'!U88-'LN1'!U86","v":4},{"$f":"'LN1'!V88-'LN1'!V86","v":2},{"$f":"'LN1'!W88-'LN1'!W86","v":0},{"$f":"'LN1'!X88-'LN1'!X86","v":1},0,0,3]
[{"$f":"Setup!$C$1","v":1},{"$f":"Setup!$S$49","v":318},{"$f":"'LN1'!$B$3","v":7},{"$f":"Setup!$N$5","v":1},{"$f":"'LN1'!L95","v":107},{"$f":"'LN1'!L94","v":0},{"$f":"'LN1'!AB92","v":"D"},{"$f":"'LN1'!N95","v":44},{"$f":"'LN1'!N88","v":52},{"$f":"'LN1'!O95","v":9},{"$f":"'LN1'!L91","v":"A"},{"$f":"'LN1'!AB95","v":0},{"$f":"'LN1'!AC95","v":0},{"$f":"'LN1'!AD95","v":0},{"$f":"'LN1'!AB94","v":0},{"$f":"'LN1'!AC94","v":0},{"$f":"'LN1'!AD94","v":0},{"$f":"'LN1'!P95","v":5},{"$f":"'LN1'!Q95","v":4},{"$f":"'LN1'!R95","v":6},{"$f":"'LN1'!S95","v":6},{"$f":"'LN1'!T95","v":5},{"$f":"'LN1'!U95","v":5},{"$f":"'LN1'!V95","v":5},{"$f":"'LN1'!W95","v":4},{"$f":"'LN1'!X95","v":7},{"$f":"'LN1'!Y95","v":47},{"$f":"'LN1'!P94","v":0},{"$f":"'LN1'!Q94","v":0},{"$f":"'LN1'!R94","v":1},{"$f":"'LN1'!S94","v":1},{"$f":"'LN1'!T94","v":0},{"$f":"'LN1'!U94","v":0},{"$f":"'LN1'!V94","v":0},{"$f":"'LN1'!W94","v":0},{"$f":"'LN1'!X94","v":0},{"$f":"'LN1'!Y94","v":0},{"$f":"'LN1'!P93","v":5},{"$f":"'LN1'!Q93","v":4},{"$f":"'LN1'!R93","v":5},{"$f":"'LN1'!S93","v":5},{"$f":"'LN1'!T93","v":5},{"$f":"'LN1'!U93","v":5},{"$f":"'LN1'!V93","v":5},{"$f":"'LN1'!W93","v":4},{"$f":"'LN1'!X93","v":7},{"$f":"'LN1'!Z95","v":38},{"$f":"'LN1'!P92","v":0},{"$f":"'LN1'!Q92","v":0},{"$f":"'LN1'!R92","v":2},{"$f":"'LN1'!S92","v":1},{"$f":"'LN1'!T92","v":1},{"$f":"'LN1'!U92","v":2},{"$f":"'LN1'!V92","v":2},{"$f":"'LN1'!W92","v":0},{"$f":"'LN1'!X92","v":0},{"$f":"'LN1'!AA93","v":0},{"$f":"'LN1'!P95-'LN1'!P86","v":1},{"$f":"'LN1'!Q95-'LN1'!Q86","v":1},{"$f":"'LN1'!R95-'LN1'!R86","v":2},{"$f":"'LN1'!S95-'LN1'!S86","v":2},{"$f":"'LN1'!T95-'LN1'!T86","v":1},{"$f":"'LN1'!U95-'LN1'!U86","v":1},{"$f":"'LN1'!V95-'LN1'!V86","v":1},{"$f":"'LN1'!W95-'LN1'!W86","v":1},{"$f":"'LN1'!X95-'LN1'!X86","v":2},0,0,0]
[{"$f":"Setup!$C$1","v":1},{"$f":"Setup!$S$49","v":318},{"$f":"'LN1'!$B$3","v":7},{"$f":"Setup!$N$5","v":1},{"$f":"'LN1'!AH88","v":128},{"$f":"'LN1'!AH89","v":127},{"$f":"'LN1'!AX91","v":"P"},{"$f":"'LN1'!AJ88","v":52},{"$f":"'LN1'!AJ95","v":44},{"$f":"'LN1'!AK88","v":13},{"$f":"'LN1'!AH91","v":"B"},{"$f":"'LN1'!AX88","v":4},{"$f":"'LN1'!AY88","v":5},{"$f":"'LN1'!AZ88","v":0},{"$f":"'LN1'!AX89","v":1},{"$f":"'LN1'!AY89","v":0},{"$f":"'LN1'!AZ89","v":0},{"$f":"'LN1'!AL88","v":5},{"$f":"'LN1'!AM88","v":4},{"$f":"'LN1'!AN88","v":6},{"$f":"'LN1'!AO88","v":8},{"$f":"'LN1'!AP88","v":6},{"$f":"'LN1'!AQ88","v":5},{"$f":"'LN1'!AR88","v":5},{"$f":"'LN1'!AS88","v":5},{"$f":"'LN1'!AT88","v":8},{"$f":"'LN1'!AU88","v":52},{"$f":"'LN1'!AL89","v":0},{"$f":"'LN1'!AM89","v":0},{"$f":"'LN1'!AN89","v":0},{"$f":"'LN1'!AO89","v":0},{"$f":"'LN1'!AP89","v":0},{"$f":"'LN1'!AQ89","v":0},{"$f":"'LN1'!AR89","v":0},{"$f":"'LN1'!AS89","v":0},{"$f":"'LN1'!AT89","v":0},{"$f":"'LN1'!AU89","v":0},{"$f":"'LN1'!AL90","v":5},{"$f":"'LN1'!AM90","v":4},{"$f":"'LN1'!AN90","v":6},{"$f":"'LN1'!AO90","v":8},{"$f":"'LN1'!AP90","v":6},{"$f":"'LN1'!AQ90","v":5},{"$f":"'LN1'!AR90","v":5},{"$f":"'LN1'!AS90","v":5},{"$f":"'LN1'!AT90","v":8},{"$f":"'LN1'!AV88","v":39},{"$f":"'LN1'!AL91","v":2},{"$f":"'LN1'!AM91","v":2},{"$f":"'LN1'!AN91","v":0},{"$f":"'LN1'!AO91","v":0},{"$f":"'LN1'!AP91","v":2},{"$f":"'LN1'!AQ91","v":0},{"$f":"'LN1'!AR91","v":2},{"$f":"'LN1'!AS91","v":0},{"$f":"'LN1'!AT91","v":0},{"$f":"'LN1'!AW90","v":12},{"$f":"'LN1'!AL88-'LN1'!AL86","v":1},{"$f":"'LN1'!AM88-'LN1'!AM86","v":1},{"$f":"'LN1'!AN88-'LN1'!AN86","v":2},{"$f":"'LN1'!AO88-'LN1'!AO86","v":4},{"$f":"'LN1'!AP88-'LN1'!AP86","v":2},{"$f":"'LN1'!AQ88-'LN1'!AQ86","v":1},{"$f":"'LN1'!AR88-'LN1'!AR86","v":1},{"$f":"'LN1'!AS88-'LN1'!AS86","v":2},{"$f":"'LN1'!AT88-'LN1'!AT86","v":3},0,0,0]
[{"$f":"Setup!$C$1","v":1},{"$f":"Setup!$S$49","v":318},{"$f":"'LN1'!$B$3","v":7},{"$f":"Setup!$N$5","v":1},{"$f":"'LN1'!AH95","v":108},{"$f":"'LN1'!AH94","v":0},{"$f":"'LN1'!AX92","v":"P"},{"$f":"'LN1'!AJ95","v":44},{"$f":"'LN1'!AJ88","v":52},{"$f":"'LN1'!AK95","v":18},{"$f":"'LN1'!AH91","v":"B"},{"$f":"'LN1'!AX95","v":5},{"$f":"'LN1'!AY95","v":4},{"$f":"'LN1'!AZ95","v":0},{"$f":"'LN1'!AX94","v":0},{"$f":"'LN1'!AY94","v":1},{"$f":"'LN1'!AZ94","v":0},{"$f":"'LN1'!AL95","v":7},{"$f":"'LN1'!AM95","v":6},{"$f":"'LN1'!AN95","v":6},{"$f":"'LN1'!AO95","v":8},{"$f":"'LN1'!AP95","v":7},{"$f":"'LN1'!AQ95","v":5},{"$f":"'LN1'!AR95","v":7},{"$f":"'LN1'!AS95","v":4},{"$f":"'LN1'!AT95","v":8},{"$f":"'LN1'!AU95","v":58},{"$f":"'LN1'!AL94","v":0},{"$f":"'LN1'!AM94","v":0},{"$f":"'LN1'!AN94","v":1},{"$f":"'LN1'!AO94","v":1},{"$f":"'LN1'!AP94","v":0},{"$f":"'LN1'!AQ94","v":1},{"$f":"'LN1'!AR94","v":1},{"$f":"'LN1'!AS94","v":0},{"$f":"'LN1'!AT94","v":1},{"$f":"'LN1'!AU94","v":0},{"$f":"'LN1'!AL93","v":7},{"$f":"'LN1'!AM93","v":6},{"$f":"'LN1'!AN93","v":5},{"$f":"'LN1'!AO93","v":7},{"$f":"'LN1'!AP93","v":7},{"$f":"'LN1'!AQ93","v":4},{"$f":"'LN1'!AR93","v":6},{"$f":"'LN1'!AS93","v":4},{"$f":"'LN1'!AT93","v":7},{"$f":"'LN1'!AV95","v":40},{"$f":"'LN1'!AL92","v":0},{"$f":"'LN1'!AM92","v":0},{"$f":"'LN1'!AN92","v":2},{"$f":"'LN1'!AO92","v":2},{"$f":"'LN1'!AP92","v":0},{"$f":"'LN1'!AQ92","v":2},{"$f":"'LN1'!AR92","v":0},{"$f":"'LN1'!AS92","v":2},{"$f":"'LN1'!AT92","v":2},{"$f":"'LN1'!AW93","v":10},{"$f":"'LN1'!AL95-'LN1'!AL86","v":3},{"$f":"'LN1'!AM95-'LN1'!AM86","v":3},{"$f":"'LN1'!AN95-'LN1'!AN86","v":2},{"$f":"'LN1'!AO95-'LN1'!AO86","v":4},{"$f":"'LN1'!AP95-'LN1'!AP86","v":3},{"$f":"'LN1'!AQ95-'LN1'!AQ86","v":1},{"$f":"'LN1'!AR95-'LN1'!AR86","v":3},{"$f":"'LN1'!AS95-'LN1'!AS86","v":1},{"$f":"'LN1'!AT95-'LN1'!AT86","v":3},0,0,0]
[{"$f":"Setup!$C$1","v":1},{"$f":"Setup!$S$50","v":319},{"$f":"'LN1'!$B$3","v":7},{"$f":"Setup!$N$5","v":1},{"$f":"'LN1'!L98","v":103},{"$f":"'LN1'!L99","v":0},{"$f":"'LN1'!AB101","v":"P"},{"$f":"'LN1'!N98","v":42},{"$f":"'LN1'!N105","v":34},{"$f":"'LN1'!O98","v":8},{"$f":"'LN1'!L101","v":"A"},{"$f":"'LN1'!AB98","v":4},{"$f":"'LN1'!AC98","v":4},{"$f":"'LN1'!AD98","v":1},{"$f":"'LN1'!AB99","v":1},{"$f":"'LN1'!AC99","v":0},{"$f":"'LN1'!AD99","v":0},{"$f":"'LN1'!P98","v":5},{"$f":"'LN1'!Q98","v":4},{"$f":"'LN1'!R98","v":5},{"$f":"'LN1'!S98","v":3},{"$f":"'LN1'!T98","v":5},{"$f":"'LN1'!U98","v":6},{"$f":"'LN1'!V98","v":6},{"$f":"'LN1'!W98","v":5},{"$f":"'LN1'!X98","v":5},{"$f":"'LN1'!Y98","v":44},{"$f":"'LN1'!P99","v":0},{"$f":"'LN1'!Q99","v":0},{"$f":"'LN1'!R99","v":0},{"$f":"'LN1'!S99","v":0},{"$f":"'LN1'!T99","v":0},{"$f":"'LN1'!U99","v":1},{"$f":"'LN1'!V99","v":0},{"$f":"'LN1'!W99","v":0},{"$f":"'LN1'!X99","v":1},{"$f":"'LN1'!Y99","v":0},{"$f":"'LN1'!P100","v":5},{"$f":"'LN1'!Q100","v":4},{"$f":"'LN1'!R100","v":5},{"$f":"'LN1'!S100","v":3},{"$f":"'LN1'!T100","v":5},{"$f":"'LN1'!U100","v":5},{"$f":"'LN1'!V100","v":6},{"$f":"'LN1'!W100","v":5},{"$f":"'LN1'!X100","v":4},{"$f":"'LN1'!Z98","v":36},{"$f":"'LN1'!P101","v":2},{"$f":"'LN1'!Q101","v":2},{"$f":"'LN1'!R101","v":0},{"$f":"'LN1'!S101","v":2},{"$f":"'LN1'!T101","v":1},{"$f":"'LN1'!U101","v":0},{"$f":"'LN1'!V101","v":0},{"$f":"'LN1'!W101","v":0},{"$f":"'LN1'!X101","v":2},{"$f":"'LN1'!AA100","v":13},{"$f":"'LN1'!P98-'LN1'!P96","v":1},{"$f":"'LN1'!Q98-'LN1'!Q96","v":1},{"$f":"'LN1'!R98-'LN1'!R96","v":1},{"$f":"'LN1'!S98-'LN1'!S96","v":0},{"$f":"'LN1'!T98-'LN1'!T96","v":1},{"$f":"'LN1'!U98-'LN1'!U96","v":2},{"$f":"'LN1'!V98-'LN1'!V96","v":1},{"$f":"'LN1'!W98-'LN1'!W96","v":1},{"$f":"'LN1'!X98-'LN1'!X96","v":1},0,0,1]
[{"$f":"Setup!$C$1","v":1},{"$f":"Setup!$S$50","v":319},{"$f":"'LN1'!$B$3","v":7},{"$f":"Setup!$N$5","v":1},{"$f":"'LN1'!L105","v":77},{"$f":"'LN1'!L104","v":0},{"$f":"'LN1'!AB102","v":"P"},{"$f":"'LN1'!N105","v":34},{"$f":"'LN1'!N98","v":42},{"$f":"'LN1'!O105","v":6},{"$f":"'LN1'!L101","v":"A"},{"$f":"'LN1'!AB105","v":4},{"$f":"'LN1'!AC105","v":4},{"$f":"'LN1'!AD105","v":1},{"$f":"'LN1'!AB104","v":0},{"$f":"'LN1'!AC104","v":1},{"$f":"'LN1'!AD104","v":0},{"$f":"'LN1'!P105","v":8},{"$f":"'LN1'!Q105","v":5},{"$f":"'LN1'!R105","v":3},{"$f":"'LN1'!S105","v":4},{"$f":"'LN1'!T105","v":5},{"$f":"'LN1'!U105","v":4},{"$f":"'LN1'!V105","v":5},{"$f":"'LN1'!W105","v":4},{"$f":"'LN1'!X105","v":5},{"$f":"'LN1'!Y105","v":43},{"$f":"'LN1'!P104","v":0},{"$f":"'LN1'!Q104","v":0},{"$f":"'LN1'!R104","v":0},{"$f":"'LN1'!S104","v":0},{"$f":"'LN1'!T104","v":0},{"$f":"'LN1'!U104","v":0},{"$f":"'LN1'!V104","v":0},{"$f":"'LN1'!W104","v":0},{"$f":"'LN1'!X104","v":0},{"$f":"'LN1'!Y104","v":0},{"$f":"'LN1'!P103","v":8},{"$f":"'LN1'!Q103","v":5},{"$f":"'LN1'!R103","v":3},{"$f":"'LN1'!S103","v":4},{"$f":"'LN1'!T103","v":5},{"$f":"'LN1'!U103","v":4},{"$f":"'LN1'!V103","v":5},{"$f":"'LN1'!W103","v":4},{"$f":"'LN1'!X103","v":5},{"$f":"'LN1'!Z105","v":37},{"$f":"'LN1'!P102","v":0},{"$f":"'LN1'!Q102","v":0},{"$f":"'LN1'!R102","v":2},{"$f":"'LN1'!S102","v":0},{"$f":"'LN1'!T102","v":1},{"$f":"'LN1'!U102","v":2},{"$f":"'LN1'!V102","v":2},{"$f":"'LN1'!W102","v":2},{"$f":"'LN1'!X102","v":0},{"$f":"'LN1'!AA103","v":9},{"$f":"'LN1'!P105-'LN1'!P96","v":4},{"$f":"'LN1'!Q105-'LN1'!Q96","v":2},{"$f":"'LN1'!R105-'LN1'!R96","v":-1},{"$f":"'LN1'!S105-'LN1'!S96","v":1},{"$f":"'LN1'!T105-'LN1'!T96","v":1},{"$f":"'LN1'!U105-'LN1'!U96","v":0},{"$f":"'LN1'!V105-'LN1'!V96","v":0},{"$f":"'LN1'!W105-'LN1'!W96","v":0},{"$f":"'LN1'!X105-'LN1'!X96","v":1},0,1,3]
[{"$f":"Setup!$C$1","v":1},{"$f":"Setup!$S$50","v":319},{"$f":"'LN1'!$B$3","v":7},{"$f":"Setup!$N$5","v":1},{"$f":"'LN1'!AH98","v":104},{"$f":"'LN1'!AH99","v":102},{"$f":"'LN1'!AX101","v":"P"},{"$f":"'LN1'!AJ98","v":42},{"$f":"'LN1'!AJ105","v":34},{"$f":"'LN1'!AK98","v":10},{"$f":"'LN1'!AH101","v":"B"},{"$f":"'LN1'!AX98","v":5},{"$f":"'LN1'!AY98","v":2},{"$f":"'LN1'!AZ98","v":2},{"$f":"'LN1'!AX99","v":1},{"$f":"'LN1'!AY99","v":0},{"$f":"'LN1'!AZ99","v":0},{"$f":"'LN1'!AL98","v":5},{"$f":"'LN1'!AM98","v":5},{"$f":"'LN1'!AN98","v":4},{"$f":"'LN1'!AO98","v":5},{"$f":"'LN1'!AP98","v":5},{"$f":"'LN1'!AQ98","v":5},{"$f":"'LN1'!AR98","v":9},{"$f":"'LN1'!AS98","v":5},{"$f":"'LN1'!AT98","v":5},{"$f":"'LN1'!AU98","v":48},{"$f":"'LN1'!AL99","v":0},{"$f":"'LN1'!AM99","v":0},{"$f":"'LN1'!AN99","v":0},{"$f":"'LN1'!AO99","v":0},{"$f":"'LN1'!AP99","v":0},{"$f":"'LN1'!AQ99","v":0},{"$f":"'LN1'!AR99","v":0},{"$f":"'LN1'!AS99","v":0},{"$f":"'LN1'!AT99","v":0},{"$f":"'LN1'!AU99","v":0},{"$f":"'LN1'!AL100","v":5},{"$f":"'LN1'!AM100","v":5},{"$f":"'LN1'!AN100","v":4},{"$f":"'LN1'!AO100","v":5},{"$f":"'LN1'!AP100","v":5},{"$f":"'LN1'!AQ100","v":5},{"$f":"'LN1'!AR100","v":9},{"$f":"'LN1'!AS100","v":5},{"$f":"'LN1'!AT100","v":5},{"$f":"'LN1'!AV98","v":38},{"$f":"'LN1'!AL101","v":2},{"$f":"'LN1'!AM101","v":1},{"$f":"'LN1'!AN101","v":2},{"$f":"'LN1'!AO101","v":0},{"$f":"'LN1'!AP101","v":2},{"$f":"'LN1'!AQ101","v":1},{"$f":"'LN1'!AR101","v":0},{"$f":"'LN1'!AS101","v":2},{"$f":"'LN1'!AT101","v":2},{"$f":"'LN1'!AW100","v":16},{"$f":"'LN1'!AL98-'LN1'!AL96","v":1},{"$f":"'LN1'!AM98-'LN1'!AM96","v":2},{"$f":"'LN1'!AN98-'LN1'!AN96","v":0},{"$f":"'LN1'!AO98-'LN1'!AO96","v":2},{"$f":"'LN1'!AP98-'LN1'!AP96","v":1},{"$f":"'LN1'!AQ98-'LN1'!AQ96","v":1},{"$f":"'LN1'!AR98-'LN1'!AR96","v":4},{"$f":"'LN1'!AS98-'LN1'!AS96","v":1},{"$f":"'LN1'!AT98-'LN1'!AT96","v":1},0,0,1]
[{"$f":"Setup!$C$1","v":1},{"$f":"Setup!$S$50","v":319},{"$f":"'LN1'!$B$3","v":7},{"$f":"Setup!$N$5","v":1},{"$f":"'LN1'!AH105","v":78},{"$f":"'LN1'!AH104","v":0},{"$f":"'LN1'!AX102","v":"P"},{"$f":"'LN1'!AJ105","v":34},{"$f":"'LN1'!AJ98","v":42},{"$f":"'LN1'!AK105","v":10},{"$f":"'LN1'!AH101","v":"B"},{"$f":"'LN1'!AX105","v":2},{"$f":"'LN1'!AY105","v":5},{"$f":"'LN1'!AZ105","v":2},{"$f":"'LN1'!AX104","v":0},{"$f":"'LN1'!AY104","v":1},{"$f":"'LN1'!AZ104","v":0},{"$f":"'LN1'!AL105","v":7},{"$f":"'LN1'!AM105","v":5},{"$f":"'LN1'!AN105","v":5},{"$f":"'LN1'!AO105","v":4},{"$f":"'LN1'!AP105","v":6},{"$f":"'LN1'!AQ105","v":5},{"$f":"'LN1'!AR105","v":8},{"$f":"'LN1'!AS105","v":8},{"$f":"'LN1'!AT105","v":6},{"$f":"'LN1'!AU105","v":54},{"$f":"'LN1'!AL104","v":0},{"$f":"'LN1'!AM104","v":0},{"$f":"'LN1'!AN104","v":0},{"$f":"'LN1'!AO104","v":0},{"$f":"'LN1'!AP104","v":0},{"$f":"'LN1'!AQ104","v":0},{"$f":"'LN1'!AR104","v":0},{"$f":"'LN1'!AS104","v":0},{"$f":"'LN1'!AT104","v":0},{"$f":"'LN1'!AU104","v":0},{"$f":"'LN1'!AL103","v":7},{"$f":"'LN1'!AM103","v":5},{"$f":"'LN1'!AN103","v":5},{"$f":"'LN1'!AO103","v":4},{"$f":"'LN1'!AP103","v":6},{"$f":"'LN1'!AQ103","v":5},{"$f":"'LN1'!AR103","v":8},{"$f":"'LN1'!AS103","v":8},{"$f":"'LN1'!AT103","v":6},{"$f":"'LN1'!AV105","v":44},{"$f":"'LN1'!AL102","v":0},{"$f":"'LN1'!AM102","v":1},{"$f":"'LN1'!AN102","v":0},{"$f":"'LN1'!AO102","v":2},{"$f":"'LN1'!AP102","v":0},{"$f":"'LN1'!AQ102","v":1},{"$f":"'LN1'!AR102","v":2},{"$f":"'LN1'!AS102","v":0},{"$f":"'LN1'!AT102","v":0},{"$f":"'LN1'!AW103","v":6},{"$f":"'LN1'!AL105-'LN1'!AL96","v":3},{"$f":"'LN1'!AM105-'LN1'!AM96","v":2},{"$f":"'LN1'!AN105-'LN1'!AN96","v":1},{"$f":"'LN1'!AO105-'LN1'!AO96","v":1},{"$f":"'LN1'!AP105-'LN1'!AP96","v":2},{"$f":"'LN1'!AQ105-'LN1'!AQ96","v":1},{"$f":"'LN1'!AR105-'LN1'!AR96","v":3},{"$f":"'LN1'!AS105-'LN1'!AS96","v":4},{"$f":"'LN1'!AT105-'LN1'!AT96","v":2},0,0,0]
[{"$f":"Setup!$C$1","v":1},{"$f":"Setup!$S$41","v":310},{"$f":"'LN1'!$B$3","v":7},0,0,0,0,{"$f":"'LN1'!N8","v":48},{"$f":"'LN1'!N15","v":47},{"$f":"'LN1'!O8+'LN1'!AK8","v":9},"T",0,0,0,{"$f":"'LN1'!AB10","v":1},{"$f":"'LN1'!AC10","v":0},{"$f":"'LN1'!AD10","v":0},0,0,0,0,0,0,0,0,0,{"$f":"'LN1'!Y8+'LN1'!AU8","v":85},0,0,0,0,0,0,0,0,0,0,0,0,0,0,0,0,0,0,0,{"$f":"'LN1'!Z8+'LN1'!AV8","v":76},0,0,0,0,0,0,0,0,0,{"$f":"'LN1'!D15","v":6},0,0,0,0,0,0,0,0,0,0,0,0]
[{"$f":"Setup!$C$1","v":1},{"$f":"Setup!$S$41","v":310},{"$f":"'LN1'!$B$3","v":7},0,0,0,0,{"$f":"'LN1'!N15","v":47},{"$f":"'LN1'!N8","v":48},{"$f":"'LN1'!O15+'LN1'!AK15","v":32},"T",0,0,0,{"$f":"'LN1'!AB13","v":0},{"$f":"'LN1'!AC13","v":1},{"$f":"'LN1'!AD13","v":0},0,0,0,0,0,0,0,0,0,{"$f":"'LN1'!Y15+'LN1'!AU15","v":110},0,0,0,0,0,0,0,0,0,0,0,0,0,0,0,0,0,0,0,{"$f":"'LN1'!Z15+'LN1'!AV15","v":78},0,0,0,0,0,0,0,0,0,{"$f":"'LN1'!F15","v":0},0,0,0,0,0,0,0,0,0,0,0,0]
[{"$f":"Setup!$C$1","v":1},{"$f":"Setup!$S$42","v":311},{"$f":"'LN1'!$B$3","v":7},0,0,0,0,{"$f":"'LN1'!N18","v":38},{"$f":"'LN1'!N25","v":37},{"$f":"'LN1'!O18+'LN1'!AK18","v":26},"T",0,0,0,{"$f":"'LN1'!AB20","v":1},{"$f":"'LN1'!AC20","v":0},{"$f":"'LN1'!AD20","v":0},0,0,0,0,0,0,0,0,0,{"$f":"'LN1'!Y18+'LN1'!AU18","v":105},0,0,0,0,0,0,0,0,0,0,0,0,0,0,0,0,0,0,0,{"$f":"'LN1'!Z18+'LN1'!AV18","v":79},0,0,0,0,0,0,0,0,0,{"$f":"'LN1'!D25","v":6},0,0,0,0,0,0,0,0,0,0,0,0]
[{"$f":"Setup!$C$1","v":1},{"$f":"Setup!$S$42","v":311},{"$f":"'LN1'!$B$3","v":7},0,0,0,0,{"$f":"'LN1'!N25","v":37},{"$f":"'LN1'!N18","v":38},{"$f":"'LN1'!O25+'LN1'!AK25","v":38},"T",0,0,0,{"$f":"'LN1'!AB23","v":0},{"$f":"'LN1'!AC23","v":1},{"$f":"'LN1'!AD23","v":0},0,0,0,0,0,0,0,0,0,{"$f":"'LN1'!Y25+'LN1'!AU25","v":118},0,0,0,0,0,0,0,0,0,0,0,0,0,0,0,0,0,0,0,{"$f":"'LN1'!Z25+'LN1'!AV25","v":80},0,0,0,0,0,0,0,0,0,{"$f":"'LN1'!F25","v":0},0,0,0,0,0,0,0,0,0,0,0,0]
[{"$f":"Setup!$C$1","v":1},{"$f":"Setup!$S$43","v":312},{"$f":"'LN1'!$B$3","v":7},0,0,0,0,{"$f":"'LN1'!N28","v":49},{"$f":"'LN1'!N35","v":46},{"$f":"'LN1'!O28+'LN1'!AK28","v":13},"T",0,0,0,{"$f":"'LN1'!AB30","v":1},{"$f":"'LN1'!AC30","v":0},{"$f":"'LN1'!AD30","v":0},0,0,0,0,0,0,0,0,0,{"$f":"'LN1'!Y28+'LN1'!AU28","v":88},0,0,0,0,0,0,0,0,0,0,0,0,0,0,0,0,0,0,0,{"$f":"'LN1'!Z28+'LN1'!AV28","v":75},0,0,0,0,0,0,0,0,0,{"$f":"'LN1'!D35","v":6},0,0,0,0,0,0,0,0,0,0,0,0]
[{"$f":"Setup!$C$1","v":1},{"$f":"Setup!$S$43","v":312},{"$f":"'LN1'!$B$3","v":7},0,0,0,0,{"$f":"'LN1'!N35","v":46},{"$f":"'LN1'!N28","v":49},{"$f":"'LN1'!O35+'LN1'!AK35","v":31},"T",0,0,0,{"$f":"'LN1'!AB33","v":0},{"$f":"'LN1'!AC33","v":1},{"$f":"'LN1'!AD33","v":0},0,0,0,0,0,0,0,0,0,{"$f":"'LN1'!Y35+'LN1'!AU35","v":108},0,0,0,0,0,0,0,0,0,0,0,0,0,0,0,0,0,0,0,{"$f":"'LN1'!Z35+'LN1'!AV35","v":77},0,0,0,0,0,0,0,0,0,{"$f":"'LN1'!F35","v":0},0,0,0,0,0,0,0,0,0,0,0,0]
[{"$f":"Setup!$C$1","v":1},{"$f":"Setup!$S$44","v":313},{"$f":"'LN1'!$B$3","v":7},0,0,0,0,{"$f":"'LN1'!N38","v":39},{"$f":"'LN1'!N45","v":36},{"$f":"'LN1'!O38+'LN1'!AK38","v":37},"T",0,0,0,{"$f":"'LN1'!AB40","v":0},{"$f":"'LN1'!AC40","v":0},{"$f":"'LN1'!AD40","v":0},0,0,0,0,0,0,0,0,0,{"$f":"'LN1'!Y38+'LN1'!AU38","v":116},0,0,0,0,0,0,0,0,0,0,0,0,0,0,0,0,0,0,0,{"$f":"'LN1'!Z38+'LN1'!AV38","v":79},0,0,0,0,0,0,0,0,0,{"$f":"'LN1'!D45","v":0},0,0,0,0,0,0,0,0,0,0,0,0]
[{"$f":"Setup!$C$1","v":1},{"$f":"Setup!$S$44","v":313},{"$f":"'LN1'!$B$3","v":7},0,0,0,0,{"$f":"'LN1'!N45","v":36},{"$f":"'LN1'!N38","v":39},{"$f":"'LN1'!O45+'LN1'!AK45","v":28},"T",0,0,0,{"$f":"'LN1'!AB43","v":1},{"$f":"'LN1'!AC43","v":0},{"$f":"'LN1'!AD43","v":0},0,0,0,0,0,0,0,0,0,{"$f":"'LN1'!Y45+'LN1'!AU45","v":103},0,0,0,0,0,0,0,0,0,0,0,0,0,0,0,0,0,0,0,{"$f":"'LN1'!Z45+'LN1'!AV45","v":75},0,0,0,0,0,0,0,0,0,{"$f":"'LN1'!F45","v":6},0,0,0,0,0,0,0,0,0,0,0,0]
[{"$f":"Setup!$C$1","v":1},{"$f":"Setup!$S$45","v":314},{"$f":"'LN1'!$B$3","v":7},0,0,0,0,{"$f":"'LN1'!N48","v":50},{"$f":"'LN1'!N55","v":45},{"$f":"'LN1'!O48+'LN1'!AK48","v":23},"T",0,0,0,{"$f":"'LN1'!AB50","v":0},{"$f":"'LN1'!AC50","v":1},{"$f":"'LN1'!AD50","v":0},0,0,0,0,0,0,0,0,0,{"$f":"'LN1'!Y48+'LN1'!AU48","v":97},0,0,0,0,0,0,0,0,0,0,0,0,0,0,0,0,0,0,0,{"$f":"'LN1'!Z48+'LN1'!AV48","v":74},0,0,0,0,0,0,0,0,0,{"$f":"'LN1'!D55","v":0},0,0,0,0,0,0,0,0,0,0,0,0]
[{"$f":"Setup!$C$1","v":1},{"$f":"Setup!$S$45","v":314},{"$f":"'LN1'!$B$3","v":7},0,0,0,0,{"$f":"'LN1'!N55","v":45},{"$f":"'LN1'!N48","v":50},{"$f":"'LN1'!O55+'LN1'!AK55","v":16},"T",0,0,0,{"$f":"'LN1'!AB53","v":1},{"$f":"'LN1'!AC53","v":0},{"$f":"'LN1'!AD53","v":0},0,0,0,0,0,0,0,0,0,{"$f":"'LN1'!Y55+'LN1'!AU55","v":89},0,0,0,0,0,0,0,0,0,0,0,0,0,0,0,0,0,0,0,{"$f":"'LN1'!Z55+'LN1'!AV55","v":73},0,0,0,0,0,0,0,0,0,{"$f":"'LN1'!F55","v":6},0,0,0,0,0,0,0,0,0,0,0,0]
[{"$f":"Setup!$C$1","v":1},{"$f":"Setup!$S$46","v":315},{"$f":"'LN1'!$B$3","v":7},0,0,0,0,{"$f":"'LN1'!N58","v":40},{"$f":"'LN1'!N65","v":35},{"$f":"'LN1'!O58+'LN1'!AK58","v":22},"T",0,0,0,{"$f":"'LN1'!AB60","v":0},{"$f":"'LN1'!AC60","v":1},{"$f":"'LN1'!AD60","v":0},0,0,0,0,0,0,0,0,0,{"$f":"'LN1'!Y58+'LN1'!AU58","v":102},0,0,0,0,0,0,0,0,0,0,0,0,0,0,0,0,0,0,0,{"$f":"'LN1'!Z58+'LN1'!AV58","v":80},0,0,0,0,0,0,0,0,0,{"$f":"'LN1'!D65","v":0},0,0,0,0,0,0,0,0,0,0,0,0]
[{"$f":"Setup!$C$1","v":1},{"$f":"Setup!$S$46","v":315},{"$f":"'LN1'!$B$3","v":7},0,0,0,0,{"$f":"'LN1'!N65","v":35},{"$f":"'LN1'!N58","v":40},{"$f":"'LN1'!O65+'LN1'!AK65","v":26},"T",0,0,0,{"$f":"'LN1'!AB63","v":1},{"$f":"'LN1'!AC63","v":0},{"$f":"'LN1'!AD63","v":0},0,0,0,0,0,0,0,0,0,{"$f":"'LN1'!Y65+'LN1'!AU65","v":94},0,0,0,0,0,0,0,0,0,0,0,0,0,0,0,0,0,0,0,{"$f":"'LN1'!Z65+'LN1'!AV65","v":68},0,0,0,0,0,0,0,0,0,{"$f":"'LN1'!F65","v":6},0,0,0,0,0,0,0,0,0,0,0,0]
[{"$f":"Setup!$C$1","v":1},{"$f":"Setup!$S$47","v":316},{"$f":"'LN1'!$B$3","v":7},0,0,0,0,{"$f":"'LN1'!N68","v":51},{"$f":"'LN1'!N75","v":53},{"$f":"'LN1'!O68+'LN1'!AK68","v":19},"T",0,0,0,{"$f":"'LN1'!AB70","v":0},{"$f":"'LN1'!AC70","v":1},{"$f":"'LN1'!AD70","v":0},0,0,0,0,0,0,0,0,0,{"$f":"'LN1'!Y68+'LN1'!AU68","v":96},0,0,0,0,0,0,0,0,0,0,0,0,0,0,0,0,0,0,0,{"$f":"'LN1'!Z68+'LN1'!AV68","v":77},0,0,0,0,0,0,0,0,0,{"$f":"'LN1'!D75","v":0},0,0,0,0,0,0,0,0,0,0,0,0]
[{"$f":"Setup!$C$1","v":1},{"$f":"Setup!$S$47","v":316},{"$f":"'LN1'!$B$3","v":7},0,0,0,0,{"$f":"'LN1'!N75","v":53},{"$f":"'LN1'!N68","v":51},{"$f":"'LN1'!O75+'LN1'!AK75","v":22},"T",0,0,0,{"$f":"'LN1'!AB73","v":1},{"$f":"'LN1'!AC73","v":0},{"$f":"'LN1'!AD73","v":0},0,0,0,0,0,0,0,0,0,{"$f":"'LN1'!Y75+'LN1'!AU75","v":98},0,0,0,0,0,0,0,0,0,0,0,0,0,0,0,0,0,0,0,{"$f":"'LN1'!Z75+'LN1'!AV75","v":76},0,0,0,0,0,0,0,0,0,{"$f":"'LN1'!F75","v":6},0,0,0,0,0,0,0,0,0,0,0,0]
[{"$f":"Setup!$C$1","v":1},{"$f":"Setup!$S$48","v":317},{"$f":"'LN1'!$B$3","v":7},0,0,0,0,{"$f":"'LN1'!N78","v":41},{"$f":"'LN1'!N85","v":43},{"$f":"'LN1'!O78+'LN1'!AK78","v":32},"T",0,0,0,{"$f":"'LN1'!AB80","v":1},{"$f":"'LN1'!AC80","v":0},{"$f":"'LN1'!AD80","v":0},0,0,0,0,0,0,0,0,0,{"$f":"'LN1'!Y78+'LN1'!AU78","v":112},0,0,0,0,0,0,0,0,0,0,0,0,0,0,0,0,0,0,0,{"$f":"'LN1'!Z78+'LN1'!AV78","v":80},0,0,0,0,0,0,0,0,0,{"$f":"'LN1'!D85","v":6},0,0,0,0,0,0,0,0,0,0,0,0]
[{"$f":"Setup!$C$1","v":1},{"$f":"Setup!$S$48","v":317},{"$f":"'LN1'!$B$3","v":7},0,0,0,0,{"$f":"'LN1'!N85","v":43},{"$f":"'LN1'!N78","v":41},{"$f":"'LN1'!O85+'LN1'!AK85","v":31},"T",0,0,0,{"$f":"'LN1'!AB83","v":0},{"$f":"'LN1'!AC83","v":1},{"$f":"'LN1'!AD83","v":0},0,0,0,0,0,0,0,0,0,{"$f":"'LN1'!Y85+'LN1'!AU85","v":113},0,0,0,0,0,0,0,0,0,0,0,0,0,0,0,0,0,0,0,{"$f":"'LN1'!Z85+'LN1'!AV85","v":82},0,0,0,0,0,0,0,0,0,{"$f":"'LN1'!F85","v":0},0,0,0,0,0,0,0,0,0,0,0,0]
[{"$f":"Setup!$C$1","v":1},{"$f":"Setup!$S$49","v":318},{"$f":"'LN1'!$B$3","v":7},0,0,0,0,{"$f":"'LN1'!N88","v":52},{"$f":"'LN1'!N95","v":44},{"$f":"'LN1'!O72+'LN1'!AK88","v":13},"T",0,0,0,{"$f":"'LN1'!AB90","v":0},{"$f":"'LN1'!AC90","v":0},{"$f":"'LN1'!AD90","v":1},0,0,0,0,0,0,0,0,0,{"$f":"'LN1'!Y72+'LN1'!AU88","v":52},0,0,0,0,0,0,0,0,0,0,0,0,0,0,0,0,0,0,0,{"$f":"'LN1'!Z72+'LN1'!AV88","v":41},0,0,0,0,0,0,0,0,0,{"$f":"'LN1'!D95","v":3},0,0,0,0,0,0,0,0,0,0,0,0]
[{"$f":"Setup!$C$1","v":1},{"$f":"Setup!$S$49","v":318},{"$f":"'LN1'!$B$3","v":7},0,0,0,0,{"$f":"'LN1'!N95","v":44},{"$f":"'LN1'!N88","v":52},{"$f":"'LN1'!O79+'LN1'!AK95","v":19},"T",0,0,0,{"$f":"'LN1'!AB93","v":0},{"$f":"'LN1'!AC93","v":0},{"$f":"'LN1'!AD93","v":0},0,0,0,0,0,0,0,0,0,{"$f":"'LN1'!Y79+'LN1'!AU95","v":58},0,0,0,0,0,0,0,0,0,0,0,0,0,0,0,0,0,0,0,{"$f":"'LN1'!Z79+'LN1'!AV95","v":40},0,0,0,0,0,0,0,0,0,{"$f":"'LN1'!F95","v":3},0,0,0,0,0,0,0,0,0,0,0,0]
[{"$f":"Setup!$C$1","v":1},{"$f":"Setup!$S$50","v":319},{"$f":"'LN1'!$B$3","v":7},0,0,0,0,{"$f":"'LN1'!N98","v":42},{"$f":"'LN1'!N105","v":34},{"$f":"'LN1'!O82+'LN1'!AK98","v":10},"T",0,0,0,{"$f":"'LN1'!AB100","v":1},{"$f":"'LN1'!AC100","v":0},{"$f":"'LN1'!AD100","v":0},0,0,0,0,0,0,0,0,0,{"$f":"'LN1'!Y82+'LN1'!AU98","v":48},0,0,0,0,0,0,0,0,0,0,0,0,0,0,0,0,0,0,0,{"$f":"'LN1'!Z82+'LN1'!AV98","v":42},0,0,0,0,0,0,0,0,0,{"$f":"'LN1'!D105","v":6},0,0,0,0,0,0,0,0,0,0,0,0]
[{"$f":"Setup!$C$1","v":1},{"$f":"Setup!$S$50","v":319},{"$f":"'LN1'!$B$3","v":7},0,0,0,0,{"$f":"'LN1'!N105","v":34},{"$f":"'LN1'!N98","v":42},{"$f":"'LN1'!O89+'LN1'!AK105","v":10},"T",0,0,0,{"$f":"'LN1'!AB103","v":0},{"$f":"'LN1'!AC103","v":1},{"$f":"'LN1'!AD103","v":0},0,0,0,0,0,0,0,0,0,{"$f":"'LN1'!Y89+'LN1'!AU105","v":54},0,0,0,0,0,0,0,0,0,0,0,0,0,0,0,0,0,0,0,{"$f":"'LN1'!Z89+'LN1'!AV105","v":44},0,0,0,0,0,0,0,0,0,{"$f":"'LN1'!F105","v":0},0,0,0,0,0,0,0,0,0,0,0,0]

{"sheet":"X-DSP-ALL","index":6,"n_rows":337,"n_cols":69,"rows_kept":337,"cut":false,"hidden":false,"merged":[]}
["SeasonID","MatchID","Week","CourseID","SeasonGolferID","FTID","DNP","TeamID","OppID","Hdcp","ABPlayer","HolesWon","HolesLost","HolesTied","MatchWon","MatchLost","MatchTied","Score1","Score2","Score3","Score4","Score5","Score6","Score7","Score8","Score9","ScoreTotal","Strokes1","Strokes2","Strokes3","Strokes4","Strokes5","Strokes6","Strokes7","Strokes8","Strokes9","StrokesTotal","Net1","Net2","Net3","Net4","Net5","Net6","Net7","Net8","Net9","NetTotal","Points1","Points2","Points3","Points4","Points5","Points6","Points7","Points8","Points9","PointTotal","STP1","STP2","STP3","STP4","STP5","STP6","STP7","STP8","STP9","Eagles","Birdies","Pars"]
[1,260,2,1,86,0,"P",37,49,22,"A",3,5,1,0,1,0,8,5,7,8,7,5,8,6,8,62,1,1,2,2,1,1,1,1,2,12,7,4,5,6,6,4,7,5,6,40,0,1,2,0,0,2,0,2,0,7,4,2,3,4,3,1,4,3,3,0,0,0]
[1,260,2,1,115,118,"P",49,37,10,"A",5,3,1,1,0,0,6,4,6,5,5,5,6,6,5,48,0,0,0,0,0,0,0,0,0,0,6,4,6,5,5,5,6,6,5,38,2,1,0,2,2,0,2,0,2,15,2,1,2,1,1,1,2,3,0,0,0,1]
[1,260,2,1,85,0,"P",37,49,24,"B",3,3,3,0,1,0,8,5,7,8,6,8,8,7,8,65,0,0,1,1,0,1,1,0,1,5,8,5,6,7,6,7,7,7,7,41,0,0,1,2,2,2,1,1,0,9,4,2,3,4,2,4,4,4,3,0,0,0]
[1,260,2,1,145,0,"P",49,37,19,"B",3,3,3,1,0,0,6,4,6,8,7,8,7,7,6,59,0,0,0,0,0,0,0,0,0,0,6,4,6,8,7,8,7,7,6,40,2,2,1,0,0,0,1,1,2,13,2,1,2,4,3,4,3,4,1,0,0,0]
[1,261,2,1,88,0,"P",38,50,7,"A",2,4,3,0,0,1,5,7,3,4,4,5,6,5,5,44,0,0,0,0,0,0,0,0,0,0,5,7,3,4,4,5,6,5,5,37,1,0,2,1,2,0,1,0,0,9,1,4,-1,1,0,1,1,1,1,0,1,1]
[1,261,2,1,121,0,"P",50,38,10,"A",4,2,3,0,0,1,5,5,7,4,5,5,7,4,5,47,0,0,0,0,0,1,1,0,1,3,5,5,7,4,5,4,6,4,4,37,1,2,0,1,0,2,1,2,2,13,1,2,3,1,1,1,2,0,1,0,0,1]
[1,261,2,1,90,89,"P",38,50,21,"B",4,3,2,0,1,0,8,6,7,5,7,6,7,8,7,61,1,1,1,1,1,2,1,1,2,11,7,5,6,4,6,4,6,7,5,40,0,2,1,2,0,1,2,0,2,10,4,3,3,2,3,2,2,4,3,0,0,0]
[1,261,2,1,122,0,"P",50,38,10,"B",3,4,2,1,0,0,6,6,6,5,4,4,7,4,6,48,0,0,0,0,0,0,0,0,0,0,6,6,6,5,4,4,7,4,6,38,2,0,1,0,2,1,0,2,0,12,2,3,2,2,0,0,2,0,2,0,0,3]
[1,262,2,1,99,0,"P",41,53,14,"A",5,3,1,1,0,0,6,4,5,6,7,7,5,5,7,52,0,0,0,0,0,0,0,0,0,0,6,4,5,6,7,7,5,5,7,38,2,2,2,0,1,0,2,2,0,15,2,1,1,2,3,3,1,2,2,0,0,0]
[1,262,2,1,129,0,"D",53,41,29,"A",0,0,0,0,0,0,8,7,8,7,8,8,9,8,8,71,1,2,2,2,1,2,2,1,2,15,7,5,6,5,7,6,7,7,6,42,0,0,0,2,1,2,0,0,2,0,4,4,4,3,4,4,5,5,3,0,0,0]
[1,262,2,1,98,0,"P",41,53,18,"B",3,2,4,1,0,0,6,6,6,6,6,7,8,5,8,58,0,0,0,0,0,0,0,0,0,0,6,6,6,6,6,7,8,5,8,40,2,1,1,0,2,1,1,2,0,14,2,3,2,2,2,3,4,2,3,0,0,0]
[1,262,2,1,130,0,"D",53,41,29,"B",0,0,0,0,0,0,8,7,8,7,8,8,9,8,8,71,1,1,2,2,1,1,1,1,1,11,7,6,6,5,7,7,8,7,7,42,0,1,1,2,0,1,1,0,2,0,4,4,4,3,4,4,5,5,3,0,0,0]
[1,263,2,1,97,0,"P",40,52,10,"A",2,5,2,0,0,1,4,4,6,4,5,7,7,5,5,47,1,0,0,0,0,1,1,0,1,4,3,4,6,4,5,6,6,5,4,37,2,0,0,0,1,0,1,0,2,8,0,1,2,1,1,3,2,1,1,0,0,1]
[1,263,2,1,126,0,"P",52,40,6,"A",5,2,2,0,0,1,7,3,5,3,5,5,6,4,5,43,0,0,0,0,0,0,0,0,0,0,7,3,5,3,5,5,6,4,5,37,0,2,2,2,1,2,1,2,0,14,3,0,1,0,1,1,1,0,1,0,0,3]
[1,263,2,1,96,0,"P",40,52,13,"B",2,4,3,0,1,0,6,4,6,4,6,7,7,5,6,51,1,0,0,0,0,1,1,0,1,4,5,4,6,4,6,6,6,5,5,38,1,1,1,2,0,0,0,0,2,7,2,1,2,1,2,3,2,1,2,0,0,0]
[1,263,2,1,123,127,"P",52,40,9,"B",4,2,3,1,0,0,5,4,6,6,5,4,5,4,7,46,0,0,0,0,0,0,0,0,0,0,5,4,6,6,5,4,5,4,7,37,1,1,1,0,2,2,2,2,0,15,1,1,2,3,1,0,0,0,3,0,0,3]
[1,264,2,1,79,0,"P",35,47,10,"A",2,2,5,1,0,0,4,5,6,7,6,4,6,4,6,48,0,0,0,0,0,0,0,0,0,0,4,5,6,7,6,4,6,4,6,38,1,1,0,1,2,2,0,1,1,13,0,2,2,3,2,0,2,1,1,0,0,2]
[1,264,2,1,114,0,"P",47,35,19,"A",2,2,5,0,1,0,5,6,6,8,8,8,6,5,7,59,1,1,1,1,1,1,1,1,1,9,4,5,5,7,7,7,5,4,6,40,1,1,2,1,0,0,2,1,1,9,1,3,2,4,4,4,2,2,2,0,0,0]
[1,264,2,1,80,0,"P",35,47,18,"B",3,2,4,1,0,0,8,5,6,8,6,4,6,6,8,57,0,0,0,0,0,0,0,0,0,0,8,5,6,8,6,4,6,6,8,39,1,1,2,0,1,2,2,1,0,14,4,2,2,4,2,0,2,3,3,0,0,1]
[1,264,2,1,150,113,"P",47,35,20,"B",2,3,4,0,1,0,8,5,8,7,6,6,7,6,7,60,0,0,1,1,0,0,0,0,0,2,8,5,7,6,6,6,7,6,7,40,0,0,0,0,0,0,0,0,0,8,4,2,4,3,2,2,3,3,2,0,0,0]
[1,265,2,1,82,0,"P",36,48,12,"A",3,2,4,0,0,1,5,4,5,4,6,5,9,7,5,50,0,0,0,0,0,0,0,0,0,0,5,4,5,4,6,5,9,7,5,38,1,1,2,1,1,2,0,0,2,12,1,1,1,1,2,1,4,3,1,0,0,0]
[1,265,2,1,117,0,"P",48,36,12,"A",2,3,4,0,0,1,5,4,6,4,6,6,7,6,6,50,0,0,0,0,0,0,0,0,0,0,5,4,6,4,6,6,7,6,6,38,1,1,0,1,1,0,2,2,0,10,1,1,2,1,2,2,2,2,2,0,0,0]
[1,265,2,1,81,0,"P",36,48,13,"B",4,5,0,0,0,1,7,3,7,4,7,6,7,4,6,51,0,0,0,0,0,0,0,0,0,0,7,3,7,4,7,6,7,4,6,38,0,2,0,2,0,0,0,2,2,10,3,0,3,1,3,2,2,0,2,0,0,2]
[1,265,2,1,119,116,"P",48,36,14,"B",5,4,0,0,0,1,6,4,5,5,6,6,6,7,7,52,0,0,0,0,0,1,0,0,0,1,6,4,5,5,6,5,6,7,7,38,2,0,2,0,2,2,2,0,0,12,2,1,1,2,2,2,1,3,3,0,0,0]
[1,266,2,1,95,92,"P",39,51,17,"A",2,4,3,0,1,0,5,5,6,8,7,7,7,4,7,56,0,0,1,1,0,1,1,0,1,5,5,5,5,7,7,6,6,4,6,39,1,0,1,0,1,0,2,2,0,7,1,2,2,4,3,3,3,1,2,0,0,0]
[1,266,2,1,124,125,"P",51,39,12,"A",4,2,3,1,0,0,5,4,5,6,7,5,7,6,5,50,0,0,0,0,0,0,0,0,0,0,5,4,5,6,7,5,7,6,5,38,1,2,1,2,1,2,0,0,2,15,1,1,1,2,3,1,3,3,0,0,0,1]
[1,266,2,1,93,0,"P",39,51,20,"B",3,3,3,0,1,0,7,7,8,6,5,6,7,6,8,60,0,1,1,1,0,1,1,0,1,6,7,6,7,5,5,5,6,6,7,40,0,0,1,1,2,2,0,1,2,9,3,4,4,2,1,2,3,3,3,0,0,0]
[1,266,2,1,128,0,"P",51,39,14,"B",3,3,3,1,0,0,4,4,7,5,6,7,5,6,8,52,0,0,0,0,0,0,0,0,0,0,4,4,7,5,6,7,5,6,8,38,2,2,1,1,0,0,2,1,0,13,0,1,3,1,2,3,1,3,3,0,0,1]
[1,267,2,1,103,0,"P",42,44,6,"A",6,3,0,1,0,0,6,4,4,4,5,3,5,5,6,42,0,0,0,0,0,0,0,0,0,0,6,4,4,4,5,3,5,5,6,36,0,0,2,2,2,2,2,2,0,16,2,1,0,1,1,-1,0,1,2,0,1,2]
[1,267,2,1,107,0,"P",44,42,10,"A",3,6,0,0,1,0,4,3,5,5,6,6,7,7,5,48,1,0,0,0,0,1,1,0,1,0,3,3,5,5,6,5,6,7,4,38,2,2,0,0,0,0,0,0,2,6,0,0,1,2,2,2,2,3,1,0,0,2]
[1,267,2,1,102,0,"P",42,44,8,"B",5,4,0,1,0,0,5,4,5,3,5,5,8,5,5,45,0,0,0,0,0,0,0,0,0,0,5,4,5,3,5,5,8,5,5,37,2,0,0,2,2,0,0,2,2,14,1,1,1,0,1,1,3,1,1,0,0,1]
[1,267,2,1,108,0,"P",44,42,16,"B",4,5,0,0,1,0,7,4,5,6,7,5,8,7,7,56,1,1,1,1,0,1,1,1,1,0,6,3,4,5,7,4,7,6,6,40,0,2,2,0,0,2,2,0,0,8,3,1,1,3,3,1,3,3,3,0,0,0]
[1,268,2,1,105,0,"P",43,45,13,"A",4,4,1,0,1,0,5,4,5,7,4,7,6,5,8,51,0,1,1,1,0,1,1,0,1,0,5,3,4,6,4,6,5,5,7,38,0,2,2,0,2,2,1,0,0,9,1,1,1,3,0,3,2,2,3,0,0,1]
[1,268,2,1,109,0,"P",45,43,7,"A",4,4,1,1,0,0,4,4,5,4,5,7,5,4,6,44,0,0,0,0,0,0,0,0,0,0,4,4,5,4,5,7,5,4,6,37,2,0,0,2,0,0,1,2,2,13,0,1,1,0,1,3,1,1,1,0,0,2]
[1,268,2,1,106,0,"P",43,45,14,"B",4,4,1,0,0,1,5,4,6,7,7,7,5,6,5,52,0,0,1,1,0,0,0,0,0,0,5,4,5,6,7,7,5,6,5,38,2,2,1,0,0,0,2,0,2,11,1,1,2,3,3,3,1,3,0,0,0,1]
[1,268,2,1,110,0,"P",45,43,12,"B",4,4,1,0,0,1,6,5,5,5,5,5,6,5,8,50,0,0,0,0,0,0,0,0,0,0,6,5,5,5,5,5,6,5,8,38,0,0,1,2,2,2,0,2,0,11,2,2,1,1,1,1,2,2,3,0,0,0]
[1,269,2,1,77,0,"P",34,46,5,"A",4,3,2,1,0,0,5,3,6,2,5,5,6,4,5,41,0,0,0,0,0,0,0,0,0,0,5,3,6,2,5,5,6,4,5,36,1,2,2,2,0,0,2,1,0,14,1,0,2,-1,1,1,1,0,1,0,1,2]
[1,269,2,1,111,0,"P",46,34,10,"A",3,4,2,0,1,0,6,5,7,4,4,5,8,5,4,48,1,0,0,0,0,1,1,1,1,0,5,5,7,4,4,4,7,4,3,38,1,0,0,0,2,2,0,1,2,8,2,2,3,1,0,1,3,1,0,0,0,2]
[1,269,2,1,78,0,"P",34,46,6,"B",4,1,4,1,0,0,4,5,4,5,4,4,7,4,5,42,0,0,0,0,0,0,0,0,0,0,4,5,4,5,4,4,7,4,5,36,2,1,2,2,1,1,0,2,1,16,0,2,0,2,0,0,2,0,1,0,0,5]
[1,269,2,1,112,0,"P",46,34,20,"B",1,4,4,0,1,0,7,6,7,7,5,6,8,7,7,60,2,1,1,1,1,2,2,2,2,0,5,5,6,6,4,4,6,5,5,40,0,1,0,0,1,1,2,0,1,6,3,3,3,4,1,2,3,3,3,0,0,0]
[1,260,2,0,0,0,0,37,49,46,"T",0,0,0,0,1,0,0,0,0,0,0,0,0,0,0,127,0,0,0,0,0,0,0,0,0,0,0,0,0,0,0,0,0,0,0,81,0,0,0,0,0,0,0,0,0,0,0,0,0,0,0,0,0,0,0,0,0,0]
[1,260,2,0,0,0,0,49,37,29,"T",0,0,0,1,0,0,0,0,0,0,0,0,0,0,0,107,0,0,0,0,0,0,0,0,0,0,0,0,0,0,0,0,0,0,0,78,0,0,0,0,0,0,0,0,0,6,0,0,0,0,0,0,0,0,0,0,0,0]
[1,261,2,0,0,0,0,38,50,28,"T",0,0,0,0,1,0,0,0,0,0,0,0,0,0,0,105,0,0,0,0,0,0,0,0,0,0,0,0,0,0,0,0,0,0,0,77,0,0,0,0,0,0,0,0,0,0,0,0,0,0,0,0,0,0,0,0,0,0]
[1,261,2,0,0,0,0,50,38,20,"T",0,0,0,1,0,0,0,0,0,0,0,0,0,0,0,95,0,0,0,0,0,0,0,0,0,0,0,0,0,0,0,0,0,0,0,75,0,0,0,0,0,0,0,0,0,6,0,0,0,0,0,0,0,0,0,0,0,0]
[1,262,2,0,0,0,0,41,53,32,"T",0,0,0,1,0,0,0,0,0,0,0,0,0,0,0,110,0,0,0,0,0,0,0,0,0,0,0,0,0,0,0,0,0,0,0,78,0,0,0,0,0,0,0,0,0,6,0,0,0,0,0,0,0,0,0,0,0,0]
[1,262,2,0,0,0,0,53,41,58,"T",0,0,0,0,0,0,0,0,0,0,0,0,0,0,0,142,0,0,0,0,0,0,0,0,0,0,0,0,0,0,0,0,0,0,0,84,0,0,0,0,0,0,0,0,0,0,0,0,0,0,0,0,0,0,0,0,0,0]
[1,263,2,0,0,0,0,40,52,23,"T",0,0,0,0,1,0,0,0,0,0,0,0,0,0,0,98,0,0,0,0,0,0,0,0,0,0,0,0,0,0,0,0,0,0,0,75,0,0,0,0,0,0,0,0,0,0,0,0,0,0,0,0,0,0,0,0,0,0]
[1,263,2,0,0,0,0,52,40,15,"T",0,0,0,1,0,0,0,0,0,0,0,0,0,0,0,89,0,0,0,0,0,0,0,0,0,0,0,0,0,0,0,0,0,0,0,74,0,0,0,0,0,0,0,0,0,6,0,0,0,0,0,0,0,0,0,0,0,0]
[1,264,2,0,0,0,0,35,47,28,"T",0,0,0,1,0,0,0,0,0,0,0,0,0,0,0,105,0,0,0,0,0,0,0,0,0,0,0,0,0,0,0,0,0,0,0,77,0,0,0,0,0,0,0,0,0,6,0,0,0,0,0,0,0,0,0,0,0,0]
[1,264,2,0,0,0,0,47,35,39,"T",0,0,0,0,1,0,0,0,0,0,0,0,0,0,0,119,0,0,0,0,0,0,0,0,0,0,0,0,0,0,0,0,0,0,0,80,0,0,0,0,0,0,0,0,0,0,0,0,0,0,0,0,0,0,0,0,0,0]
[1,265,2,0,0,0,0,36,48,25,"T",0,0,0,0,0,1,0,0,0,0,0,0,0,0,0,101,0,0,0,0,0,0,0,0,0,0,0,0,0,0,0,0,0,0,0,76,0,0,0,0,0,0,0,0,0,3,0,0,0,0,0,0,0,0,0,0,0,0]
[1,265,2,0,0,0,0,48,36,26,"T",0,0,0,0,0,1,0,0,0,0,0,0,0,0,0,102,0,0,0,0,0,0,0,0,0,0,0,0,0,0,0,0,0,0,0,76,0,0,0,0,0,0,0,0,0,3,0,0,0,0,0,0,0,0,0,0,0,0]
[1,266,2,0,0,0,0,39,51,37,"T",0,0,0,0,1,0,0,0,0,0,0,0,0,0,0,116,0,0,0,0,0,0,0,0,0,0,0,0,0,0,0,0,0,0,0,79,0,0,0,0,0,0,0,0,0,0,0,0,0,0,0,0,0,0,0,0,0,0]
[1,266,2,0,0,0,0,51,39,26,"T",0,0,0,1,0,0,0,0,0,0,0,0,0,0,0,102,0,0,0,0,0,0,0,0,0,0,0,0,0,0,0,0,0,0,0,76,0,0,0,0,0,0,0,0,0,6,0,0,0,0,0,0,0,0,0,0,0,0]
[1,267,2,0,0,0,0,42,44,14,"T",0,0,0,1,0,0,0,0,0,0,0,0,0,0,0,87,0,0,0,0,0,0,0,0,0,0,0,0,0,0,0,0,0,0,0,73,0,0,0,0,0,0,0,0,0,6,0,0,0,0,0,0,0,0,0,0,0,0]
[1,267,2,0,0,0,0,44,42,26,"T",0,0,0,0,1,0,0,0,0,0,0,0,0,0,0,104,0,0,0,0,0,0,0,0,0,0,0,0,0,0,0,0,0,0,0,78,0,0,0,0,0,0,0,0,0,0,0,0,0,0,0,0,0,0,0,0,0,0]
[1,270,3,1,103,0,"P",42,46,6,"A",2,2,5,1,0,0,4,4,6,6,4,4,5,4,6,43,0,0,0,0,0,0,0,0,0,0,4,4,6,6,4,4,5,4,6,37,1,0,0,1,2,2,1,1,1,13,0,1,2,2,0,0,1,1,1,0,0,3]
[1,270,3,1,111,0,"P",46,42,10,"A",2,2,5,0,1,0,4,3,6,7,7,6,6,4,7,50,0,0,1,1,0,0,1,0,1,4,4,3,5,6,7,6,5,4,6,40,1,2,2,1,0,0,1,1,1,9,0,0,2,3,3,2,2,1,2,0,0,2]
[1,270,3,1,102,0,"P",42,46,8,"B",5,1,3,1,0,0,4,4,6,6,4,4,5,4,6,43,0,0,0,0,0,0,0,0,0,0,4,4,6,6,4,4,5,4,6,35,2,0,1,1,2,2,1,2,2,17,0,1,2,2,0,0,1,1,1,0,0,3]
[1,270,3,1,112,0,"P",46,42,20,"B",1,5,3,0,1,0,7,4,8,8,8,6,6,6,9,62,1,1,2,2,1,1,1,1,2,12,6,3,6,6,7,5,5,5,7,42,0,2,1,1,0,0,1,0,0,5,3,1,4,4,4,2,2,3,4,0,0,0]
[1,271,3,1,152,93,"P",39,53,14,"A",5,4,0,0,1,0,8,4,8,5,4,7,6,5,6,53,0,0,0,0,0,1,1,0,1,3,8,4,8,5,4,6,5,5,5,39,0,2,0,0,2,0,2,2,2,10,4,1,4,2,0,3,1,1,2,0,0,1]
[1,271,3,1,131,129,"P",53,39,11,"A",4,5,0,1,0,0,5,5,7,4,5,4,6,7,6,49,0,0,0,0,0,0,0,0,0,0,5,5,7,4,5,4,6,7,6,38,2,0,2,2,0,2,0,0,0,12,1,2,3,1,1,0,1,3,2,0,0,1]
[1,271,3,1,94,92,"P",39,53,17,"B",3,4,2,0,1,0,8,5,4,5,6,7,7,6,8,56,1,0,0,0,0,1,1,0,1,4,7,5,4,5,6,6,6,6,7,39,2,0,1,0,1,0,2,0,2,8,4,2,0,2,2,3,2,2,4,0,0,1]
[1,271,3,1,130,0,"P",53,39,13,"B",4,3,2,1,0,0,8,4,4,4,6,5,8,4,8,51,0,0,0,0,0,0,0,0,0,0,8,4,4,4,6,5,8,4,8,38,0,2,1,2,1,2,0,2,0,14,4,1,0,1,2,1,3,0,4,0,0,2]
[1,272,3,1,77,0,"P",34,48,5,"A",4,3,2,1,0,0,5,4,4,6,4,4,5,5,5,42,0,0,0,0,0,0,0,0,0,0,5,4,4,6,4,4,5,5,5,37,0,2,2,0,2,1,1,0,2,14,1,1,0,2,0,0,1,2,0,0,0,4]
[1,272,3,1,115,0,"P",48,34,10,"A",3,4,2,0,1,0,4,6,7,4,5,5,6,4,7,48,0,0,1,1,0,1,1,0,1,5,4,6,6,3,5,4,5,4,6,38,2,0,0,2,0,1,1,2,0,8,0,3,3,0,1,1,2,1,2,0,0,2]
[1,272,3,1,78,0,"P",34,48,6,"B",2,6,1,0,1,0,4,4,5,6,6,5,5,5,5,45,0,0,0,0,0,0,0,0,0,0,4,4,5,6,6,5,5,5,5,39,2,0,0,0,0,0,1,0,2,5,0,1,1,2,2,1,1,2,0,0,0,2]
[1,272,3,1,117,null,"P",48,34,12,"B",6,2,1,1,0,0,6,4,4,4,3,5,6,4,7,43,0,1,1,1,0,1,1,0,1,6,6,3,3,3,3,4,5,4,6,31,0,2,2,2,2,2,1,2,0,17,2,1,0,0,-1,1,2,1,2,0,1,2]
[1,273,3,1,105,0,"P",43,47,13,"A",4,3,2,1,0,0,6,2,5,5,5,7,5,7,8,50,0,0,0,0,0,0,0,0,0,0,6,2,5,5,5,7,5,7,8,37,2,2,2,1,1,0,2,0,0,14,2,-1,1,2,1,3,0,3,4,0,1,1]
[1,273,3,1,113,0,"P",47,43,16,"A",3,4,2,0,1,0,8,7,6,5,5,5,8,6,5,55,0,0,0,0,0,1,1,0,1,3,8,7,6,5,5,4,7,6,4,39,0,0,0,1,1,2,0,2,2,8,4,4,2,2,1,1,3,2,1,0,0,0]
[1,273,3,1,106,0,"P",43,47,14,"B",1,6,2,0,1,0,7,7,6,5,7,4,7,8,8,59,0,0,0,0,0,0,0,0,0,0,7,7,6,5,7,4,7,8,8,45,0,0,1,2,0,1,0,0,0,4,3,4,2,2,3,0,2,4,4,0,0,1]
[1,273,3,1,114,0,"P",47,43,19,"B",6,1,2,1,0,0,7,4,6,6,5,5,7,7,7,54,1,0,0,0,0,1,1,1,1,5,6,4,6,6,5,4,6,6,6,35,2,2,1,0,2,1,2,2,2,18,3,1,2,3,1,1,2,3,3,0,0,0]
[1,274,3,1,97,0,"P",40,44,10,"A",2,4,3,0,1,0,7,5,5,5,5,5,6,4,6,48,0,0,0,0,0,0,0,0,0,0,7,5,5,5,5,5,6,4,6,38,0,1,1,2,2,0,0,1,0,7,3,2,1,1,1,1,2,1,1,0,0,0]
[1,274,3,1,107,0,"P",44,40,10,"A",4,2,3,1,0,0,4,5,5,7,6,4,5,4,5,45,0,0,0,0,0,0,0,0,0,0,4,5,5,7,6,4,5,4,5,35,2,1,1,0,0,2,2,1,2,15,0,2,1,3,2,0,1,1,0,0,0,3]
[1,274,3,1,96,0,"P",40,44,13,"B",3,2,4,1,0,0,7,3,5,5,6,5,7,5,7,50,0,0,0,0,0,0,0,0,0,0,7,3,5,5,6,5,7,5,7,37,1,2,1,2,1,2,1,0,0,14,3,0,1,1,2,1,3,2,2,0,0,1]
[1,274,3,1,108,0,"P",44,40,16,"B",2,3,4,0,1,0,7,4,6,7,6,7,7,4,7,55,0,0,1,1,0,0,0,0,1,3,7,4,5,6,6,7,7,4,6,39,0,0,0,0,0,0,0,0,0,8,3,1,2,3,2,3,3,1,2,0,0,0]
[1,275,3,1,86,0,"P",37,51,22,"A",2,4,3,0,1,0,7,5,7,5,7,7,8,7,7,60,2,1,1,1,1,2,2,1,2,13,5,4,6,4,6,5,6,6,5,38,1,0,0,2,0,2,1,0,1,7,3,2,3,2,3,3,3,3,3,0,0,0]
[1,275,3,1,123,0,"P",51,37,9,"A",4,2,3,1,0,0,5,3,5,6,4,6,6,4,5,44,0,0,0,0,0,0,0,0,0,0,5,3,5,6,4,6,6,4,5,35,1,2,2,0,2,0,1,2,1,15,1,0,1,3,0,2,1,0,1,0,0,3]
[1,275,3,1,85,0,"P",37,51,24,"B",1,6,2,0,1,0,7,6,7,5,7,7,8,7,7,61,1,1,1,1,1,2,2,1,2,12,6,5,6,4,6,5,6,6,5,37,0,0,0,0,2,1,0,0,1,4,3,3,3,2,3,3,3,3,3,0,0,0]
[1,275,3,1,124,125,"P",51,37,12,"B",6,1,2,1,0,0,4,3,5,3,7,5,5,4,5,41,0,0,0,0,0,0,0,0,0,0,4,3,5,3,7,5,5,4,5,29,2,2,2,2,0,1,2,2,1,18,0,0,1,0,3,1,0,0,1,0,0,5]
[1,276,3,1,89,0,"P",38,52,16,"A",3,4,2,0,0,1,6,5,7,6,6,6,6,5,8,55,1,1,2,1,1,1,1,1,1,10,5,4,5,5,5,5,5,4,7,39,0,1,2,2,0,0,0,1,2,10,2,2,3,2,2,2,2,2,3,0,0,0]
[1,276,3,1,126,0,"P",52,38,6,"A",4,3,2,0,0,1,4,4,6,7,4,4,4,4,8,45,0,0,0,0,0,0,0,0,0,0,4,4,6,7,4,4,4,4,8,39,2,1,0,0,2,2,2,1,0,12,0,1,2,3,0,0,0,1,3,0,0,4]
[1,276,3,1,91,88,"P",38,52,21,"B",2,3,4,0,1,0,6,4,7,8,7,7,8,5,9,61,0,1,1,1,0,1,1,1,1,7,6,3,6,7,7,6,7,4,8,40,0,2,1,0,2,0,1,1,1,8,2,1,3,4,3,3,4,2,4,0,0,0]
[1,276,3,1,128,127,"P",52,38,14,"B",3,2,4,1,0,0,4,4,6,5,8,4,7,4,8,50,0,0,0,0,0,0,0,0,0,0,4,4,6,5,8,4,7,4,8,36,2,0,1,2,0,2,1,1,1,14,0,1,2,1,4,0,3,1,3,0,0,2]
[1,277,3,1,99,0,"P",41,45,14,"A",1,4,4,0,1,0,6,4,6,5,6,6,9,6,5,53,1,1,1,0,0,1,1,1,1,0,5,3,5,5,6,5,8,5,4,39,1,2,1,0,0,1,0,0,1,6,2,1,2,2,2,2,4,2,1,0,0,0]
[1,277,3,1,109,0,"P",45,41,7,"A",4,1,4,1,0,0,5,4,5,2,5,5,5,4,4,39,0,0,0,0,0,0,0,0,0,0,5,4,5,2,5,5,5,4,4,32,1,0,1,2,2,1,2,2,1,16,1,1,1,-1,1,1,0,0,0,0,1,3]
[1,277,3,1,98,0,"P",41,45,18,"B",3,3,3,0,0,1,6,5,7,3,5,7,7,5,8,53,1,1,0,0,0,1,1,1,1,0,5,4,7,3,5,6,6,4,7,35,2,1,0,2,1,0,1,2,0,11,2,2,3,0,1,3,2,1,4,0,0,1]
[1,277,3,1,110,0,"P",45,41,12,"B",3,3,3,0,0,1,7,4,5,4,5,5,6,6,5,47,0,0,0,0,0,0,0,0,0,0,7,4,5,4,5,5,6,6,5,35,0,1,2,0,1,2,1,0,2,11,3,1,1,1,1,1,1,2,1,0,0,0]
[1,278,3,1,82,0,"P",36,50,12,"A",2,3,4,0,0,1,4,5,6,8,5,6,5,4,6,49,0,0,1,1,0,0,0,0,0,0,4,5,5,7,5,6,5,4,6,37,1,0,1,0,1,1,2,2,0,10,0,2,2,4,1,2,1,1,1,0,0,1]
[1,278,3,1,151,121,"P",50,36,10,"A",3,2,4,0,0,1,4,3,5,6,5,6,7,6,5,47,0,0,0,0,0,0,0,0,0,0,4,3,5,6,5,6,7,6,5,37,1,2,1,2,1,1,0,0,2,12,0,0,1,2,1,2,3,3,0,0,0,3]
[1,278,3,1,81,0,"P",36,50,13,"B",3,4,2,0,1,0,7,3,6,6,7,8,5,4,9,55,0,0,1,1,0,0,0,0,1,0,7,3,5,5,7,8,5,4,8,42,0,2,2,1,0,0,2,1,0,8,3,0,2,2,3,4,1,1,4,0,0,1]
[1,278,3,1,122,0,"P",50,36,10,"B",4,3,2,1,0,0,5,4,6,5,4,4,6,4,6,44,0,0,0,0,0,0,0,0,0,0,5,4,6,5,4,4,6,4,6,34,2,0,0,1,2,2,0,1,2,14,1,1,2,1,0,0,2,1,1,0,0,2]
[1,279,3,1,79,0,"P",35,49,10,"A",4,1,4,1,0,0,5,4,5,4,5,4,5,5,5,42,1,1,1,1,0,1,1,1,1,0,4,3,4,3,5,3,4,4,4,32,1,2,1,2,0,2,2,1,1,16,1,1,1,1,1,0,0,1,1,0,0,2]
[1,279,3,1,116,0,"P",49,35,2,"A",1,4,4,0,1,0,4,4,4,4,4,4,5,4,4,37,0,0,0,0,0,0,0,0,0,0,4,4,4,4,4,4,5,4,4,35,1,0,1,0,2,0,0,1,1,6,0,1,0,1,0,0,0,0,0,0,0,7]
[1,279,3,1,80,0,"P",35,49,18,"B",3,4,2,1,0,0,6,4,6,6,6,6,7,6,7,54,1,1,1,1,1,1,1,1,1,0,5,3,5,5,5,5,6,5,6,36,2,2,2,1,0,1,0,0,0,12,2,1,2,3,2,2,2,2,3,0,0,0]
[1,279,3,1,120,0,"P",49,35,9,"B",4,3,2,0,1,0,7,5,6,5,4,5,5,4,5,46,0,0,0,0,0,0,0,0,0,0,7,5,6,5,4,5,5,4,5,37,0,0,0,1,2,1,2,2,2,10,3,2,2,2,0,1,0,0,1,0,0,3]
[1,270,3,0,0,0,0,42,46,14,"T",0,0,0,1,0,0,0,0,0,0,0,0,0,0,0,86,0,0,0,0,0,0,0,0,0,0,0,0,0,0,0,0,0,0,0,72,0,0,0,0,0,0,0,0,0,6,0,0,0,0,0,0,0,0,0,0,0,0]
[1,270,3,0,0,0,0,46,42,30,"T",0,0,0,0,1,0,0,0,0,0,0,0,0,0,0,112,0,0,0,0,0,0,0,0,0,0,0,0,0,0,0,0,0,0,0,82,0,0,0,0,0,0,0,0,0,0,0,0,0,0,0,0,0,0,0,0,0,0]
[1,271,3,0,0,0,0,39,53,31,"T",0,0,0,0,1,0,0,0,0,0,0,0,0,0,0,109,0,0,0,0,0,0,0,0,0,0,0,0,0,0,0,0,0,0,0,78,0,0,0,0,0,0,0,0,0,0,0,0,0,0,0,0,0,0,0,0,0,0]
[1,271,3,0,0,0,0,53,39,24,"T",0,0,0,1,0,0,0,0,0,0,0,0,0,0,0,100,0,0,0,0,0,0,0,0,0,0,0,0,0,0,0,0,0,0,0,76,0,0,0,0,0,0,0,0,0,6,0,0,0,0,0,0,0,0,0,0,0,0]
[1,272,3,0,0,0,0,34,48,11,"T",0,0,0,0,1,0,0,0,0,0,0,0,0,0,0,87,0,0,0,0,0,0,0,0,0,0,0,0,0,0,0,0,0,0,0,76,0,0,0,0,0,0,0,0,0,0,0,0,0,0,0,0,0,0,0,0,0,0]
[1,272,3,0,0,0,0,48,34,22,"T",0,0,0,1,0,0,0,0,0,0,0,0,0,0,0,91,0,0,0,0,0,0,0,0,0,0,0,0,0,0,0,0,0,0,0,69,0,0,0,0,0,0,0,0,0,6,0,0,0,0,0,0,0,0,0,0,0,0]
[1,273,3,0,0,0,0,43,47,27,"T",0,0,0,0,1,0,0,0,0,0,0,0,0,0,0,109,0,0,0,0,0,0,0,0,0,0,0,0,0,0,0,0,0,0,0,82,0,0,0,0,0,0,0,0,0,0,0,0,0,0,0,0,0,0,0,0,0,0]
[1,273,3,0,0,0,0,47,43,35,"T",0,0,0,1,0,0,0,0,0,0,0,0,0,0,0,109,0,0,0,0,0,0,0,0,0,0,0,0,0,0,0,0,0,0,0,74,0,0,0,0,0,0,0,0,0,6,0,0,0,0,0,0,0,0,0,0,0,0]
[1,274,3,0,0,0,0,40,44,23,"T",0,0,0,0,1,0,0,0,0,0,0,0,0,0,0,98,0,0,0,0,0,0,0,0,0,0,0,0,0,0,0,0,0,0,0,75,0,0,0,0,0,0,0,0,0,0,0,0,0,0,0,0,0,0,0,0,0,0]
[1,274,3,0,0,0,0,44,40,26,"T",0,0,0,1,0,0,0,0,0,0,0,0,0,0,0,100,0,0,0,0,0,0,0,0,0,0,0,0,0,0,0,0,0,0,0,74,0,0,0,0,0,0,0,0,0,6,0,0,0,0,0,0,0,0,0,0,0,0]
[1,275,3,0,0,0,0,37,51,46,"T",0,0,0,0,1,0,0,0,0,0,0,0,0,0,0,121,0,0,0,0,0,0,0,0,0,0,0,0,0,0,0,0,0,0,0,75,0,0,0,0,0,0,0,0,0,0,0,0,0,0,0,0,0,0,0,0,0,0]
[1,275,3,0,0,0,0,51,37,21,"T",0,0,0,1,0,0,0,0,0,0,0,0,0,0,0,85,0,0,0,0,0,0,0,0,0,0,0,0,0,0,0,0,0,0,0,64,0,0,0,0,0,0,0,0,0,6,0,0,0,0,0,0,0,0,0,0,0,0]
[1,276,3,0,0,0,0,38,52,37,"T",0,0,0,0,1,0,0,0,0,0,0,0,0,0,0,116,0,0,0,0,0,0,0,0,0,0,0,0,0,0,0,0,0,0,0,79,0,0,0,0,0,0,0,0,0,0,0,0,0,0,0,0,0,0,0,0,0,0]
[1,276,3,0,0,0,0,52,38,20,"T",0,0,0,1,0,0,0,0,0,0,0,0,0,0,0,95,0,0,0,0,0,0,0,0,0,0,0,0,0,0,0,0,0,0,0,75,0,0,0,0,0,0,0,0,0,6,0,0,0,0,0,0,0,0,0,0,0,0]
[1,277,3,0,0,0,0,41,45,32,"T",0,0,0,0,1,0,0,0,0,0,0,0,0,0,0,106,0,0,0,0,0,0,0,0,0,0,0,0,0,0,0,0,0,0,0,74,0,0,0,0,0,0,0,0,0,0,0,0,0,0,0,0,0,0,0,0,0,0]
[1,277,3,0,0,0,0,45,41,19,"T",0,0,0,1,0,0,0,0,0,0,0,0,0,0,0,86,0,0,0,0,0,0,0,0,0,0,0,0,0,0,0,0,0,0,0,67,0,0,0,0,0,0,0,0,0,6,0,0,0,0,0,0,0,0,0,0,0,0]
[1,280,4,1,105,0,"D",43,49,12,"A",0,0,0,0,0,0,4,4,8,6,0,0,0,0,0,22,1,1,2,1,1,1,1,1,1,10,3,3,6,5,-1,-1,-1,-1,-1,10,2,1,0,2,2,2,2,2,2,0,0,1,4,2,-4,-4,-4,-3,-5,0,0,1]
[1,280,4,1,116,118,"D",49,43,2,"A",0,0,0,0,0,0,4,3,5,6,0,0,0,0,0,18,0,0,0,0,0,0,0,0,0,0,4,3,5,6,0,0,0,0,0,16,0,1,2,0,0,0,0,0,0,0,0,0,1,2,-4,-4,-4,-3,-5,0,0,2]
[1,280,4,1,106,0,"D",43,49,15,"B",0,0,0,0,0,0,5,6,8,6,0,0,0,0,0,25,0,0,1,0,0,0,0,0,0,1,5,6,7,6,0,0,0,0,0,10,0,0,0,0,1,1,1,1,1,0,1,3,4,2,-4,-4,-4,-3,-5,0,0,0]
[1,280,4,1,119,0,"D",49,43,14,"B",0,0,0,0,0,0,4,4,6,5,0,0,0,0,0,19,0,0,0,0,0,0,0,0,0,0,4,4,6,5,0,0,0,0,0,5,2,2,2,2,1,1,1,1,1,0,0,1,2,1,-4,-4,-4,-3,-5,0,0,1]
[1,281,4,1,88,0,"D",38,44,7,"A",0,0,0,0,0,0,7,6,5,4,0,0,0,0,0,22,0,0,0,0,0,0,0,0,0,0,7,6,5,4,0,0,0,0,0,15,0,0,1,2,1,0,1,1,0,0,3,3,1,1,-4,-4,-5,-4,-4,0,0,0]
[1,281,4,1,107,0,"D",44,38,9,"A",0,0,0,0,0,0,4,3,5,5,0,0,0,0,0,17,0,0,0,0,0,1,0,0,1,2,4,3,5,5,0,-1,0,0,-1,8,2,2,1,0,1,2,1,1,2,0,0,0,1,2,-4,-4,-5,-4,-4,0,0,2]
[1,281,4,1,90,89,"D",38,44,21,"B",0,0,0,0,0,0,8,4,7,7,0,0,0,0,0,26,1,0,0,0,0,1,1,1,1,5,7,4,7,7,0,-1,-1,-1,-1,5,0,2,0,0,1,2,2,2,2,0,4,1,3,4,-4,-4,-5,-4,-4,0,0,0]
[1,281,4,1,108,0,"D",44,38,16,"B",0,0,0,0,0,0,5,5,6,5,0,0,0,0,0,21,0,0,0,0,0,0,0,0,0,0,5,5,6,5,0,0,0,0,0,5,2,0,2,2,1,0,0,0,0,0,1,2,2,2,-4,-4,-5,-4,-4,0,0,0]
[1,282,4,1,79,0,"D",35,51,8,"A",0,0,0,0,0,0,4,3,6,7,0,0,0,0,0,20,0,0,0,0,0,0,0,0,0,0,4,3,6,7,0,0,0,0,0,12,2,1,0,2,1,1,1,1,1,0,0,0,2,3,-4,-4,-4,-3,-5,0,0,2]
[1,282,4,1,123,0,"D",51,35,8,"A",0,0,0,0,0,0,6,3,5,8,0,0,0,0,0,22,0,0,0,0,0,0,0,0,0,0,6,3,5,8,0,0,0,0,0,14,0,1,2,0,1,1,1,1,1,0,2,0,1,4,-4,-4,-4,-3,-5,0,0,1]
[1,282,4,1,80,0,"D",35,51,16,"B",0,0,0,0,0,0,6,5,8,7,0,0,0,0,0,26,0,0,1,1,0,0,0,0,1,3,6,5,7,6,0,0,0,0,-1,10,0,0,0,2,1,1,1,1,2,0,2,2,4,3,-4,-4,-4,-3,-5,0,0,0]
[1,282,4,1,128,125,"D",51,35,13,"B",0,0,0,0,0,0,4,4,5,7,0,0,0,0,0,20,0,0,0,0,0,0,0,0,0,0,4,4,5,7,0,0,0,0,0,7,2,2,2,0,1,1,1,1,0,0,0,1,1,3,-4,-4,-4,-3,-5,0,0,1]
[1,283,4,1,77,0,"D",34,50,5,"A",0,0,0,0,0,0,4,4,4,4,0,0,0,0,0,16,0,0,0,0,0,0,0,0,0,0,4,4,4,4,0,0,0,0,0,11,0,0,1,1,1,0,0,1,0,0,0,1,0,1,-4,-4,-5,-4,-4,0,0,2]
[1,283,4,1,122,0,"D",50,34,9,"A",0,0,0,0,0,0,4,3,4,4,0,0,0,0,0,15,1,0,0,0,0,1,1,0,1,4,3,3,4,4,0,-1,-1,0,-1,6,2,2,1,1,1,2,2,1,2,0,0,0,0,1,-4,-4,-5,-4,-4,0,0,3]
[1,283,4,1,78,0,"D",34,50,7,"B",0,0,0,0,0,0,5,3,6,4,0,0,0,0,0,18,0,0,0,0,0,0,0,0,0,0,5,3,6,4,0,0,0,0,0,11,1,2,0,1,1,0,0,1,0,0,1,0,2,1,-4,-4,-5,-4,-4,0,0,1]
[1,283,4,1,121,0,"D",50,34,10,"B",0,0,0,0,0,0,5,4,5,4,0,0,0,0,0,18,0,0,0,0,0,1,1,0,1,3,5,4,5,4,0,-1,-1,0,-1,8,1,0,2,1,1,2,2,1,2,0,1,1,1,1,-4,-4,-5,-4,-4,0,0,0]
[1,284,4,1,99,0,"D",41,47,14,"A",0,0,0,0,0,0,6,5,5,6,0,0,0,0,0,22,0,0,0,0,0,0,0,0,0,0,6,5,5,6,0,0,0,0,0,8,2,1,2,2,1,1,1,1,1,0,2,2,1,2,-4,-4,-4,-3,-5,0,0,0]
[1,284,4,1,113,0,"D",47,41,16,"A",0,0,0,0,0,0,7,5,7,8,0,0,0,0,0,27,0,0,1,1,0,0,0,0,0,2,7,5,6,7,0,0,0,0,0,11,0,1,0,0,1,1,1,1,1,0,3,2,3,4,-4,-4,-4,-3,-5,0,0,0]
[1,284,4,1,98,0,"D",41,47,16,"B",0,0,0,0,0,0,5,5,8,4,0,0,0,0,0,22,0,0,0,0,0,0,0,0,0,0,5,5,8,4,0,0,0,0,0,6,2,2,0,2,1,1,1,1,1,0,1,2,4,0,-4,-4,-4,-3,-5,0,0,1]
[1,284,4,1,114,0,"D",47,41,17,"B",0,0,0,0,0,0,6,6,6,7,0,0,0,0,0,25,0,0,1,0,0,0,0,0,0,1,6,6,5,7,0,0,0,0,0,8,0,0,0,0,0,0,0,0,0,0,2,3,2,3,-4,-4,-4,-3,-5,0,0,0]
[1,285,4,1,82,0,"D",36,52,12,"A",0,0,0,0,0,0,5,3,6,3,0,0,0,0,0,17,1,0,0,0,0,1,1,1,1,5,4,3,6,3,0,-1,-1,-1,-1,5,1,1,0,1,1,2,2,2,2,0,1,0,2,0,-4,-4,-5,-4,-4,0,0,2]
[1,285,4,1,126,0,"D",52,36,7,"A",0,0,0,0,0,0,4,3,4,3,0,0,0,0,0,14,0,0,0,0,0,0,0,0,0,0,4,3,4,3,0,0,0,0,0,7,1,1,2,1,1,0,0,0,0,0,0,0,0,0,-4,-4,-5,-4,-4,0,0,4]
[1,285,4,1,81,0,"D",36,52,14,"B",0,0,0,0,0,0,6,5,6,5,0,0,0,0,0,22,0,0,0,0,0,1,1,0,1,3,6,5,6,5,0,-1,-1,0,-1,8,1,1,0,1,1,2,2,1,2,0,2,2,2,2,-4,-4,-5,-4,-4,0,0,0]
[1,285,4,1,131,127,"D",52,36,11,"B",0,0,0,0,0,0,6,5,4,5,0,0,0,0,0,20,0,0,0,0,0,0,0,0,0,0,6,5,4,5,0,0,0,0,0,9,1,1,2,1,1,0,0,1,0,0,2,2,0,2,-4,-4,-5,-4,-4,0,0,1]
[1,286,4,1,86,0,"D",37,53,21,"A",0,0,0,0,0,0,7,4,6,8,0,0,0,0,0,25,1,1,1,1,0,1,1,1,1,8,6,3,5,7,0,-1,-1,-1,-1,4,0,2,2,0,1,2,2,2,2,0,3,1,2,4,-4,-4,-4,-3,-5,0,0,0]
[1,286,4,1,130,0,"D",53,37,13,"A",0,0,0,0,0,0,5,4,6,5,0,0,0,0,0,20,0,0,0,0,0,0,0,0,0,0,5,4,6,5,0,0,0,0,0,7,2,0,0,2,1,0,0,0,0,0,1,1,2,1,-4,-4,-4,-3,-5,0,0,0]
[1,286,4,1,85,0,"D",37,53,22,"B",0,0,0,0,0,0,8,6,8,8,0,0,0,0,0,30,2,2,2,2,2,2,2,2,2,22,6,4,6,6,-2,-2,-2,-2,-2,8,2,2,2,2,2,2,2,2,2,0,4,3,4,4,-4,-4,-4,-3,-5,0,0,0]
[1,286,4,1,132,129,"D",53,37,0,"B",0,0,0,0,0,0,8,7,8,8,0,0,0,0,0,31,0,0,0,0,0,0,0,0,0,0,8,7,8,8,0,0,0,0,0,31,0,0,0,0,0,0,0,0,0,0,4,4,4,4,-4,-4,-4,-3,-5,0,0,0]
[1,287,4,1,103,0,"D",42,48,6,"A",0,0,0,0,0,0,6,4,6,4,0,0,0,0,0,20,0,0,0,0,0,0,0,0,0,0,6,4,6,4,0,0,0,0,0,14,0,1,0,1,1,0,0,1,0,0,2,1,2,1,-4,-4,-5,-4,-4,0,0,0]
[1,287,4,1,115,0,"D",48,42,10,"A",0,0,0,0,0,0,6,4,5,4,0,0,0,0,0,19,1,0,0,0,0,1,1,0,1,0,5,4,5,4,0,-1,-1,0,-1,9,2,1,2,1,1,2,2,1,2,0,2,1,1,1,-4,-4,-5,-4,-4,0,0,0]
[1,287,4,1,102,0,"D",42,48,7,"B",0,0,0,0,0,0,5,4,4,3,0,0,0,0,0,16,0,0,0,0,0,0,0,0,0,0,5,4,4,3,0,0,0,0,0,9,2,1,1,1,1,0,1,1,0,0,1,1,0,0,-4,-4,-5,-4,-4,0,0,2]
[1,287,4,1,120,116,"D",48,42,9,"B",0,0,0,0,0,0,6,4,4,3,0,0,0,0,0,17,0,0,0,0,0,1,0,0,1,0,6,4,4,3,0,-1,0,0,-1,8,0,1,1,1,1,2,1,1,2,0,2,1,0,0,-4,-4,-5,-4,-4,0,0,2]
[1,288,4,1,94,0,"D",39,45,17,"A",0,0,0,0,0,0,7,6,6,8,0,0,0,0,0,27,1,1,2,2,1,1,1,1,2,0,6,5,4,6,-1,-1,-1,-1,-2,10,0,0,2,0,2,2,2,2,2,0,3,3,2,4,-4,-4,-4,-3,-5,0,0,0]
[1,288,4,1,109,0,"D",45,39,5,"A",0,0,0,0,0,0,4,4,6,5,0,0,0,0,0,19,0,0,0,0,0,0,0,0,0,0,4,4,6,5,0,0,0,0,0,14,2,2,0,2,0,0,0,0,0,0,0,1,2,1,-4,-4,-4,-3,-5,0,0,1]
[1,288,4,1,92,0,"D",39,45,0,"B",0,0,0,0,0,0,8,7,8,8,0,0,0,0,0,31,0,0,0,0,0,0,0,0,0,0,8,7,8,8,0,0,0,0,0,31,0,0,0,0,0,0,0,0,0,0,4,4,4,4,-4,-4,-4,-3,-5,0,0,0]
[1,288,4,1,110,0,"D",45,39,11,"B",0,0,0,0,0,0,5,4,6,6,0,0,0,0,0,21,1,1,2,2,1,1,1,1,1,0,4,3,4,4,-1,-1,-1,-1,-1,10,2,2,2,2,2,2,2,2,2,0,1,1,2,2,-4,-4,-4,-3,-5,0,0,0]
[1,289,4,1,97,0,"D",40,46,10,"A",0,0,0,0,0,0,4,3,5,5,0,0,0,0,0,17,0,0,0,0,0,0,0,0,0,0,4,3,5,5,0,0,0,0,0,7,2,2,2,0,1,0,1,1,1,0,0,0,1,2,-4,-4,-5,-4,-4,0,0,2]
[1,289,4,1,111,0,"D",46,40,11,"A",0,0,0,0,0,0,6,4,7,3,0,0,0,0,0,20,0,0,0,0,0,1,0,0,0,0,6,4,7,3,0,-1,0,0,0,9,0,0,0,2,1,2,1,1,1,0,2,1,3,0,-4,-4,-5,-4,-4,0,0,1]
[1,289,4,1,96,0,"D",40,46,12,"B",0,0,0,0,0,0,5,5,6,4,0,0,0,0,0,20,1,1,1,1,1,2,2,1,2,0,4,4,5,3,-1,-2,-2,-1,-2,8,2,2,2,2,2,2,2,2,2,0,1,2,2,1,-4,-4,-5,-4,-4,0,0,0]
[1,289,4,1,153,112,"D",46,40,0,"B",0,0,0,0,0,0,7,6,7,6,0,0,0,0,0,26,0,0,0,0,0,0,0,0,0,0,7,6,7,6,0,0,0,0,0,26,0,0,0,0,0,0,0,0,0,0,3,3,3,3,-4,-4,-5,-4,-4,0,0,0]
[1,280,4,0,0,0,0,43,49,27,"T",0,0,0,0,0,0,0,0,0,0,0,0,0,0,0,47,0,0,0,0,0,0,0,0,0,0,0,0,0,0,0,0,0,0,0,20,0,0,0,0,0,0,0,0,0,6,0,0,0,0,0,0,0,0,0,0,0,0]
[1,280,4,0,0,0,0,49,43,16,"T",0,0,0,0,0,0,0,0,0,0,0,0,0,0,0,37,0,0,0,0,0,0,0,0,0,0,0,0,0,0,0,0,0,0,0,21,0,0,0,0,0,0,0,0,0,0,0,0,0,0,0,0,0,0,0,0,0,0]
[1,281,4,0,0,0,0,38,44,28,"T",0,0,0,0,0,0,0,0,0,0,0,0,0,0,0,48,0,0,0,0,0,0,0,0,0,0,0,0,0,0,0,0,0,0,0,20,0,0,0,0,0,0,0,0,0,0,0,0,0,0,0,0,0,0,0,0,0,0]
[1,281,4,0,0,0,0,44,38,25,"T",0,0,0,0,0,0,0,0,0,0,0,0,0,0,0,38,0,0,0,0,0,0,0,0,0,0,0,0,0,0,0,0,0,0,0,13,0,0,0,0,0,0,0,0,0,6,0,0,0,0,0,0,0,0,0,0,0,0]
[1,282,4,0,0,0,0,35,51,24,"T",0,0,0,0,0,0,0,0,0,0,0,0,0,0,0,46,0,0,0,0,0,0,0,0,0,0,0,0,0,0,0,0,0,0,0,22,0,0,0,0,0,0,0,0,0,0,0,0,0,0,0,0,0,0,0,0,0,0]
[1,282,4,0,0,0,0,51,35,21,"T",0,0,0,0,0,0,0,0,0,0,0,0,0,0,0,42,0,0,0,0,0,0,0,0,0,0,0,0,0,0,0,0,0,0,0,21,0,0,0,0,0,0,0,0,0,6,0,0,0,0,0,0,0,0,0,0,0,0]
[1,283,4,0,0,0,0,34,50,12,"T",0,0,0,0,0,0,0,0,0,0,0,0,0,0,0,34,0,0,0,0,0,0,0,0,0,0,0,0,0,0,0,0,0,0,0,22,0,0,0,0,0,0,0,0,0,0,0,0,0,0,0,0,0,0,0,0,0,0]
[1,283,4,0,0,0,0,50,34,19,"T",0,0,0,0,0,0,0,0,0,0,0,0,0,0,0,33,0,0,0,0,0,0,0,0,0,0,0,0,0,0,0,0,0,0,0,14,0,0,0,0,0,0,0,0,0,6,0,0,0,0,0,0,0,0,0,0,0,0]
[1,284,4,0,0,0,0,41,47,30,"T",0,0,0,0,0,0,0,0,0,0,0,0,0,0,0,44,0,0,0,0,0,0,0,0,0,0,0,0,0,0,0,0,0,0,0,14,0,0,0,0,0,0,0,0,0,6,0,0,0,0,0,0,0,0,0,0,0,0]
[1,284,4,0,0,0,0,47,41,33,"T",0,0,0,0,0,0,0,0,0,0,0,0,0,0,0,52,0,0,0,0,0,0,0,0,0,0,0,0,0,0,0,0,0,0,0,19,0,0,0,0,0,0,0,0,0,0,0,0,0,0,0,0,0,0,0,0,0,0]
[1,285,4,0,0,0,0,36,52,26,"T",0,0,0,0,0,0,0,0,0,0,0,0,0,0,0,39,0,0,0,0,0,0,0,0,0,0,0,0,0,0,0,0,0,0,0,13,0,0,0,0,0,0,0,0,0,6,0,0,0,0,0,0,0,0,0,0,0,0]
[1,285,4,0,0,0,0,52,36,18,"T",0,0,0,0,0,0,0,0,0,0,0,0,0,0,0,34,0,0,0,0,0,0,0,0,0,0,0,0,0,0,0,0,0,0,0,16,0,0,0,0,0,0,0,0,0,0,0,0,0,0,0,0,0,0,0,0,0,0]
[1,286,4,0,0,0,0,37,53,43,"T",0,0,0,0,0,0,0,0,0,0,0,0,0,0,0,55,0,0,0,0,0,0,0,0,0,0,0,0,0,0,0,0,0,0,0,12,0,0,0,0,0,0,0,0,0,6,0,0,0,0,0,0,0,0,0,0,0,0]
[1,286,4,0,0,0,0,53,37,13,"T",0,0,0,0,0,0,0,0,0,0,0,0,0,0,0,51,0,0,0,0,0,0,0,0,0,0,0,0,0,0,0,0,0,0,0,38,0,0,0,0,0,0,0,0,0,0,0,0,0,0,0,0,0,0,0,0,0,0]
[1,287,4,0,0,0,0,42,48,13,"T",0,0,0,0,0,0,0,0,0,0,0,0,0,0,0,36,0,0,0,0,0,0,0,0,0,0,0,0,0,0,0,0,0,0,0,23,0,0,0,0,0,0,0,0,0,0,0,0,0,0,0,0,0,0,0,0,0,0]
[1,287,4,0,0,0,0,48,42,19,"T",0,0,0,0,0,0,0,0,0,0,0,0,0,0,0,36,0,0,0,0,0,0,0,0,0,0,0,0,0,0,0,0,0,0,0,17,0,0,0,0,0,0,0,0,0,6,0,0,0,0,0,0,0,0,0,0,0,0]
[1,290,5,1,97,0,"P",40,48,10,"A",2,3,4,1,0,0,4,4,6,5,5,5,5,5,5,44,0,0,1,0,0,0,0,0,0,1,4,4,5,5,5,5,5,5,5,34,2,0,1,1,0,1,1,0,2,12,0,1,2,1,1,1,1,2,0,0,0,2]
[1,290,5,1,120,116,"P",48,40,9,"A",3,2,4,0,1,0,5,3,5,5,4,5,5,4,8,44,0,0,0,0,0,0,0,0,0,0,5,3,5,5,4,5,5,4,8,35,0,2,1,1,2,1,1,2,0,10,1,0,1,1,0,1,1,1,3,0,0,2]
[1,290,5,1,96,0,"P",40,48,12,"B",5,2,2,1,0,0,6,4,6,6,6,5,6,4,4,47,0,0,1,1,0,0,0,0,1,3,6,4,5,5,6,5,6,4,3,35,2,1,2,2,0,2,0,1,2,16,2,1,2,2,2,1,2,1,-1,0,1,0]
[1,290,5,1,117,0,"P",48,40,9,"B",2,5,2,0,1,0,7,4,6,7,5,6,5,4,6,50,0,0,0,0,0,0,0,0,0,0,7,4,6,7,5,6,5,4,6,41,0,1,0,0,2,0,2,1,0,6,3,1,2,3,1,2,1,1,1,0,0,0]
[1,291,5,1,87,86,"P",37,45,15,"A",2,4,3,0,1,0,6,4,6,5,5,7,8,8,5,54,1,1,1,1,1,2,1,1,1,10,5,3,5,4,4,5,7,7,4,39,0,2,1,0,1,1,0,0,2,7,2,1,2,2,1,3,3,4,1,0,0,0]
[1,291,5,1,109,0,"P",45,37,5,"A",4,2,3,1,0,0,4,4,5,3,4,5,6,4,5,40,0,0,0,0,0,0,0,0,0,0,4,4,5,3,4,5,6,4,5,35,2,0,1,2,1,1,2,2,0,15,0,1,1,0,0,1,1,0,1,0,0,4]
[1,291,5,1,85,0,"P",37,45,22,"B",2,6,1,0,1,0,8,6,8,6,7,8,8,6,8,65,1,1,1,1,1,2,1,1,2,11,7,5,7,5,6,6,7,5,6,43,0,0,0,2,0,0,0,1,2,5,4,3,4,3,3,4,3,2,4,0,0,0]
[1,291,5,1,110,0,"P",45,37,11,"B",6,2,1,1,0,0,6,4,6,6,5,5,5,5,7,49,0,0,0,0,0,0,0,0,0,0,6,4,6,6,5,5,5,5,7,38,2,2,2,0,2,2,2,1,0,17,2,1,2,3,1,1,0,1,3,0,0,1]
[1,292,5,1,77,0,"P",34,52,5,"A",2,4,3,0,1,0,5,4,5,5,5,4,4,6,6,44,0,0,0,0,0,0,0,0,0,0,5,4,5,5,5,4,4,6,6,39,1,1,0,0,1,2,2,0,0,7,1,1,1,1,1,0,0,3,1,0,0,2]
[1,292,5,1,126,0,"P",52,34,7,"A",4,2,3,1,0,0,5,4,4,5,5,5,5,4,5,42,0,0,1,1,0,0,0,0,0,2,5,4,3,4,5,5,5,4,5,35,1,1,2,2,1,0,0,2,2,15,1,1,0,1,1,1,1,1,0,0,0,2]
[1,292,5,1,78,0,"P",34,52,7,"B",1,4,4,0,1,0,6,3,6,6,6,5,6,3,6,47,0,0,0,0,0,0,0,0,0,0,6,3,6,6,6,5,6,3,6,40,2,1,0,0,1,1,0,1,0,6,2,0,2,2,2,1,2,0,1,0,0,2]
[1,292,5,1,125,0,"P",52,34,10,"B",4,1,4,1,0,0,7,3,6,6,6,5,5,3,6,47,0,0,1,1,0,0,0,0,1,3,7,3,5,5,6,5,5,3,5,37,0,1,2,2,1,1,2,1,2,16,3,0,2,2,2,1,1,0,1,0,0,2]
[1,293,5,1,152,92,"P",39,47,14,"A",4,4,1,1,0,0,7,4,5,4,5,6,9,7,6,53,0,0,0,0,0,0,0,0,0,0,7,4,5,4,5,6,9,7,6,39,0,2,2,2,2,1,0,0,0,13,3,1,1,1,1,2,4,3,2,0,0,0]
[1,293,5,1,113,0,"P",47,39,16,"A",4,4,1,0,1,0,6,6,8,5,6,7,8,6,6,58,0,0,0,0,0,1,0,0,1,2,6,6,8,5,6,6,8,6,5,42,2,0,0,0,0,1,2,2,2,9,2,3,4,2,2,3,3,2,2,0,0,0]
[1,293,5,1,94,93,"P",39,47,17,"B",4,5,0,1,0,0,7,5,4,5,6,6,5,5,6,49,0,0,0,0,0,0,0,0,0,0,7,5,4,5,6,6,5,5,6,32,0,0,2,0,0,0,2,2,2,12,3,2,0,2,2,2,0,1,2,0,0,2]
[1,293,5,1,114,0,"P",47,39,17,"B",5,4,0,0,1,0,5,4,7,4,5,5,8,6,7,51,0,0,0,0,0,0,0,0,0,0,5,4,7,4,5,5,8,6,7,34,2,2,0,2,2,2,0,0,0,10,1,1,3,1,1,1,3,2,3,0,0,0]
[1,294,5,1,103,0,"P",42,50,6,"A",2,4,3,0,1,0,5,4,5,6,6,6,7,4,6,49,0,0,0,0,0,0,0,0,0,0,5,4,5,6,6,6,7,4,6,43,2,0,2,1,0,0,0,1,1,7,1,1,1,2,2,2,3,1,1,0,0,0]
[1,294,5,1,122,0,"P",50,42,9,"A",4,2,3,1,0,0,7,3,7,7,4,5,4,4,7,48,0,0,1,1,0,0,0,0,1,3,7,3,6,6,4,5,4,4,6,39,0,2,0,1,2,2,2,1,1,15,3,0,3,3,0,1,0,1,2,0,0,3]
[1,294,5,1,104,102,"P",42,50,9,"B",6,1,2,1,0,0,7,4,5,6,6,4,4,4,6,46,0,0,0,0,0,0,0,0,0,0,7,4,5,6,6,4,4,4,6,37,2,1,0,2,2,2,2,2,1,18,3,1,1,2,2,0,0,1,1,0,0,2]
[1,294,5,1,151,121,"P",50,42,10,"B",1,6,2,0,1,0,8,4,5,7,8,7,6,5,6,56,0,0,1,0,0,0,0,0,0,1,8,4,4,7,8,7,6,5,6,46,0,0,0,0,0,0,0,0,0,4,4,1,1,3,4,3,2,2,1,0,0,0]
[1,295,5,1,105,0,"P",43,51,12,"A",2,5,2,0,1,0,6,7,6,4,8,7,8,5,5,56,1,0,0,0,0,1,1,0,1,4,5,7,6,4,8,6,7,5,4,44,1,0,0,1,0,0,0,2,2,6,2,4,2,1,4,3,3,1,1,0,0,0]
[1,295,5,1,124,123,"P",51,43,8,"A",5,2,2,1,0,0,5,4,5,4,5,4,6,7,5,45,0,0,0,0,0,0,0,0,0,0,5,4,5,4,5,4,6,7,5,37,1,2,2,1,2,2,2,0,0,16,1,1,1,1,1,0,1,3,1,0,0,1]
[1,295,5,1,106,0,"P",43,51,15,"B",1,3,5,0,1,0,5,5,8,4,7,6,8,8,7,58,0,0,0,0,0,1,0,0,1,2,5,5,8,4,7,5,8,8,6,43,1,1,0,1,0,1,1,0,2,7,1,2,4,1,3,2,3,4,3,0,0,0]
[1,295,5,1,127,0,"P",51,43,13,"B",3,1,5,1,0,0,5,5,5,4,6,5,8,6,7,51,0,0,0,0,0,0,0,0,0,0,5,5,5,4,6,5,8,6,7,38,1,1,2,1,2,1,1,2,0,15,1,2,1,1,2,1,3,2,3,0,0,0]
[1,296,5,1,90,88,"P",38,46,21,"A",3,4,2,0,1,0,6,7,7,7,8,7,8,7,9,66,0,0,1,1,0,0,0,0,0,2,6,7,6,6,8,7,8,7,9,45,2,0,2,2,1,0,0,1,0,8,2,4,3,3,4,3,4,4,4,0,0,0]
[1,296,5,1,145,111,"P",46,38,19,"A",4,3,2,1,0,0,8,3,7,8,8,5,7,7,7,60,0,0,0,0,0,0,0,0,0,0,8,3,7,8,8,5,7,7,7,41,0,2,0,0,1,2,2,1,2,14,4,0,3,4,4,1,3,4,2,0,0,1]
[1,296,5,1,91,89,"P",38,46,21,"B",2,6,1,0,1,0,4,6,6,7,7,8,7,7,7,59,0,0,0,0,0,0,0,0,0,0,4,6,6,7,7,8,7,7,7,38,2,0,0,0,0,0,0,1,2,5,0,3,2,3,3,4,3,4,2,0,0,1]
[1,296,5,1,112,0,"P",46,38,21,"B",6,2,1,1,0,0,8,5,5,5,5,7,6,7,9,57,0,0,0,0,0,0,0,0,0,0,8,5,5,5,5,7,6,7,9,36,0,2,2,2,2,2,2,1,0,17,4,2,1,1,1,3,2,4,4,0,0,0]
[1,297,5,1,79,0,"P",35,53,8,"A",1,6,2,0,1,0,8,3,5,4,7,8,7,6,5,53,0,0,0,0,0,0,0,0,0,0,8,3,5,4,7,8,7,6,5,45,0,2,0,0,0,0,1,0,1,4,4,0,1,1,3,4,2,2,1,0,0,1]
[1,297,5,1,131,129,"P",53,35,11,"A",6,1,2,1,0,0,7,4,4,3,5,6,8,4,6,47,0,0,0,0,0,1,1,0,1,0,7,4,4,3,5,5,7,4,5,36,2,0,2,2,2,2,1,2,1,18,3,1,0,0,1,2,3,0,2,0,0,3]
[1,297,5,1,80,0,"P",35,53,16,"B",4,3,2,1,0,0,7,5,5,5,7,7,7,5,5,53,0,0,0,0,0,1,1,0,1,0,7,5,5,5,7,6,6,5,4,37,0,1,2,0,0,1,2,2,2,14,3,2,1,2,3,3,2,1,1,0,0,0]
[1,297,5,1,130,0,"D",53,35,13,"B",0,0,0,0,0,0,6,5,6,4,5,6,7,6,6,51,0,0,0,0,0,0,0,0,0,0,6,5,6,4,5,6,7,6,6,38,2,1,0,2,2,1,0,0,0,0,2,2,2,1,1,2,2,2,2,0,0,0]
[1,298,5,1,82,0,"P",36,44,12,"A",3,3,3,0,1,0,5,5,6,6,5,4,7,7,6,51,0,0,1,1,0,0,0,0,1,0,5,5,5,5,5,4,7,7,5,39,1,0,1,0,2,2,1,0,2,9,1,2,2,2,1,0,3,4,1,0,0,1]
[1,298,5,1,107,0,"P",44,36,9,"A",3,3,3,1,0,0,5,4,5,4,6,6,7,4,6,47,0,0,0,0,0,0,0,0,0,0,5,4,5,4,6,6,7,4,6,38,1,2,1,2,0,0,1,2,0,13,1,1,1,0,2,2,3,1,1,0,0,1]
[1,298,5,1,81,0,"P",36,44,14,"B",2,2,5,0,1,0,8,6,7,8,7,5,7,6,8,62,0,0,0,0,0,0,0,0,0,0,8,6,7,8,7,5,7,6,8,48,0,1,1,0,2,1,2,1,1,9,4,3,3,4,3,1,3,3,3,0,0,0]
[1,298,5,1,108,0,"P",44,36,16,"B",2,2,5,1,0,0,6,6,8,8,8,5,8,6,8,63,0,0,1,1,0,0,0,0,0,0,6,6,7,7,8,5,8,6,8,47,2,1,1,2,0,1,0,1,1,13,2,3,4,4,4,1,4,3,3,0,0,0]
[1,299,5,1,100,99,"P",41,49,12,"A",3,4,2,0,1,0,5,7,4,6,6,6,7,4,5,50,1,1,1,0,0,1,1,1,1,0,4,6,3,6,6,5,6,3,4,38,1,0,2,0,0,0,1,2,2,8,1,4,0,3,2,2,2,0,1,0,0,2]
[1,299,5,1,118,0,"P",49,41,5,"A",4,3,2,1,0,0,4,4,5,4,4,4,6,5,5,41,0,0,0,0,0,0,0,0,0,0,4,4,5,4,4,4,6,5,5,36,1,2,0,2,2,2,1,0,0,14,0,1,1,1,0,0,1,1,1,0,0,3]
[1,299,5,1,98,0,"P",41,49,16,"B",2,4,3,0,1,0,7,5,8,4,6,6,9,5,8,58,1,1,0,0,0,1,1,1,1,0,6,4,8,4,6,5,8,4,7,42,2,1,0,2,0,0,1,1,0,7,3,2,4,1,2,2,4,1,4,0,0,0]
[1,299,5,1,115,119,"P",49,41,10,"B",4,2,3,1,0,0,7,4,3,5,4,4,8,4,5,44,0,0,0,0,0,0,0,0,0,0,7,4,3,5,4,4,8,4,5,34,0,1,2,0,2,2,1,1,2,15,3,1,-1,2,0,0,3,0,1,0,1,3]
[1,290,5,0,0,0,0,40,48,22,"T",0,0,0,1,0,0,0,0,0,0,0,0,0,0,0,91,0,0,0,0,0,0,0,0,0,0,0,0,0,0,0,0,0,0,0,69,0,0,0,0,0,0,0,0,0,6,0,0,0,0,0,0,0,0,0,0,0,0]
[1,290,5,0,0,0,0,48,40,18,"T",0,0,0,0,1,0,0,0,0,0,0,0,0,0,0,94,0,0,0,0,0,0,0,0,0,0,0,0,0,0,0,0,0,0,0,76,0,0,0,0,0,0,0,0,0,0,0,0,0,0,0,0,0,0,0,0,0,0]
[1,291,5,0,0,0,0,37,45,37,"T",0,0,0,0,1,0,0,0,0,0,0,0,0,0,0,119,0,0,0,0,0,0,0,0,0,0,0,0,0,0,0,0,0,0,0,82,0,0,0,0,0,0,0,0,0,0,0,0,0,0,0,0,0,0,0,0,0,0]
[1,291,5,0,0,0,0,45,37,16,"T",0,0,0,1,0,0,0,0,0,0,0,0,0,0,0,89,0,0,0,0,0,0,0,0,0,0,0,0,0,0,0,0,0,0,0,73,0,0,0,0,0,0,0,0,0,6,0,0,0,0,0,0,0,0,0,0,0,0]
[1,292,5,0,0,0,0,34,52,12,"T",0,0,0,0,1,0,0,0,0,0,0,0,0,0,0,91,0,0,0,0,0,0,0,0,0,0,0,0,0,0,0,0,0,0,0,79,0,0,0,0,0,0,0,0,0,0,0,0,0,0,0,0,0,0,0,0,0,0]
[1,292,5,0,0,0,0,52,34,17,"T",0,0,0,1,0,0,0,0,0,0,0,0,0,0,0,89,0,0,0,0,0,0,0,0,0,0,0,0,0,0,0,0,0,0,0,72,0,0,0,0,0,0,0,0,0,6,0,0,0,0,0,0,0,0,0,0,0,0]
[1,293,5,0,0,0,0,39,47,31,"T",0,0,0,1,0,0,0,0,0,0,0,0,0,0,0,102,0,0,0,0,0,0,0,0,0,0,0,0,0,0,0,0,0,0,0,71,0,0,0,0,0,0,0,0,0,6,0,0,0,0,0,0,0,0,0,0,0,0]
[1,293,5,0,0,0,0,47,39,33,"T",0,0,0,0,1,0,0,0,0,0,0,0,0,0,0,109,0,0,0,0,0,0,0,0,0,0,0,0,0,0,0,0,0,0,0,76,0,0,0,0,0,0,0,0,0,0,0,0,0,0,0,0,0,0,0,0,0,0]
[1,294,5,0,0,0,0,42,50,15,"T",0,0,0,1,0,0,0,0,0,0,0,0,0,0,0,95,0,0,0,0,0,0,0,0,0,0,0,0,0,0,0,0,0,0,0,80,0,0,0,0,0,0,0,0,0,6,0,0,0,0,0,0,0,0,0,0,0,0]
[1,294,5,0,0,0,0,50,42,19,"T",0,0,0,0,1,0,0,0,0,0,0,0,0,0,0,104,0,0,0,0,0,0,0,0,0,0,0,0,0,0,0,0,0,0,0,85,0,0,0,0,0,0,0,0,0,0,0,0,0,0,0,0,0,0,0,0,0,0]
[1,295,5,0,0,0,0,43,51,27,"T",0,0,0,0,1,0,0,0,0,0,0,0,0,0,0,114,0,0,0,0,0,0,0,0,0,0,0,0,0,0,0,0,0,0,0,87,0,0,0,0,0,0,0,0,0,0,0,0,0,0,0,0,0,0,0,0,0,0]
[1,295,5,0,0,0,0,51,43,21,"T",0,0,0,1,0,0,0,0,0,0,0,0,0,0,0,96,0,0,0,0,0,0,0,0,0,0,0,0,0,0,0,0,0,0,0,75,0,0,0,0,0,0,0,0,0,6,0,0,0,0,0,0,0,0,0,0,0,0]
[1,296,5,0,0,0,0,38,46,42,"T",0,0,0,0,1,0,0,0,0,0,0,0,0,0,0,125,0,0,0,0,0,0,0,0,0,0,0,0,0,0,0,0,0,0,0,83,0,0,0,0,0,0,0,0,0,0,0,0,0,0,0,0,0,0,0,0,0,0]
[1,296,5,0,0,0,0,46,38,40,"T",0,0,0,1,0,0,0,0,0,0,0,0,0,0,0,117,0,0,0,0,0,0,0,0,0,0,0,0,0,0,0,0,0,0,0,77,0,0,0,0,0,0,0,0,0,6,0,0,0,0,0,0,0,0,0,0,0,0]
[1,297,5,0,0,0,0,35,53,24,"T",0,0,0,0,1,0,0,0,0,0,0,0,0,0,0,106,0,0,0,0,0,0,0,0,0,0,0,0,0,0,0,0,0,0,0,82,0,0,0,0,0,0,0,0,0,0,0,0,0,0,0,0,0,0,0,0,0,0]
[1,297,5,0,0,0,0,53,35,24,"T",0,0,0,1,0,0,0,0,0,0,0,0,0,0,0,98,0,0,0,0,0,0,0,0,0,0,0,0,0,0,0,0,0,0,0,74,0,0,0,0,0,0,0,0,0,6,0,0,0,0,0,0,0,0,0,0,0,0]
[1,300,6,1,77,0,"D",34,43,6,"A",0,0,0,0,0,0,4,4,5,5,4,4,0,0,0,26,0,0,0,0,0,0,0,0,0,0,4,4,5,5,4,4,0,0,0,20,1,1,2,1,2,1,0,0,0,0,0,1,1,1,0,0,-4,-3,-5,0,0,3]
[1,300,6,1,105,0,"D",43,34,14,"A",0,0,0,0,0,0,5,5,7,6,5,5,0,0,0,33,1,1,1,1,0,1,1,1,1,8,4,4,6,5,5,4,-1,-1,-1,19,1,1,0,1,0,1,2,2,2,0,1,2,3,2,1,1,-4,-3,-5,0,0,0]
[1,300,6,1,78,0,"D",34,43,8,"B",0,0,0,0,0,0,4,5,7,4,5,6,0,0,0,31,0,0,0,0,0,0,0,0,0,0,4,5,7,4,5,6,0,0,0,23,1,0,1,1,2,0,0,0,0,0,0,2,3,0,1,2,-4,-3,-5,0,0,2]
[1,300,6,1,106,0,"D",43,34,16,"B",0,0,0,0,0,0,5,5,8,5,6,5,0,0,0,34,1,1,1,1,0,1,1,1,1,8,4,4,7,4,6,4,-1,-1,-1,18,1,2,1,1,0,2,2,2,2,0,1,2,4,1,2,1,-4,-3,-5,0,0,0]
[1,301,6,1,107,0,"D",44,53,9,"A",0,0,0,0,0,0,5,4,5,4,5,6,0,0,0,29,0,0,0,0,0,0,0,0,0,0,5,4,5,4,5,6,0,0,0,20,2,2,1,1,2,0,0,1,0,0,1,1,1,1,1,2,-5,-4,-4,0,0,0]
[1,301,6,1,129,0,"D",53,44,12,"A",0,0,0,0,0,0,7,5,5,4,6,5,0,0,0,32,0,0,0,0,0,1,1,0,1,3,7,5,5,4,6,4,-1,0,-1,20,0,0,1,1,0,2,2,1,2,0,3,2,1,1,2,1,-5,-4,-4,0,0,0]
[1,301,6,1,108,0,"D",44,53,18,"B",0,0,0,0,0,0,5,6,7,6,8,6,0,0,0,38,1,0,0,0,0,1,1,1,1,5,4,6,7,6,8,5,-1,-1,-1,20,2,0,0,0,0,1,2,2,2,0,1,3,3,3,4,2,-5,-4,-4,0,0,0]
[1,301,6,1,130,0,"D",53,44,13,"B",0,0,0,0,0,0,5,4,5,4,4,5,0,0,0,27,0,0,0,0,0,0,0,0,0,0,5,4,5,4,4,5,0,0,0,14,0,2,2,2,2,1,0,0,0,0,1,1,1,1,0,1,-5,-4,-4,0,0,1]
[1,302,6,1,79,0,"d",35,42,10,"A",0,0,0,0,0,0,6,6,8,7,4,5,0,0,0,36,0,0,1,1,0,0,0,0,1,3,6,6,7,6,4,5,0,0,-1,26,0,0,0,0,1,0,1,1,2,0,2,3,4,3,0,1,-4,-3,-5,0,0,1]
[1,302,6,1,102,0,"d",42,35,7,"A",0,0,0,0,0,0,5,4,6,5,4,3,0,0,0,27,0,0,0,0,0,0,0,0,0,0,5,4,6,5,4,3,0,0,0,20,2,2,2,2,1,2,1,1,0,0,1,1,2,1,0,-1,-4,-3,-5,0,1,1]
[1,302,6,1,80,0,"d",35,42,16,"B",0,0,0,0,0,0,6,4,6,6,6,5,0,0,0,33,0,1,1,1,0,1,1,1,1,7,6,3,5,5,6,4,-1,-1,-1,17,0,2,2,1,0,2,2,2,2,0,2,1,2,2,2,1,-4,-3,-5,0,0,0]
[1,302,6,1,104,103,"d",42,35,9,"B",0,0,0,0,0,0,4,5,6,5,5,5,0,0,0,30,0,0,0,0,0,0,0,0,0,0,4,5,6,5,5,5,0,0,0,21,2,0,0,1,2,0,0,0,0,0,0,2,2,1,1,1,-4,-3,-5,0,0,1]
[1,303,6,1,126,0,"d",45,52,7,"A",0,0,0,0,0,0,4,3,5,3,4,4,0,0,0,23,0,0,0,0,0,1,0,0,1,2,4,3,5,3,4,3,0,0,-1,16,2,1,0,2,2,2,1,1,2,0,0,0,1,0,0,0,-5,-4,-4,0,0,5]
[1,303,6,1,109,0,"d",52,45,5,"A",0,0,0,0,0,0,5,3,4,4,5,4,0,0,0,25,0,0,0,0,0,0,0,0,0,0,5,3,4,4,5,4,0,0,0,20,0,1,2,0,0,0,1,1,0,0,1,0,0,1,1,0,-5,-4,-4,0,0,3]
[1,303,6,1,128,127,"d",45,52,13,"B",0,0,0,0,0,0,6,4,5,6,5,6,0,0,0,32,0,0,0,0,0,1,0,0,1,2,6,4,5,6,5,5,0,0,-1,19,1,2,0,0,2,0,1,1,2,0,2,1,1,3,1,2,-5,-4,-4,0,0,0]
[1,303,6,1,110,0,"d",52,45,11,"B",0,0,0,0,0,0,6,5,4,4,6,4,0,0,0,29,0,0,0,0,0,0,0,0,0,0,6,5,4,4,6,4,0,0,0,18,1,0,2,2,0,2,1,1,0,0,2,2,0,1,2,0,-5,-4,-4,0,0,2]
[1,304,6,1,82,0,"d",36,41,12,"A",0,0,0,0,0,0,5,5,6,6,5,6,0,0,0,33,0,0,0,0,0,0,0,0,0,0,5,5,6,6,5,6,0,0,0,21,1,0,0,2,0,1,1,1,1,0,1,2,2,2,1,2,-4,-3,-5,0,0,0]
[1,304,6,1,100,99,"d",41,36,12,"A",0,0,0,0,0,0,5,3,5,7,4,6,0,0,0,30,0,0,0,0,0,0,0,0,0,0,5,3,5,7,4,6,0,0,0,18,1,2,2,0,2,1,1,1,1,0,1,0,1,3,0,2,-4,-3,-5,0,0,2]
[1,304,6,1,81,0,"d",36,41,17,"B",0,0,0,0,0,0,7,5,7,8,6,6,0,0,0,39,0,0,0,0,0,0,0,0,0,0,7,5,7,8,6,6,0,0,0,22,0,0,1,0,1,0,1,1,1,0,3,2,3,4,2,2,-4,-3,-5,0,0,0]
[1,304,6,1,98,0,"d",41,36,17,"B",0,0,0,0,0,0,5,4,7,6,6,5,0,0,0,33,0,0,0,0,0,0,0,0,0,0,5,4,7,6,6,5,0,0,0,16,0,0,0,0,0,0,0,0,0,0,1,1,3,2,2,1,-4,-3,-5,0,0,0]
[1,305,6,1,145,111,"d",46,51,20,"A",0,0,0,0,0,0,8,6,5,5,6,5,0,0,0,35,1,1,1,1,1,2,2,1,2,12,7,5,4,4,5,3,-2,-1,-2,15,0,0,1,0,0,2,2,2,2,0,4,3,1,2,2,1,-5,-4,-4,0,0,0]
[1,305,6,1,124,123,"d",51,46,8,"A",0,0,0,0,0,0,5,3,4,3,4,5,0,0,0,24,0,0,0,0,0,0,0,0,0,0,5,3,4,3,4,5,0,0,0,16,2,2,1,2,2,0,0,0,0,0,1,0,0,0,0,1,-5,-4,-4,0,0,4]
[1,305,6,1,112,0,"d",46,51,20,"B",0,0,0,0,0,0,7,4,6,4,6,7,0,0,0,34,1,1,1,1,1,2,1,1,1,10,6,3,5,3,5,5,-1,-1,-1,14,0,2,2,2,1,0,2,2,2,0,3,1,2,1,2,3,-5,-4,-4,0,0,0]
[1,305,6,1,125,0,"d",51,46,10,"B",0,0,0,0,0,0,5,4,6,4,5,4,0,0,0,28,0,0,0,0,0,0,0,0,0,0,5,4,6,4,5,4,0,0,0,18,2,0,0,0,1,2,0,0,0,0,1,1,2,1,1,0,-5,-4,-4,0,0,1]
[1,306,6,1,86,0,"d",37,40,21,"A",0,0,0,0,0,0,5,6,8,8,7,6,0,0,0,40,1,1,2,2,1,1,1,1,2,12,4,5,6,6,6,5,-1,-1,-2,19,2,0,0,1,0,1,2,2,2,0,1,3,4,4,3,2,-4,-3,-5,0,0,0]
[1,306,6,1,97,0,"d",40,37,9,"A",0,0,0,0,0,0,6,4,4,6,5,5,0,0,0,30,0,0,0,0,0,0,0,0,0,0,6,4,4,6,5,5,0,0,0,21,0,2,2,1,2,1,0,0,0,0,2,1,0,2,1,1,-4,-3,-5,0,0,1]
[1,306,6,1,85,0,"d",37,40,23,"B",0,0,0,0,0,0,5,4,7,8,7,7,0,0,0,38,1,1,2,2,1,1,1,1,2,12,4,3,5,6,6,6,-1,-1,-2,15,2,2,2,1,0,0,2,2,2,0,1,1,3,4,3,3,-4,-3,-5,0,0,0]
[1,306,6,1,96,0,"d",40,37,11,"B",0,0,0,0,0,0,5,5,6,6,5,5,0,0,0,32,0,0,0,0,0,0,0,0,0,0,5,5,6,6,5,5,0,0,0,21,0,0,0,1,2,2,0,0,0,0,1,2,2,2,1,1,-4,-3,-5,0,0,0]
[1,307,6,1,114,0,"d",47,50,16,"A",0,0,0,0,0,0,7,5,5,6,6,7,0,0,0,36,1,1,1,0,0,1,1,1,1,0,6,4,4,6,6,6,-1,-1,-1,20,0,1,2,0,0,0,2,2,2,0,3,2,1,3,2,3,-5,-4,-4,0,0,0]
[1,307,6,1,122,0,"d",50,47,9,"A",0,0,0,0,0,0,5,4,5,4,5,5,0,0,0,28,0,0,0,0,0,0,0,0,0,0,5,4,5,4,5,5,0,0,0,19,2,1,0,2,2,2,0,0,0,0,1,1,1,1,1,1,-5,-4,-4,0,0,0]
[1,307,6,1,113,0,"d",47,50,17,"B",0,0,0,0,0,0,6,5,5,4,8,6,0,0,0,34,1,1,1,0,0,1,1,1,1,0,5,4,4,4,8,5,-1,-1,-1,17,1,1,2,1,0,2,2,2,2,0,2,2,1,1,4,2,-5,-4,-4,0,0,0]
[1,307,6,1,121,0,"d",50,47,10,"B",0,0,0,0,0,0,5,4,5,4,5,6,0,0,0,29,0,0,0,0,0,0,0,0,0,0,5,4,5,4,5,6,0,0,0,19,1,1,0,1,2,0,0,0,0,0,1,1,1,1,1,2,-5,-4,-4,0,0,0]
[1,308,6,1,89,0,"d",38,39,16,"A",0,0,0,0,0,0,6,4,6,5,5,5,0,0,0,31,0,0,1,1,0,0,0,0,0,0,6,4,5,4,5,5,0,0,0,15,1,2,1,2,2,1,1,1,1,0,2,1,2,1,1,1,-4,-3,-5,0,0,0]
[1,308,6,1,94,93,"d",39,38,14,"A",0,0,0,0,0,0,6,5,5,7,8,5,0,0,0,36,0,0,0,0,0,0,0,0,0,0,6,5,5,7,8,5,0,0,0,22,1,0,1,0,0,1,1,1,1,0,2,2,1,3,4,1,-4,-3,-5,0,0,0]
[1,308,6,1,90,88,"d",38,39,23,"B",0,0,0,0,0,0,6,5,8,8,5,5,0,0,0,37,0,1,1,1,0,1,1,0,1,0,6,4,7,7,5,4,-1,0,-1,14,2,0,1,1,2,2,2,1,2,0,2,2,4,4,1,1,-4,-3,-5,0,0,0]
[1,308,6,1,92,0,"d",39,38,17,"B",0,0,0,0,0,0,8,3,7,7,6,8,0,0,0,39,0,0,0,0,0,0,0,0,0,0,8,3,7,7,6,8,0,0,0,22,0,2,1,1,0,0,0,1,0,0,4,0,3,3,2,4,-4,-3,-5,0,0,1]
[1,309,6,1,116,0,"d",48,49,2,"A",0,0,0,0,0,0,5,3,5,3,5,6,0,0,0,27,0,0,0,0,0,0,0,0,0,0,5,3,5,3,5,6,0,0,0,25,1,1,1,2,0,0,0,1,0,0,1,0,1,0,1,2,-5,-4,-4,0,0,2]
[1,309,6,1,118,0,"d",49,48,5,"A",0,0,0,0,0,0,5,3,5,5,4,5,0,0,0,27,0,0,0,0,0,1,1,0,1,0,5,3,5,5,4,4,-1,0,-1,22,1,1,1,0,2,2,2,1,2,0,1,0,1,2,0,1,-5,-4,-4,0,0,2]
[1,309,6,1,117,115,"d",48,49,10,"B",0,0,0,0,0,0,6,4,5,4,5,6,0,0,0,30,0,0,0,0,0,1,0,0,0,0,6,4,5,4,5,5,0,0,0,20,0,1,1,0,1,2,1,1,1,0,2,1,1,1,1,2,-5,-4,-4,0,0,0]
[1,309,6,1,115,119,"d",49,48,9,"B",0,0,0,0,0,0,5,4,5,3,5,6,0,0,0,28,0,0,0,0,0,0,0,0,0,0,5,4,5,3,5,6,0,0,0,19,2,1,1,2,1,0,1,1,1,0,1,1,1,0,1,2,-5,-4,-4,0,0,1]
[1,300,6,0,0,0,0,34,43,14,"T",0,0,0,0,0,0,0,0,0,0,0,0,0,0,0,57,0,0,0,0,0,0,0,0,0,0,0,0,0,0,0,0,0,0,0,43,0,0,0,0,0,0,0,0,0,0,0,0,0,0,0,0,0,0,0,0,0,0]
[1,300,6,0,0,0,0,43,34,30,"T",0,0,0,0,0,0,0,0,0,0,0,0,0,0,0,67,0,0,0,0,0,0,0,0,0,0,0,0,0,0,0,0,0,0,0,37,0,0,0,0,0,0,0,0,0,6,0,0,0,0,0,0,0,0,0,0,0,0]
[1,301,6,0,0,0,0,44,53,27,"T",0,0,0,0,0,0,0,0,0,0,0,0,0,0,0,67,0,0,0,0,0,0,0,0,0,0,0,0,0,0,0,0,0,0,0,40,0,0,0,0,0,0,0,0,0,0,0,0,0,0,0,0,0,0,0,0,0,0]
[1,301,6,0,0,0,0,53,44,25,"T",0,0,0,0,0,0,0,0,0,0,0,0,0,0,0,59,0,0,0,0,0,0,0,0,0,0,0,0,0,0,0,0,0,0,0,34,0,0,0,0,0,0,0,0,0,6,0,0,0,0,0,0,0,0,0,0,0,0]
[1,302,6,0,0,0,0,35,42,26,"T",0,0,0,0,0,0,0,0,0,0,0,0,0,0,0,69,0,0,0,0,0,0,0,0,0,0,0,0,0,0,0,0,0,0,0,43,0,0,0,0,0,0,0,0,0,0,0,0,0,0,0,0,0,0,0,0,0,0]
[1,302,6,0,0,0,0,42,35,16,"T",0,0,0,0,0,0,0,0,0,0,0,0,0,0,0,57,0,0,0,0,0,0,0,0,0,0,0,0,0,0,0,0,0,0,0,41,0,0,0,0,0,0,0,0,0,6,0,0,0,0,0,0,0,0,0,0,0,0]
[1,303,6,0,0,0,0,45,52,20,"T",0,0,0,0,0,0,0,0,0,0,0,0,0,0,0,55,0,0,0,0,0,0,0,0,0,0,0,0,0,0,0,0,0,0,0,35,0,0,0,0,0,0,0,0,0,6,0,0,0,0,0,0,0,0,0,0,0,0]
[1,303,6,0,0,0,0,52,45,16,"T",0,0,0,0,0,0,0,0,0,0,0,0,0,0,0,54,0,0,0,0,0,0,0,0,0,0,0,0,0,0,0,0,0,0,0,38,0,0,0,0,0,0,0,0,0,0,0,0,0,0,0,0,0,0,0,0,0,0]
[1,304,6,0,0,0,0,36,41,29,"T",0,0,0,0,0,0,0,0,0,0,0,0,0,0,0,72,0,0,0,0,0,0,0,0,0,0,0,0,0,0,0,0,0,0,0,43,0,0,0,0,0,0,0,0,0,0,0,0,0,0,0,0,0,0,0,0,0,0]
[1,304,6,0,0,0,0,41,36,29,"T",0,0,0,0,0,0,0,0,0,0,0,0,0,0,0,63,0,0,0,0,0,0,0,0,0,0,0,0,0,0,0,0,0,0,0,34,0,0,0,0,0,0,0,0,0,6,0,0,0,0,0,0,0,0,0,0,0,0]
[1,305,6,0,0,0,0,46,51,40,"T",0,0,0,0,0,0,0,0,0,0,0,0,0,0,0,69,0,0,0,0,0,0,0,0,0,0,0,0,0,0,0,0,0,0,0,29,0,0,0,0,0,0,0,0,0,6,0,0,0,0,0,0,0,0,0,0,0,0]
[1,305,6,0,0,0,0,51,46,18,"T",0,0,0,0,0,0,0,0,0,0,0,0,0,0,0,52,0,0,0,0,0,0,0,0,0,0,0,0,0,0,0,0,0,0,0,34,0,0,0,0,0,0,0,0,0,0,0,0,0,0,0,0,0,0,0,0,0,0]
[1,306,6,0,0,0,0,37,40,44,"T",0,0,0,0,0,0,0,0,0,0,0,0,0,0,0,78,0,0,0,0,0,0,0,0,0,0,0,0,0,0,0,0,0,0,0,34,0,0,0,0,0,0,0,0,0,6,0,0,0,0,0,0,0,0,0,0,0,0]
[1,306,6,0,0,0,0,40,37,20,"T",0,0,0,0,0,0,0,0,0,0,0,0,0,0,0,62,0,0,0,0,0,0,0,0,0,0,0,0,0,0,0,0,0,0,0,42,0,0,0,0,0,0,0,0,0,0,0,0,0,0,0,0,0,0,0,0,0,0]
[1,307,6,0,0,0,0,47,50,33,"T",0,0,0,0,0,0,0,0,0,0,0,0,0,0,0,70,0,0,0,0,0,0,0,0,0,0,0,0,0,0,0,0,0,0,0,37,0,0,0,0,0,0,0,0,0,6,0,0,0,0,0,0,0,0,0,0,0,0]
[1,307,6,0,0,0,0,50,47,19,"T",0,0,0,0,0,0,0,0,0,0,0,0,0,0,0,57,0,0,0,0,0,0,0,0,0,0,0,0,0,0,0,0,0,0,0,38,0,0,0,0,0,0,0,0,0,0,0,0,0,0,0,0,0,0,0,0,0,0]
[1,310,7,1,116,0,"P",48,47,2,"A",1,5,3,0,1,0,6,3,5,6,4,4,6,5,5,44,0,0,0,0,0,0,0,0,0,0,6,3,5,6,4,4,6,5,5,42,1,2,1,0,0,1,0,0,0,5,2,0,1,2,0,0,2,2,0,0,0,4]
[1,310,7,1,114,0,"P",47,48,16,"A",5,1,3,1,0,0,7,5,7,7,4,6,6,5,6,53,1,1,2,2,1,2,2,1,2,14,6,4,5,5,3,4,4,4,4,37,1,0,1,2,2,1,2,2,2,17,3,2,3,3,0,2,2,2,1,0,0,1]
[1,310,7,1,157,115,"P",48,47,5,"B",5,2,2,1,0,0,4,3,5,6,6,4,5,4,4,41,0,0,0,0,0,0,0,0,0,0,4,3,5,6,6,4,5,4,4,36,2,2,1,0,0,2,2,1,2,16,0,0,1,2,2,0,1,1,-1,0,1,3]
[1,310,7,1,113,0,"D",47,48,17,"B",0,0,0,0,0,0,6,5,7,7,6,6,7,5,8,57,1,1,2,2,1,1,1,1,2,12,5,4,5,5,5,5,6,4,6,40,0,0,1,2,2,0,0,1,0,0,2,2,3,3,2,2,3,2,3,0,0,0]
[1,311,7,1,88,0,"P",38,37,7,"A",4,3,2,0,0,1,7,3,5,5,5,4,7,5,5,46,0,0,0,0,0,0,0,0,0,0,7,3,5,5,5,4,7,5,5,39,1,2,0,0,2,2,0,1,2,12,3,0,1,2,1,0,2,1,1,0,0,2]
[1,311,7,1,87,86,"P",37,38,15,"A",3,4,2,0,0,1,8,6,5,4,6,6,6,6,7,54,1,1,1,1,0,1,1,1,1,8,7,5,4,3,6,5,5,5,6,39,1,0,2,2,0,0,2,1,0,10,4,3,1,1,2,2,1,2,3,0,0,0]
[1,311,7,1,89,0,"P",38,37,16,"B",2,4,3,0,1,0,6,6,5,6,7,8,6,7,8,59,0,0,0,0,0,0,0,0,0,0,6,6,5,6,7,8,6,7,8,43,1,0,2,1,1,0,2,0,0,7,2,3,1,3,3,4,1,3,4,0,0,0]
[1,311,7,1,85,0,"D",37,38,23,"B",0,0,0,0,0,0,7,6,7,6,7,8,8,7,8,64,1,1,1,0,0,1,1,1,1,7,6,5,6,6,7,7,7,6,7,41,1,2,0,1,1,2,0,2,2,0,3,3,3,3,3,4,3,3,4,0,0,0]
[1,312,7,1,118,0,"P",49,46,5,"A",2,4,3,0,0,1,4,4,5,5,6,4,5,4,5,42,0,0,0,0,0,0,0,0,0,0,4,4,5,5,6,4,5,4,5,37,2,0,0,1,0,1,0,1,2,9,0,1,1,1,2,0,1,1,0,0,0,3]
[1,312,7,1,111,0,"P",46,49,11,"A",4,2,3,0,0,1,6,4,5,6,5,5,5,4,8,48,0,1,1,1,0,1,1,0,1,6,6,3,4,5,5,4,4,4,7,37,0,2,2,1,2,1,2,1,0,13,2,1,1,2,1,1,1,1,3,0,0,0]
[1,312,7,1,120,119,"P",49,46,8,"B",3,2,4,1,0,0,6,3,5,6,5,6,6,4,5,46,0,0,0,0,0,0,0,0,0,0,6,3,5,6,5,6,6,4,5,38,0,2,1,0,1,1,1,2,2,14,2,0,1,2,1,2,2,1,0,0,0,2]
[1,312,7,1,112,0,"D",46,49,20,"B",0,0,0,0,0,0,6,6,7,7,6,7,7,6,8,60,1,1,2,2,1,1,1,1,2,12,5,5,5,5,5,6,6,5,6,40,2,0,1,2,1,1,1,0,0,0,2,3,3,3,2,3,3,3,3,0,0,0]
[1,313,7,1,92,0,"D",39,36,17,"A",0,0,0,0,0,0,6,5,6,5,6,7,8,6,7,56,1,0,0,0,0,1,1,1,1,5,5,5,6,5,6,6,7,5,6,39,1,0,1,0,0,0,1,2,0,0,2,2,2,2,2,3,3,2,3,0,0,0]
[1,313,7,1,82,0,"P",36,39,12,"A",5,1,3,1,0,0,5,4,6,3,5,5,7,7,5,47,0,0,0,0,0,0,0,0,0,0,5,4,6,3,5,5,7,7,5,35,1,2,1,2,2,2,1,0,2,17,1,1,2,0,1,1,2,3,1,0,0,1]
[1,313,7,1,93,0,"D",39,36,20,"B",0,0,0,0,0,0,7,6,7,5,6,7,8,7,7,60,0,0,0,0,0,1,1,0,1,3,7,6,7,5,6,6,7,7,6,40,1,0,0,0,1,2,2,0,2,0,3,3,3,2,2,3,3,3,3,0,0,0]
[1,313,7,1,81,0,"P",36,39,17,"B",4,3,2,1,0,0,7,5,6,4,6,7,8,5,8,56,0,0,0,0,0,0,0,0,0,0,7,5,6,4,6,7,8,5,8,39,1,2,2,2,1,0,0,2,0,14,3,2,2,1,2,3,3,1,4,0,0,0]
[1,314,7,1,122,0,"P",50,45,9,"A",3,3,3,1,0,0,4,5,5,5,3,4,6,4,7,43,0,0,1,1,0,0,1,0,1,4,4,5,4,4,3,4,5,4,6,34,1,0,2,2,2,1,0,1,0,13,0,2,1,1,-1,0,2,1,2,0,1,2]
[1,314,7,1,109,0,"P",45,50,5,"A",3,3,3,0,1,0,4,3,5,5,6,4,4,4,5,40,0,0,0,0,0,0,0,0,0,0,4,3,5,5,6,4,4,4,5,35,1,2,0,0,0,1,2,1,2,9,0,0,1,1,2,0,0,1,0,0,0,5]
[1,314,7,1,151,121,"P",50,45,13,"B",3,5,1,0,1,0,7,5,4,6,7,5,6,5,9,54,0,0,1,1,0,0,0,0,0,2,7,5,3,5,7,5,6,5,9,41,0,0,2,2,0,2,1,0,0,7,3,2,0,2,3,1,2,2,4,0,0,1]
[1,314,7,1,110,0,"D",45,50,11,"B",0,0,0,0,0,0,5,4,6,6,5,6,6,4,7,49,0,0,0,0,0,0,0,0,0,0,5,4,6,6,5,6,6,4,7,38,0,0,1,1,0,0,0,0,0,0,1,1,2,2,1,2,2,1,2,0,0,0]
[1,315,7,1,97,0,"P",40,35,9,"A",1,7,1,0,1,0,5,5,7,4,6,5,6,5,6,49,0,0,0,0,0,0,0,0,0,0,5,5,7,4,6,5,6,5,6,40,2,0,0,1,0,0,0,0,0,3,1,2,3,1,2,1,1,1,2,0,0,0]
[1,315,7,1,79,0,"P",35,40,10,"A",7,1,1,1,0,0,7,4,5,4,5,5,5,4,5,44,0,0,0,0,0,1,0,0,0,1,7,4,5,4,5,4,5,4,5,34,0,2,2,1,2,2,2,2,2,19,3,1,1,1,1,1,0,0,1,0,0,2]
[1,315,7,1,96,0,"P",40,35,11,"B",0,8,1,0,1,0,6,5,5,7,6,6,6,8,4,53,0,0,0,0,0,0,0,0,0,0,6,5,5,7,6,6,6,8,4,42,0,1,0,0,0,0,0,0,0,1,2,2,1,4,2,2,1,4,0,0,0,1]
[1,315,7,1,145,80,"P",35,40,20,"B",8,0,1,1,0,0,6,6,5,7,5,6,6,5,4,50,1,1,1,1,1,1,1,1,1,9,5,5,4,6,4,5,5,4,3,30,2,1,2,2,2,2,2,2,2,21,2,3,1,4,1,2,1,1,0,0,0,1]
[1,316,7,1,123,0,"P",51,53,8,"A",4,3,2,0,0,1,4,3,3,7,5,4,6,5,8,45,0,0,0,0,0,0,0,0,0,0,4,3,3,7,5,4,6,5,8,37,2,2,1,0,2,2,0,1,0,12,0,0,-1,3,1,0,2,2,3,0,1,3]
[1,316,7,1,132,130,"P",53,51,10,"A",3,4,2,0,0,1,7,4,4,4,6,5,5,5,7,47,0,0,1,1,0,0,0,0,0,2,7,4,3,3,6,5,5,5,7,37,0,0,1,2,0,0,2,1,2,10,3,1,0,0,2,1,1,2,2,0,0,2]
[1,316,7,1,125,0,"P",51,53,10,"B",2,3,4,0,1,0,3,4,7,6,6,6,6,5,8,51,0,0,0,0,0,0,0,0,0,0,3,4,7,6,6,6,6,5,8,41,2,1,0,2,1,1,1,0,0,8,-1,1,3,2,2,2,2,2,3,0,1,0]
[1,316,7,1,129,0,"P",53,51,12,"B",3,2,4,1,0,0,5,4,5,8,6,6,6,4,7,51,0,0,1,1,0,0,0,0,0,2,5,4,4,7,6,6,6,4,7,39,0,1,2,0,1,1,1,2,2,14,1,1,1,4,2,2,2,1,2,0,0,0]
[1,317,7,1,99,0,"P",41,43,14,"A",5,4,0,0,1,0,7,5,7,4,6,8,8,5,6,56,0,0,0,0,0,0,0,0,0,0,7,5,7,4,6,8,8,5,6,42,0,2,0,2,0,0,2,2,2,10,3,2,3,1,2,4,3,1,2,0,0,0]
[1,317,7,1,105,0,"P",43,41,14,"A",4,5,0,1,0,0,5,6,5,5,4,7,9,6,7,54,0,0,0,0,0,0,0,0,0,0,5,6,5,5,4,7,9,6,7,40,2,0,2,0,2,2,0,0,0,12,1,3,1,2,0,3,4,2,3,0,0,1]
[1,317,7,1,98,0,"P",41,43,17,"B",4,2,3,1,0,0,8,5,7,5,5,7,6,6,7,56,0,0,0,0,0,1,0,0,0,0,8,5,7,5,5,6,6,6,7,39,1,1,2,1,2,2,2,0,0,15,4,2,3,2,1,3,1,2,3,0,0,0]
[1,317,7,1,106,0,"P",43,41,16,"B",2,4,3,0,1,0,8,5,8,5,8,7,9,5,4,59,0,0,0,0,0,0,0,0,0,0,8,5,8,5,8,7,9,5,4,43,1,1,0,1,0,0,0,2,2,7,4,2,4,2,4,3,4,1,0,0,0,1]
[1,318,7,1,126,0,"P",52,44,7,"A",4,3,2,0,1,0,4,3,6,5,5,8,6,3,6,46,0,0,0,0,0,0,0,0,0,0,4,3,6,5,5,8,6,3,6,39,2,2,0,1,1,0,0,2,2,10,0,0,2,1,1,4,2,0,1,0,0,3]
[1,318,7,1,107,0,"D",44,52,9,"A",0,0,0,0,0,0,5,4,6,6,5,5,5,4,7,47,0,0,1,1,0,0,0,0,0,0,5,4,5,5,5,5,5,4,7,38,0,0,2,1,1,2,2,0,0,0,1,1,2,2,1,1,1,1,2,0,0,0]
[1,318,7,1,128,127,"P",52,44,13,"B",4,5,0,1,0,0,5,4,6,8,6,5,5,5,8,52,0,0,0,0,0,0,0,0,0,0,5,4,6,8,6,5,5,5,8,39,2,2,0,0,2,0,2,0,0,12,1,1,2,4,2,1,1,2,3,0,0,0]
[1,318,7,1,108,0,"P",44,52,18,"B",5,4,0,0,1,0,7,6,6,8,7,5,7,4,8,58,0,0,1,1,0,1,1,0,1,0,7,6,5,7,7,4,6,4,7,40,0,0,2,2,0,2,0,2,2,10,3,3,2,4,3,1,3,1,3,0,0,0]
[1,319,7,1,103,0,"P",42,34,8,"A",4,4,1,1,0,0,5,4,5,3,5,6,6,5,5,44,0,0,0,0,0,1,0,0,1,0,5,4,5,3,5,5,6,5,4,36,2,2,0,2,1,0,0,0,2,13,1,1,1,0,1,2,1,1,1,0,0,1]
[1,319,7,1,77,0,"P",34,42,6,"A",4,4,1,0,1,0,8,5,3,4,5,4,5,4,5,43,0,0,0,0,0,0,0,0,0,0,8,5,3,4,5,4,5,4,5,37,0,0,2,0,1,2,2,2,0,9,4,2,-1,1,1,0,0,0,1,0,1,3]
[1,319,7,1,104,102,"P",42,34,9,"B",6,2,1,1,0,0,5,5,4,5,5,5,9,5,5,48,0,0,0,0,0,1,0,0,0,0,5,5,4,5,5,4,9,5,5,39,2,1,2,0,2,2,0,2,2,17,1,2,0,2,1,1,4,1,1,0,0,1]
[1,319,7,1,78,0,"P",34,42,8,"B",2,6,1,0,1,0,7,5,5,4,6,5,8,8,6,54,0,0,0,0,0,0,0,0,0,0,7,5,5,4,6,5,8,8,6,46,0,1,0,2,0,0,2,0,0,5,3,2,1,1,2,1,3,4,2,0,0,0]
[1,310,7,0,0,0,0,48,47,7,"T",0,0,0,0,1,0,0,0,0,0,0,0,0,0,0,85,0,0,0,0,0,0,0,0,0,0,0,0,0,0,0,0,0,0,0,78,0,0,0,0,0,0,0,0,0,0,0,0,0,0,0,0,0,0,0,0,0,0]
[1,310,7,0,0,0,0,47,48,33,"T",0,0,0,1,0,0,0,0,0,0,0,0,0,0,0,110,0,0,0,0,0,0,0,0,0,0,0,0,0,0,0,0,0,0,0,77,0,0,0,0,0,0,0,0,0,6,0,0,0,0,0,0,0,0,0,0,0,0]
[1,311,7,0,0,0,0,38,37,23,"T",0,0,0,0,1,0,0,0,0,0,0,0,0,0,0,105,0,0,0,0,0,0,0,0,0,0,0,0,0,0,0,0,0,0,0,82,0,0,0,0,0,0,0,0,0,0,0,0,0,0,0,0,0,0,0,0,0,0]
[1,311,7,0,0,0,0,37,38,38,"T",0,0,0,1,0,0,0,0,0,0,0,0,0,0,0,118,0,0,0,0,0,0,0,0,0,0,0,0,0,0,0,0,0,0,0,80,0,0,0,0,0,0,0,0,0,6,0,0,0,0,0,0,0,0,0,0,0,0]
[1,312,7,0,0,0,0,49,46,13,"T",0,0,0,1,0,0,0,0,0,0,0,0,0,0,0,88,0,0,0,0,0,0,0,0,0,0,0,0,0,0,0,0,0,0,0,75,0,0,0,0,0,0,0,0,0,6,0,0,0,0,0,0,0,0,0,0,0,0]
[1,312,7,0,0,0,0,46,49,31,"T",0,0,0,0,1,0,0,0,0,0,0,0,0,0,0,108,0,0,0,0,0,0,0,0,0,0,0,0,0,0,0,0,0,0,0,77,0,0,0,0,0,0,0,0,0,0,0,0,0,0,0,0,0,0,0,0,0,0]
[1,313,7,0,0,0,0,39,36,37,"T",0,0,0,0,0,0,0,0,0,0,0,0,0,0,0,116,0,0,0,0,0,0,0,0,0,0,0,0,0,0,0,0,0,0,0,79,0,0,0,0,0,0,0,0,0,0,0,0,0,0,0,0,0,0,0,0,0,0]
[1,313,7,0,0,0,0,36,39,29,"T",0,0,0,1,0,0,0,0,0,0,0,0,0,0,0,103,0,0,0,0,0,0,0,0,0,0,0,0,0,0,0,0,0,0,0,74,0,0,0,0,0,0,0,0,0,6,0,0,0,0,0,0,0,0,0,0,0,0]
[1,314,7,0,0,0,0,50,45,22,"T",0,0,0,0,1,0,0,0,0,0,0,0,0,0,0,97,0,0,0,0,0,0,0,0,0,0,0,0,0,0,0,0,0,0,0,75,0,0,0,0,0,0,0,0,0,0,0,0,0,0,0,0,0,0,0,0,0,0]
[1,314,7,0,0,0,0,45,50,16,"T",0,0,0,1,0,0,0,0,0,0,0,0,0,0,0,89,0,0,0,0,0,0,0,0,0,0,0,0,0,0,0,0,0,0,0,73,0,0,0,0,0,0,0,0,0,6,0,0,0,0,0,0,0,0,0,0,0,0]
[1,315,7,0,0,0,0,40,35,20,"T",0,0,0,0,1,0,0,0,0,0,0,0,0,0,0,102,0,0,0,0,0,0,0,0,0,0,0,0,0,0,0,0,0,0,0,82,0,0,0,0,0,0,0,0,0,0,0,0,0,0,0,0,0,0,0,0,0,0]
[1,315,7,0,0,0,0,35,40,30,"T",0,0,0,1,0,0,0,0,0,0,0,0,0,0,0,94,0,0,0,0,0,0,0,0,0,0,0,0,0,0,0,0,0,0,0,64,0,0,0,0,0,0,0,0,0,6,0,0,0,0,0,0,0,0,0,0,0,0]
[1,316,7,0,0,0,0,51,53,18,"T",0,0,0,0,1,0,0,0,0,0,0,0,0,0,0,96,0,0,0,0,0,0,0,0,0,0,0,0,0,0,0,0,0,0,0,78,0,0,0,0,0,0,0,0,0,0,0,0,0,0,0,0,0,0,0,0,0,0]
[1,316,7,0,0,0,0,53,51,22,"T",0,0,0,1,0,0,0,0,0,0,0,0,0,0,0,98,0,0,0,0,0,0,0,0,0,0,0,0,0,0,0,0,0,0,0,76,0,0,0,0,0,0,0,0,0,6,0,0,0,0,0,0,0,0,0,0,0,0]
[1,317,7,0,0,0,0,41,43,31,"T",0,0,0,1,0,0,0,0,0,0,0,0,0,0,0,112,0,0,0,0,0,0,0,0,0,0,0,0,0,0,0,0,0,0,0,81,0,0,0,0,0,0,0,0,0,6,0,0,0,0,0,0,0,0,0,0,0,0]
[1,317,7,0,0,0,0,43,41,30,"T",0,0,0,0,1,0,0,0,0,0,0,0,0,0,0,113,0,0,0,0,0,0,0,0,0,0,0,0,0,0,0,0,0,0,0,83,0,0,0,0,0,0,0,0,0,0,0,0,0,0,0,0,0,0,0,0,0,0]

{"sheet":"X-Golfers","index":7,"n_rows":82,"n_cols":64,"rows_kept":82,"cut":false,"hidden":false,"merged":[]}
["Golfer ID","Golfer Name","PID Repeat","Type","Rounds","L6 Tot","L6 Count","Min","Max","L6 Net","L6 Den","Average","Handicap","Holes Won","Holes Lost","Holes Tied","Match Won","Match Lost","Match Tied","Sub Points","Total Points","Eagles","Birdies","Pars","W01","L6-01","W02","L6-02","W03","L6-03","W04","L6-04","W05","L6-05","W06","L6-06","W07","L6-07","W08","L6-08","W09","L6-09","W10","L6-10","W11","L6-11","W12","L6-12","W13","L6-13","W14","L6-14","W15","L6-15","W16","L6-16","W17","L6-17","W18","L6-18","W19","L6-19","W20","L6-20"]
[77,"Schock, Alex",77,"R",4,170,4,0,0,170,4,42.5,6,14,14,8,2,2,0,0,44,0,2,16,41,41,42,42,44,44,43,43]
[78,"Tenkman, Carl",78,"R",4,188,4,0,0,188,4,47,9.6000000000000014,9,17,10,1,3,0,0,32,0,0,12,42,42,45,45,47,47,54,54]
[79,"Hobek, Bill",79,"R",4,187,4,0,0,187,4,46.75,9.4,14,10,12,3,1,0,0,52,0,0,10,48,48,42,42,53,53,44,44]
[80,"Coop, John",80,"R",3,164,3,0,0,164,3,54.666666666666664,15.733333333333333,10,9,8,3,0,0,21,61,0,0,1,57,57,54,54,53,53]
[81,"Dehner, Bob",81,"R",4,224,4,0,0,224,4,56,16.8,13,14,9,1,2,1,0,41,0,0,3,51,51,55,55,62,62,56,56]
[82,"Upchurch, Mike",82,"R",4,197,4,0,0,197,4,49.25,11.4,13,9,14,1,1,2,0,48,0,0,5,50,50,49,49,51,51,47,47]
[83,"Upchurch, Nancy",83,"R",0,0,0,0,0,0,0,0,0,0,0,0,0,0,0,0,0,0,0,0]
[84,"Gavin, Steve",84,"R",0,0,0,0,0,0,0,0,0,0,0,0,0,0,0,0,0,0,0,0]
[85,"Fry, Charles",85,"R",3,191,3,0,0,191,3,63.666666666666664,22.933333333333334,6,15,6,0,3,0,0,18,0,0,0,65,65,61,61,65,65]
[86,"Goetz, Rob",86,"R",2,122,2,0,0,122,2,61,20.8,5,9,4,0,2,0,17,31,0,0,0,62,62,60,60]
[87,"Goetz, Matt",87,"R",2,108,2,0,0,108,2,54,15.200000000000001,5,8,5,0,1,1,0,17,0,0,0,null,null,null,null,54,54,54,54]
[88,"Bridwell, Glen",88,"R",2,90,2,0,0,90,2,45,8,6,7,5,0,0,2,16,37,0,1,3,44,44,null,null,null,null,46,46]
[89,"Jonovski, Mendo",89,"R",2,114,2,0,0,114,2,57,17.600000000000001,5,8,5,0,1,1,15,32,0,0,0,null,null,55,55,null,null,59,59]
[90,"Johnson, Mike",90,"R",2,127,2,0,0,127,2,63.5,22.8,7,7,4,0,2,0,0,18,0,0,0,61,61,null,null,66,66]
[91,"Jonovski, Mire",91,"R",2,120,2,0,0,120,2,60,20,4,9,5,0,2,0,0,13,0,0,1,null,null,61,61,59,59]
[92,"Hanna, Dave",92,"R",1,56,1,0,0,56,1,56,16.8,0,0,0,0,0,0,28,28,0,0,1,null,null,null,null,56,56]
[93,"Shoaf, Joe",93,"R",2,120,2,0,0,120,2,60,20,3,3,3,0,1,0,22,31,0,0,0,60,60,null,null,null,null,60,60]
[94,"Kern, Rick",94,"R",2,105,2,0,0,105,2,52.5,14,7,9,2,1,1,0,0,20,0,0,3,null,null,56,56,49,49]
[95,"Hollstegge, Steve",95,"R",1,56,1,0,0,56,1,56,16.8,2,4,3,0,1,0,0,7,0,0,0,56,56]
[96,"Schmitt, Andy",96,"R",4,201,4,0,0,201,4,50.25,12.200000000000001,10,16,10,2,2,0,0,38,0,1,2,51,51,50,50,47,47,53,53]
[97,"Schmitt, Peter",97,"R",4,188,4,0,0,188,4,47,9.6000000000000014,7,19,10,1,2,1,0,30,0,0,6,47,47,48,48,44,44,49,49]
[98,"Doll, Mike",98,"R",4,224,4,0,0,224,4,56,16.8,12,11,13,2,1,1,0,47,0,0,2,58,58,52,52,58,58,56,56]
[99,"Recher, Jason",99,"R",3,160,3,0,0,160,3,53.333333333333336,14.66666666666667,11,11,5,1,2,0,8,39,0,0,0,52,52,52,52,null,null,56,56]
[100,"Landrum, Rick",100,"R",1,50,1,0,0,50,1,50,12,3,4,2,0,1,0,0,8,0,0,4,null,null,null,null,50,50]
[101,"Reese, Clint",101,"R",0,0,0,0,0,0,0,0,0,0,0,0,0,0,0,0,0,0,0,0]
[102,"Simendinger, Joe",102,"R",2,88,2,0,0,88,2,44,7.2,10,5,3,2,0,0,35,66,0,1,7,45,45,43,43]
[103,"Simendinger, Joel",103,"R",4,178,4,0,0,178,4,44.5,7.6000000000000005,14,13,9,3,1,0,0,49,0,1,6,42,42,43,43,49,49,44,44]
[104,"Simendinger, Sam",104,"R",2,94,2,0,0,94,2,47,9.6000000000000014,12,3,3,2,0,0,0,35,0,0,4,null,null,null,null,46,46,48,48]
[105,"Stewart, Brain",105,"R",4,210,4,0,0,210,4,52.5,14,14,17,5,2,2,0,0,41,0,1,4,51,51,49,49,56,56,54,54]
[106,"Stewart, Drake",106,"R",4,225,4,0,0,225,4,56.25,17,8,17,11,0,3,1,0,29,0,0,3,52,52,56,56,58,58,59,59]
[107,"Metzger, Mike",107,"R",3,140,3,0,0,140,3,46.666666666666664,9.3333333333333321,10,11,6,2,1,0,0,34,0,0,8,48,48,45,45,47,47]
[108,"Dulan, Bob",108,"R",4,231,4,0,0,231,4,57.75,18.2,13,14,9,1,3,0,0,39,0,0,0,55,55,55,55,63,63,58,58]
[109,"McGrew, Doug",109,"R",4,163,4,0,0,163,4,40.75,4.6000000000000005,15,10,11,3,1,0,0,53,0,1,18,44,44,39,39,40,40,40,40]
[110,"Tate, Melvin",110,"R",3,146,3,0,0,146,3,48.666666666666664,10.933333333333332,13,9,5,1,0,2,0,39,0,0,3,50,50,47,47,49,49]
[111,"Graves, Evan",111,"R",3,146,3,0,0,146,3,48.666666666666664,10.933333333333332,9,8,10,0,2,1,14,44,0,0,5,48,48,50,50,null,null,48,48]
[112,"Leonard, Jon",112,"R",3,179,3,0,0,179,3,59.666666666666664,19.733333333333334,8,11,8,1,2,0,0,28,0,0,0,60,60,62,62,57,57]
[113,"Boswell, Clyde",113,"R",2,113,2,0,0,113,2,56.5,17.2,7,8,3,0,2,0,8,25,0,0,0,null,null,55,55,58,58]
[114,"Brook, DeeDee",114,"R",4,217,4,0,0,217,4,54.25,15.4,18,8,10,2,2,0,0,54,0,0,1,59,59,54,54,51,51,53,53]
[115,"Kohler, Evan",115,"R",3,140,3,0,0,140,3,46.666666666666664,9.3333333333333321,12,9,6,2,1,0,16,54,0,1,7,48,48,48,48,44,44]
[116,"Kohler, Jeff",116,"R",2,81,2,0,0,81,2,40.5,4.4000000000000004,2,9,7,0,2,0,22,33,0,0,15,null,null,37,37,null,null,44,44]
[117,"Ferguson, Scott",117,"R",3,143,3,0,0,143,3,47.666666666666664,10.133333333333333,10,10,7,1,1,1,0,33,0,1,2,50,50,43,43,50,50]
[118,"Farley, Adam",118,"R",2,83,2,0,0,83,2,41.5,5.2,6,7,5,1,0,1,15,38,0,0,8,null,null,null,null,41,41,42,42]
[119,"Young, Brandon",119,"R",1,52,1,0,0,52,1,52,13.600000000000001,5,4,0,0,0,1,29,41,0,0,1,52,52]
[120,"Reike, Tim",120,"R",3,136,3,0,0,136,3,45.333333333333336,8.2666666666666693,10,7,10,1,2,0,0,34,0,0,9,null,null,46,46,44,44,46,46]
[121,"Lamb, David",121,"R",1,47,1,0,0,47,1,47,9.6000000000000014,4,2,3,0,0,1,23,36,0,0,1,47,47]
[122,"Ruter, Eric",122,"R",4,183,4,0,0,183,4,45.75,8.6,14,12,10,4,0,0,0,54,0,1,13,48,48,44,44,48,48,43,43]
[123,"Miller, Jim",123,"R",3,135,3,0,0,135,3,45,8,12,7,8,2,0,1,16,58,0,1,10,46,46,44,44,null,null,45,45]
[124,"Bosarge, John",124,"R",3,136,3,0,0,136,3,45.333333333333336,8.2666666666666693,15,5,7,3,0,0,0,49,0,0,11,50,50,41,41,45,45]
[125,"Rickards, Charlie",125,"R",2,98,2,0,0,98,2,49,11.200000000000001,6,4,8,1,1,0,33,57,0,1,3,null,null,null,null,47,47,51,51]
[126,"Saum, Craig",126,"R",4,176,4,0,0,176,4,44,7.2,17,10,9,1,1,2,0,51,0,0,21,43,43,45,45,42,42,46,46]
[127,"Dudley, Stan",127,"R",1,51,1,0,0,51,1,51,12.8,3,1,5,1,0,0,41,56,0,0,0,null,null,null,null,51,51]
[128,"Wisniewski, Karl",128,"R",3,154,3,0,0,154,3,51.333333333333336,13.06666666666667,10,10,7,3,0,0,0,39,0,0,4,52,52,50,50,null,null,52,52]
[129,"Pignone, Gary",129,"R",2,101,2,0,0,101,2,50.5,12.4,3,2,4,1,0,0,30,44,0,0,0,null,null,null,null,50,50,51,51]
[130,"Okeefe, Kevin",130,"R",2,102,2,0,0,102,2,51,12.8,4,3,2,1,0,0,10,24,0,0,3,null,null,51,51,51,51]
[131,"Prue, Chris",131,"R",2,96,2,0,0,96,2,48,10.4,10,6,2,2,0,0,0,30,0,0,5,null,null,49,49,47,47]
[132,"Weinle, Jerry",132,"R",1,47,1,0,0,47,1,47,9.6000000000000014,3,4,2,0,0,1,0,10,0,0,2,null,null,null,null,null,null,47,47]
[133,"Salehpour, Kaevon",133,"R",0,0,0,0,0,0,0,0,0,0,0,0,0,0,0,0,0,0,0,0]
[134,"Strauss, Bob",134,"R",0,0,0,0,0,0,0,0,0,0,0,0,0,0,0,0,0,0,0,0]
[135,"Jackson, Chris",135,"R",0,0,0,0,0,0,0,0,0,0,0,0,0,0,0,0,0,0,0,0]
[136,"Endreola, Chuck",136,"R",0,0,0,0,0,0,0,0,0,0,0,0,0,0,0,0,0,0,0,0]
[137,"Keenie, Daniel",137,"R",0,0,0,0,0,0,0,0,0,0,0,0,0,0,0,0,0,0,0,0]
[138,"Woolums, Dave",138,"R",0,0,0,0,0,0,0,0,0,0,0,0,0,0,0,0,0,0,0,0]
[139,"Laikos, Demetrious",139,"R",0,0,0,0,0,0,0,0,0,0,0,0,0,0,0,0,0,0,0,0]
[140,"Perez, J",140,"R",0,0,0,0,0,0,0,0,0,0,0,0,0,0,0,0,0,0,0,0]
[141,"Heinen, Jason",141,"S",0,0,0,0,0,0,0,0,0,0,0,0,0,0,0,0,0,0,0,0]
[142,"Schwab, Jeff",142,"S",0,0,0,0,0,0,0,0,0,0,0,0,0,0,0,0,0,0,0,0]
[143,"Mossman, Jim",143,"S",0,0,0,0,0,0,0,0,0,0,0,0,0,0,0,0,0,0,0,0]
[144,"Tempel, John",144,"S",0,0,0,0,0,0,0,0,0,0,0,0,0,0,0,0,0,0,0,0]
[145,"Heinrich, Trevor",145,"S",3,169,3,0,0,169,3,56.333333333333336,17.06666666666667,15,6,6,3,0,0,0,48,0,0,2,59,59,null,null,60,60,50,50]
[146,"Kumer, Kerry",146,"S",0,0,0,0,0,0,0,0,0,0,0,0,0,0,0,0,0,0,0,0]
[147,"Payne, Kyle",147,"S",0,0,0,0,0,0,0,0,0,0,0,0,0,0,0,0,0,0,0,0]
[148,"Huffman, Michael",148,"S",0,0,0,0,0,0,0,0,0,0,0,0,0,0,0,0,0,0,0,0]
[149,"Talreja, Sunil",149,"S",0,0,0,0,0,0,0,0,0,0,0,0,0,0,0,0,0,0,0,0]
[150,"Chappell, Lawrence",150,"S",1,60,1,0,0,60,1,60,20,2,3,4,0,1,0,0,8,0,0,0,60,60]
[151,"Ruter, Brian",151,"S",3,157,3,0,0,157,3,52.333333333333336,13.866666666666669,7,13,7,0,2,1,0,23,0,0,4,null,null,47,47,56,56,54,54]
[152,"Hudson, Rob",152,"S",2,106,2,0,0,106,2,53,14.4,9,8,1,1,1,0,0,23,0,0,1,null,null,53,53,53,53]
[153,"Weidus, Alcuin",153,null,0,0,0,0,0,0,0,0,0,0,0,0,0,0,0,0,0,0,0,0]
[154,"Cunningham, Bryant",154,null,0,0,0,0,0,0,0,0,0,0,0,0,0,0,0,0,0,0,0,0]
[155,"Sprague, Lance",155,null,0,0,0,0,0,0,0,0,0,0,0,0,0,0,0,0,0,0,0,0]
[156,"Dehner, John",156,null,0,0,0,0,0,0,0,0,0,0,0,0,0,0,0,0,0,0,0,0]
[157,"Kimmet, Ben",157,null,1,41,1,0,0,41,1,41,4.8000000000000007,5,2,2,1,0,0,0,16,0,1,3,null,null,null,null,null,null,41,41]

{"sheet":"X-TeamResults","index":8,"n_rows":121,"n_cols":14,"rows_kept":121,"cut":false,"hidden":false,"merged":[]}
["Week","MatchID","SeasonTeamID","HolesWon","HolesLost","HolesTied","MatchWon","MatchLost","MatchTied","TeamWon","TeamLost","TeamTied","Bonus","POINTS"]
[2,260,37,6,8,4,0,2,0,0,1,0,0,16]
[2,260,49,8,6,4,2,0,0,1,0,0,0,34]
[2,261,38,6,7,5,0,1,1,0,1,0,0,19]
[2,261,50,7,6,5,1,0,1,1,0,0,0,31]
[2,262,41,8,5,5,2,0,0,1,0,0,0,35]
[2,262,53,0,18,0,0,2,0,0,1,0,0,0]
[2,263,40,4,9,5,0,1,1,0,1,0,0,15]
[2,263,52,9,4,5,1,0,1,1,0,0,0,35]
[2,264,35,5,4,9,2,0,0,1,0,0,0,33]
[2,264,47,4,5,9,0,2,0,0,1,0,0,17]
[2,265,36,7,7,4,0,0,2,0,0,1,0,25]
[2,265,48,7,7,4,0,0,2,0,0,1,0,25]
[2,266,39,5,7,6,0,2,0,0,1,0,0,16]
[2,266,51,7,5,6,2,0,0,1,0,0,0,34]
[2,267,42,11,7,0,2,0,0,1,0,0,0,36]
[2,267,44,7,11,0,0,2,0,0,1,0,0,14]
[2,268,43,8,8,2,0,1,1,0,1,0,0,20]
[2,268,45,8,8,2,1,0,1,1,0,0,0,30]
[2,269,34,8,4,6,2,0,0,1,0,0,0,36]
[2,269,46,4,8,6,0,2,0,0,1,0,0,14]
[3,270,42,7,3,8,2,0,0,1,0,0,0,36]
[3,270,46,3,7,8,0,2,0,0,1,0,0,14]
[3,271,39,8,8,2,0,2,0,0,1,0,0,18]
[3,271,53,8,8,2,2,0,0,1,0,0,0,32]
[3,272,34,6,9,3,1,1,0,0,1,0,0,19]
[3,272,48,9,6,3,1,1,0,1,0,0,0,31]
[3,273,43,5,9,4,1,1,0,0,1,0,0,18]
[3,273,47,9,5,4,1,1,0,1,0,0,0,32]
[3,274,40,5,6,7,1,1,0,0,1,0,0,21]
[3,274,44,6,5,7,1,1,0,1,0,0,0,29]
[3,275,37,3,10,5,0,2,0,0,1,0,0,11]
[3,275,51,10,3,5,2,0,0,1,0,0,0,39]
[3,276,38,5,7,6,0,1,1,0,1,0,0,18]
[3,276,52,7,5,6,1,0,1,1,0,0,0,32]
[3,277,41,4,7,7,0,1,1,0,1,0,0,17]
[3,277,45,7,4,7,1,0,1,1,0,0,0,33]
[3,278,36,5,7,6,0,1,1,0,1,0,0,18]
[3,278,50,7,5,6,1,0,1,1,0,0,0,32]
[3,279,35,7,5,6,2,0,0,1,0,0,0,34]
[3,279,49,5,7,6,0,2,0,0,1,0,0,16]
[4,280,43,2,5,1,0,0,0,0,0,0,0,5]
[4,280,49,5,2,1,0,0,0,0,0,0,0,11]
[4,281,38,2,5,1,0,0,0,0,0,0,0,5]
[4,281,44,5,2,1,0,0,0,0,0,0,0,11]
[4,282,35,3,4,1,0,0,0,0,0,0,0,7]
[4,282,51,4,3,1,0,0,0,0,0,0,0,9]
[4,283,34,1,3,4,0,0,0,0,0,0,0,6]
[4,283,50,2,0,2,0,0,0,0,0,0,0,6]
[4,284,41,3,1,0,0,0,0,0,0,0,0,6]
[4,284,47,1,6,1,0,0,0,0,0,0,0,3]
[4,285,36,0,2,6,0,0,0,0,0,0,0,6]
[4,285,52,2,0,6,0,0,0,0,0,0,0,10]
[4,286,37,6,2,0,0,0,0,0,0,0,0,12]
[4,286,53,2,2,0,0,0,0,0,0,0,0,4]
[4,287,42,1,2,5,0,0,0,0,0,0,0,7]
[4,287,48,0,1,3,0,0,0,0,0,0,0,3]
[4,288,39,1,3,0,0,0,0,0,0,0,0,2]
[4,288,45,3,1,0,0,0,0,0,0,0,0,6]
[4,289,40,7,1,0,0,0,0,0,0,0,0,14]
[4,289,46,1,3,0,0,0,0,0,0,0,0,2]
[5,290,40,7,5,6,2,0,0,1,0,0,0,34]
[5,290,48,5,7,6,0,2,0,0,1,0,0,16]
[5,291,37,4,10,4,0,2,0,0,1,0,0,12]
[5,291,45,10,4,4,2,0,0,1,0,0,0,38]
[5,292,34,3,8,7,0,2,0,0,1,0,0,13]
[5,292,52,8,3,7,2,0,0,1,0,0,0,37]
[5,293,39,8,9,1,2,0,0,1,0,0,0,31]
[5,293,47,9,8,1,0,2,0,0,1,0,0,19]
[5,294,42,8,5,5,1,1,0,1,0,0,0,31]
[5,294,50,5,8,5,1,1,0,0,1,0,0,19]
[5,295,43,3,8,7,0,2,0,0,1,0,0,13]
[5,295,51,8,3,7,2,0,0,1,0,0,0,37]
[5,296,38,5,10,3,0,2,0,0,1,0,0,13]
[5,296,46,10,5,3,2,0,0,1,0,0,0,37]
[5,297,35,5,9,4,1,1,0,0,1,0,0,18]
[5,297,53,6,1,2,1,0,0,1,0,0,0,24]
[5,298,36,5,5,8,0,2,0,0,1,0,0,18]
[5,298,44,5,5,8,2,0,0,1,0,0,0,32]
[5,299,41,5,8,5,0,2,0,0,1,0,0,15]
[5,299,49,8,5,5,2,0,0,1,0,0,0,35]
[6,300,34,3,2,7,0,0,0,0,0,0,0,13]
[6,300,43,2,3,7,0,0,0,0,0,0,0,11]
[6,301,44,1,4,1,0,0,0,0,0,0,0,3]
[6,301,53,5,4,3,0,0,0,0,0,0,0,13]
[6,302,35,4,7,1,0,0,0,0,0,0,0,9]
[6,302,42,7,4,1,0,0,0,0,0,0,0,15]
[6,303,45,4,6,2,0,0,0,0,0,0,0,10]
[6,303,52,6,4,2,0,0,0,0,0,0,0,14]
[6,304,36,0,4,2,0,0,0,0,0,0,0,2]
[6,304,41,7,1,4,0,0,0,0,0,0,0,18]
[6,305,46,4,6,2,0,0,0,0,0,0,0,10]
[6,305,51,6,4,2,0,0,0,0,0,0,0,14]
[6,306,37,4,5,3,0,0,0,0,0,0,0,11]
[6,306,40,5,4,3,0,0,0,0,0,0,0,13]
[6,307,47,3,5,4,0,0,0,0,0,0,0,10]
[6,307,50,4,1,1,0,0,0,0,0,0,0,9]
[6,308,38,6,1,5,0,0,0,0,0,0,0,17]
[6,308,39,1,6,5,0,0,0,0,0,0,0,7]
[6,309,48,2,4,6,0,0,0,0,0,0,0,10]
[6,309,49,4,2,6,0,0,0,0,0,0,0,14]
[7,310,48,6,7,5,1,1,0,1,0,0,0,27]
[7,310,47,5,1,3,1,0,0,0,1,0,0,17]
[7,311,38,6,7,5,0,1,1,1,0,0,0,25]
[7,311,37,3,4,2,0,0,1,0,1,0,0,10]
[7,312,49,5,6,7,1,0,1,1,0,0,0,29]
[7,312,46,4,2,3,0,0,1,0,1,0,0,13]
[7,313,39,0,0,0,0,0,0,0,1,0,0,0]
[7,313,36,9,4,5,2,0,0,1,0,0,0,37]
[7,314,50,6,8,4,1,1,0,1,0,0,0,26]
[7,314,45,3,3,3,0,1,0,0,1,0,0,9]
[7,315,40,1,15,2,0,2,0,0,1,0,0,4]
[7,315,35,15,1,2,2,0,0,1,0,0,0,46]
[7,316,51,6,6,6,0,1,1,0,1,0,0,20]
[7,316,53,6,6,6,1,0,1,1,0,0,0,30]
[7,317,41,9,6,3,1,1,0,1,0,0,0,31]
[7,317,43,6,9,3,1,1,0,0,1,0,0,19]
[7,318,52,8,8,2,1,1,0,1,0,0,0,28]
[7,318,44,5,4,0,0,1,0,0,1,0,0,10]
[7,319,42,10,6,2,2,0,0,1,0,0,0,36]
[7,319,34,6,10,2,0,2,0,0,1,0,0,14]

{"sheet":"Setup","index":9,"n_rows":71,"n_cols":19,"rows_kept":71,"cut":false,"hidden":false,"merged":[]}
[null,"Season",1]
[]
[]
["DB ID","Courses / Handicaps",1,2,3,4,5,6,7,8,9,null,null,"LG 1"]
[1,"Front 9",8,6,1,2,9,5,4,7,3,null,null,1]
[2,"Back 9",4,6,7,8,9,1,3,5,2]
[3]
[null,null,null,null,null,null,null,null,null,null,null,null,null,{"$f":"LOOKUP(N5,A5:A7,B5:B7)","v":"Front 9"}]
[]
[null,"Par"]
[1,"Front 9",4,3,4,4,4,4,4,3,5]
[2,"Back 9",4,3,4,3,4,4,5,4,4]
[3]
[]
[]
["Tee Times",null,null,null,null,null,"Hole Scoring"]
[1,"4:30",null,null,null,null,"Wins",null,null,2,"points"]
[2,"4:40",null,null,null,null,"Loses",null,null,0,"points"]
[3,"4:50",null,null,null,null,"Ties",null,null,1,"points"]
[4,"5:00"]
[5,"5:10",null,null,null,null,"Match Scoring"]
[6,"5:20",null,null,null,null,"Wins",null,null,4,"points"]
[7,"4:45",null,null,null,null,"Loses",null,null,0,"points"]
[8,null,null,null,null,null,"Ties",null,null,2,"points"]
[9]
[10,null,null,null,null,null,"Team Scoring"]
[11,null,null,null,null,null,"Wins",null,null,6,"points"]
[12,null,null,null,null,null,"Loses",null,null,0,"points"]
[13,null,null,null,null,null,"Ties",null,null,3,"points"]
[14]
[15]
[16]
[]
[]
[]
["League Handicap"]
[null,80,"%"]
[null,null,null,null,null,null,null,null,null,null,null,null,null,null,null,"League 1"]
[null,null,"League 1"]
[null,"League Nights","LW","SW","ID","SID",null,null,null,null,null,null,null,null,null,null,"T1","T2"]
[1,"2025-04-08",1,{"$f":"LOOKUP('LN1'!$B$3,$A$41:$A$67,Weeks)","v":7},1,{"$f":"VLOOKUP(D41,$C$41:$E$67,3,FALSE)","v":7},null,null,null,null,null,null,null,null,null,1,{"$f":"LOOKUP(TEXT($D$41,\"00\"),Schedule1!$O$3:$O$25,Schedule1!$P$3:$P$20)","v":48},{"$f":"LOOKUP(TEXT($D$41,\"00\"),Schedule1!$O$3:$O$20,Schedule1!$Q$3:$Q$20)","v":47},{"$f":"LOOKUP(TEXT($D$41,\"00\"),Schedule1!$O$3:$O$20,Schedule1!$AJ$3:$AJ$20)","v":310}]
[2,"2025-04-15",2,null,2,null,null,null,null,null,null,null,null,null,null,2,{"$f":"LOOKUP(TEXT($D$41,\"00\"),Schedule1!$O$3:$O$25,Schedule1!$R$3:$R$20)","v":38},{"$f":"LOOKUP(TEXT($D$41,\"00\"),Schedule1!$O$3:$O$20,Schedule1!$S$3:$S$20)","v":37},{"$f":"LOOKUP(TEXT($D$41,\"00\"),Schedule1!$O$3:$O$20,Schedule1!$AK$3:$AK$20)","v":311}]
[3,"2025-04-22",3,null,3,null,null,null,null,null,null,null,null,null,null,3,{"$f":"LOOKUP(TEXT($D$41,\"00\"),Schedule1!$O$3:$O$25,Schedule1!$T$3:$T$20)","v":49},{"$f":"LOOKUP(TEXT($D$41,\"00\"),Schedule1!$O$3:$O$20,Schedule1!$U$3:$U$20)","v":46},{"$f":"LOOKUP(TEXT($D$41,\"00\"),Schedule1!$O$3:$O$20,Schedule1!$AL$3:$AL$20)","v":312}]
[4,"2025-04-29",4,null,4,null,null,null,null,null,null,null,null,null,null,4,{"$f":"LOOKUP(TEXT($D$41,\"00\"),Schedule1!$O$3:$O$25,Schedule1!$V$3:$V$20)","v":39},{"$f":"LOOKUP(TEXT($D$41,\"00\"),Schedule1!$O$3:$O$20,Schedule1!W$3:W$20)","v":36},{"$f":"LOOKUP(TEXT($D$41,\"00\"),Schedule1!$O$3:$O$20,Schedule1!$AM$3:$AM$20)","v":313}]
[5,"2025-05-06",5,null,5,null,null,null,null,null,null,null,null,null,null,5,{"$f":"LOOKUP(TEXT($D$41,\"00\"),Schedule1!$O$3:$O$20,Schedule1!$X$3:$X$20)","v":50},{"$f":"LOOKUP(TEXT($D$41,\"00\"),Schedule1!$O$3:$O$20,Schedule1!$Y$3:$Y$20)","v":45},{"$f":"LOOKUP(TEXT($D$41,\"00\"),Schedule1!$O$3:$O$20,Schedule1!$AN$3:$AN$20)","v":314}]
[6,"2025-05-13",6,null,6,null,null,null,null,null,null,null,null,null,null,6,{"$f":"LOOKUP(TEXT($D$41,\"00\"),Schedule1!$O$3:$O$20,Schedule1!$Z$3:$Z$20)","v":40},{"$f":"LOOKUP(TEXT($D$41,\"00\"),Schedule1!$O$3:$O$20,Schedule1!$AA$3:$AA$20)","v":35},{"$f":"LOOKUP(TEXT($D$41,\"00\"),Schedule1!$O$3:$O$20,Schedule1!$AO$3:$AO$20)","v":315}]
[7,"2025-05-20",7,null,7,null,null,null,null,null,null,null,null,null,null,7,{"$f":"LOOKUP(TEXT($D$41,\"00\"),Schedule1!$O$3:$O$20,Schedule1!$AB$3:$AB$20)","v":51},{"$f":"LOOKUP(TEXT($D$41,\"00\"),Schedule1!$O$3:$O$20,Schedule1!$AC$3:$AC$20)","v":53},{"$f":"LOOKUP(TEXT($D$41,\"00\"),Schedule1!$O$3:$O$20,Schedule1!$AP$3:$AP$20)","v":316}]
[8,"2025-05-27",8,null,8,null,null,null,null,null,null,null,null,null,null,8,{"$f":"LOOKUP(TEXT($D$41,\"00\"),Schedule1!$O$3:$O$20,Schedule1!$AD$3:$AD$20)","v":41},{"$f":"LOOKUP(TEXT($D$41,\"00\"),Schedule1!$O$3:$O$20,Schedule1!$AE$3:$AE$20)","v":43},{"$f":"LOOKUP(TEXT($D$41,\"00\"),Schedule1!$O$3:$O$20,Schedule1!$AQ$3:$AQ$20)","v":317}]
[9,"2025-06-03",9,null,9,null,null,null,null,null,null,null,null,null,null,9,{"$f":"LOOKUP(TEXT($D$41,\"00\"),Schedule1!$O$3:$O$20,Schedule1!$AF$3:$AF$20)","v":52},{"$f":"LOOKUP(TEXT($D$41,\"00\"),Schedule1!$O$3:$O$20,Schedule1!$AG$3:$AG$20)","v":44},{"$f":"LOOKUP(TEXT($D$41,\"00\"),Schedule1!$O$3:$O$20,Schedule1!$AR$3:$AR$20)","v":318}]
[10,"2025-06-10",10,null,10,null,null,null,null,null,null,null,null,null,null,10,{"$f":"LOOKUP(TEXT($D$41,\"00\"),Schedule1!$O$3:$O$20,Schedule1!$AH$3:$AH$20)","v":42},{"$f":"LOOKUP(TEXT($D$41,\"00\"),Schedule1!$O$3:$O$20,Schedule1!$AI$3:$AI$20)","v":34},{"$f":"LOOKUP(TEXT($D$41,\"00\"),Schedule1!$O$3:$O$20,Schedule1!$AS$3:$AS$20)","v":319}]
[11,"2025-06-17",11,null,11]
[12,"2025-06-24",12,null,12]
[13,"2025-07-01",13,null,13]
[14,"2025-07-08",14,null,14]
[15,"2025-07-15",15,null,15]
[16,"2025-07-22",16,null,16]
[17,"2025-07-29",17,null,17]
[18,"2025-08-05",18,null,18]
[19,"2025-08-12",19,null,19]
[20,"2025-08-19",20,null,20]
[21,"2025-08-26"]
[22,"2025-09-02"]
[23,"2025-09-09"]
[24,"2025-09-16"]
[25,"2025-09-23"]
[26,"2025-09-30"]
[27,"2025-10-07"]
[null,null,"LW","League Week Number"]
[null,null,null,"SW","Selected Week from League Night Page"]
[null,null,null,null,"ID","Database Schedule ID Record Number"]
[null,null,null,null,null,"SID","Selected ID"]

{"sheet":"Playoffs","index":10,"n_rows":1,"n_cols":2,"rows_kept":1,"cut":false,"hidden":false,"merged":[[0,1,0,7],[2,3,2,5],[3,3,3,5]]}
[null,"2008 John Morrell Golf League Championship Tournament"]

{"sheet":"Round Sim","index":11,"n_rows":102,"n_cols":25,"rows_kept":102,"cut":false,"hidden":false,"merged":[]}
[null,null,null,null,null,null,null,null,"Back 9",null,{"$f":"VLOOKUP($I$1,Setup!$B$11:$K$13,2,FALSE)","v":4},{"$f":"VLOOKUP($I$1,Setup!$B$11:$K$13,3,FALSE)","v":3},{"$f":"VLOOKUP($I$1,Setup!$B$11:$K$13,4,FALSE)","v":4},{"$f":"VLOOKUP($I$1,Setup!$B$11:$K$13,5,FALSE)","v":3},{"$f":"VLOOKUP($I$1,Setup!$B$11:$K$13,6,FALSE)","v":4},{"$f":"VLOOKUP($I$1,Setup!$B$11:$K$13,7,FALSE)","v":4},{"$f":"VLOOKUP($I$1,Setup!$B$11:$K$13,8,FALSE)","v":5},{"$f":"VLOOKUP($I$1,Setup!$B$11:$K$13,9,FALSE)","v":4},{"$f":"VLOOKUP($I$1,Setup!$B$11:$K$13,10,FALSE)","v":4},null,null,null,"Golfers",null,"Dupe"]
["Player ID","Player Name","Player ID Repeat","Type","Average","Handicap","Skill Adj",null,"ID","Golfer",1,2,3,4,5,6,7,8,9,null,null,null,0,null,{"$f":"IF(W2=W1,\"DUPE\",\"\")","v":""}]
[2,{"$f":"VLOOKUP(A3,GE_Player_ID_Name,2,FALSE)","v":{"$error":"#N/A"}},{"$f":"A3","v":2},"F",{"$f":"VLOOKUP(A3,GE_Player_ID_Stats,10,FALSE)","v":{"$error":"#N/A"}},{"$f":"VLOOKUP(A3,GE_Player_ID_Stats,11,FALSE)","v":{"$error":"#N/A"}},{"$f":"IF(E3<40,-2,IF(E3<50,-1,IF(E3<60,0,IF(E3<70,1,2))))","v":{"$error":"#N/A"}},null,58,{"$f":"VLOOKUP(I3,$A$3:$G$100,2,FALSE)","v":{"$error":"#N/A"}},{"$f":"(RAND()*4)+($K$1+VLOOKUP($I3,$A$3:$G$100,7,FALSE))","v":{"$error":"#N/A"}},{"$error":"#N/A"},{"$error":"#N/A"},{"$error":"#N/A"},{"$error":"#N/A"},{"$error":"#N/A"},{"$error":"#N/A"},{"$error":"#N/A"},{"$error":"#N/A"},{"$f":"SUM(K3:S3)","v":{"$error":"#N/A"}},null,null,0,null,{"$f":"IF(W3=W2,\"DUPE\",\"\")","v":"DUPE"}]
[3,{"$error":"#N/A"},{"$f":"A4","v":3},"F",{"$error":"#N/A"},{"$error":"#N/A"},{"$f":"IF(E4<40,-2,IF(E4<50,-1,IF(E4<60,0,IF(E4<70,1,2))))","v":{"$error":"#N/A"}},null,5,{"$f":"VLOOKUP(I4,$A$3:$G$100,2,FALSE)","v":{"$error":"#N/A"}},{"$error":"#N/A"},{"$error":"#N/A"},{"$error":"#N/A"},{"$error":"#N/A"},{"$error":"#N/A"},{"$error":"#N/A"},{"$error":"#N/A"},{"$error":"#N/A"},{"$error":"#N/A"},{"$f":"SUM(K4:S4)","v":{"$error":"#N/A"}},null,null,0,null,"DUPE"]
[4,{"$error":"#N/A"},4,"F",{"$error":"#N/A"},{"$error":"#N/A"},{"$error":"#N/A"},null,null,null,null,null,null,null,null,null,null,null,null,null,null,null,0,null,"DUPE"]
[5,{"$error":"#N/A"},5,"F",{"$error":"#N/A"},{"$error":"#N/A"},{"$error":"#N/A"},null,null,null,null,null,null,null,null,null,null,null,null,null,null,null,0,null,"DUPE"]
[6,{"$error":"#N/A"},6,"F",{"$error":"#N/A"},{"$error":"#N/A"},{"$error":"#N/A"},null,null,null,null,null,null,null,null,null,null,null,null,null,null,null,0,null,"DUPE"]
[7,{"$error":"#N/A"},7,"F",{"$error":"#N/A"},{"$error":"#N/A"},{"$error":"#N/A"},null,null,null,null,null,null,null,null,null,null,null,null,null,null,null,0,null,"DUPE"]
[8,{"$error":"#N/A"},8,"F",{"$error":"#N/A"},{"$error":"#N/A"},{"$error":"#N/A"},null,null,null,4,4,5,4,4,4,6,5,5,{"$f":"SUM(K9:S9)","v":41},null,null,0,null,"DUPE"]
[9,{"$error":"#N/A"},9,"F",{"$error":"#N/A"},{"$error":"#N/A"},{"$error":"#N/A"},null,null,null,null,null,null,null,null,null,null,null,null,{"$f":"SUM(K10:S10)","v":0},null,null,0,null,"DUPE"]
[10,{"$error":"#N/A"},10,"F",{"$error":"#N/A"},{"$error":"#N/A"},{"$error":"#N/A"},null,null,null,null,null,null,null,null,null,null,null,null,0,null,null,0,null,"DUPE"]
[11,{"$error":"#N/A"},11,"F",{"$error":"#N/A"},{"$error":"#N/A"},{"$error":"#N/A"},null,null,null,null,null,null,null,null,null,null,null,null,0,null,null,0,null,"DUPE"]
[12,{"$error":"#N/A"},12,"F",{"$error":"#N/A"},{"$error":"#N/A"},{"$error":"#N/A"},null,null,null,null,null,null,null,null,null,null,null,null,null,null,null,0,null,"DUPE"]
[13,{"$error":"#N/A"},13,"F",{"$error":"#N/A"},{"$error":"#N/A"},{"$error":"#N/A"},null,null,null,null,null,null,null,null,null,null,null,null,null,null,null,0,null,"DUPE"]
[14,{"$error":"#N/A"},14,"F",{"$error":"#N/A"},{"$error":"#N/A"},{"$error":"#N/A"},null,null,null,null,null,null,null,null,null,null,null,null,null,null,null,0,null,"DUPE"]
[15,{"$error":"#N/A"},15,"F",{"$error":"#N/A"},{"$error":"#N/A"},{"$error":"#N/A"},null,null,null,null,null,null,null,null,null,null,null,null,null,null,null,0,null,"DUPE"]
[16,{"$error":"#N/A"},16,"F",{"$error":"#N/A"},{"$error":"#N/A"},{"$error":"#N/A"},null,null,null,null,null,null,null,null,null,null,null,null,null,null,null,0,null,"DUPE"]
[17,{"$error":"#N/A"},17,"F",{"$error":"#N/A"},{"$error":"#N/A"},{"$error":"#N/A"},null,null,null,null,null,null,null,null,null,null,null,null,null,null,null,0,null,"DUPE"]
[18,{"$error":"#N/A"},18,"F",{"$error":"#N/A"},{"$error":"#N/A"},{"$error":"#N/A"},null,null,null,null,null,null,null,null,null,null,null,null,null,null,null,0,null,"DUPE"]
[19,{"$error":"#N/A"},19,"F",{"$error":"#N/A"},{"$error":"#N/A"},{"$error":"#N/A"},null,null,null,null,null,null,null,null,null,null,null,null,null,null,null,0,null,"DUPE"]
[20,{"$error":"#N/A"},20,"F",{"$error":"#N/A"},{"$error":"#N/A"},{"$error":"#N/A"},null,null,null,null,null,null,null,null,null,null,null,null,null,null,null,0,null,"DUPE"]
[21,{"$error":"#N/A"},21,"F",{"$error":"#N/A"},{"$error":"#N/A"},{"$error":"#N/A"},null,null,null,null,null,null,null,null,null,null,null,null,null,null,null,0,null,"DUPE"]
[22,{"$error":"#N/A"},22,"F",{"$error":"#N/A"},{"$error":"#N/A"},{"$error":"#N/A"},null,null,null,null,null,null,null,null,null,null,null,null,null,null,null,0,null,"DUPE"]
[23,{"$error":"#N/A"},23,"F",{"$error":"#N/A"},{"$error":"#N/A"},{"$error":"#N/A"},null,null,null,null,null,null,null,null,null,null,null,null,null,null,null,0,null,"DUPE"]
[24,{"$error":"#N/A"},24,"F",{"$error":"#N/A"},{"$error":"#N/A"},{"$error":"#N/A"},null,null,null,null,null,null,null,null,null,null,null,null,null,null,null,0,null,"DUPE"]
[25,{"$error":"#N/A"},25,"F",{"$error":"#N/A"},{"$error":"#N/A"},{"$error":"#N/A"},null,null,null,null,null,null,null,null,null,null,null,null,null,null,null,0,null,"DUPE"]
[26,{"$error":"#N/A"},26,"F",{"$error":"#N/A"},{"$error":"#N/A"},{"$error":"#N/A"},null,null,null,null,null,null,null,null,null,null,null,null,null,null,null,0,null,"DUPE"]
[27,{"$error":"#N/A"},27,"F",{"$error":"#N/A"},{"$error":"#N/A"},{"$error":"#N/A"},null,null,null,null,null,null,null,null,null,null,null,null,null,null,null,0,null,"DUPE"]
[28,{"$error":"#N/A"},28,"F",{"$error":"#N/A"},{"$error":"#N/A"},{"$error":"#N/A"},null,null,null,null,null,null,null,null,null,null,null,null,null,null,null,77,null,""]
[29,{"$error":"#N/A"},29,"F",{"$error":"#N/A"},{"$error":"#N/A"},{"$error":"#N/A"},null,null,null,null,null,null,null,null,null,null,null,null,null,null,null,78,null,""]
[30,{"$error":"#N/A"},30,"F",{"$error":"#N/A"},{"$error":"#N/A"},{"$error":"#N/A"},null,null,null,null,null,null,null,null,null,null,null,null,null,null,null,79,null,""]
[31,{"$error":"#N/A"},31,"F",{"$error":"#N/A"},{"$error":"#N/A"},{"$error":"#N/A"},null,null,null,null,null,null,null,null,null,null,null,null,null,null,null,80,null,""]
[32,{"$error":"#N/A"},32,"F",{"$error":"#N/A"},{"$error":"#N/A"},{"$error":"#N/A"},null,null,null,null,null,null,null,null,null,null,null,null,null,null,null,81,null,""]
[33,{"$error":"#N/A"},33,"F",{"$error":"#N/A"},{"$error":"#N/A"},{"$error":"#N/A"},null,null,null,null,null,null,null,null,null,null,null,null,null,null,null,82,null,""]
[34,{"$f":"VLOOKUP(A35,GE_Player_ID_Name,2,FALSE)","v":{"$error":"#N/A"}},34,"F",{"$f":"VLOOKUP(A35,GE_Player_ID_Stats,10,FALSE)","v":{"$error":"#N/A"}},{"$f":"VLOOKUP(A35,GE_Player_ID_Stats,11,FALSE)","v":{"$error":"#N/A"}},{"$error":"#N/A"},null,null,null,null,null,null,null,null,null,null,null,null,null,null,null,85,null,""]
[35,{"$error":"#N/A"},35,"F",{"$error":"#N/A"},{"$error":"#N/A"},{"$error":"#N/A"},null,null,null,null,null,null,null,null,null,null,null,null,null,null,null,86,null,""]
[36,{"$error":"#N/A"},36,"F",{"$error":"#N/A"},{"$error":"#N/A"},{"$error":"#N/A"},null,null,null,null,null,null,null,null,null,null,null,null,null,null,null,87,null,""]
[37,{"$error":"#N/A"},37,"F",{"$error":"#N/A"},{"$error":"#N/A"},{"$error":"#N/A"},null,null,null,null,null,null,null,null,null,null,null,null,null,null,null,88,null,""]
[38,{"$error":"#N/A"},38,"F",{"$error":"#N/A"},{"$error":"#N/A"},{"$error":"#N/A"},null,null,null,null,null,null,null,null,null,null,null,null,null,null,null,89,null,""]
[39,{"$error":"#N/A"},39,"F",{"$error":"#N/A"},{"$error":"#N/A"},{"$error":"#N/A"},null,null,null,null,null,null,null,null,null,null,null,null,null,null,null,90,null,""]
[40,{"$error":"#N/A"},40,"F",{"$error":"#N/A"},{"$error":"#N/A"},{"$error":"#N/A"},null,null,null,null,null,null,null,null,null,null,null,null,null,null,null,91,null,""]
[41,{"$error":"#N/A"},41,"F",{"$error":"#N/A"},{"$error":"#N/A"},{"$error":"#N/A"},null,null,null,null,null,null,null,null,null,null,null,null,null,null,null,92,null,""]
[42,{"$error":"#N/A"},42,"F",{"$error":"#N/A"},{"$error":"#N/A"},{"$error":"#N/A"},null,null,null,null,null,null,null,null,null,null,null,null,null,null,null,93,null,""]
[43,{"$error":"#N/A"},43,"F",{"$error":"#N/A"},{"$error":"#N/A"},{"$error":"#N/A"},null,null,null,null,null,null,null,null,null,null,null,null,null,null,null,94,null,""]
[44,{"$error":"#N/A"},44,"F",{"$error":"#N/A"},{"$error":"#N/A"},{"$error":"#N/A"},null,null,null,null,null,null,null,null,null,null,null,null,null,null,null,96,null,""]
[45,{"$error":"#N/A"},45,"F",{"$error":"#N/A"},{"$error":"#N/A"},{"$error":"#N/A"},null,null,null,null,null,null,null,null,null,null,null,null,null,null,null,97,null,""]
[46,{"$error":"#N/A"},46,"F",{"$error":"#N/A"},{"$error":"#N/A"},{"$error":"#N/A"},null,null,null,null,null,null,null,null,null,null,null,null,null,null,null,98,null,""]
[47,{"$error":"#N/A"},47,"F",{"$error":"#N/A"},{"$error":"#N/A"},{"$error":"#N/A"},null,null,null,null,null,null,null,null,null,null,null,null,null,null,null,99,null,""]
[48,{"$error":"#N/A"},48,"F",{"$error":"#N/A"},{"$error":"#N/A"},{"$error":"#N/A"},null,null,null,null,null,null,null,null,null,null,null,null,null,null,null,100,null,""]
[49,{"$error":"#N/A"},49,"F",{"$error":"#N/A"},{"$error":"#N/A"},{"$error":"#N/A"},null,null,null,null,null,null,null,null,null,null,null,null,null,null,null,102,null,""]
[50,{"$error":"#N/A"},50,"F",{"$error":"#N/A"},{"$error":"#N/A"},{"$error":"#N/A"},null,null,null,null,null,null,null,null,null,null,null,null,null,null,null,103,null,""]
[51,{"$error":"#N/A"},51,"F",{"$error":"#N/A"},{"$error":"#N/A"},{"$error":"#N/A"},null,null,null,null,null,null,null,null,null,null,null,null,null,null,null,104,null,""]
[52,{"$error":"#N/A"},52,"F",{"$error":"#N/A"},{"$error":"#N/A"},{"$error":"#N/A"},null,null,null,null,null,null,null,null,null,null,null,null,null,null,null,105,null,""]
[53,{"$error":"#N/A"},53,"F",{"$error":"#N/A"},{"$error":"#N/A"},{"$error":"#N/A"},null,null,null,null,null,null,null,null,null,null,null,null,null,null,null,106,null,""]
[54,{"$error":"#N/A"},54,"F",{"$error":"#N/A"},{"$error":"#N/A"},{"$error":"#N/A"},null,null,null,null,null,null,null,null,null,null,null,null,null,null,null,107,null,""]
[55,{"$error":"#N/A"},55,"F",{"$error":"#N/A"},{"$error":"#N/A"},{"$error":"#N/A"},null,null,null,null,null,null,null,null,null,null,null,null,null,null,null,108,null,""]
[56,{"$error":"#N/A"},56,"F",{"$error":"#N/A"},{"$error":"#N/A"},{"$error":"#N/A"},null,null,null,null,null,null,null,null,null,null,null,null,null,null,null,109,null,""]
[57,{"$error":"#N/A"},57,"F",{"$error":"#N/A"},{"$error":"#N/A"},{"$error":"#N/A"},null,null,null,null,null,null,null,null,null,null,null,null,null,null,null,110,null,""]
[58,{"$error":"#N/A"},58,"F",{"$error":"#N/A"},{"$error":"#N/A"},{"$error":"#N/A"},null,null,null,null,null,null,null,null,null,null,null,null,null,null,null,111,null,""]
[59,{"$error":"#N/A"},59,"F",{"$error":"#N/A"},{"$error":"#N/A"},{"$error":"#N/A"},null,null,null,null,null,null,null,null,null,null,null,null,null,null,null,112,null,""]
[60,{"$error":"#N/A"},60,"F",{"$error":"#N/A"},{"$error":"#N/A"},{"$error":"#N/A"},null,null,null,null,null,null,null,null,null,null,null,null,null,null,null,113,null,""]
[61,{"$error":"#N/A"},61,"F",{"$error":"#N/A"},{"$error":"#N/A"},{"$error":"#N/A"},null,null,null,null,null,null,null,null,null,null,null,null,null,null,null,114,null,""]
[62,{"$error":"#N/A"},62,"F",{"$error":"#N/A"},{"$error":"#N/A"},{"$error":"#N/A"},null,null,null,null,null,null,null,null,null,null,null,null,null,null,null,115,null,""]
[63,{"$error":"#N/A"},63,"F",{"$error":"#N/A"},{"$error":"#N/A"},{"$error":"#N/A"},null,null,null,null,null,null,null,null,null,null,null,null,null,null,null,116,null,""]
[64,{"$error":"#N/A"},64,"F",{"$error":"#N/A"},{"$error":"#N/A"},{"$error":"#N/A"},null,null,null,null,null,null,null,null,null,null,null,null,null,null,null,117,null,""]
[65,{"$error":"#N/A"},65,"F",{"$error":"#N/A"},{"$error":"#N/A"},{"$error":"#N/A"},null,null,null,null,null,null,null,null,null,null,null,null,null,null,null,118,null,""]
[null,{"$f":"VLOOKUP(A67,GE_Player_ID_Name,2,FALSE)","v":{"$error":"#N/A"}},0,null,{"$f":"VLOOKUP(A67,GE_Player_ID_Stats,10,FALSE)","v":0},{"$f":"VLOOKUP(A67,GE_Player_ID_Stats,11,FALSE)","v":0},-2,null,null,null,null,null,null,null,null,null,null,null,null,null,null,null,119,null,{"$f":"IF(W67=W66,\"DUPE\",\"\")","v":""}]
[null,{"$error":"#N/A"},{"$f":"A68","v":0},null,0,0,{"$f":"IF(E68<40,-2,IF(E68<50,-1,IF(E68<60,0,IF(E68<70,1,2))))","v":-2},null,null,null,null,null,null,null,null,null,null,null,null,null,null,null,120,null,""]
[68,{"$error":"#N/A"},68,"S",{"$error":"#N/A"},{"$error":"#N/A"},{"$error":"#N/A"},null,null,null,null,null,null,null,null,null,null,null,null,null,null,null,121,null,""]
[69,{"$error":"#N/A"},69,"S",{"$error":"#N/A"},{"$error":"#N/A"},{"$error":"#N/A"},null,null,null,null,null,null,null,null,null,null,null,null,null,null,null,122,null,""]
[70,{"$error":"#N/A"},70,"S",{"$error":"#N/A"},{"$error":"#N/A"},{"$error":"#N/A"},null,null,null,null,null,null,null,null,null,null,null,null,null,null,null,123,null,""]
[71,{"$error":"#N/A"},71,"S",{"$error":"#N/A"},{"$error":"#N/A"},{"$error":"#N/A"},null,null,null,null,null,null,null,null,null,null,null,null,null,null,null,124,null,""]
[72,{"$error":"#N/A"},72,"S",{"$error":"#N/A"},{"$error":"#N/A"},{"$error":"#N/A"},null,null,null,null,null,null,null,null,null,null,null,null,null,null,null,125,null,""]
[73,{"$error":"#N/A"},73,"S",{"$error":"#N/A"},{"$error":"#N/A"},{"$error":"#N/A"},null,null,null,null,null,null,null,null,null,null,null,null,null,null,null,126,null,""]
[74,{"$error":"#N/A"},74,"S",{"$error":"#N/A"},{"$error":"#N/A"},{"$error":"#N/A"},null,null,null,null,null,null,null,null,null,null,null,null,null,null,null,127,null,""]
[75,{"$error":"#N/A"},75,"S",{"$error":"#N/A"},{"$error":"#N/A"},{"$error":"#N/A"},null,null,null,null,null,null,null,null,null,null,null,null,null,null,null,129,null,""]
[76,{"$error":"#N/A"},76,null,{"$error":"#N/A"},{"$error":"#N/A"},{"$error":"#N/A"},null,null,null,null,null,null,null,null,null,null,null,null,null,null,null,130,null,""]
[77,"Schock, Alex",77,null,42.5,6,-1,null,null,null,null,null,null,null,null,null,null,null,null,null,null,null,131,null,""]
[78,"Tenkman, Carl",78,null,47,9.6000000000000014,-1,null,null,null,null,null,null,null,null,null,null,null,null,null,null,null,145,null,""]
[79,"Hobek, Bill",79,null,46.75,9.4,-1,null,null,null,null,null,null,null,null,null,null,null,null,null,null,null,151,null,""]
[80,"Coop, John",80,null,54.666666666666664,15.733333333333333,0,null,null,null,null,null,null,null,null,null,null,null,null,null,null,null,152,null,""]
[81,"Dehner, Bob",81,null,56,16.8,0]
[null,null,0]
[null,null,0]
[null,null,0]
[null,null,0]
[null,null,0]
[null,null,0]
[null,null,0]
[null,null,0]
[null,null,0]
[null,null,0]
[null,null,0]
[null,null,0]
[null,null,0]
[null,null,0]
[null,null,0]
[null,null,0]
[null,null,0]
[null,null,0]
[null,null,0]
[null,"End of List"]